{"text_format":"1","workbook":"xlsx","n_sheets":12,"sheets":["Cover","Introduction","Screenshots","Statistics","Conformance Statement","Success Criteria","Colour Contrast Analysis","Non-text Contrast","Changelog","Default Comments","Comboboxes","Data Table"],"not_rendered":{"charts":0,"images":218,"macros":1,"external_links":1,"defined_names":57,"comments":0,"pivot_tables":0},"unopened":[],"bounds":{"document_bytes":16777216,"sheet_cells":100000,"rows_first":2000,"rows_last":500,"rows_between":2000,"halvings":0,"cell_chars":16384,"cell_head_chars":4096},"cells_cut":0,"cells_raw":0,"read":"whole","date_system":"1900"}

{"sheet":"Cover","index":0,"n_rows":0,"n_cols":0,"rows_kept":0,"cut":false,"hidden":true,"merged":[[0,0,0,3]]}

{"sheet":"Introduction","index":1,"n_rows":8,"n_cols":2,"rows_kept":8,"cut":false,"hidden":false,"merged":[]}
["This worksheet contains a single column of text. It explains the content of the other worksheets in this document and how they relate to each other.\n\nOn each worksheet, a cell in column A contains the phrase \"End of content\" to indicate that there are no more rows of content. A cell in row 1 contains the phrase \"End of content\" to indicate that there are no more columns of content.\n","End of content."]
["The Screenshots worksheet\nEach column contains screenshots of the components and pages that were tested. The columns are in the same order as the Success Criteria worksheet.\n"]
["The Statistics worksheet\nRows 2 to 11 contain the meta information for the project, such as the project name, report version number, the tester's name, report date, details of the test environment and the scope of testing (WCAG level A, AA or AAA). This information is in columns A to S.\nRows 13 and below contain details of what was tested and the number of WCAG non-conformances.\nColumns B, C and D contain a list of the names and URLs of the components, pages, documents and mobile app screens that were tested.\nColumns E to T contain the numbers of passes and non-conformances for each component, page, document and mobile app screen. Separate figures are shown for level A, AA, AAA and the total.\n"]
["The Conformance Statement worksheet\nIf the document contains a Conformance Statement worksheet, it will contain a single column of text. It includes the scope of the statement, the level of conformance, any accessibility limitations and a list of the technologies that are relied on for conformance.\n"]
["The Success Criteria worksheet\nThis contains the test results, which are highly granular, showing the results for each WCAG success criterion for each page.\nColumns A to D contain a list of all the WCAG success criteria that were tested. For each success criterion, column A contains a link to the corresponding page on the W3C website.\nColumns E to EX contain the test results for each component, page, document or mobile app screen.\nRows 1 and 2 contain the page number and the date it was first tested.\nRow 3 contains the page names.\nRow 4 contains the URLs.\nRow 5 contains the number of non-conformances at WCAG level A, AA and AAA.\nRow 6 contains a link to the corresponding screenshot on the Screenshots worksheet. Not every column will contain this link.\nRows 8 and below contain the test results. Each WCAG success criterion occupies two rows. The first row contains the status, such as Pass, Non-conformant or Not Applicable. The second row contains an explanation and recommendations. Two success criteria, for Colour Contrast and Non-text Contrast, have a third row to accommodate the tester's comments in addition to the automatically generated content on the two previous rows.\n"]
["The Colour Contrast Analysis worksheet\nThis contains a record of every combination of text colour and background colour that is used on each page. Each combination is on a separate row from row 5 downwards.\nThe results on this worksheet automatically populate the relevant cells in the Success Criteria worksheet.\nColumn A contains a description of what the text is used for, such as headings, body text, links etc.\nColumn B contains a small screenshot of an example of that combination of text colour and background colour.\nColumn C contains the text colour in Hex format.\nColumn D contains the background colour in Hex format.\nColumn E specifies whether the text is large or small, as defined by WCAG.\nColumns F to U are intentionally hidden because they contain calculations.\nColumn V contains the calculated colour contrast ratio.\nColumn W contains the exemption status.\nColumn X contains the Pass / Fail result.\nColumn Y specifies whether the text is in an image or a video or if it is actual text.\nColumns Z to FS show which combinations of text and background colours occur on which pages.\nIn columns Z to FS, row 1 contains the page name, row 2 contains the URL, row 3 contains the page number and row 4 contains the number of combinations that are non-conformant on that page.\n"]
["The Non-text Contrast worksheet\nThis contains a record of the adjacent colours of every non-text item on each page. Each combination is on a separate row from row 5 downwards.\nThe results on this worksheet automatically populate the relevant cells in the Success Criteria worksheet.\nColumn A contains a description of the item, such as an icon, form control or focus indicator.\nColumn B specifies which colours are being compared.\nColumn C contains a small screenshot of an example of the non-text item.\nColumn D contains a graphical representation of our recommendation if there is not sufficient colour contrast.\nColumn E contains our written recommendation if there is not sufficient colour contrast.\nColumns F and G contain the two adjacent colours in Hex format.\nColumns H to W are intentionally hidden because they contain calculations.\nColumn X contains the calculated colour contrast ratio.\nColumn Y contains the exemption status.\nColumn Z contains the Pass / Fail result.\nColumns Z to FS show which combinations of text and background colours occur on which pages.\nIn columns AA to FT, row 1 contains the page name, row 2 contains the URL, row 3 contains the page number and row 4 contains the number of combinations that are non-conformant on that page.\n"]
["End of content."]

{"sheet":"Screenshots","index":2,"n_rows":10,"n_cols":151,"rows_kept":10,"cut":false,"hidden":false,"merged":[]}
[{"$f":"\"Page # \" & COLUMN(A1) & \": \" & 'Success Criteria'!E1","v":"Page # 1: Header"},{"$f":"\"Page # \" & COLUMN(B1) & \": \" & 'Success Criteria'!F1","v":"Page # 2: Footer"},{"$f":"\"Page # \" & COLUMN(C1) & \": \" & 'Success Criteria'!G1","v":"Page # 3: Cookie banner"},{"$f":"\"Page # \" & COLUMN(D1) & \": \" & 'Success Criteria'!H1","v":"Page # 4: Cookie dialog"},{"$f":"\"Page # \" & COLUMN(E1) & \": \" & 'Success Criteria'!I1","v":"Page # 5: Search"},{"$f":"\"Page # \" & COLUMN(F1) & \": \" & 'Success Criteria'!J1","v":"Page # 6: Share this page"},{"$f":"\"Page # \" & COLUMN(G1) & \": \" & 'Success Criteria'!K1","v":"Page # 7: Home page"},{"$f":"\"Page # \" & COLUMN(H1) & \": \" & 'Success Criteria'!L1","v":"Page # 8: Search results"},{"$f":"\"Page # \" & COLUMN(I1) & \": \" & 'Success Criteria'!M1","v":"Page # 9: Contact City Hall or the Mayor"},{"$f":"\"Page # \" & COLUMN(J1) & \": \" & 'Success Criteria'!N1","v":"Page # 10: Contact us"},{"$f":"\"Page # \" & COLUMN(K1) & \": \" & 'Success Criteria'!O1","v":"Page # 11: Priorities for London"},{"$f":"\"Page # \" & COLUMN(L1) & \": \" & 'Success Criteria'!P1","v":"Page # 12: FOI - London Living Rent [Jan 2024]"},{"$f":"\"Page # \" & COLUMN(M1) & \": \" & 'Success Criteria'!Q1","v":"Page # 13: GLA Economics publications"},{"$f":"\"Page # \" & COLUMN(N1) & \": \" & 'Success Criteria'!R1","v":"Page # 14: Case study: Skills and resource sharing with organisations"},{"$f":"\"Page # \" & COLUMN(O1) & \": \" & 'Success Criteria'!S1","v":"Page # 15: Oru Sutton (London Borough of Sutton)"},{"$f":"\"Page # \" & COLUMN(P1) & \": \" & 'Success Criteria'!T1","v":"Page # 16: Early years childcare in London report"},{"$f":"\"Page # \" & COLUMN(Q1) & \": \" & 'Success Criteria'!U1","v":"Page # 17: Find adult learning opportunities near you"},{"$f":"\"Page # \" & COLUMN(R1) & \": \" & 'Success Criteria'!V1","v":"Page # 18: Public Meetings"},{"$f":"\"Page # \" & COLUMN(S1) & \": \" & 'Success Criteria'!W1","v":"Page # 19: Agenda and minutes"},{"$f":"\"Page # \" & COLUMN(T1) & \": \" & 'Success Criteria'!X1","v":"Page # 20: Meetings OPDC Board"},{"$f":"\"Page # \" & COLUMN(U1) & \": \" & 'Success Criteria'!Y1","v":"Page # 21: Accessibility (WCAG 2.2 criteria only)"},{"$f":"\"Page # \" & COLUMN(V1) & \": \" & 'Success Criteria'!Z1","v":"Page # 22: City Hall Blog (WCAG 2.2 criteria only)"},{"$f":"\"Page # \" & COLUMN(W1) & \": \" & 'Success Criteria'!AA1","v":"Page # 23: Working at City Hall (WCAG 2.2 criteria only)"},{"$f":"\"Page # \" & COLUMN(X1) & \": \" & 'Success Criteria'!AB1","v":"Page # 24: Take part (WCAG 2.2 criteria only)"},{"$f":"\"Page # \" & COLUMN(Y1) & \": \" & 'Success Criteria'!AC1","v":"Page # 25: Events landing page (WCAG 2.2 criteria only)"},{"$f":"\"Page # \" & COLUMN(Z1) & \": \" & 'Success Criteria'!AD1","v":"Page # 26: Event (WCAG 2.2 criteria only)"},{"$f":"\"Page # \" & COLUMN(AA1) & \": \" & 'Success Criteria'!AE1","v":"Page # 27: London Unseen: self-guided walks (WCAG 2.2 criteria only)"},{"$f":"\"Page # \" & COLUMN(AB1) & \": \" & 'Success Criteria'!AF1","v":"Page # 28: You've seen on the screen, now love the locations (WCAG 2.2 criteria only)"},{"$f":"\"Page # \" & COLUMN(AC1) & \": \" & 'Success Criteria'!AG1","v":"Page # 29: DD1482 GLA Records Management Policy (WCAG 2.2 criteria only)"},{"$f":"\"Page # \" & COLUMN(AD1) & \": \" & 'Success Criteria'!AH1","v":"Page # 30: Mayor's annual report (WCAG 2.2 criteria only)"},{"$f":"\"Page # \" & COLUMN(AE1) & \": \" & 'Success Criteria'!AI1","v":"Page # 31: Mayor’s Equality Report 2020/22 (WCAG 2.2 criteria only)"},{"$f":"\"Page # \" & COLUMN(AF1) & \": \" & 'Success Criteria'!AJ1","v":"Page # 32: Press release (WCAG 2.2 criteria only)"},{"$f":"\"Page # \" & COLUMN(AG1) & \": \" & 'Success Criteria'!AK1","v":"Page # 33: Let's do London (WCAG 2.2 criteria only)"},{"$f":"\"Page # \" & COLUMN(AH1) & \": \" & 'Success Criteria'!AL1","v":"Page # 34: Infrastructure Mapping Application (WCAG 2.2 criteria only)"},{"$f":"\"Page # \" & COLUMN(AI1) & \": \" & 'Success Criteria'!AM1","v":"Page # 35: Sign up to a termly newsletter for schools (WCAG 2.2 criteria only)"},{"$f":"\"Page # \" & COLUMN(AJ1) & \": \" & 'Success Criteria'!AN1","v":"Page # 36: User login (WCAG 2.2 criteria only)"},{"$f":"\"Page # \" & COLUMN(AK1) & \": \" & 'Success Criteria'!AO1","v":"Page # 37: Current vacancies (WCAG 2.2 criteria only)"},{"$f":"\"Page # \" & COLUMN(AL1) & \": \" & 'Success Criteria'!AP1","v":"Page # 38: Profile - Zoe Oliver - Watts (WCAG 2.2 criteria only)"},{"$f":"\"Page # \" & COLUMN(AM1) & \": \" & 'Success Criteria'!AQ1","v":"Page # 39: View cookies (WCAG 2.2 criteria only)"},{"$f":"\"Page # \" & COLUMN(AN1) & \": \" & 'Success Criteria'!AR1","v":"Page # 40: Terms and conditions for the use of our website and Talk London website (WCAG 2.2 criteria only)"},{"$f":"\"Page # \" & COLUMN(AO1) & \": \" & 'Success Criteria'!AS1","v":"Page # 41: Page 41"},{"$f":"\"Page # \" & COLUMN(AP1) & \": \" & 'Success Criteria'!AT1","v":"Page # 42: Page 42"},{"$f":"\"Page # \" & COLUMN(AQ1) & \": \" & 'Success Criteria'!AU1","v":"Page # 43: Page 43"},{"$f":"\"Page # \" & COLUMN(AR1) & \": \" & 'Success Criteria'!AV1","v":"Page # 44: Page 44"},{"$f":"\"Page # \" & COLUMN(AS1) & \": \" & 'Success Criteria'!AW1","v":"Page # 45: Page 45"},{"$f":"\"Page # \" & COLUMN(AT1) & \": \" & 'Success Criteria'!AX1","v":"Page # 46: Page 46"},{"$f":"\"Page # \" & COLUMN(AU1) & \": \" & 'Success Criteria'!AY1","v":"Page # 47: Page 47"},{"$f":"\"Page # \" & COLUMN(AV1) & \": \" & 'Success Criteria'!AZ1","v":"Page # 48: Page 48"},{"$f":"\"Page # \" & COLUMN(AW1) & \": \" & 'Success Criteria'!BA1","v":"Page # 49: Page 49"},{"$f":"\"Page # \" & COLUMN(AX1) & \": \" & 'Success Criteria'!BB1","v":"Page # 50: Page 50"},{"$f":"\"Page # \" & COLUMN(AY1) & \": \" & 'Success Criteria'!BC1","v":"Page # 51: Page 51"},{"$f":"\"Page # \" & COLUMN(AZ1) & \": \" & 'Success Criteria'!BD1","v":"Page # 52: Page 52"},{"$f":"\"Page # \" & COLUMN(BA1) & \": \" & 'Success Criteria'!BE1","v":"Page # 53: Page 53"},{"$f":"\"Page # \" & COLUMN(BB1) & \": \" & 'Success Criteria'!BF1","v":"Page # 54: Page 54"},{"$f":"\"Page # \" & COLUMN(BC1) & \": \" & 'Success Criteria'!BG1","v":"Page # 55: Page 55"},{"$f":"\"Page # \" & COLUMN(BD1) & \": \" & 'Success Criteria'!BH1","v":"Page # 56: Page 56"},{"$f":"\"Page # \" & COLUMN(BE1) & \": \" & 'Success Criteria'!BI1","v":"Page # 57: Page 57"},{"$f":"\"Page # \" & COLUMN(BF1) & \": \" & 'Success Criteria'!BJ1","v":"Page # 58: Page 58"},{"$f":"\"Page # \" & COLUMN(BG1) & \": \" & 'Success Criteria'!BK1","v":"Page # 59: Page 59"},{"$f":"\"Page # \" & COLUMN(BH1) & \": \" & 'Success Criteria'!BL1","v":"Page # 60: Page 60"},{"$f":"\"Page # \" & COLUMN(BI1) & \": \" & 'Success Criteria'!BM1","v":"Page # 61: Page 61"},{"$f":"\"Page # \" & COLUMN(BJ1) & \": \" & 'Success Criteria'!BN1","v":"Page # 62: Page 62"},{"$f":"\"Page # \" & COLUMN(BK1) & \": \" & 'Success Criteria'!BO1","v":"Page # 63: Page 63"},{"$f":"\"Page # \" & COLUMN(BL1) & \": \" & 'Success Criteria'!BP1","v":"Page # 64: Page 64"},{"$f":"\"Page # \" & COLUMN(BM1) & \": \" & 'Success Criteria'!BQ1","v":"Page # 65: Page 65"},{"$f":"\"Page # \" & COLUMN(BN1) & \": \" & 'Success Criteria'!BR1","v":"Page # 66: Page 66"},{"$f":"\"Page # \" & COLUMN(BO1) & \": \" & 'Success Criteria'!BS1","v":"Page # 67: Page 67"},{"$f":"\"Page # \" & COLUMN(BP1) & \": \" & 'Success Criteria'!BT1","v":"Page # 68: Page 68"},{"$f":"\"Page # \" & COLUMN(BQ1) & \": \" & 'Success Criteria'!BU1","v":"Page # 69: Page 69"},{"$f":"\"Page # \" & COLUMN(BR1) & \": \" & 'Success Criteria'!BV1","v":"Page # 70: Page 70"},{"$f":"\"Page # \" & COLUMN(BS1) & \": \" & 'Success Criteria'!BW1","v":"Page # 71: Page 71"},{"$f":"\"Page # \" & COLUMN(BT1) & \": \" & 'Success Criteria'!BX1","v":"Page # 72: Page 72"},{"$f":"\"Page # \" & COLUMN(BU1) & \": \" & 'Success Criteria'!BY1","v":"Page # 73: Page 73"},{"$f":"\"Page # \" & COLUMN(BV1) & \": \" & 'Success Criteria'!BZ1","v":"Page # 74: Page 74"},{"$f":"\"Page # \" & COLUMN(BW1) & \": \" & 'Success Criteria'!CA1","v":"Page # 75: Page 75"},{"$f":"\"Page # \" & COLUMN(BX1) & \": \" & 'Success Criteria'!CB1","v":"Page # 76: Page 76"},{"$f":"\"Page # \" & COLUMN(BY1) & \": \" & 'Success Criteria'!CC1","v":"Page # 77: Page 77"},{"$f":"\"Page # \" & COLUMN(BZ1) & \": \" & 'Success Criteria'!CD1","v":"Page # 78: Page 78"},{"$f":"\"Page # \" & COLUMN(CA1) & \": \" & 'Success Criteria'!CE1","v":"Page # 79: Page 79"},{"$f":"\"Page # \" & COLUMN(CB1) & \": \" & 'Success Criteria'!CF1","v":"Page # 80: Page 80"},{"$f":"\"Page # \" & COLUMN(CC1) & \": \" & 'Success Criteria'!CG1","v":"Page # 81: Page 81"},{"$f":"\"Page # \" & COLUMN(CD1) & \": \" & 'Success Criteria'!CH1","v":"Page # 82: Page 82"},{"$f":"\"Page # \" & COLUMN(CE1) & \": \" & 'Success Criteria'!CI1","v":"Page # 83: Page 83"},{"$f":"\"Page # \" & COLUMN(CF1) & \": \" & 'Success Criteria'!CJ1","v":"Page # 84: Page 84"},{"$f":"\"Page # \" & COLUMN(CG1) & \": \" & 'Success Criteria'!CK1","v":"Page # 85: Page 85"},{"$f":"\"Page # \" & COLUMN(CH1) & \": \" & 'Success Criteria'!CL1","v":"Page # 86: Page 86"},{"$f":"\"Page # \" & COLUMN(CI1) & \": \" & 'Success Criteria'!CM1","v":"Page # 87: Page 87"},{"$f":"\"Page # \" & COLUMN(CJ1) & \": \" & 'Success Criteria'!CN1","v":"Page # 88: Page 88"},{"$f":"\"Page # \" & COLUMN(CK1) & \": \" & 'Success Criteria'!CO1","v":"Page # 89: Page 89"},{"$f":"\"Page # \" & COLUMN(CL1) & \": \" & 'Success Criteria'!CP1","v":"Page # 90: Page 90"},{"$f":"\"Page # \" & COLUMN(CM1) & \": \" & 'Success Criteria'!CQ1","v":"Page # 91: Page 91"},{"$f":"\"Page # \" & COLUMN(CN1) & \": \" & 'Success Criteria'!CR1","v":"Page # 92: Page 92"},{"$f":"\"Page # \" & COLUMN(CO1) & \": \" & 'Success Criteria'!CS1","v":"Page # 93: Page 93"},{"$f":"\"Page # \" & COLUMN(CP1) & \": \" & 'Success Criteria'!CT1","v":"Page # 94: Page 94"},{"$f":"\"Page # \" & COLUMN(CQ1) & \": \" & 'Success Criteria'!CU1","v":"Page # 95: Page 95"},{"$f":"\"Page # \" & COLUMN(CR1) & \": \" & 'Success Criteria'!CV1","v":"Page # 96: Page 96"},{"$f":"\"Page # \" & COLUMN(CS1) & \": \" & 'Success Criteria'!CW1","v":"Page # 97: Page 97"},{"$f":"\"Page # \" & COLUMN(CT1) & \": \" & 'Success Criteria'!CX1","v":"Page # 98: Page 98"},{"$f":"\"Page # \" & COLUMN(CU1) & \": \" & 'Success Criteria'!CY1","v":"Page # 99: Page 99"},{"$f":"\"Page # \" & COLUMN(CV1) & \": \" & 'Success Criteria'!CZ1","v":"Page # 100: Page 100"},{"$f":"\"Page # \" & COLUMN(CW1) & \": \" & 'Success Criteria'!DA1","v":"Page # 101: Page 101"},{"$f":"\"Page # \" & COLUMN(CX1) & \": \" & 'Success Criteria'!DB1","v":"Page # 102: Page 102"},{"$f":"\"Page # \" & COLUMN(CY1) & \": \" & 'Success Criteria'!DC1","v":"Page # 103: Page 103"},{"$f":"\"Page # \" & COLUMN(CZ1) & \": \" & 'Success Criteria'!DD1","v":"Page # 104: Page 104"},{"$f":"\"Page # \" & COLUMN(DA1) & \": \" & 'Success Criteria'!DE1","v":"Page # 105: Page 105"},{"$f":"\"Page # \" & COLUMN(DB1) & \": \" & 'Success Criteria'!DF1","v":"Page # 106: Page 106"},{"$f":"\"Page # \" & COLUMN(DC1) & \": \" & 'Success Criteria'!DG1","v":"Page # 107: Page 107"},{"$f":"\"Page # \" & COLUMN(DD1) & \": \" & 'Success Criteria'!DH1","v":"Page # 108: Page 108"},{"$f":"\"Page # \" & COLUMN(DE1) & \": \" & 'Success Criteria'!DI1","v":"Page # 109: Page 109"},{"$f":"\"Page # \" & COLUMN(DF1) & \": \" & 'Success Criteria'!DJ1","v":"Page # 110: Page 110"},{"$f":"\"Page # \" & COLUMN(DG1) & \": \" & 'Success Criteria'!DK1","v":"Page # 111: Page 111"},{"$f":"\"Page # \" & COLUMN(DH1) & \": \" & 'Success Criteria'!DL1","v":"Page # 112: Page 112"},{"$f":"\"Page # \" & COLUMN(DI1) & \": \" & 'Success Criteria'!DM1","v":"Page # 113: Page 113"},{"$f":"\"Page # \" & COLUMN(DJ1) & \": \" & 'Success Criteria'!DN1","v":"Page # 114: Page 114"},{"$f":"\"Page # \" & COLUMN(DK1) & \": \" & 'Success Criteria'!DO1","v":"Page # 115: Page 115"},{"$f":"\"Page # \" & COLUMN(DL1) & \": \" & 'Success Criteria'!DP1","v":"Page # 116: Page 116"},{"$f":"\"Page # \" & COLUMN(DM1) & \": \" & 'Success Criteria'!DQ1","v":"Page # 117: Page 117"},{"$f":"\"Page # \" & COLUMN(DN1) & \": \" & 'Success Criteria'!DR1","v":"Page # 118: Page 118"},{"$f":"\"Page # \" & COLUMN(DO1) & \": \" & 'Success Criteria'!DS1","v":"Page # 119: Page 119"},{"$f":"\"Page # \" & COLUMN(DP1) & \": \" & 'Success Criteria'!DT1","v":"Page # 120: Page 120"},{"$f":"\"Page # \" & COLUMN(DQ1) & \": \" & 'Success Criteria'!DU1","v":"Page # 121: Page 121"},{"$f":"\"Page # \" & COLUMN(DR1) & \": \" & 'Success Criteria'!DV1","v":"Page # 122: Page 122"},{"$f":"\"Page # \" & COLUMN(DS1) & \": \" & 'Success Criteria'!DW1","v":"Page # 123: Page 123"},{"$f":"\"Page # \" & COLUMN(DT1) & \": \" & 'Success Criteria'!DX1","v":"Page # 124: Page 124"},{"$f":"\"Page # \" & COLUMN(DU1) & \": \" & 'Success Criteria'!DY1","v":"Page # 125: Page 125"},{"$f":"\"Page # \" & COLUMN(DV1) & \": \" & 'Success Criteria'!DZ1","v":"Page # 126: Page 126"},{"$f":"\"Page # \" & COLUMN(DW1) & \": \" & 'Success Criteria'!EA1","v":"Page # 127: Page 127"},{"$f":"\"Page # \" & COLUMN(DX1) & \": \" & 'Success Criteria'!EB1","v":"Page # 128: Page 128"},{"$f":"\"Page # \" & COLUMN(DY1) & \": \" & 'Success Criteria'!EC1","v":"Page # 129: Page 129"},{"$f":"\"Page # \" & COLUMN(DZ1) & \": \" & 'Success Criteria'!ED1","v":"Page # 130: Page 130"},{"$f":"\"Page # \" & COLUMN(EA1) & \": \" & 'Success Criteria'!EE1","v":"Page # 131: Page 131"},{"$f":"\"Page # \" & COLUMN(EB1) & \": \" & 'Success Criteria'!EF1","v":"Page # 132: Page 132"},{"$f":"\"Page # \" & COLUMN(EC1) & \": \" & 'Success Criteria'!EG1","v":"Page # 133: Page 133"},{"$f":"\"Page # \" & COLUMN(ED1) & \": \" & 'Success Criteria'!EH1","v":"Page # 134: Page 134"},{"$f":"\"Page # \" & COLUMN(EE1) & \": \" & 'Success Criteria'!EI1","v":"Page # 135: Page 135"},{"$f":"\"Page # \" & COLUMN(EF1) & \": \" & 'Success Criteria'!EJ1","v":"Page # 136: Page 136"},{"$f":"\"Page # \" & COLUMN(EG1) & \": \" & 'Success Criteria'!EK1","v":"Page # 137: Page 137"},{"$f":"\"Page # \" & COLUMN(EH1) & \": \" & 'Success Criteria'!EL1","v":"Page # 138: Page 138"},{"$f":"\"Page # \" & COLUMN(EI1) & \": \" & 'Success Criteria'!EM1","v":"Page # 139: Page 139"},{"$f":"\"Page # \" & COLUMN(EJ1) & \": \" & 'Success Criteria'!EN1","v":"Page # 140: Page 140"},{"$f":"\"Page # \" & COLUMN(EK1) & \": \" & 'Success Criteria'!EO1","v":"Page # 141: Page 141"},{"$f":"\"Page # \" & COLUMN(EL1) & \": \" & 'Success Criteria'!EP1","v":"Page # 142: Page 142"},{"$f":"\"Page # \" & COLUMN(EM1) & \": \" & 'Success Criteria'!EQ1","v":"Page # 143: Page 143"},{"$f":"\"Page # \" & COLUMN(EN1) & \": \" & 'Success Criteria'!ER1","v":"Page # 144: Page 144"},{"$f":"\"Page # \" & COLUMN(EO1) & \": \" & 'Success Criteria'!ES1","v":"Page # 145: Page 145"},{"$f":"\"Page # \" & COLUMN(EP1) & \": \" & 'Success Criteria'!ET1","v":"Page # 146: Page 146"},{"$f":"\"Page # \" & COLUMN(EQ1) & \": \" & 'Success Criteria'!EU1","v":"Page # 147: Page 147"},{"$f":"\"Page # \" & COLUMN(ER1) & \": \" & 'Success Criteria'!EV1","v":"Page # 148: Page 148"},{"$f":"\"Page # \" & COLUMN(ES1) & \": \" & 'Success Criteria'!EW1","v":"Page # 149: Page 149"},{"$f":"\"Page # \" & COLUMN(ET1) & \": \" & 'Success Criteria'!EX1","v":"Page # 150: Page 150"},"End of content"]
["Initial state",null,null,null,"Initial view"]
[]
[]
["Expanded menu state"]
[]
[]
[]
[]
[null,null,null,null,"With suggestions displayed from dropdown"]

{"sheet":"Statistics","index":3,"n_rows":169,"n_cols":27,"rows_kept":169,"cut":false,"hidden":false,"merged":[[12,24,13,24],[7,16,7,17],[8,16,8,17],[9,16,9,17],[2,16,2,17],[1,21,10,26],[5,16,5,17],[4,16,4,17],[6,12,6,15],[0,0,0,15],[12,26,13,26],[12,25,13,25],[12,21,13,21],[6,8,6,11],[10,2,10,7],[10,8,10,11],[10,12,10,15],[6,2,6,7],[7,2,7,7],[4,2,4,7],[7,12,7,15],[5,12,5,15],[12,23,13,23],[12,22,13,22],[165,16,165,19],[12,16,12,19],[12,12,12,15],[165,12,165,15],[8,12,8,15],[9,12,9,15],[167,0,167,2],[12,4,12,7],[12,8,12,11],[165,8,165,11],[165,4,165,7],[12,0,12,3],[5,2,5,7],[8,2,8,7],[7,8,7,11],[9,2,9,7],[9,8,9,11],[8,8,8,11],[4,12,4,15],[2,8,2,11],[3,8,3,11],[4,8,4,11],[5,8,5,11],[1,2,1,7],[2,2,2,7],[3,2,3,7],[1,16,1,17],[3,16,3,17],[1,8,1,11],[2,12,2,15],[3,12,3,15]]}
["WCAG 2.2 website accessibility audit\r\nStatistics",null,null,null,null,null,null,null,null,null,null,null,null,null,null,null,null,null,null,null,"End of content","Tidy Document","Show All Rows",null,"Template version 3.28"]
["Client",null,"Probrand",null,null,null,null,null,"Test Environment",null,null,null,null,null,null,null,"Scope",null,null,null,null,"Hide these columns before delivery to the client\n\nMany cells are protected and cannot be edited. Unprotect the worksheet to delete columns or rows.\nDo not add columns or rows.\n\nSee Steve Green if amendments are necessary."]
["Website or Mobile App Name",null,"LGOV",null,null,null,null,null,"Primary Operating System",null,null,null,"Windows 10",null,null,null,"WCAG",null,2.2000000000000002]
["URL or Mobile App Version Number",null,"https://www.london.gov.uk/",null,null,null,null,null,"Primary Browser",null,null,null,"Chrome v120.0.6099.130",null,null,null,"Level A",null,"Yes"]
["Quotation Number",null,"006325",null,null,null,null,null,"Primary Screen Reader",null,null,null,"NVDA 2023.2",null,null,null,"Level AA",null,"Yes"]
["Report Version Number",null,"8",null,null,null,null,null,"Screen Size",null,null,null,"27\"",null,null,null,"Level AAA",null,"No"]
["Testing Last Conducted By",null,"Wing Kuet",null,null,null,null,null,"Screen Resolution",null,null,null,"1920x1080px"]
["Testing Last Conducted On",null,"2024-10-10",null,null,null,null,null,"Secondary Browser 1",null,null,null,"Firefox v120.0.1"]
["Report Last Reviewed By",null,null,null,null,null,null,null,"Secondary Browser 2",null,null,null,"Safari v16.3"]
["Report Last Reviewed On",null,null,null,null,null,null,null,"Secondary Browser 3",null,null,null,"N/A"]
["Notes",null,null,null,null,null,null,null,"Primary PDF Reader",null,null,null,"N/A"]
[null,null,null,null,null,null,null,null,null,null,null,null,null,null,null,null,null,null,null,null,null,null,32,null,24,null,0]
[null,null,null,null,"Level A",null,null,null,"Level AA",null,null,null,"Level AAA",null,null,null,"Total",null,null,null,null,"Level A Checkpoints Done ","Level A Checkpoints Complete ","Level AA Checkpoints Done ","Level AA Checkpoints Complete ","Level AAA Checkpoints Done ","Level AAA Checkpoints Complete "]
["ID","Page Name","Page URL","Page or Component","Pass","Fail","N/A","Not tested","Pass","Fail","N/A ","Not tested","Pass","Fail","N/A ","Not tested","Pass","Fail","N/A ","Not tested"]
[{"$f":"HYPERLINK(\"#'Success Criteria'!\"&ADDRESS(1,ROW()-10,4),ROW()-14)","v":1},"Header","https://www.london.gov.uk/","HTML Component",{"$f":"SUM(COUNTIF(INDIRECT(\"'Success Criteria'!\" & ADDRESS(10,A15+4)):INDIRECT(\"'Success Criteria'!\" & ADDRESS(75,A15+4)),\"PASS\"),COUNTIF(INDIRECT(\"'Success Criteria'!\" & ADDRESS(10,A15+4)):INDIRECT(\"'Success Criteria'!\" & ADDRESS(75,A15+4)),\"PASS with comments\"))","v":14},{"$f":"COUNTIF(INDIRECT(\"'Success Criteria'!\" & ADDRESS(10,A15+4)):INDIRECT(\"'Success Criteria'!\" & ADDRESS(75,A15+4)),\"NON conformant\")","v":1},{"$f":"COUNTIF(INDIRECT(\"'Success Criteria'!\" & ADDRESS(10,A15+4)):INDIRECT(\"'Success Criteria'!\" & ADDRESS(75,A15+4)),\"N/A\")","v":17},{"$f":"COUNTIF(INDIRECT(\"'Success Criteria'!\" & ADDRESS(10,A15+4)):INDIRECT(\"'Success Criteria'!\" & ADDRESS(75,A15+4)),\"not tested\")","v":0},{"$f":"SUM(COUNTIF(INDIRECT(\"'Success Criteria'!\" & ADDRESS(80,A15+4)):INDIRECT(\"'Success Criteria'!\" & ADDRESS(131,A15+4)),\"PASS\"),COUNTIF(INDIRECT(\"'Success Criteria'!\" & ADDRESS(80,A15+4)):INDIRECT(\"'Success Criteria'!\" & ADDRESS(131,A15+4)),\"PASS with comments\"))","v":13},{"$f":"COUNTIF(INDIRECT(\"'Success Criteria'!\" & ADDRESS(80,A15+4)):INDIRECT(\"'Success Criteria'!\" & ADDRESS(131,A15+4)),\"NON conformant\")","v":0},{"$f":"COUNTIF(INDIRECT(\"'Success Criteria'!\" & ADDRESS(80,A15+4)):INDIRECT(\"'Success Criteria'!\" & ADDRESS(131,A15+4)),\"N/A\")","v":11},{"$f":"COUNTIF(INDIRECT(\"'Success Criteria'!\" & ADDRESS(80,A15+4)):INDIRECT(\"'Success Criteria'!\" & ADDRESS(131,A15+4)),\"not tested\")","v":0},{"$f":"SUM(COUNTIF(INDIRECT(\"'Success Criteria'!\" & ADDRESS(136,A15+4)):INDIRECT(\"'Success Criteria'!\" & ADDRESS(196,A15+4)),\"PASS\"),COUNTIF(INDIRECT(\"'Success Criteria'!\" & ADDRESS(136,A15+4)):INDIRECT(\"'Success Criteria'!\" & ADDRESS(196,A15+4)),\"PASS with comments\"))","v":0},{"$f":"COUNTIF(INDIRECT(\"'Success Criteria'!\" & ADDRESS(136,A15+4)):INDIRECT(\"'Success Criteria'!\" & ADDRESS(196,A15+4)),\"NON conformant\")","v":0},{"$f":"COUNTIF(INDIRECT(\"'Success Criteria'!\" & ADDRESS(136,A15+4)):INDIRECT(\"'Success Criteria'!\" & ADDRESS(196,A15+4)),\"N/A\")","v":0},{"$f":"COUNTIF(INDIRECT(\"'Success Criteria'!\" & ADDRESS(136,A15+4)):INDIRECT(\"'Success Criteria'!\" & ADDRESS(196,A15+4)),\"not tested\")","v":0},{"$f":"SUM(E15+I15+M15)","v":27},{"$f":"SUM(F15+J15+N15)","v":1},{"$f":"SUM(G15+K15+O15)","v":28},{"$f":"SUM(H15+L15+P15)","v":0},null,{"$f":"SUM(E15:H15)","v":32},{"$f":"IF(V15=W$12,1,\"\")","v":1},{"$f":"SUM($I15:$L15)","v":24},{"$f":"IF(X15=Y$12,1,\"\")","v":1},{"$f":"SUM($M15:$P15)","v":0},{"$f":"IF(Z15=AA$12,1,\"\")","v":1}]
[{"$f":"HYPERLINK(\"#'Success Criteria'!\"&ADDRESS(1,ROW()-10,4),ROW()-14)","v":2},"Footer","https://www.london.gov.uk/","HTML Component",{"$f":"SUM(COUNTIF(INDIRECT(\"'Success Criteria'!\" & ADDRESS(10,A16+4)):INDIRECT(\"'Success Criteria'!\" & ADDRESS(75,A16+4)),\"PASS\"),COUNTIF(INDIRECT(\"'Success Criteria'!\" & ADDRESS(10,A16+4)):INDIRECT(\"'Success Criteria'!\" & ADDRESS(75,A16+4)),\"PASS with comments\"))","v":15},{"$f":"COUNTIF(INDIRECT(\"'Success Criteria'!\" & ADDRESS(10,A16+4)):INDIRECT(\"'Success Criteria'!\" & ADDRESS(75,A16+4)),\"NON conformant\")","v":0},{"$f":"COUNTIF(INDIRECT(\"'Success Criteria'!\" & ADDRESS(10,A16+4)):INDIRECT(\"'Success Criteria'!\" & ADDRESS(75,A16+4)),\"N/A\")","v":17},{"$f":"COUNTIF(INDIRECT(\"'Success Criteria'!\" & ADDRESS(10,A16+4)):INDIRECT(\"'Success Criteria'!\" & ADDRESS(75,A16+4)),\"not tested\")","v":0},{"$f":"SUM(COUNTIF(INDIRECT(\"'Success Criteria'!\" & ADDRESS(80,A16+4)):INDIRECT(\"'Success Criteria'!\" & ADDRESS(131,A16+4)),\"PASS\"),COUNTIF(INDIRECT(\"'Success Criteria'!\" & ADDRESS(80,A16+4)):INDIRECT(\"'Success Criteria'!\" & ADDRESS(131,A16+4)),\"PASS with comments\"))","v":12},{"$f":"COUNTIF(INDIRECT(\"'Success Criteria'!\" & ADDRESS(80,A16+4)):INDIRECT(\"'Success Criteria'!\" & ADDRESS(131,A16+4)),\"NON conformant\")","v":1},{"$f":"COUNTIF(INDIRECT(\"'Success Criteria'!\" & ADDRESS(80,A16+4)):INDIRECT(\"'Success Criteria'!\" & ADDRESS(131,A16+4)),\"N/A\")","v":11},{"$f":"COUNTIF(INDIRECT(\"'Success Criteria'!\" & ADDRESS(80,A16+4)):INDIRECT(\"'Success Criteria'!\" & ADDRESS(131,A16+4)),\"not tested\")","v":0},{"$f":"SUM(COUNTIF(INDIRECT(\"'Success Criteria'!\" & ADDRESS(136,A16+4)):INDIRECT(\"'Success Criteria'!\" & ADDRESS(196,A16+4)),\"PASS\"),COUNTIF(INDIRECT(\"'Success Criteria'!\" & ADDRESS(136,A16+4)):INDIRECT(\"'Success Criteria'!\" & ADDRESS(196,A16+4)),\"PASS with comments\"))","v":0},{"$f":"COUNTIF(INDIRECT(\"'Success Criteria'!\" & ADDRESS(136,A16+4)):INDIRECT(\"'Success Criteria'!\" & ADDRESS(196,A16+4)),\"NON conformant\")","v":0},{"$f":"COUNTIF(INDIRECT(\"'Success Criteria'!\" & ADDRESS(136,A16+4)):INDIRECT(\"'Success Criteria'!\" & ADDRESS(196,A16+4)),\"N/A\")","v":0},{"$f":"COUNTIF(INDIRECT(\"'Success Criteria'!\" & ADDRESS(136,A16+4)):INDIRECT(\"'Success Criteria'!\" & ADDRESS(196,A16+4)),\"not tested\")","v":0},{"$f":"SUM(E16+I16+M16)","v":27},{"$f":"SUM(F16+J16+N16)","v":1},28,0,null,32,{"$f":"IF(V16=W$12,1,\"\")","v":1},{"$f":"SUM($I16:$L16)","v":24},{"$f":"IF(X16=Y$12,1,\"\")","v":1},{"$f":"SUM($M16:$P16)","v":0},{"$f":"IF(Z16=AA$12,1,\"\")","v":1}]
[3,"Cookie banner","https://www.london.gov.uk/","HTML Component",{"$f":"SUM(COUNTIF(INDIRECT(\"'Success Criteria'!\" & ADDRESS(10,A17+4)):INDIRECT(\"'Success Criteria'!\" & ADDRESS(75,A17+4)),\"PASS\"),COUNTIF(INDIRECT(\"'Success Criteria'!\" & ADDRESS(10,A17+4)):INDIRECT(\"'Success Criteria'!\" & ADDRESS(75,A17+4)),\"PASS with comments\"))","v":14},{"$f":"COUNTIF(INDIRECT(\"'Success Criteria'!\" & ADDRESS(10,A17+4)):INDIRECT(\"'Success Criteria'!\" & ADDRESS(75,A17+4)),\"NON conformant\")","v":0},{"$f":"COUNTIF(INDIRECT(\"'Success Criteria'!\" & ADDRESS(10,A17+4)):INDIRECT(\"'Success Criteria'!\" & ADDRESS(75,A17+4)),\"N/A\")","v":18},{"$f":"COUNTIF(INDIRECT(\"'Success Criteria'!\" & ADDRESS(10,A17+4)):INDIRECT(\"'Success Criteria'!\" & ADDRESS(75,A17+4)),\"not tested\")","v":0},{"$f":"SUM(COUNTIF(INDIRECT(\"'Success Criteria'!\" & ADDRESS(80,A17+4)):INDIRECT(\"'Success Criteria'!\" & ADDRESS(131,A17+4)),\"PASS\"),COUNTIF(INDIRECT(\"'Success Criteria'!\" & ADDRESS(80,A17+4)):INDIRECT(\"'Success Criteria'!\" & ADDRESS(131,A17+4)),\"PASS with comments\"))","v":12},{"$f":"COUNTIF(INDIRECT(\"'Success Criteria'!\" & ADDRESS(80,A17+4)):INDIRECT(\"'Success Criteria'!\" & ADDRESS(131,A17+4)),\"NON conformant\")","v":0},{"$f":"COUNTIF(INDIRECT(\"'Success Criteria'!\" & ADDRESS(80,A17+4)):INDIRECT(\"'Success Criteria'!\" & ADDRESS(131,A17+4)),\"N/A\")","v":12},{"$f":"COUNTIF(INDIRECT(\"'Success Criteria'!\" & ADDRESS(80,A17+4)):INDIRECT(\"'Success Criteria'!\" & ADDRESS(131,A17+4)),\"not tested\")","v":0},{"$f":"SUM(COUNTIF(INDIRECT(\"'Success Criteria'!\" & ADDRESS(136,A17+4)):INDIRECT(\"'Success Criteria'!\" & ADDRESS(196,A17+4)),\"PASS\"),COUNTIF(INDIRECT(\"'Success Criteria'!\" & ADDRESS(136,A17+4)):INDIRECT(\"'Success Criteria'!\" & ADDRESS(196,A17+4)),\"PASS with comments\"))","v":0},{"$f":"COUNTIF(INDIRECT(\"'Success Criteria'!\" & ADDRESS(136,A17+4)):INDIRECT(\"'Success Criteria'!\" & ADDRESS(196,A17+4)),\"NON conformant\")","v":0},{"$f":"COUNTIF(INDIRECT(\"'Success Criteria'!\" & ADDRESS(136,A17+4)):INDIRECT(\"'Success Criteria'!\" & ADDRESS(196,A17+4)),\"N/A\")","v":0},{"$f":"COUNTIF(INDIRECT(\"'Success Criteria'!\" & ADDRESS(136,A17+4)):INDIRECT(\"'Success Criteria'!\" & ADDRESS(196,A17+4)),\"not tested\")","v":0},26,0,30,0,null,32,{"$f":"IF(V17=W$12,1,\"\")","v":1},24,{"$f":"IF(X17=Y$12,1,\"\")","v":1},0,1]
[4,"Cookie dialog","https://www.london.gov.uk/","HTML Component",{"$f":"SUM(COUNTIF(INDIRECT(\"'Success Criteria'!\" & ADDRESS(10,A18+4)):INDIRECT(\"'Success Criteria'!\" & ADDRESS(75,A18+4)),\"PASS\"),COUNTIF(INDIRECT(\"'Success Criteria'!\" & ADDRESS(10,A18+4)):INDIRECT(\"'Success Criteria'!\" & ADDRESS(75,A18+4)),\"PASS with comments\"))","v":12},{"$f":"COUNTIF(INDIRECT(\"'Success Criteria'!\" & ADDRESS(10,A18+4)):INDIRECT(\"'Success Criteria'!\" & ADDRESS(75,A18+4)),\"NON conformant\")","v":0},{"$f":"COUNTIF(INDIRECT(\"'Success Criteria'!\" & ADDRESS(10,A18+4)):INDIRECT(\"'Success Criteria'!\" & ADDRESS(75,A18+4)),\"N/A\")","v":20},{"$f":"COUNTIF(INDIRECT(\"'Success Criteria'!\" & ADDRESS(10,A18+4)):INDIRECT(\"'Success Criteria'!\" & ADDRESS(75,A18+4)),\"not tested\")","v":0},{"$f":"SUM(COUNTIF(INDIRECT(\"'Success Criteria'!\" & ADDRESS(80,A18+4)):INDIRECT(\"'Success Criteria'!\" & ADDRESS(131,A18+4)),\"PASS\"),COUNTIF(INDIRECT(\"'Success Criteria'!\" & ADDRESS(80,A18+4)):INDIRECT(\"'Success Criteria'!\" & ADDRESS(131,A18+4)),\"PASS with comments\"))","v":10},{"$f":"COUNTIF(INDIRECT(\"'Success Criteria'!\" & ADDRESS(80,A18+4)):INDIRECT(\"'Success Criteria'!\" & ADDRESS(131,A18+4)),\"NON conformant\")","v":1},{"$f":"COUNTIF(INDIRECT(\"'Success Criteria'!\" & ADDRESS(80,A18+4)):INDIRECT(\"'Success Criteria'!\" & ADDRESS(131,A18+4)),\"N/A\")","v":13},{"$f":"COUNTIF(INDIRECT(\"'Success Criteria'!\" & ADDRESS(80,A18+4)):INDIRECT(\"'Success Criteria'!\" & ADDRESS(131,A18+4)),\"not tested\")","v":0},{"$f":"SUM(COUNTIF(INDIRECT(\"'Success Criteria'!\" & ADDRESS(136,A18+4)):INDIRECT(\"'Success Criteria'!\" & ADDRESS(196,A18+4)),\"PASS\"),COUNTIF(INDIRECT(\"'Success Criteria'!\" & ADDRESS(136,A18+4)):INDIRECT(\"'Success Criteria'!\" & ADDRESS(196,A18+4)),\"PASS with comments\"))","v":0},{"$f":"COUNTIF(INDIRECT(\"'Success Criteria'!\" & ADDRESS(136,A18+4)):INDIRECT(\"'Success Criteria'!\" & ADDRESS(196,A18+4)),\"NON conformant\")","v":0},{"$f":"COUNTIF(INDIRECT(\"'Success Criteria'!\" & ADDRESS(136,A18+4)):INDIRECT(\"'Success Criteria'!\" & ADDRESS(196,A18+4)),\"N/A\")","v":0},{"$f":"COUNTIF(INDIRECT(\"'Success Criteria'!\" & ADDRESS(136,A18+4)):INDIRECT(\"'Success Criteria'!\" & ADDRESS(196,A18+4)),\"not tested\")","v":0},22,1,33,0,null,32,1,24,1,0,1]
[5,"Search","https://www.london.gov.uk/","HTML Component",{"$f":"SUM(COUNTIF(INDIRECT(\"'Success Criteria'!\" & ADDRESS(10,A19+4)):INDIRECT(\"'Success Criteria'!\" & ADDRESS(75,A19+4)),\"PASS\"),COUNTIF(INDIRECT(\"'Success Criteria'!\" & ADDRESS(10,A19+4)):INDIRECT(\"'Success Criteria'!\" & ADDRESS(75,A19+4)),\"PASS with comments\"))","v":12},{"$f":"COUNTIF(INDIRECT(\"'Success Criteria'!\" & ADDRESS(10,A19+4)):INDIRECT(\"'Success Criteria'!\" & ADDRESS(75,A19+4)),\"NON conformant\")","v":1},{"$f":"COUNTIF(INDIRECT(\"'Success Criteria'!\" & ADDRESS(10,A19+4)):INDIRECT(\"'Success Criteria'!\" & ADDRESS(75,A19+4)),\"N/A\")","v":19},{"$f":"COUNTIF(INDIRECT(\"'Success Criteria'!\" & ADDRESS(10,A19+4)):INDIRECT(\"'Success Criteria'!\" & ADDRESS(75,A19+4)),\"not tested\")","v":0},{"$f":"SUM(COUNTIF(INDIRECT(\"'Success Criteria'!\" & ADDRESS(80,A19+4)):INDIRECT(\"'Success Criteria'!\" & ADDRESS(131,A19+4)),\"PASS\"),COUNTIF(INDIRECT(\"'Success Criteria'!\" & ADDRESS(80,A19+4)):INDIRECT(\"'Success Criteria'!\" & ADDRESS(131,A19+4)),\"PASS with comments\"))","v":12},{"$f":"COUNTIF(INDIRECT(\"'Success Criteria'!\" & ADDRESS(80,A19+4)):INDIRECT(\"'Success Criteria'!\" & ADDRESS(131,A19+4)),\"NON conformant\")","v":0},{"$f":"COUNTIF(INDIRECT(\"'Success Criteria'!\" & ADDRESS(80,A19+4)):INDIRECT(\"'Success Criteria'!\" & ADDRESS(131,A19+4)),\"N/A\")","v":12},{"$f":"COUNTIF(INDIRECT(\"'Success Criteria'!\" & ADDRESS(80,A19+4)):INDIRECT(\"'Success Criteria'!\" & ADDRESS(131,A19+4)),\"not tested\")","v":0},{"$f":"SUM(COUNTIF(INDIRECT(\"'Success Criteria'!\" & ADDRESS(136,A19+4)):INDIRECT(\"'Success Criteria'!\" & ADDRESS(196,A19+4)),\"PASS\"),COUNTIF(INDIRECT(\"'Success Criteria'!\" & ADDRESS(136,A19+4)):INDIRECT(\"'Success Criteria'!\" & ADDRESS(196,A19+4)),\"PASS with comments\"))","v":0},{"$f":"COUNTIF(INDIRECT(\"'Success Criteria'!\" & ADDRESS(136,A19+4)):INDIRECT(\"'Success Criteria'!\" & ADDRESS(196,A19+4)),\"NON conformant\")","v":0},{"$f":"COUNTIF(INDIRECT(\"'Success Criteria'!\" & ADDRESS(136,A19+4)):INDIRECT(\"'Success Criteria'!\" & ADDRESS(196,A19+4)),\"N/A\")","v":0},{"$f":"COUNTIF(INDIRECT(\"'Success Criteria'!\" & ADDRESS(136,A19+4)):INDIRECT(\"'Success Criteria'!\" & ADDRESS(196,A19+4)),\"not tested\")","v":0},24,1,31,0,null,32,1,24,1,0,1]
[6,"Share this page","https://www.london.gov.uk/","HTML Component",{"$f":"SUM(COUNTIF(INDIRECT(\"'Success Criteria'!\" & ADDRESS(10,A20+4)):INDIRECT(\"'Success Criteria'!\" & ADDRESS(75,A20+4)),\"PASS\"),COUNTIF(INDIRECT(\"'Success Criteria'!\" & ADDRESS(10,A20+4)):INDIRECT(\"'Success Criteria'!\" & ADDRESS(75,A20+4)),\"PASS with comments\"))","v":13},{"$f":"COUNTIF(INDIRECT(\"'Success Criteria'!\" & ADDRESS(10,A20+4)):INDIRECT(\"'Success Criteria'!\" & ADDRESS(75,A20+4)),\"NON conformant\")","v":0},{"$f":"COUNTIF(INDIRECT(\"'Success Criteria'!\" & ADDRESS(10,A20+4)):INDIRECT(\"'Success Criteria'!\" & ADDRESS(75,A20+4)),\"N/A\")","v":19},{"$f":"COUNTIF(INDIRECT(\"'Success Criteria'!\" & ADDRESS(10,A20+4)):INDIRECT(\"'Success Criteria'!\" & ADDRESS(75,A20+4)),\"not tested\")","v":0},{"$f":"SUM(COUNTIF(INDIRECT(\"'Success Criteria'!\" & ADDRESS(80,A20+4)):INDIRECT(\"'Success Criteria'!\" & ADDRESS(131,A20+4)),\"PASS\"),COUNTIF(INDIRECT(\"'Success Criteria'!\" & ADDRESS(80,A20+4)):INDIRECT(\"'Success Criteria'!\" & ADDRESS(131,A20+4)),\"PASS with comments\"))","v":12},{"$f":"COUNTIF(INDIRECT(\"'Success Criteria'!\" & ADDRESS(80,A20+4)):INDIRECT(\"'Success Criteria'!\" & ADDRESS(131,A20+4)),\"NON conformant\")","v":0},{"$f":"COUNTIF(INDIRECT(\"'Success Criteria'!\" & ADDRESS(80,A20+4)):INDIRECT(\"'Success Criteria'!\" & ADDRESS(131,A20+4)),\"N/A\")","v":12},{"$f":"COUNTIF(INDIRECT(\"'Success Criteria'!\" & ADDRESS(80,A20+4)):INDIRECT(\"'Success Criteria'!\" & ADDRESS(131,A20+4)),\"not tested\")","v":0},{"$f":"SUM(COUNTIF(INDIRECT(\"'Success Criteria'!\" & ADDRESS(136,A20+4)):INDIRECT(\"'Success Criteria'!\" & ADDRESS(196,A20+4)),\"PASS\"),COUNTIF(INDIRECT(\"'Success Criteria'!\" & ADDRESS(136,A20+4)):INDIRECT(\"'Success Criteria'!\" & ADDRESS(196,A20+4)),\"PASS with comments\"))","v":0},{"$f":"COUNTIF(INDIRECT(\"'Success Criteria'!\" & ADDRESS(136,A20+4)):INDIRECT(\"'Success Criteria'!\" & ADDRESS(196,A20+4)),\"NON conformant\")","v":0},{"$f":"COUNTIF(INDIRECT(\"'Success Criteria'!\" & ADDRESS(136,A20+4)):INDIRECT(\"'Success Criteria'!\" & ADDRESS(196,A20+4)),\"N/A\")","v":0},{"$f":"COUNTIF(INDIRECT(\"'Success Criteria'!\" & ADDRESS(136,A20+4)):INDIRECT(\"'Success Criteria'!\" & ADDRESS(196,A20+4)),\"not tested\")","v":0},25,0,31,0,null,32,1,24,1,0,1]
[7,"Home page","https://www.london.gov.uk/","HTML Page (excluding components)",{"$f":"SUM(COUNTIF(INDIRECT(\"'Success Criteria'!\" & ADDRESS(10,A21+4)):INDIRECT(\"'Success Criteria'!\" & ADDRESS(75,A21+4)),\"PASS\"),COUNTIF(INDIRECT(\"'Success Criteria'!\" & ADDRESS(10,A21+4)):INDIRECT(\"'Success Criteria'!\" & ADDRESS(75,A21+4)),\"PASS with comments\"))","v":17},{"$f":"COUNTIF(INDIRECT(\"'Success Criteria'!\" & ADDRESS(10,A21+4)):INDIRECT(\"'Success Criteria'!\" & ADDRESS(75,A21+4)),\"NON conformant\")","v":0},{"$f":"COUNTIF(INDIRECT(\"'Success Criteria'!\" & ADDRESS(10,A21+4)):INDIRECT(\"'Success Criteria'!\" & ADDRESS(75,A21+4)),\"N/A\")","v":15},{"$f":"COUNTIF(INDIRECT(\"'Success Criteria'!\" & ADDRESS(10,A21+4)):INDIRECT(\"'Success Criteria'!\" & ADDRESS(75,A21+4)),\"not tested\")","v":0},{"$f":"SUM(COUNTIF(INDIRECT(\"'Success Criteria'!\" & ADDRESS(80,A21+4)):INDIRECT(\"'Success Criteria'!\" & ADDRESS(131,A21+4)),\"PASS\"),COUNTIF(INDIRECT(\"'Success Criteria'!\" & ADDRESS(80,A21+4)):INDIRECT(\"'Success Criteria'!\" & ADDRESS(131,A21+4)),\"PASS with comments\"))","v":13},{"$f":"COUNTIF(INDIRECT(\"'Success Criteria'!\" & ADDRESS(80,A21+4)):INDIRECT(\"'Success Criteria'!\" & ADDRESS(131,A21+4)),\"NON conformant\")","v":3},{"$f":"COUNTIF(INDIRECT(\"'Success Criteria'!\" & ADDRESS(80,A21+4)):INDIRECT(\"'Success Criteria'!\" & ADDRESS(131,A21+4)),\"N/A\")","v":8},{"$f":"COUNTIF(INDIRECT(\"'Success Criteria'!\" & ADDRESS(80,A21+4)):INDIRECT(\"'Success Criteria'!\" & ADDRESS(131,A21+4)),\"not tested\")","v":0},{"$f":"SUM(COUNTIF(INDIRECT(\"'Success Criteria'!\" & ADDRESS(136,A21+4)):INDIRECT(\"'Success Criteria'!\" & ADDRESS(196,A21+4)),\"PASS\"),COUNTIF(INDIRECT(\"'Success Criteria'!\" & ADDRESS(136,A21+4)):INDIRECT(\"'Success Criteria'!\" & ADDRESS(196,A21+4)),\"PASS with comments\"))","v":0},{"$f":"COUNTIF(INDIRECT(\"'Success Criteria'!\" & ADDRESS(136,A21+4)):INDIRECT(\"'Success Criteria'!\" & ADDRESS(196,A21+4)),\"NON conformant\")","v":0},{"$f":"COUNTIF(INDIRECT(\"'Success Criteria'!\" & ADDRESS(136,A21+4)):INDIRECT(\"'Success Criteria'!\" & ADDRESS(196,A21+4)),\"N/A\")","v":0},{"$f":"COUNTIF(INDIRECT(\"'Success Criteria'!\" & ADDRESS(136,A21+4)):INDIRECT(\"'Success Criteria'!\" & ADDRESS(196,A21+4)),\"not tested\")","v":0},30,3,23,0,null,32,1,24,1,0,1]
[8,"Search results","https://www.london.gov.uk/search?query=london","HTML Page (excluding components)",{"$f":"SUM(COUNTIF(INDIRECT(\"'Success Criteria'!\" & ADDRESS(10,A22+4)):INDIRECT(\"'Success Criteria'!\" & ADDRESS(75,A22+4)),\"PASS\"),COUNTIF(INDIRECT(\"'Success Criteria'!\" & ADDRESS(10,A22+4)):INDIRECT(\"'Success Criteria'!\" & ADDRESS(75,A22+4)),\"PASS with comments\"))","v":16},{"$f":"COUNTIF(INDIRECT(\"'Success Criteria'!\" & ADDRESS(10,A22+4)):INDIRECT(\"'Success Criteria'!\" & ADDRESS(75,A22+4)),\"NON conformant\")","v":0},{"$f":"COUNTIF(INDIRECT(\"'Success Criteria'!\" & ADDRESS(10,A22+4)):INDIRECT(\"'Success Criteria'!\" & ADDRESS(75,A22+4)),\"N/A\")","v":16},{"$f":"COUNTIF(INDIRECT(\"'Success Criteria'!\" & ADDRESS(10,A22+4)):INDIRECT(\"'Success Criteria'!\" & ADDRESS(75,A22+4)),\"not tested\")","v":0},{"$f":"SUM(COUNTIF(INDIRECT(\"'Success Criteria'!\" & ADDRESS(80,A22+4)):INDIRECT(\"'Success Criteria'!\" & ADDRESS(131,A22+4)),\"PASS\"),COUNTIF(INDIRECT(\"'Success Criteria'!\" & ADDRESS(80,A22+4)):INDIRECT(\"'Success Criteria'!\" & ADDRESS(131,A22+4)),\"PASS with comments\"))","v":12},{"$f":"COUNTIF(INDIRECT(\"'Success Criteria'!\" & ADDRESS(80,A22+4)):INDIRECT(\"'Success Criteria'!\" & ADDRESS(131,A22+4)),\"NON conformant\")","v":1},{"$f":"COUNTIF(INDIRECT(\"'Success Criteria'!\" & ADDRESS(80,A22+4)):INDIRECT(\"'Success Criteria'!\" & ADDRESS(131,A22+4)),\"N/A\")","v":11},{"$f":"COUNTIF(INDIRECT(\"'Success Criteria'!\" & ADDRESS(80,A22+4)):INDIRECT(\"'Success Criteria'!\" & ADDRESS(131,A22+4)),\"not tested\")","v":0},{"$f":"SUM(COUNTIF(INDIRECT(\"'Success Criteria'!\" & ADDRESS(136,A22+4)):INDIRECT(\"'Success Criteria'!\" & ADDRESS(196,A22+4)),\"PASS\"),COUNTIF(INDIRECT(\"'Success Criteria'!\" & ADDRESS(136,A22+4)):INDIRECT(\"'Success Criteria'!\" & ADDRESS(196,A22+4)),\"PASS with comments\"))","v":0},{"$f":"COUNTIF(INDIRECT(\"'Success Criteria'!\" & ADDRESS(136,A22+4)):INDIRECT(\"'Success Criteria'!\" & ADDRESS(196,A22+4)),\"NON conformant\")","v":0},{"$f":"COUNTIF(INDIRECT(\"'Success Criteria'!\" & ADDRESS(136,A22+4)):INDIRECT(\"'Success Criteria'!\" & ADDRESS(196,A22+4)),\"N/A\")","v":0},{"$f":"COUNTIF(INDIRECT(\"'Success Criteria'!\" & ADDRESS(136,A22+4)):INDIRECT(\"'Success Criteria'!\" & ADDRESS(196,A22+4)),\"not tested\")","v":0},28,1,27,0,null,32,1,24,1,0,1]
[9,"Contact City Hall or the Mayor","https://www.london.gov.uk/who-we-are/what-mayor-does/contact-city-hall-or-mayor","HTML Page (excluding components)",{"$f":"SUM(COUNTIF(INDIRECT(\"'Success Criteria'!\" & ADDRESS(10,A23+4)):INDIRECT(\"'Success Criteria'!\" & ADDRESS(75,A23+4)),\"PASS\"),COUNTIF(INDIRECT(\"'Success Criteria'!\" & ADDRESS(10,A23+4)):INDIRECT(\"'Success Criteria'!\" & ADDRESS(75,A23+4)),\"PASS with comments\"))","v":16},{"$f":"COUNTIF(INDIRECT(\"'Success Criteria'!\" & ADDRESS(10,A23+4)):INDIRECT(\"'Success Criteria'!\" & ADDRESS(75,A23+4)),\"NON conformant\")","v":0},{"$f":"COUNTIF(INDIRECT(\"'Success Criteria'!\" & ADDRESS(10,A23+4)):INDIRECT(\"'Success Criteria'!\" & ADDRESS(75,A23+4)),\"N/A\")","v":16},{"$f":"COUNTIF(INDIRECT(\"'Success Criteria'!\" & ADDRESS(10,A23+4)):INDIRECT(\"'Success Criteria'!\" & ADDRESS(75,A23+4)),\"not tested\")","v":0},{"$f":"SUM(COUNTIF(INDIRECT(\"'Success Criteria'!\" & ADDRESS(80,A23+4)):INDIRECT(\"'Success Criteria'!\" & ADDRESS(131,A23+4)),\"PASS\"),COUNTIF(INDIRECT(\"'Success Criteria'!\" & ADDRESS(80,A23+4)):INDIRECT(\"'Success Criteria'!\" & ADDRESS(131,A23+4)),\"PASS with comments\"))","v":13},{"$f":"COUNTIF(INDIRECT(\"'Success Criteria'!\" & ADDRESS(80,A23+4)):INDIRECT(\"'Success Criteria'!\" & ADDRESS(131,A23+4)),\"NON conformant\")","v":0},{"$f":"COUNTIF(INDIRECT(\"'Success Criteria'!\" & ADDRESS(80,A23+4)):INDIRECT(\"'Success Criteria'!\" & ADDRESS(131,A23+4)),\"N/A\")","v":11},{"$f":"COUNTIF(INDIRECT(\"'Success Criteria'!\" & ADDRESS(80,A23+4)):INDIRECT(\"'Success Criteria'!\" & ADDRESS(131,A23+4)),\"not tested\")","v":0},{"$f":"SUM(COUNTIF(INDIRECT(\"'Success Criteria'!\" & ADDRESS(136,A23+4)):INDIRECT(\"'Success Criteria'!\" & ADDRESS(196,A23+4)),\"PASS\"),COUNTIF(INDIRECT(\"'Success Criteria'!\" & ADDRESS(136,A23+4)):INDIRECT(\"'Success Criteria'!\" & ADDRESS(196,A23+4)),\"PASS with comments\"))","v":0},{"$f":"COUNTIF(INDIRECT(\"'Success Criteria'!\" & ADDRESS(136,A23+4)):INDIRECT(\"'Success Criteria'!\" & ADDRESS(196,A23+4)),\"NON conformant\")","v":0},{"$f":"COUNTIF(INDIRECT(\"'Success Criteria'!\" & ADDRESS(136,A23+4)):INDIRECT(\"'Success Criteria'!\" & ADDRESS(196,A23+4)),\"N/A\")","v":0},{"$f":"COUNTIF(INDIRECT(\"'Success Criteria'!\" & ADDRESS(136,A23+4)):INDIRECT(\"'Success Criteria'!\" & ADDRESS(196,A23+4)),\"not tested\")","v":0},29,0,27,0,null,32,1,24,1,0,1]
[10,"Contact us","https://www.london.gov.uk/contact-us-form","HTML Page (excluding components)",{"$f":"SUM(COUNTIF(INDIRECT(\"'Success Criteria'!\" & ADDRESS(10,A24+4)):INDIRECT(\"'Success Criteria'!\" & ADDRESS(75,A24+4)),\"PASS\"),COUNTIF(INDIRECT(\"'Success Criteria'!\" & ADDRESS(10,A24+4)):INDIRECT(\"'Success Criteria'!\" & ADDRESS(75,A24+4)),\"PASS with comments\"))","v":17},{"$f":"COUNTIF(INDIRECT(\"'Success Criteria'!\" & ADDRESS(10,A24+4)):INDIRECT(\"'Success Criteria'!\" & ADDRESS(75,A24+4)),\"NON conformant\")","v":0},{"$f":"COUNTIF(INDIRECT(\"'Success Criteria'!\" & ADDRESS(10,A24+4)):INDIRECT(\"'Success Criteria'!\" & ADDRESS(75,A24+4)),\"N/A\")","v":15},{"$f":"COUNTIF(INDIRECT(\"'Success Criteria'!\" & ADDRESS(10,A24+4)):INDIRECT(\"'Success Criteria'!\" & ADDRESS(75,A24+4)),\"not tested\")","v":0},{"$f":"SUM(COUNTIF(INDIRECT(\"'Success Criteria'!\" & ADDRESS(80,A24+4)):INDIRECT(\"'Success Criteria'!\" & ADDRESS(131,A24+4)),\"PASS\"),COUNTIF(INDIRECT(\"'Success Criteria'!\" & ADDRESS(80,A24+4)):INDIRECT(\"'Success Criteria'!\" & ADDRESS(131,A24+4)),\"PASS with comments\"))","v":15},{"$f":"COUNTIF(INDIRECT(\"'Success Criteria'!\" & ADDRESS(80,A24+4)):INDIRECT(\"'Success Criteria'!\" & ADDRESS(131,A24+4)),\"NON conformant\")","v":1},{"$f":"COUNTIF(INDIRECT(\"'Success Criteria'!\" & ADDRESS(80,A24+4)):INDIRECT(\"'Success Criteria'!\" & ADDRESS(131,A24+4)),\"N/A\")","v":8},{"$f":"COUNTIF(INDIRECT(\"'Success Criteria'!\" & ADDRESS(80,A24+4)):INDIRECT(\"'Success Criteria'!\" & ADDRESS(131,A24+4)),\"not tested\")","v":0},{"$f":"SUM(COUNTIF(INDIRECT(\"'Success Criteria'!\" & ADDRESS(136,A24+4)):INDIRECT(\"'Success Criteria'!\" & ADDRESS(196,A24+4)),\"PASS\"),COUNTIF(INDIRECT(\"'Success Criteria'!\" & ADDRESS(136,A24+4)):INDIRECT(\"'Success Criteria'!\" & ADDRESS(196,A24+4)),\"PASS with comments\"))","v":0},{"$f":"COUNTIF(INDIRECT(\"'Success Criteria'!\" & ADDRESS(136,A24+4)):INDIRECT(\"'Success Criteria'!\" & ADDRESS(196,A24+4)),\"NON conformant\")","v":0},{"$f":"COUNTIF(INDIRECT(\"'Success Criteria'!\" & ADDRESS(136,A24+4)):INDIRECT(\"'Success Criteria'!\" & ADDRESS(196,A24+4)),\"N/A\")","v":0},{"$f":"COUNTIF(INDIRECT(\"'Success Criteria'!\" & ADDRESS(136,A24+4)):INDIRECT(\"'Success Criteria'!\" & ADDRESS(196,A24+4)),\"not tested\")","v":0},32,1,23,0,null,32,1,24,1,0,1]
[11,"Priorities for London","https://www.london.gov.uk/who-we-are/what-mayor-does/priorities-london","HTML Page (excluding components)",{"$f":"SUM(COUNTIF(INDIRECT(\"'Success Criteria'!\" & ADDRESS(10,A25+4)):INDIRECT(\"'Success Criteria'!\" & ADDRESS(75,A25+4)),\"PASS\"),COUNTIF(INDIRECT(\"'Success Criteria'!\" & ADDRESS(10,A25+4)):INDIRECT(\"'Success Criteria'!\" & ADDRESS(75,A25+4)),\"PASS with comments\"))","v":17},{"$f":"COUNTIF(INDIRECT(\"'Success Criteria'!\" & ADDRESS(10,A25+4)):INDIRECT(\"'Success Criteria'!\" & ADDRESS(75,A25+4)),\"NON conformant\")","v":0},{"$f":"COUNTIF(INDIRECT(\"'Success Criteria'!\" & ADDRESS(10,A25+4)):INDIRECT(\"'Success Criteria'!\" & ADDRESS(75,A25+4)),\"N/A\")","v":15},{"$f":"COUNTIF(INDIRECT(\"'Success Criteria'!\" & ADDRESS(10,A25+4)):INDIRECT(\"'Success Criteria'!\" & ADDRESS(75,A25+4)),\"not tested\")","v":0},{"$f":"SUM(COUNTIF(INDIRECT(\"'Success Criteria'!\" & ADDRESS(80,A25+4)):INDIRECT(\"'Success Criteria'!\" & ADDRESS(131,A25+4)),\"PASS\"),COUNTIF(INDIRECT(\"'Success Criteria'!\" & ADDRESS(80,A25+4)):INDIRECT(\"'Success Criteria'!\" & ADDRESS(131,A25+4)),\"PASS with comments\"))","v":16},{"$f":"COUNTIF(INDIRECT(\"'Success Criteria'!\" & ADDRESS(80,A25+4)):INDIRECT(\"'Success Criteria'!\" & ADDRESS(131,A25+4)),\"NON conformant\")","v":0},{"$f":"COUNTIF(INDIRECT(\"'Success Criteria'!\" & ADDRESS(80,A25+4)):INDIRECT(\"'Success Criteria'!\" & ADDRESS(131,A25+4)),\"N/A\")","v":8},{"$f":"COUNTIF(INDIRECT(\"'Success Criteria'!\" & ADDRESS(80,A25+4)):INDIRECT(\"'Success Criteria'!\" & ADDRESS(131,A25+4)),\"not tested\")","v":0},{"$f":"SUM(COUNTIF(INDIRECT(\"'Success Criteria'!\" & ADDRESS(136,A25+4)):INDIRECT(\"'Success Criteria'!\" & ADDRESS(196,A25+4)),\"PASS\"),COUNTIF(INDIRECT(\"'Success Criteria'!\" & ADDRESS(136,A25+4)):INDIRECT(\"'Success Criteria'!\" & ADDRESS(196,A25+4)),\"PASS with comments\"))","v":0},{"$f":"COUNTIF(INDIRECT(\"'Success Criteria'!\" & ADDRESS(136,A25+4)):INDIRECT(\"'Success Criteria'!\" & ADDRESS(196,A25+4)),\"NON conformant\")","v":0},{"$f":"COUNTIF(INDIRECT(\"'Success Criteria'!\" & ADDRESS(136,A25+4)):INDIRECT(\"'Success Criteria'!\" & ADDRESS(196,A25+4)),\"N/A\")","v":0},{"$f":"COUNTIF(INDIRECT(\"'Success Criteria'!\" & ADDRESS(136,A25+4)):INDIRECT(\"'Success Criteria'!\" & ADDRESS(196,A25+4)),\"not tested\")","v":0},33,0,23,0,null,32,1,24,1,0,1]
[12,"FOI - London Living Rent [Jan 2024]","https://www.london.gov.uk/who-we-are/governance-and-spending/sharing-our-information/foi-disclosure-log/foi-london-living-rent-jan-2024","HTML Page (excluding components)",{"$f":"SUM(COUNTIF(INDIRECT(\"'Success Criteria'!\" & ADDRESS(10,A26+4)):INDIRECT(\"'Success Criteria'!\" & ADDRESS(75,A26+4)),\"PASS\"),COUNTIF(INDIRECT(\"'Success Criteria'!\" & ADDRESS(10,A26+4)):INDIRECT(\"'Success Criteria'!\" & ADDRESS(75,A26+4)),\"PASS with comments\"))","v":14},{"$f":"COUNTIF(INDIRECT(\"'Success Criteria'!\" & ADDRESS(10,A26+4)):INDIRECT(\"'Success Criteria'!\" & ADDRESS(75,A26+4)),\"NON conformant\")","v":1},{"$f":"COUNTIF(INDIRECT(\"'Success Criteria'!\" & ADDRESS(10,A26+4)):INDIRECT(\"'Success Criteria'!\" & ADDRESS(75,A26+4)),\"N/A\")","v":17},{"$f":"COUNTIF(INDIRECT(\"'Success Criteria'!\" & ADDRESS(10,A26+4)):INDIRECT(\"'Success Criteria'!\" & ADDRESS(75,A26+4)),\"not tested\")","v":0},{"$f":"SUM(COUNTIF(INDIRECT(\"'Success Criteria'!\" & ADDRESS(80,A26+4)):INDIRECT(\"'Success Criteria'!\" & ADDRESS(131,A26+4)),\"PASS\"),COUNTIF(INDIRECT(\"'Success Criteria'!\" & ADDRESS(80,A26+4)):INDIRECT(\"'Success Criteria'!\" & ADDRESS(131,A26+4)),\"PASS with comments\"))","v":13},{"$f":"COUNTIF(INDIRECT(\"'Success Criteria'!\" & ADDRESS(80,A26+4)):INDIRECT(\"'Success Criteria'!\" & ADDRESS(131,A26+4)),\"NON conformant\")","v":0},{"$f":"COUNTIF(INDIRECT(\"'Success Criteria'!\" & ADDRESS(80,A26+4)):INDIRECT(\"'Success Criteria'!\" & ADDRESS(131,A26+4)),\"N/A\")","v":11},{"$f":"COUNTIF(INDIRECT(\"'Success Criteria'!\" & ADDRESS(80,A26+4)):INDIRECT(\"'Success Criteria'!\" & ADDRESS(131,A26+4)),\"not tested\")","v":0},{"$f":"SUM(COUNTIF(INDIRECT(\"'Success Criteria'!\" & ADDRESS(136,A26+4)):INDIRECT(\"'Success Criteria'!\" & ADDRESS(196,A26+4)),\"PASS\"),COUNTIF(INDIRECT(\"'Success Criteria'!\" & ADDRESS(136,A26+4)):INDIRECT(\"'Success Criteria'!\" & ADDRESS(196,A26+4)),\"PASS with comments\"))","v":0},{"$f":"COUNTIF(INDIRECT(\"'Success Criteria'!\" & ADDRESS(136,A26+4)):INDIRECT(\"'Success Criteria'!\" & ADDRESS(196,A26+4)),\"NON conformant\")","v":0},{"$f":"COUNTIF(INDIRECT(\"'Success Criteria'!\" & ADDRESS(136,A26+4)):INDIRECT(\"'Success Criteria'!\" & ADDRESS(196,A26+4)),\"N/A\")","v":0},{"$f":"COUNTIF(INDIRECT(\"'Success Criteria'!\" & ADDRESS(136,A26+4)):INDIRECT(\"'Success Criteria'!\" & ADDRESS(196,A26+4)),\"not tested\")","v":0},27,1,28,0,null,32,1,24,1,0,1]
[13,"GLA Economics publications","https://www.london.gov.uk/programmes-strategies/research-and-analysis/gla-economics-publications","HTML Page (excluding components)",{"$f":"SUM(COUNTIF(INDIRECT(\"'Success Criteria'!\" & ADDRESS(10,A27+4)):INDIRECT(\"'Success Criteria'!\" & ADDRESS(75,A27+4)),\"PASS\"),COUNTIF(INDIRECT(\"'Success Criteria'!\" & ADDRESS(10,A27+4)):INDIRECT(\"'Success Criteria'!\" & ADDRESS(75,A27+4)),\"PASS with comments\"))","v":16},{"$f":"COUNTIF(INDIRECT(\"'Success Criteria'!\" & ADDRESS(10,A27+4)):INDIRECT(\"'Success Criteria'!\" & ADDRESS(75,A27+4)),\"NON conformant\")","v":0},{"$f":"COUNTIF(INDIRECT(\"'Success Criteria'!\" & ADDRESS(10,A27+4)):INDIRECT(\"'Success Criteria'!\" & ADDRESS(75,A27+4)),\"N/A\")","v":16},{"$f":"COUNTIF(INDIRECT(\"'Success Criteria'!\" & ADDRESS(10,A27+4)):INDIRECT(\"'Success Criteria'!\" & ADDRESS(75,A27+4)),\"not tested\")","v":0},{"$f":"SUM(COUNTIF(INDIRECT(\"'Success Criteria'!\" & ADDRESS(80,A27+4)):INDIRECT(\"'Success Criteria'!\" & ADDRESS(131,A27+4)),\"PASS\"),COUNTIF(INDIRECT(\"'Success Criteria'!\" & ADDRESS(80,A27+4)):INDIRECT(\"'Success Criteria'!\" & ADDRESS(131,A27+4)),\"PASS with comments\"))","v":13},{"$f":"COUNTIF(INDIRECT(\"'Success Criteria'!\" & ADDRESS(80,A27+4)):INDIRECT(\"'Success Criteria'!\" & ADDRESS(131,A27+4)),\"NON conformant\")","v":0},{"$f":"COUNTIF(INDIRECT(\"'Success Criteria'!\" & ADDRESS(80,A27+4)):INDIRECT(\"'Success Criteria'!\" & ADDRESS(131,A27+4)),\"N/A\")","v":11},{"$f":"COUNTIF(INDIRECT(\"'Success Criteria'!\" & ADDRESS(80,A27+4)):INDIRECT(\"'Success Criteria'!\" & ADDRESS(131,A27+4)),\"not tested\")","v":0},{"$f":"SUM(COUNTIF(INDIRECT(\"'Success Criteria'!\" & ADDRESS(136,A27+4)):INDIRECT(\"'Success Criteria'!\" & ADDRESS(196,A27+4)),\"PASS\"),COUNTIF(INDIRECT(\"'Success Criteria'!\" & ADDRESS(136,A27+4)):INDIRECT(\"'Success Criteria'!\" & ADDRESS(196,A27+4)),\"PASS with comments\"))","v":0},{"$f":"COUNTIF(INDIRECT(\"'Success Criteria'!\" & ADDRESS(136,A27+4)):INDIRECT(\"'Success Criteria'!\" & ADDRESS(196,A27+4)),\"NON conformant\")","v":0},{"$f":"COUNTIF(INDIRECT(\"'Success Criteria'!\" & ADDRESS(136,A27+4)):INDIRECT(\"'Success Criteria'!\" & ADDRESS(196,A27+4)),\"N/A\")","v":0},{"$f":"COUNTIF(INDIRECT(\"'Success Criteria'!\" & ADDRESS(136,A27+4)):INDIRECT(\"'Success Criteria'!\" & ADDRESS(196,A27+4)),\"not tested\")","v":0},29,0,27,0,null,32,1,24,1,0,1]
[14,"Case study: Skills and resource sharing with organisations","https://www.london.gov.uk/programmes-strategies/arts-and-culture/space-culture/cultural-infrastructure-plan-and-toolbox/support-culture-and-community-spaces-risk/case-study-skills-and-resource-sharing-organisations","HTML Page (excluding components)",{"$f":"SUM(COUNTIF(INDIRECT(\"'Success Criteria'!\" & ADDRESS(10,A28+4)):INDIRECT(\"'Success Criteria'!\" & ADDRESS(75,A28+4)),\"PASS\"),COUNTIF(INDIRECT(\"'Success Criteria'!\" & ADDRESS(10,A28+4)):INDIRECT(\"'Success Criteria'!\" & ADDRESS(75,A28+4)),\"PASS with comments\"))","v":16},{"$f":"COUNTIF(INDIRECT(\"'Success Criteria'!\" & ADDRESS(10,A28+4)):INDIRECT(\"'Success Criteria'!\" & ADDRESS(75,A28+4)),\"NON conformant\")","v":0},{"$f":"COUNTIF(INDIRECT(\"'Success Criteria'!\" & ADDRESS(10,A28+4)):INDIRECT(\"'Success Criteria'!\" & ADDRESS(75,A28+4)),\"N/A\")","v":16},{"$f":"COUNTIF(INDIRECT(\"'Success Criteria'!\" & ADDRESS(10,A28+4)):INDIRECT(\"'Success Criteria'!\" & ADDRESS(75,A28+4)),\"not tested\")","v":0},{"$f":"SUM(COUNTIF(INDIRECT(\"'Success Criteria'!\" & ADDRESS(80,A28+4)):INDIRECT(\"'Success Criteria'!\" & ADDRESS(131,A28+4)),\"PASS\"),COUNTIF(INDIRECT(\"'Success Criteria'!\" & ADDRESS(80,A28+4)):INDIRECT(\"'Success Criteria'!\" & ADDRESS(131,A28+4)),\"PASS with comments\"))","v":13},{"$f":"COUNTIF(INDIRECT(\"'Success Criteria'!\" & ADDRESS(80,A28+4)):INDIRECT(\"'Success Criteria'!\" & ADDRESS(131,A28+4)),\"NON conformant\")","v":0},{"$f":"COUNTIF(INDIRECT(\"'Success Criteria'!\" & ADDRESS(80,A28+4)):INDIRECT(\"'Success Criteria'!\" & ADDRESS(131,A28+4)),\"N/A\")","v":11},{"$f":"COUNTIF(INDIRECT(\"'Success Criteria'!\" & ADDRESS(80,A28+4)):INDIRECT(\"'Success Criteria'!\" & ADDRESS(131,A28+4)),\"not tested\")","v":0},{"$f":"SUM(COUNTIF(INDIRECT(\"'Success Criteria'!\" & ADDRESS(136,A28+4)):INDIRECT(\"'Success Criteria'!\" & ADDRESS(196,A28+4)),\"PASS\"),COUNTIF(INDIRECT(\"'Success Criteria'!\" & ADDRESS(136,A28+4)):INDIRECT(\"'Success Criteria'!\" & ADDRESS(196,A28+4)),\"PASS with comments\"))","v":0},{"$f":"COUNTIF(INDIRECT(\"'Success Criteria'!\" & ADDRESS(136,A28+4)):INDIRECT(\"'Success Criteria'!\" & ADDRESS(196,A28+4)),\"NON conformant\")","v":0},{"$f":"COUNTIF(INDIRECT(\"'Success Criteria'!\" & ADDRESS(136,A28+4)):INDIRECT(\"'Success Criteria'!\" & ADDRESS(196,A28+4)),\"N/A\")","v":0},{"$f":"COUNTIF(INDIRECT(\"'Success Criteria'!\" & ADDRESS(136,A28+4)):INDIRECT(\"'Success Criteria'!\" & ADDRESS(196,A28+4)),\"not tested\")","v":0},29,0,27,0,null,32,1,24,1,0,1]
[15,"Oru Sutton (London Borough of Sutton)","https://www.london.gov.uk/programmes-strategies/shaping-local-spaces/regeneration-projects/oru-sutton-london-borough-sutton","HTML Page (excluding components)",{"$f":"SUM(COUNTIF(INDIRECT(\"'Success Criteria'!\" & ADDRESS(10,A29+4)):INDIRECT(\"'Success Criteria'!\" & ADDRESS(75,A29+4)),\"PASS\"),COUNTIF(INDIRECT(\"'Success Criteria'!\" & ADDRESS(10,A29+4)):INDIRECT(\"'Success Criteria'!\" & ADDRESS(75,A29+4)),\"PASS with comments\"))","v":16},{"$f":"COUNTIF(INDIRECT(\"'Success Criteria'!\" & ADDRESS(10,A29+4)):INDIRECT(\"'Success Criteria'!\" & ADDRESS(75,A29+4)),\"NON conformant\")","v":0},{"$f":"COUNTIF(INDIRECT(\"'Success Criteria'!\" & ADDRESS(10,A29+4)):INDIRECT(\"'Success Criteria'!\" & ADDRESS(75,A29+4)),\"N/A\")","v":16},{"$f":"COUNTIF(INDIRECT(\"'Success Criteria'!\" & ADDRESS(10,A29+4)):INDIRECT(\"'Success Criteria'!\" & ADDRESS(75,A29+4)),\"not tested\")","v":0},{"$f":"SUM(COUNTIF(INDIRECT(\"'Success Criteria'!\" & ADDRESS(80,A29+4)):INDIRECT(\"'Success Criteria'!\" & ADDRESS(131,A29+4)),\"PASS\"),COUNTIF(INDIRECT(\"'Success Criteria'!\" & ADDRESS(80,A29+4)):INDIRECT(\"'Success Criteria'!\" & ADDRESS(131,A29+4)),\"PASS with comments\"))","v":11},{"$f":"COUNTIF(INDIRECT(\"'Success Criteria'!\" & ADDRESS(80,A29+4)):INDIRECT(\"'Success Criteria'!\" & ADDRESS(131,A29+4)),\"NON conformant\")","v":2},{"$f":"COUNTIF(INDIRECT(\"'Success Criteria'!\" & ADDRESS(80,A29+4)):INDIRECT(\"'Success Criteria'!\" & ADDRESS(131,A29+4)),\"N/A\")","v":11},{"$f":"COUNTIF(INDIRECT(\"'Success Criteria'!\" & ADDRESS(80,A29+4)):INDIRECT(\"'Success Criteria'!\" & ADDRESS(131,A29+4)),\"not tested\")","v":0},{"$f":"SUM(COUNTIF(INDIRECT(\"'Success Criteria'!\" & ADDRESS(136,A29+4)):INDIRECT(\"'Success Criteria'!\" & ADDRESS(196,A29+4)),\"PASS\"),COUNTIF(INDIRECT(\"'Success Criteria'!\" & ADDRESS(136,A29+4)):INDIRECT(\"'Success Criteria'!\" & ADDRESS(196,A29+4)),\"PASS with comments\"))","v":0},{"$f":"COUNTIF(INDIRECT(\"'Success Criteria'!\" & ADDRESS(136,A29+4)):INDIRECT(\"'Success Criteria'!\" & ADDRESS(196,A29+4)),\"NON conformant\")","v":0},{"$f":"COUNTIF(INDIRECT(\"'Success Criteria'!\" & ADDRESS(136,A29+4)):INDIRECT(\"'Success Criteria'!\" & ADDRESS(196,A29+4)),\"N/A\")","v":0},{"$f":"COUNTIF(INDIRECT(\"'Success Criteria'!\" & ADDRESS(136,A29+4)):INDIRECT(\"'Success Criteria'!\" & ADDRESS(196,A29+4)),\"not tested\")","v":0},27,2,27,0,null,32,1,24,1,0,1]
[16,"Early years childcare in London report","https://www.london.gov.uk/who-we-are/what-london-assembly-does/london-assembly-work/london-assembly-publications/early-years-childcare-london-report","HTML Page (excluding components)",{"$f":"SUM(COUNTIF(INDIRECT(\"'Success Criteria'!\" & ADDRESS(10,A30+4)):INDIRECT(\"'Success Criteria'!\" & ADDRESS(75,A30+4)),\"PASS\"),COUNTIF(INDIRECT(\"'Success Criteria'!\" & ADDRESS(10,A30+4)):INDIRECT(\"'Success Criteria'!\" & ADDRESS(75,A30+4)),\"PASS with comments\"))","v":16},{"$f":"COUNTIF(INDIRECT(\"'Success Criteria'!\" & ADDRESS(10,A30+4)):INDIRECT(\"'Success Criteria'!\" & ADDRESS(75,A30+4)),\"NON conformant\")","v":0},{"$f":"COUNTIF(INDIRECT(\"'Success Criteria'!\" & ADDRESS(10,A30+4)):INDIRECT(\"'Success Criteria'!\" & ADDRESS(75,A30+4)),\"N/A\")","v":16},{"$f":"COUNTIF(INDIRECT(\"'Success Criteria'!\" & ADDRESS(10,A30+4)):INDIRECT(\"'Success Criteria'!\" & ADDRESS(75,A30+4)),\"not tested\")","v":0},{"$f":"SUM(COUNTIF(INDIRECT(\"'Success Criteria'!\" & ADDRESS(80,A30+4)):INDIRECT(\"'Success Criteria'!\" & ADDRESS(131,A30+4)),\"PASS\"),COUNTIF(INDIRECT(\"'Success Criteria'!\" & ADDRESS(80,A30+4)):INDIRECT(\"'Success Criteria'!\" & ADDRESS(131,A30+4)),\"PASS with comments\"))","v":13},{"$f":"COUNTIF(INDIRECT(\"'Success Criteria'!\" & ADDRESS(80,A30+4)):INDIRECT(\"'Success Criteria'!\" & ADDRESS(131,A30+4)),\"NON conformant\")","v":0},{"$f":"COUNTIF(INDIRECT(\"'Success Criteria'!\" & ADDRESS(80,A30+4)):INDIRECT(\"'Success Criteria'!\" & ADDRESS(131,A30+4)),\"N/A\")","v":11},{"$f":"COUNTIF(INDIRECT(\"'Success Criteria'!\" & ADDRESS(80,A30+4)):INDIRECT(\"'Success Criteria'!\" & ADDRESS(131,A30+4)),\"not tested\")","v":0},{"$f":"SUM(COUNTIF(INDIRECT(\"'Success Criteria'!\" & ADDRESS(136,A30+4)):INDIRECT(\"'Success Criteria'!\" & ADDRESS(196,A30+4)),\"PASS\"),COUNTIF(INDIRECT(\"'Success Criteria'!\" & ADDRESS(136,A30+4)):INDIRECT(\"'Success Criteria'!\" & ADDRESS(196,A30+4)),\"PASS with comments\"))","v":0},{"$f":"COUNTIF(INDIRECT(\"'Success Criteria'!\" & ADDRESS(136,A30+4)):INDIRECT(\"'Success Criteria'!\" & ADDRESS(196,A30+4)),\"NON conformant\")","v":0},{"$f":"COUNTIF(INDIRECT(\"'Success Criteria'!\" & ADDRESS(136,A30+4)):INDIRECT(\"'Success Criteria'!\" & ADDRESS(196,A30+4)),\"N/A\")","v":0},{"$f":"COUNTIF(INDIRECT(\"'Success Criteria'!\" & ADDRESS(136,A30+4)):INDIRECT(\"'Success Criteria'!\" & ADDRESS(196,A30+4)),\"not tested\")","v":0},29,0,27,0,null,32,1,24,1,0,1]
[17,"Find adult learning opportunities near you","https://www.london.gov.uk/programmes-strategies/jobs-and-skills/find-adult-learning-providers-near-me","HTML Page (excluding components)",{"$f":"SUM(COUNTIF(INDIRECT(\"'Success Criteria'!\" & ADDRESS(10,A31+4)):INDIRECT(\"'Success Criteria'!\" & ADDRESS(75,A31+4)),\"PASS\"),COUNTIF(INDIRECT(\"'Success Criteria'!\" & ADDRESS(10,A31+4)):INDIRECT(\"'Success Criteria'!\" & ADDRESS(75,A31+4)),\"PASS with comments\"))","v":14},{"$f":"COUNTIF(INDIRECT(\"'Success Criteria'!\" & ADDRESS(10,A31+4)):INDIRECT(\"'Success Criteria'!\" & ADDRESS(75,A31+4)),\"NON conformant\")","v":2},{"$f":"COUNTIF(INDIRECT(\"'Success Criteria'!\" & ADDRESS(10,A31+4)):INDIRECT(\"'Success Criteria'!\" & ADDRESS(75,A31+4)),\"N/A\")","v":16},{"$f":"COUNTIF(INDIRECT(\"'Success Criteria'!\" & ADDRESS(10,A31+4)):INDIRECT(\"'Success Criteria'!\" & ADDRESS(75,A31+4)),\"not tested\")","v":0},{"$f":"SUM(COUNTIF(INDIRECT(\"'Success Criteria'!\" & ADDRESS(80,A31+4)):INDIRECT(\"'Success Criteria'!\" & ADDRESS(131,A31+4)),\"PASS\"),COUNTIF(INDIRECT(\"'Success Criteria'!\" & ADDRESS(80,A31+4)):INDIRECT(\"'Success Criteria'!\" & ADDRESS(131,A31+4)),\"PASS with comments\"))","v":11},{"$f":"COUNTIF(INDIRECT(\"'Success Criteria'!\" & ADDRESS(80,A31+4)):INDIRECT(\"'Success Criteria'!\" & ADDRESS(131,A31+4)),\"NON conformant\")","v":3},{"$f":"COUNTIF(INDIRECT(\"'Success Criteria'!\" & ADDRESS(80,A31+4)):INDIRECT(\"'Success Criteria'!\" & ADDRESS(131,A31+4)),\"N/A\")","v":10},{"$f":"COUNTIF(INDIRECT(\"'Success Criteria'!\" & ADDRESS(80,A31+4)):INDIRECT(\"'Success Criteria'!\" & ADDRESS(131,A31+4)),\"not tested\")","v":0},{"$f":"SUM(COUNTIF(INDIRECT(\"'Success Criteria'!\" & ADDRESS(136,A31+4)):INDIRECT(\"'Success Criteria'!\" & ADDRESS(196,A31+4)),\"PASS\"),COUNTIF(INDIRECT(\"'Success Criteria'!\" & ADDRESS(136,A31+4)):INDIRECT(\"'Success Criteria'!\" & ADDRESS(196,A31+4)),\"PASS with comments\"))","v":0},{"$f":"COUNTIF(INDIRECT(\"'Success Criteria'!\" & ADDRESS(136,A31+4)):INDIRECT(\"'Success Criteria'!\" & ADDRESS(196,A31+4)),\"NON conformant\")","v":0},{"$f":"COUNTIF(INDIRECT(\"'Success Criteria'!\" & ADDRESS(136,A31+4)):INDIRECT(\"'Success Criteria'!\" & ADDRESS(196,A31+4)),\"N/A\")","v":0},{"$f":"COUNTIF(INDIRECT(\"'Success Criteria'!\" & ADDRESS(136,A31+4)):INDIRECT(\"'Success Criteria'!\" & ADDRESS(196,A31+4)),\"not tested\")","v":0},25,5,26,0,null,32,1,24,1,0,1]
[18,"Public Meetings","https://www.london.gov.uk/about-us/londonassembly/meetings/mgCalendarMonthView.aspx?GL=1&bcr=1","HTML Page (excluding components)",{"$f":"SUM(COUNTIF(INDIRECT(\"'Success Criteria'!\" & ADDRESS(10,A32+4)):INDIRECT(\"'Success Criteria'!\" & ADDRESS(75,A32+4)),\"PASS\"),COUNTIF(INDIRECT(\"'Success Criteria'!\" & ADDRESS(10,A32+4)):INDIRECT(\"'Success Criteria'!\" & ADDRESS(75,A32+4)),\"PASS with comments\"))","v":16},{"$f":"COUNTIF(INDIRECT(\"'Success Criteria'!\" & ADDRESS(10,A32+4)):INDIRECT(\"'Success Criteria'!\" & ADDRESS(75,A32+4)),\"NON conformant\")","v":0},{"$f":"COUNTIF(INDIRECT(\"'Success Criteria'!\" & ADDRESS(10,A32+4)):INDIRECT(\"'Success Criteria'!\" & ADDRESS(75,A32+4)),\"N/A\")","v":16},{"$f":"COUNTIF(INDIRECT(\"'Success Criteria'!\" & ADDRESS(10,A32+4)):INDIRECT(\"'Success Criteria'!\" & ADDRESS(75,A32+4)),\"not tested\")","v":0},{"$f":"SUM(COUNTIF(INDIRECT(\"'Success Criteria'!\" & ADDRESS(80,A32+4)):INDIRECT(\"'Success Criteria'!\" & ADDRESS(131,A32+4)),\"PASS\"),COUNTIF(INDIRECT(\"'Success Criteria'!\" & ADDRESS(80,A32+4)):INDIRECT(\"'Success Criteria'!\" & ADDRESS(131,A32+4)),\"PASS with comments\"))","v":14},{"$f":"COUNTIF(INDIRECT(\"'Success Criteria'!\" & ADDRESS(80,A32+4)):INDIRECT(\"'Success Criteria'!\" & ADDRESS(131,A32+4)),\"NON conformant\")","v":0},{"$f":"COUNTIF(INDIRECT(\"'Success Criteria'!\" & ADDRESS(80,A32+4)):INDIRECT(\"'Success Criteria'!\" & ADDRESS(131,A32+4)),\"N/A\")","v":10},{"$f":"COUNTIF(INDIRECT(\"'Success Criteria'!\" & ADDRESS(80,A32+4)):INDIRECT(\"'Success Criteria'!\" & ADDRESS(131,A32+4)),\"not tested\")","v":0},{"$f":"SUM(COUNTIF(INDIRECT(\"'Success Criteria'!\" & ADDRESS(136,A32+4)):INDIRECT(\"'Success Criteria'!\" & ADDRESS(196,A32+4)),\"PASS\"),COUNTIF(INDIRECT(\"'Success Criteria'!\" & ADDRESS(136,A32+4)):INDIRECT(\"'Success Criteria'!\" & ADDRESS(196,A32+4)),\"PASS with comments\"))","v":0},{"$f":"COUNTIF(INDIRECT(\"'Success Criteria'!\" & ADDRESS(136,A32+4)):INDIRECT(\"'Success Criteria'!\" & ADDRESS(196,A32+4)),\"NON conformant\")","v":0},{"$f":"COUNTIF(INDIRECT(\"'Success Criteria'!\" & ADDRESS(136,A32+4)):INDIRECT(\"'Success Criteria'!\" & ADDRESS(196,A32+4)),\"N/A\")","v":0},{"$f":"COUNTIF(INDIRECT(\"'Success Criteria'!\" & ADDRESS(136,A32+4)):INDIRECT(\"'Success Criteria'!\" & ADDRESS(196,A32+4)),\"not tested\")","v":0},30,0,26,0,null,32,1,24,1,0,1]
[19,"Agenda and minutes","https://www.london.gov.uk/about-us/londonassembly/meetings/ieListDocuments.aspx?CId=305&MId=7434","HTML Page (excluding components)",{"$f":"SUM(COUNTIF(INDIRECT(\"'Success Criteria'!\" & ADDRESS(10,A33+4)):INDIRECT(\"'Success Criteria'!\" & ADDRESS(75,A33+4)),\"PASS\"),COUNTIF(INDIRECT(\"'Success Criteria'!\" & ADDRESS(10,A33+4)):INDIRECT(\"'Success Criteria'!\" & ADDRESS(75,A33+4)),\"PASS with comments\"))","v":15},{"$f":"COUNTIF(INDIRECT(\"'Success Criteria'!\" & ADDRESS(10,A33+4)):INDIRECT(\"'Success Criteria'!\" & ADDRESS(75,A33+4)),\"NON conformant\")","v":1},{"$f":"COUNTIF(INDIRECT(\"'Success Criteria'!\" & ADDRESS(10,A33+4)):INDIRECT(\"'Success Criteria'!\" & ADDRESS(75,A33+4)),\"N/A\")","v":16},{"$f":"COUNTIF(INDIRECT(\"'Success Criteria'!\" & ADDRESS(10,A33+4)):INDIRECT(\"'Success Criteria'!\" & ADDRESS(75,A33+4)),\"not tested\")","v":0},{"$f":"SUM(COUNTIF(INDIRECT(\"'Success Criteria'!\" & ADDRESS(80,A33+4)):INDIRECT(\"'Success Criteria'!\" & ADDRESS(131,A33+4)),\"PASS\"),COUNTIF(INDIRECT(\"'Success Criteria'!\" & ADDRESS(80,A33+4)):INDIRECT(\"'Success Criteria'!\" & ADDRESS(131,A33+4)),\"PASS with comments\"))","v":13},{"$f":"COUNTIF(INDIRECT(\"'Success Criteria'!\" & ADDRESS(80,A33+4)):INDIRECT(\"'Success Criteria'!\" & ADDRESS(131,A33+4)),\"NON conformant\")","v":0},{"$f":"COUNTIF(INDIRECT(\"'Success Criteria'!\" & ADDRESS(80,A33+4)):INDIRECT(\"'Success Criteria'!\" & ADDRESS(131,A33+4)),\"N/A\")","v":11},{"$f":"COUNTIF(INDIRECT(\"'Success Criteria'!\" & ADDRESS(80,A33+4)):INDIRECT(\"'Success Criteria'!\" & ADDRESS(131,A33+4)),\"not tested\")","v":0},{"$f":"SUM(COUNTIF(INDIRECT(\"'Success Criteria'!\" & ADDRESS(136,A33+4)):INDIRECT(\"'Success Criteria'!\" & ADDRESS(196,A33+4)),\"PASS\"),COUNTIF(INDIRECT(\"'Success Criteria'!\" & ADDRESS(136,A33+4)):INDIRECT(\"'Success Criteria'!\" & ADDRESS(196,A33+4)),\"PASS with comments\"))","v":0},{"$f":"COUNTIF(INDIRECT(\"'Success Criteria'!\" & ADDRESS(136,A33+4)):INDIRECT(\"'Success Criteria'!\" & ADDRESS(196,A33+4)),\"NON conformant\")","v":0},{"$f":"COUNTIF(INDIRECT(\"'Success Criteria'!\" & ADDRESS(136,A33+4)):INDIRECT(\"'Success Criteria'!\" & ADDRESS(196,A33+4)),\"N/A\")","v":0},{"$f":"COUNTIF(INDIRECT(\"'Success Criteria'!\" & ADDRESS(136,A33+4)):INDIRECT(\"'Success Criteria'!\" & ADDRESS(196,A33+4)),\"not tested\")","v":0},28,1,27,0,null,32,1,24,1,0,1]
[20,"Meetings OPDC Board","https://www.london.gov.uk/moderngovopdc/ieListMeetings.aspx?CommitteeId=378","HTML Page (excluding components)",{"$f":"SUM(COUNTIF(INDIRECT(\"'Success Criteria'!\" & ADDRESS(10,A34+4)):INDIRECT(\"'Success Criteria'!\" & ADDRESS(75,A34+4)),\"PASS\"),COUNTIF(INDIRECT(\"'Success Criteria'!\" & ADDRESS(10,A34+4)):INDIRECT(\"'Success Criteria'!\" & ADDRESS(75,A34+4)),\"PASS with comments\"))","v":15},{"$f":"COUNTIF(INDIRECT(\"'Success Criteria'!\" & ADDRESS(10,A34+4)):INDIRECT(\"'Success Criteria'!\" & ADDRESS(75,A34+4)),\"NON conformant\")","v":1},{"$f":"COUNTIF(INDIRECT(\"'Success Criteria'!\" & ADDRESS(10,A34+4)):INDIRECT(\"'Success Criteria'!\" & ADDRESS(75,A34+4)),\"N/A\")","v":16},{"$f":"COUNTIF(INDIRECT(\"'Success Criteria'!\" & ADDRESS(10,A34+4)):INDIRECT(\"'Success Criteria'!\" & ADDRESS(75,A34+4)),\"not tested\")","v":0},{"$f":"SUM(COUNTIF(INDIRECT(\"'Success Criteria'!\" & ADDRESS(80,A34+4)):INDIRECT(\"'Success Criteria'!\" & ADDRESS(131,A34+4)),\"PASS\"),COUNTIF(INDIRECT(\"'Success Criteria'!\" & ADDRESS(80,A34+4)):INDIRECT(\"'Success Criteria'!\" & ADDRESS(131,A34+4)),\"PASS with comments\"))","v":12},{"$f":"COUNTIF(INDIRECT(\"'Success Criteria'!\" & ADDRESS(80,A34+4)):INDIRECT(\"'Success Criteria'!\" & ADDRESS(131,A34+4)),\"NON conformant\")","v":1},{"$f":"COUNTIF(INDIRECT(\"'Success Criteria'!\" & ADDRESS(80,A34+4)):INDIRECT(\"'Success Criteria'!\" & ADDRESS(131,A34+4)),\"N/A\")","v":11},{"$f":"COUNTIF(INDIRECT(\"'Success Criteria'!\" & ADDRESS(80,A34+4)):INDIRECT(\"'Success Criteria'!\" & ADDRESS(131,A34+4)),\"not tested\")","v":0},{"$f":"SUM(COUNTIF(INDIRECT(\"'Success Criteria'!\" & ADDRESS(136,A34+4)):INDIRECT(\"'Success Criteria'!\" & ADDRESS(196,A34+4)),\"PASS\"),COUNTIF(INDIRECT(\"'Success Criteria'!\" & ADDRESS(136,A34+4)):INDIRECT(\"'Success Criteria'!\" & ADDRESS(196,A34+4)),\"PASS with comments\"))","v":0},{"$f":"COUNTIF(INDIRECT(\"'Success Criteria'!\" & ADDRESS(136,A34+4)):INDIRECT(\"'Success Criteria'!\" & ADDRESS(196,A34+4)),\"NON conformant\")","v":0},{"$f":"COUNTIF(INDIRECT(\"'Success Criteria'!\" & ADDRESS(136,A34+4)):INDIRECT(\"'Success Criteria'!\" & ADDRESS(196,A34+4)),\"N/A\")","v":0},{"$f":"COUNTIF(INDIRECT(\"'Success Criteria'!\" & ADDRESS(136,A34+4)):INDIRECT(\"'Success Criteria'!\" & ADDRESS(196,A34+4)),\"not tested\")","v":0},27,2,27,0,null,32,1,24,1,0,1]
[21,"Accessibility (WCAG 2.2 criteria only)","https://www.london.gov.uk/programmes-strategies/accessibility","HTML Page (full, excluding components)",{"$f":"SUM(COUNTIF(INDIRECT(\"'Success Criteria'!\" & ADDRESS(10,A35+4)):INDIRECT(\"'Success Criteria'!\" & ADDRESS(75,A35+4)),\"PASS\"),COUNTIF(INDIRECT(\"'Success Criteria'!\" & ADDRESS(10,A35+4)):INDIRECT(\"'Success Criteria'!\" & ADDRESS(75,A35+4)),\"PASS with comments\"))","v":0},{"$f":"COUNTIF(INDIRECT(\"'Success Criteria'!\" & ADDRESS(10,A35+4)):INDIRECT(\"'Success Criteria'!\" & ADDRESS(75,A35+4)),\"NON conformant\")","v":0},{"$f":"COUNTIF(INDIRECT(\"'Success Criteria'!\" & ADDRESS(10,A35+4)):INDIRECT(\"'Success Criteria'!\" & ADDRESS(75,A35+4)),\"N/A\")","v":3},{"$f":"COUNTIF(INDIRECT(\"'Success Criteria'!\" & ADDRESS(10,A35+4)):INDIRECT(\"'Success Criteria'!\" & ADDRESS(75,A35+4)),\"not tested\")","v":29},{"$f":"SUM(COUNTIF(INDIRECT(\"'Success Criteria'!\" & ADDRESS(80,A35+4)):INDIRECT(\"'Success Criteria'!\" & ADDRESS(131,A35+4)),\"PASS\"),COUNTIF(INDIRECT(\"'Success Criteria'!\" & ADDRESS(80,A35+4)):INDIRECT(\"'Success Criteria'!\" & ADDRESS(131,A35+4)),\"PASS with comments\"))","v":4},{"$f":"COUNTIF(INDIRECT(\"'Success Criteria'!\" & ADDRESS(80,A35+4)):INDIRECT(\"'Success Criteria'!\" & ADDRESS(131,A35+4)),\"NON conformant\")","v":0},{"$f":"COUNTIF(INDIRECT(\"'Success Criteria'!\" & ADDRESS(80,A35+4)):INDIRECT(\"'Success Criteria'!\" & ADDRESS(131,A35+4)),\"N/A\")","v":2},{"$f":"COUNTIF(INDIRECT(\"'Success Criteria'!\" & ADDRESS(80,A35+4)):INDIRECT(\"'Success Criteria'!\" & ADDRESS(131,A35+4)),\"not tested\")","v":18},{"$f":"SUM(COUNTIF(INDIRECT(\"'Success Criteria'!\" & ADDRESS(136,A35+4)):INDIRECT(\"'Success Criteria'!\" & ADDRESS(196,A35+4)),\"PASS\"),COUNTIF(INDIRECT(\"'Success Criteria'!\" & ADDRESS(136,A35+4)):INDIRECT(\"'Success Criteria'!\" & ADDRESS(196,A35+4)),\"PASS with comments\"))","v":0},{"$f":"COUNTIF(INDIRECT(\"'Success Criteria'!\" & ADDRESS(136,A35+4)):INDIRECT(\"'Success Criteria'!\" & ADDRESS(196,A35+4)),\"NON conformant\")","v":0},{"$f":"COUNTIF(INDIRECT(\"'Success Criteria'!\" & ADDRESS(136,A35+4)):INDIRECT(\"'Success Criteria'!\" & ADDRESS(196,A35+4)),\"N/A\")","v":0},{"$f":"COUNTIF(INDIRECT(\"'Success Criteria'!\" & ADDRESS(136,A35+4)):INDIRECT(\"'Success Criteria'!\" & ADDRESS(196,A35+4)),\"not tested\")","v":0},4,0,5,47,null,32,1,24,1,0,1]
[22,"City Hall Blog (WCAG 2.2 criteria only)","https://www.london.gov.uk/who-we-are/city-hall-blog","HTML Page (full, excluding components)",{"$f":"SUM(COUNTIF(INDIRECT(\"'Success Criteria'!\" & ADDRESS(10,A36+4)):INDIRECT(\"'Success Criteria'!\" & ADDRESS(75,A36+4)),\"PASS\"),COUNTIF(INDIRECT(\"'Success Criteria'!\" & ADDRESS(10,A36+4)):INDIRECT(\"'Success Criteria'!\" & ADDRESS(75,A36+4)),\"PASS with comments\"))","v":0},{"$f":"COUNTIF(INDIRECT(\"'Success Criteria'!\" & ADDRESS(10,A36+4)):INDIRECT(\"'Success Criteria'!\" & ADDRESS(75,A36+4)),\"NON conformant\")","v":0},{"$f":"COUNTIF(INDIRECT(\"'Success Criteria'!\" & ADDRESS(10,A36+4)):INDIRECT(\"'Success Criteria'!\" & ADDRESS(75,A36+4)),\"N/A\")","v":3},{"$f":"COUNTIF(INDIRECT(\"'Success Criteria'!\" & ADDRESS(10,A36+4)):INDIRECT(\"'Success Criteria'!\" & ADDRESS(75,A36+4)),\"not tested\")","v":29},{"$f":"SUM(COUNTIF(INDIRECT(\"'Success Criteria'!\" & ADDRESS(80,A36+4)):INDIRECT(\"'Success Criteria'!\" & ADDRESS(131,A36+4)),\"PASS\"),COUNTIF(INDIRECT(\"'Success Criteria'!\" & ADDRESS(80,A36+4)):INDIRECT(\"'Success Criteria'!\" & ADDRESS(131,A36+4)),\"PASS with comments\"))","v":4},{"$f":"COUNTIF(INDIRECT(\"'Success Criteria'!\" & ADDRESS(80,A36+4)):INDIRECT(\"'Success Criteria'!\" & ADDRESS(131,A36+4)),\"NON conformant\")","v":0},{"$f":"COUNTIF(INDIRECT(\"'Success Criteria'!\" & ADDRESS(80,A36+4)):INDIRECT(\"'Success Criteria'!\" & ADDRESS(131,A36+4)),\"N/A\")","v":2},{"$f":"COUNTIF(INDIRECT(\"'Success Criteria'!\" & ADDRESS(80,A36+4)):INDIRECT(\"'Success Criteria'!\" & ADDRESS(131,A36+4)),\"not tested\")","v":18},{"$f":"SUM(COUNTIF(INDIRECT(\"'Success Criteria'!\" & ADDRESS(136,A36+4)):INDIRECT(\"'Success Criteria'!\" & ADDRESS(196,A36+4)),\"PASS\"),COUNTIF(INDIRECT(\"'Success Criteria'!\" & ADDRESS(136,A36+4)):INDIRECT(\"'Success Criteria'!\" & ADDRESS(196,A36+4)),\"PASS with comments\"))","v":0},{"$f":"COUNTIF(INDIRECT(\"'Success Criteria'!\" & ADDRESS(136,A36+4)):INDIRECT(\"'Success Criteria'!\" & ADDRESS(196,A36+4)),\"NON conformant\")","v":0},{"$f":"COUNTIF(INDIRECT(\"'Success Criteria'!\" & ADDRESS(136,A36+4)):INDIRECT(\"'Success Criteria'!\" & ADDRESS(196,A36+4)),\"N/A\")","v":0},{"$f":"COUNTIF(INDIRECT(\"'Success Criteria'!\" & ADDRESS(136,A36+4)):INDIRECT(\"'Success Criteria'!\" & ADDRESS(196,A36+4)),\"not tested\")","v":0},4,0,5,47,null,32,1,24,1,0,1]
[23,"Working at City Hall (WCAG 2.2 criteria only)","https://www.london.gov.uk/take-part/working-city-hall","HTML Page (full, excluding components)",{"$f":"SUM(COUNTIF(INDIRECT(\"'Success Criteria'!\" & ADDRESS(10,A37+4)):INDIRECT(\"'Success Criteria'!\" & ADDRESS(75,A37+4)),\"PASS\"),COUNTIF(INDIRECT(\"'Success Criteria'!\" & ADDRESS(10,A37+4)):INDIRECT(\"'Success Criteria'!\" & ADDRESS(75,A37+4)),\"PASS with comments\"))","v":0},{"$f":"COUNTIF(INDIRECT(\"'Success Criteria'!\" & ADDRESS(10,A37+4)):INDIRECT(\"'Success Criteria'!\" & ADDRESS(75,A37+4)),\"NON conformant\")","v":0},{"$f":"COUNTIF(INDIRECT(\"'Success Criteria'!\" & ADDRESS(10,A37+4)):INDIRECT(\"'Success Criteria'!\" & ADDRESS(75,A37+4)),\"N/A\")","v":3},{"$f":"COUNTIF(INDIRECT(\"'Success Criteria'!\" & ADDRESS(10,A37+4)):INDIRECT(\"'Success Criteria'!\" & ADDRESS(75,A37+4)),\"not tested\")","v":29},{"$f":"SUM(COUNTIF(INDIRECT(\"'Success Criteria'!\" & ADDRESS(80,A37+4)):INDIRECT(\"'Success Criteria'!\" & ADDRESS(131,A37+4)),\"PASS\"),COUNTIF(INDIRECT(\"'Success Criteria'!\" & ADDRESS(80,A37+4)):INDIRECT(\"'Success Criteria'!\" & ADDRESS(131,A37+4)),\"PASS with comments\"))","v":4},{"$f":"COUNTIF(INDIRECT(\"'Success Criteria'!\" & ADDRESS(80,A37+4)):INDIRECT(\"'Success Criteria'!\" & ADDRESS(131,A37+4)),\"NON conformant\")","v":0},{"$f":"COUNTIF(INDIRECT(\"'Success Criteria'!\" & ADDRESS(80,A37+4)):INDIRECT(\"'Success Criteria'!\" & ADDRESS(131,A37+4)),\"N/A\")","v":2},{"$f":"COUNTIF(INDIRECT(\"'Success Criteria'!\" & ADDRESS(80,A37+4)):INDIRECT(\"'Success Criteria'!\" & ADDRESS(131,A37+4)),\"not tested\")","v":18},{"$f":"SUM(COUNTIF(INDIRECT(\"'Success Criteria'!\" & ADDRESS(136,A37+4)):INDIRECT(\"'Success Criteria'!\" & ADDRESS(196,A37+4)),\"PASS\"),COUNTIF(INDIRECT(\"'Success Criteria'!\" & ADDRESS(136,A37+4)):INDIRECT(\"'Success Criteria'!\" & ADDRESS(196,A37+4)),\"PASS with comments\"))","v":0},{"$f":"COUNTIF(INDIRECT(\"'Success Criteria'!\" & ADDRESS(136,A37+4)):INDIRECT(\"'Success Criteria'!\" & ADDRESS(196,A37+4)),\"NON conformant\")","v":0},{"$f":"COUNTIF(INDIRECT(\"'Success Criteria'!\" & ADDRESS(136,A37+4)):INDIRECT(\"'Success Criteria'!\" & ADDRESS(196,A37+4)),\"N/A\")","v":0},{"$f":"COUNTIF(INDIRECT(\"'Success Criteria'!\" & ADDRESS(136,A37+4)):INDIRECT(\"'Success Criteria'!\" & ADDRESS(196,A37+4)),\"not tested\")","v":0},4,0,5,47,null,32,1,24,1,0,1]
[24,"Take part (WCAG 2.2 criteria only)","https://www.london.gov.uk/take-part","HTML Page (full, excluding components)",{"$f":"SUM(COUNTIF(INDIRECT(\"'Success Criteria'!\" & ADDRESS(10,A38+4)):INDIRECT(\"'Success Criteria'!\" & ADDRESS(75,A38+4)),\"PASS\"),COUNTIF(INDIRECT(\"'Success Criteria'!\" & ADDRESS(10,A38+4)):INDIRECT(\"'Success Criteria'!\" & ADDRESS(75,A38+4)),\"PASS with comments\"))","v":0},{"$f":"COUNTIF(INDIRECT(\"'Success Criteria'!\" & ADDRESS(10,A38+4)):INDIRECT(\"'Success Criteria'!\" & ADDRESS(75,A38+4)),\"NON conformant\")","v":0},{"$f":"COUNTIF(INDIRECT(\"'Success Criteria'!\" & ADDRESS(10,A38+4)):INDIRECT(\"'Success Criteria'!\" & ADDRESS(75,A38+4)),\"N/A\")","v":3},{"$f":"COUNTIF(INDIRECT(\"'Success Criteria'!\" & ADDRESS(10,A38+4)):INDIRECT(\"'Success Criteria'!\" & ADDRESS(75,A38+4)),\"not tested\")","v":29},{"$f":"SUM(COUNTIF(INDIRECT(\"'Success Criteria'!\" & ADDRESS(80,A38+4)):INDIRECT(\"'Success Criteria'!\" & ADDRESS(131,A38+4)),\"PASS\"),COUNTIF(INDIRECT(\"'Success Criteria'!\" & ADDRESS(80,A38+4)):INDIRECT(\"'Success Criteria'!\" & ADDRESS(131,A38+4)),\"PASS with comments\"))","v":4},{"$f":"COUNTIF(INDIRECT(\"'Success Criteria'!\" & ADDRESS(80,A38+4)):INDIRECT(\"'Success Criteria'!\" & ADDRESS(131,A38+4)),\"NON conformant\")","v":0},{"$f":"COUNTIF(INDIRECT(\"'Success Criteria'!\" & ADDRESS(80,A38+4)):INDIRECT(\"'Success Criteria'!\" & ADDRESS(131,A38+4)),\"N/A\")","v":2},{"$f":"COUNTIF(INDIRECT(\"'Success Criteria'!\" & ADDRESS(80,A38+4)):INDIRECT(\"'Success Criteria'!\" & ADDRESS(131,A38+4)),\"not tested\")","v":18},{"$f":"SUM(COUNTIF(INDIRECT(\"'Success Criteria'!\" & ADDRESS(136,A38+4)):INDIRECT(\"'Success Criteria'!\" & ADDRESS(196,A38+4)),\"PASS\"),COUNTIF(INDIRECT(\"'Success Criteria'!\" & ADDRESS(136,A38+4)):INDIRECT(\"'Success Criteria'!\" & ADDRESS(196,A38+4)),\"PASS with comments\"))","v":0},{"$f":"COUNTIF(INDIRECT(\"'Success Criteria'!\" & ADDRESS(136,A38+4)):INDIRECT(\"'Success Criteria'!\" & ADDRESS(196,A38+4)),\"NON conformant\")","v":0},{"$f":"COUNTIF(INDIRECT(\"'Success Criteria'!\" & ADDRESS(136,A38+4)):INDIRECT(\"'Success Criteria'!\" & ADDRESS(196,A38+4)),\"N/A\")","v":0},{"$f":"COUNTIF(INDIRECT(\"'Success Criteria'!\" & ADDRESS(136,A38+4)):INDIRECT(\"'Success Criteria'!\" & ADDRESS(196,A38+4)),\"not tested\")","v":0},4,0,5,47,null,32,1,24,1,0,1]
[25,"Events landing page (WCAG 2.2 criteria only)","https://www.london.gov.uk/events","HTML Page (full, excluding components)",{"$f":"SUM(COUNTIF(INDIRECT(\"'Success Criteria'!\" & ADDRESS(10,A39+4)):INDIRECT(\"'Success Criteria'!\" & ADDRESS(75,A39+4)),\"PASS\"),COUNTIF(INDIRECT(\"'Success Criteria'!\" & ADDRESS(10,A39+4)):INDIRECT(\"'Success Criteria'!\" & ADDRESS(75,A39+4)),\"PASS with comments\"))","v":0},{"$f":"COUNTIF(INDIRECT(\"'Success Criteria'!\" & ADDRESS(10,A39+4)):INDIRECT(\"'Success Criteria'!\" & ADDRESS(75,A39+4)),\"NON conformant\")","v":0},{"$f":"COUNTIF(INDIRECT(\"'Success Criteria'!\" & ADDRESS(10,A39+4)):INDIRECT(\"'Success Criteria'!\" & ADDRESS(75,A39+4)),\"N/A\")","v":3},{"$f":"COUNTIF(INDIRECT(\"'Success Criteria'!\" & ADDRESS(10,A39+4)):INDIRECT(\"'Success Criteria'!\" & ADDRESS(75,A39+4)),\"not tested\")","v":29},{"$f":"SUM(COUNTIF(INDIRECT(\"'Success Criteria'!\" & ADDRESS(80,A39+4)):INDIRECT(\"'Success Criteria'!\" & ADDRESS(131,A39+4)),\"PASS\"),COUNTIF(INDIRECT(\"'Success Criteria'!\" & ADDRESS(80,A39+4)):INDIRECT(\"'Success Criteria'!\" & ADDRESS(131,A39+4)),\"PASS with comments\"))","v":4},{"$f":"COUNTIF(INDIRECT(\"'Success Criteria'!\" & ADDRESS(80,A39+4)):INDIRECT(\"'Success Criteria'!\" & ADDRESS(131,A39+4)),\"NON conformant\")","v":0},{"$f":"COUNTIF(INDIRECT(\"'Success Criteria'!\" & ADDRESS(80,A39+4)):INDIRECT(\"'Success Criteria'!\" & ADDRESS(131,A39+4)),\"N/A\")","v":2},{"$f":"COUNTIF(INDIRECT(\"'Success Criteria'!\" & ADDRESS(80,A39+4)):INDIRECT(\"'Success Criteria'!\" & ADDRESS(131,A39+4)),\"not tested\")","v":18},{"$f":"SUM(COUNTIF(INDIRECT(\"'Success Criteria'!\" & ADDRESS(136,A39+4)):INDIRECT(\"'Success Criteria'!\" & ADDRESS(196,A39+4)),\"PASS\"),COUNTIF(INDIRECT(\"'Success Criteria'!\" & ADDRESS(136,A39+4)):INDIRECT(\"'Success Criteria'!\" & ADDRESS(196,A39+4)),\"PASS with comments\"))","v":0},{"$f":"COUNTIF(INDIRECT(\"'Success Criteria'!\" & ADDRESS(136,A39+4)):INDIRECT(\"'Success Criteria'!\" & ADDRESS(196,A39+4)),\"NON conformant\")","v":0},{"$f":"COUNTIF(INDIRECT(\"'Success Criteria'!\" & ADDRESS(136,A39+4)):INDIRECT(\"'Success Criteria'!\" & ADDRESS(196,A39+4)),\"N/A\")","v":0},{"$f":"COUNTIF(INDIRECT(\"'Success Criteria'!\" & ADDRESS(136,A39+4)):INDIRECT(\"'Success Criteria'!\" & ADDRESS(196,A39+4)),\"not tested\")","v":0},4,0,5,47,null,32,1,24,1,0,1]
[26,"Event (WCAG 2.2 criteria only)","https://www.london.gov.uk/events/st-patricks-day-2025","HTML Page (full, excluding components)",{"$f":"SUM(COUNTIF(INDIRECT(\"'Success Criteria'!\" & ADDRESS(10,A40+4)):INDIRECT(\"'Success Criteria'!\" & ADDRESS(75,A40+4)),\"PASS\"),COUNTIF(INDIRECT(\"'Success Criteria'!\" & ADDRESS(10,A40+4)):INDIRECT(\"'Success Criteria'!\" & ADDRESS(75,A40+4)),\"PASS with comments\"))","v":0},{"$f":"COUNTIF(INDIRECT(\"'Success Criteria'!\" & ADDRESS(10,A40+4)):INDIRECT(\"'Success Criteria'!\" & ADDRESS(75,A40+4)),\"NON conformant\")","v":0},{"$f":"COUNTIF(INDIRECT(\"'Success Criteria'!\" & ADDRESS(10,A40+4)):INDIRECT(\"'Success Criteria'!\" & ADDRESS(75,A40+4)),\"N/A\")","v":3},{"$f":"COUNTIF(INDIRECT(\"'Success Criteria'!\" & ADDRESS(10,A40+4)):INDIRECT(\"'Success Criteria'!\" & ADDRESS(75,A40+4)),\"not tested\")","v":29},{"$f":"SUM(COUNTIF(INDIRECT(\"'Success Criteria'!\" & ADDRESS(80,A40+4)):INDIRECT(\"'Success Criteria'!\" & ADDRESS(131,A40+4)),\"PASS\"),COUNTIF(INDIRECT(\"'Success Criteria'!\" & ADDRESS(80,A40+4)):INDIRECT(\"'Success Criteria'!\" & ADDRESS(131,A40+4)),\"PASS with comments\"))","v":4},{"$f":"COUNTIF(INDIRECT(\"'Success Criteria'!\" & ADDRESS(80,A40+4)):INDIRECT(\"'Success Criteria'!\" & ADDRESS(131,A40+4)),\"NON conformant\")","v":0},{"$f":"COUNTIF(INDIRECT(\"'Success Criteria'!\" & ADDRESS(80,A40+4)):INDIRECT(\"'Success Criteria'!\" & ADDRESS(131,A40+4)),\"N/A\")","v":2},{"$f":"COUNTIF(INDIRECT(\"'Success Criteria'!\" & ADDRESS(80,A40+4)):INDIRECT(\"'Success Criteria'!\" & ADDRESS(131,A40+4)),\"not tested\")","v":18},{"$f":"SUM(COUNTIF(INDIRECT(\"'Success Criteria'!\" & ADDRESS(136,A40+4)):INDIRECT(\"'Success Criteria'!\" & ADDRESS(196,A40+4)),\"PASS\"),COUNTIF(INDIRECT(\"'Success Criteria'!\" & ADDRESS(136,A40+4)):INDIRECT(\"'Success Criteria'!\" & ADDRESS(196,A40+4)),\"PASS with comments\"))","v":0},{"$f":"COUNTIF(INDIRECT(\"'Success Criteria'!\" & ADDRESS(136,A40+4)):INDIRECT(\"'Success Criteria'!\" & ADDRESS(196,A40+4)),\"NON conformant\")","v":0},{"$f":"COUNTIF(INDIRECT(\"'Success Criteria'!\" & ADDRESS(136,A40+4)):INDIRECT(\"'Success Criteria'!\" & ADDRESS(196,A40+4)),\"N/A\")","v":0},{"$f":"COUNTIF(INDIRECT(\"'Success Criteria'!\" & ADDRESS(136,A40+4)):INDIRECT(\"'Success Criteria'!\" & ADDRESS(196,A40+4)),\"not tested\")","v":0},4,0,5,47,null,32,1,24,1,0,1]
[27,"London Unseen: self-guided walks (WCAG 2.2 criteria only)","https://www.london.gov.uk/programmes-strategies/arts-and-culture/diversity-public-realm/london-unseen-amplifying-community-histories-public-realm/london-unseen-self-guided-walks","HTML Page (full, excluding components)",{"$f":"SUM(COUNTIF(INDIRECT(\"'Success Criteria'!\" & ADDRESS(10,A41+4)):INDIRECT(\"'Success Criteria'!\" & ADDRESS(75,A41+4)),\"PASS\"),COUNTIF(INDIRECT(\"'Success Criteria'!\" & ADDRESS(10,A41+4)):INDIRECT(\"'Success Criteria'!\" & ADDRESS(75,A41+4)),\"PASS with comments\"))","v":0},{"$f":"COUNTIF(INDIRECT(\"'Success Criteria'!\" & ADDRESS(10,A41+4)):INDIRECT(\"'Success Criteria'!\" & ADDRESS(75,A41+4)),\"NON conformant\")","v":0},{"$f":"COUNTIF(INDIRECT(\"'Success Criteria'!\" & ADDRESS(10,A41+4)):INDIRECT(\"'Success Criteria'!\" & ADDRESS(75,A41+4)),\"N/A\")","v":3},{"$f":"COUNTIF(INDIRECT(\"'Success Criteria'!\" & ADDRESS(10,A41+4)):INDIRECT(\"'Success Criteria'!\" & ADDRESS(75,A41+4)),\"not tested\")","v":29},{"$f":"SUM(COUNTIF(INDIRECT(\"'Success Criteria'!\" & ADDRESS(80,A41+4)):INDIRECT(\"'Success Criteria'!\" & ADDRESS(131,A41+4)),\"PASS\"),COUNTIF(INDIRECT(\"'Success Criteria'!\" & ADDRESS(80,A41+4)):INDIRECT(\"'Success Criteria'!\" & ADDRESS(131,A41+4)),\"PASS with comments\"))","v":4},{"$f":"COUNTIF(INDIRECT(\"'Success Criteria'!\" & ADDRESS(80,A41+4)):INDIRECT(\"'Success Criteria'!\" & ADDRESS(131,A41+4)),\"NON conformant\")","v":0},{"$f":"COUNTIF(INDIRECT(\"'Success Criteria'!\" & ADDRESS(80,A41+4)):INDIRECT(\"'Success Criteria'!\" & ADDRESS(131,A41+4)),\"N/A\")","v":2},{"$f":"COUNTIF(INDIRECT(\"'Success Criteria'!\" & ADDRESS(80,A41+4)):INDIRECT(\"'Success Criteria'!\" & ADDRESS(131,A41+4)),\"not tested\")","v":18},{"$f":"SUM(COUNTIF(INDIRECT(\"'Success Criteria'!\" & ADDRESS(136,A41+4)):INDIRECT(\"'Success Criteria'!\" & ADDRESS(196,A41+4)),\"PASS\"),COUNTIF(INDIRECT(\"'Success Criteria'!\" & ADDRESS(136,A41+4)):INDIRECT(\"'Success Criteria'!\" & ADDRESS(196,A41+4)),\"PASS with comments\"))","v":0},{"$f":"COUNTIF(INDIRECT(\"'Success Criteria'!\" & ADDRESS(136,A41+4)):INDIRECT(\"'Success Criteria'!\" & ADDRESS(196,A41+4)),\"NON conformant\")","v":0},{"$f":"COUNTIF(INDIRECT(\"'Success Criteria'!\" & ADDRESS(136,A41+4)):INDIRECT(\"'Success Criteria'!\" & ADDRESS(196,A41+4)),\"N/A\")","v":0},{"$f":"COUNTIF(INDIRECT(\"'Success Criteria'!\" & ADDRESS(136,A41+4)):INDIRECT(\"'Success Criteria'!\" & ADDRESS(196,A41+4)),\"not tested\")","v":0},4,0,5,47,null,32,1,24,1,0,1]
[28,"You've seen on the screen, now love the locations (WCAG 2.2 criteria only)","https://www.london.gov.uk/programmes-strategies/arts-and-culture/make-date-london-0/london-music-video-locations-love","HTML Page (full, excluding components)",{"$f":"SUM(COUNTIF(INDIRECT(\"'Success Criteria'!\" & ADDRESS(10,A42+4)):INDIRECT(\"'Success Criteria'!\" & ADDRESS(75,A42+4)),\"PASS\"),COUNTIF(INDIRECT(\"'Success Criteria'!\" & ADDRESS(10,A42+4)):INDIRECT(\"'Success Criteria'!\" & ADDRESS(75,A42+4)),\"PASS with comments\"))","v":0},{"$f":"COUNTIF(INDIRECT(\"'Success Criteria'!\" & ADDRESS(10,A42+4)):INDIRECT(\"'Success Criteria'!\" & ADDRESS(75,A42+4)),\"NON conformant\")","v":0},{"$f":"COUNTIF(INDIRECT(\"'Success Criteria'!\" & ADDRESS(10,A42+4)):INDIRECT(\"'Success Criteria'!\" & ADDRESS(75,A42+4)),\"N/A\")","v":3},{"$f":"COUNTIF(INDIRECT(\"'Success Criteria'!\" & ADDRESS(10,A42+4)):INDIRECT(\"'Success Criteria'!\" & ADDRESS(75,A42+4)),\"not tested\")","v":29},{"$f":"SUM(COUNTIF(INDIRECT(\"'Success Criteria'!\" & ADDRESS(80,A42+4)):INDIRECT(\"'Success Criteria'!\" & ADDRESS(131,A42+4)),\"PASS\"),COUNTIF(INDIRECT(\"'Success Criteria'!\" & ADDRESS(80,A42+4)):INDIRECT(\"'Success Criteria'!\" & ADDRESS(131,A42+4)),\"PASS with comments\"))","v":4},{"$f":"COUNTIF(INDIRECT(\"'Success Criteria'!\" & ADDRESS(80,A42+4)):INDIRECT(\"'Success Criteria'!\" & ADDRESS(131,A42+4)),\"NON conformant\")","v":0},{"$f":"COUNTIF(INDIRECT(\"'Success Criteria'!\" & ADDRESS(80,A42+4)):INDIRECT(\"'Success Criteria'!\" & ADDRESS(131,A42+4)),\"N/A\")","v":2},{"$f":"COUNTIF(INDIRECT(\"'Success Criteria'!\" & ADDRESS(80,A42+4)):INDIRECT(\"'Success Criteria'!\" & ADDRESS(131,A42+4)),\"not tested\")","v":18},{"$f":"SUM(COUNTIF(INDIRECT(\"'Success Criteria'!\" & ADDRESS(136,A42+4)):INDIRECT(\"'Success Criteria'!\" & ADDRESS(196,A42+4)),\"PASS\"),COUNTIF(INDIRECT(\"'Success Criteria'!\" & ADDRESS(136,A42+4)):INDIRECT(\"'Success Criteria'!\" & ADDRESS(196,A42+4)),\"PASS with comments\"))","v":0},{"$f":"COUNTIF(INDIRECT(\"'Success Criteria'!\" & ADDRESS(136,A42+4)):INDIRECT(\"'Success Criteria'!\" & ADDRESS(196,A42+4)),\"NON conformant\")","v":0},{"$f":"COUNTIF(INDIRECT(\"'Success Criteria'!\" & ADDRESS(136,A42+4)):INDIRECT(\"'Success Criteria'!\" & ADDRESS(196,A42+4)),\"N/A\")","v":0},{"$f":"COUNTIF(INDIRECT(\"'Success Criteria'!\" & ADDRESS(136,A42+4)):INDIRECT(\"'Success Criteria'!\" & ADDRESS(196,A42+4)),\"not tested\")","v":0},4,0,5,47,null,32,1,24,1,0,1]
[29,"DD1482 GLA Records Management Policy (WCAG 2.2 criteria only)","https://www.london.gov.uk/decisions/dd1482-gla-records-management-policy","HTML Page (full, excluding components)",{"$f":"SUM(COUNTIF(INDIRECT(\"'Success Criteria'!\" & ADDRESS(10,A43+4)):INDIRECT(\"'Success Criteria'!\" & ADDRESS(75,A43+4)),\"PASS\"),COUNTIF(INDIRECT(\"'Success Criteria'!\" & ADDRESS(10,A43+4)):INDIRECT(\"'Success Criteria'!\" & ADDRESS(75,A43+4)),\"PASS with comments\"))","v":0},{"$f":"COUNTIF(INDIRECT(\"'Success Criteria'!\" & ADDRESS(10,A43+4)):INDIRECT(\"'Success Criteria'!\" & ADDRESS(75,A43+4)),\"NON conformant\")","v":0},{"$f":"COUNTIF(INDIRECT(\"'Success Criteria'!\" & ADDRESS(10,A43+4)):INDIRECT(\"'Success Criteria'!\" & ADDRESS(75,A43+4)),\"N/A\")","v":3},{"$f":"COUNTIF(INDIRECT(\"'Success Criteria'!\" & ADDRESS(10,A43+4)):INDIRECT(\"'Success Criteria'!\" & ADDRESS(75,A43+4)),\"not tested\")","v":29},{"$f":"SUM(COUNTIF(INDIRECT(\"'Success Criteria'!\" & ADDRESS(80,A43+4)):INDIRECT(\"'Success Criteria'!\" & ADDRESS(131,A43+4)),\"PASS\"),COUNTIF(INDIRECT(\"'Success Criteria'!\" & ADDRESS(80,A43+4)):INDIRECT(\"'Success Criteria'!\" & ADDRESS(131,A43+4)),\"PASS with comments\"))","v":4},{"$f":"COUNTIF(INDIRECT(\"'Success Criteria'!\" & ADDRESS(80,A43+4)):INDIRECT(\"'Success Criteria'!\" & ADDRESS(131,A43+4)),\"NON conformant\")","v":0},{"$f":"COUNTIF(INDIRECT(\"'Success Criteria'!\" & ADDRESS(80,A43+4)):INDIRECT(\"'Success Criteria'!\" & ADDRESS(131,A43+4)),\"N/A\")","v":2},{"$f":"COUNTIF(INDIRECT(\"'Success Criteria'!\" & ADDRESS(80,A43+4)):INDIRECT(\"'Success Criteria'!\" & ADDRESS(131,A43+4)),\"not tested\")","v":18},{"$f":"SUM(COUNTIF(INDIRECT(\"'Success Criteria'!\" & ADDRESS(136,A43+4)):INDIRECT(\"'Success Criteria'!\" & ADDRESS(196,A43+4)),\"PASS\"),COUNTIF(INDIRECT(\"'Success Criteria'!\" & ADDRESS(136,A43+4)):INDIRECT(\"'Success Criteria'!\" & ADDRESS(196,A43+4)),\"PASS with comments\"))","v":0},{"$f":"COUNTIF(INDIRECT(\"'Success Criteria'!\" & ADDRESS(136,A43+4)):INDIRECT(\"'Success Criteria'!\" & ADDRESS(196,A43+4)),\"NON conformant\")","v":0},{"$f":"COUNTIF(INDIRECT(\"'Success Criteria'!\" & ADDRESS(136,A43+4)):INDIRECT(\"'Success Criteria'!\" & ADDRESS(196,A43+4)),\"N/A\")","v":0},{"$f":"COUNTIF(INDIRECT(\"'Success Criteria'!\" & ADDRESS(136,A43+4)):INDIRECT(\"'Success Criteria'!\" & ADDRESS(196,A43+4)),\"not tested\")","v":0},4,0,5,47,null,32,1,24,1,0,1]
[30,"Mayor's annual report (WCAG 2.2 criteria only)","https://www.london.gov.uk/publications/mayor-londons-annual-report-2020-2021","HTML Page (full, excluding components)",{"$f":"SUM(COUNTIF(INDIRECT(\"'Success Criteria'!\" & ADDRESS(10,A44+4)):INDIRECT(\"'Success Criteria'!\" & ADDRESS(75,A44+4)),\"PASS\"),COUNTIF(INDIRECT(\"'Success Criteria'!\" & ADDRESS(10,A44+4)):INDIRECT(\"'Success Criteria'!\" & ADDRESS(75,A44+4)),\"PASS with comments\"))","v":0},{"$f":"COUNTIF(INDIRECT(\"'Success Criteria'!\" & ADDRESS(10,A44+4)):INDIRECT(\"'Success Criteria'!\" & ADDRESS(75,A44+4)),\"NON conformant\")","v":0},{"$f":"COUNTIF(INDIRECT(\"'Success Criteria'!\" & ADDRESS(10,A44+4)):INDIRECT(\"'Success Criteria'!\" & ADDRESS(75,A44+4)),\"N/A\")","v":3},{"$f":"COUNTIF(INDIRECT(\"'Success Criteria'!\" & ADDRESS(10,A44+4)):INDIRECT(\"'Success Criteria'!\" & ADDRESS(75,A44+4)),\"not tested\")","v":29},{"$f":"SUM(COUNTIF(INDIRECT(\"'Success Criteria'!\" & ADDRESS(80,A44+4)):INDIRECT(\"'Success Criteria'!\" & ADDRESS(131,A44+4)),\"PASS\"),COUNTIF(INDIRECT(\"'Success Criteria'!\" & ADDRESS(80,A44+4)):INDIRECT(\"'Success Criteria'!\" & ADDRESS(131,A44+4)),\"PASS with comments\"))","v":4},{"$f":"COUNTIF(INDIRECT(\"'Success Criteria'!\" & ADDRESS(80,A44+4)):INDIRECT(\"'Success Criteria'!\" & ADDRESS(131,A44+4)),\"NON conformant\")","v":0},{"$f":"COUNTIF(INDIRECT(\"'Success Criteria'!\" & ADDRESS(80,A44+4)):INDIRECT(\"'Success Criteria'!\" & ADDRESS(131,A44+4)),\"N/A\")","v":2},{"$f":"COUNTIF(INDIRECT(\"'Success Criteria'!\" & ADDRESS(80,A44+4)):INDIRECT(\"'Success Criteria'!\" & ADDRESS(131,A44+4)),\"not tested\")","v":18},{"$f":"SUM(COUNTIF(INDIRECT(\"'Success Criteria'!\" & ADDRESS(136,A44+4)):INDIRECT(\"'Success Criteria'!\" & ADDRESS(196,A44+4)),\"PASS\"),COUNTIF(INDIRECT(\"'Success Criteria'!\" & ADDRESS(136,A44+4)):INDIRECT(\"'Success Criteria'!\" & ADDRESS(196,A44+4)),\"PASS with comments\"))","v":0},{"$f":"COUNTIF(INDIRECT(\"'Success Criteria'!\" & ADDRESS(136,A44+4)):INDIRECT(\"'Success Criteria'!\" & ADDRESS(196,A44+4)),\"NON conformant\")","v":0},{"$f":"COUNTIF(INDIRECT(\"'Success Criteria'!\" & ADDRESS(136,A44+4)):INDIRECT(\"'Success Criteria'!\" & ADDRESS(196,A44+4)),\"N/A\")","v":0},{"$f":"COUNTIF(INDIRECT(\"'Success Criteria'!\" & ADDRESS(136,A44+4)):INDIRECT(\"'Success Criteria'!\" & ADDRESS(196,A44+4)),\"not tested\")","v":0},4,0,5,47,null,32,1,24,1,0,1]
[31,"Mayor’s Equality Report 2020/22 (WCAG 2.2 criteria only)","https://www.london.gov.uk/programmes-strategies/communities-and-social-justice/mayors-strategy-equality-diversity-and-inclusion/mayors-annual-equality-report-2020-22","HTML Page (full, excluding components)",{"$f":"SUM(COUNTIF(INDIRECT(\"'Success Criteria'!\" & ADDRESS(10,A45+4)):INDIRECT(\"'Success Criteria'!\" & ADDRESS(75,A45+4)),\"PASS\"),COUNTIF(INDIRECT(\"'Success Criteria'!\" & ADDRESS(10,A45+4)):INDIRECT(\"'Success Criteria'!\" & ADDRESS(75,A45+4)),\"PASS with comments\"))","v":0},{"$f":"COUNTIF(INDIRECT(\"'Success Criteria'!\" & ADDRESS(10,A45+4)):INDIRECT(\"'Success Criteria'!\" & ADDRESS(75,A45+4)),\"NON conformant\")","v":0},{"$f":"COUNTIF(INDIRECT(\"'Success Criteria'!\" & ADDRESS(10,A45+4)):INDIRECT(\"'Success Criteria'!\" & ADDRESS(75,A45+4)),\"N/A\")","v":3},{"$f":"COUNTIF(INDIRECT(\"'Success Criteria'!\" & ADDRESS(10,A45+4)):INDIRECT(\"'Success Criteria'!\" & ADDRESS(75,A45+4)),\"not tested\")","v":29},{"$f":"SUM(COUNTIF(INDIRECT(\"'Success Criteria'!\" & ADDRESS(80,A45+4)):INDIRECT(\"'Success Criteria'!\" & ADDRESS(131,A45+4)),\"PASS\"),COUNTIF(INDIRECT(\"'Success Criteria'!\" & ADDRESS(80,A45+4)):INDIRECT(\"'Success Criteria'!\" & ADDRESS(131,A45+4)),\"PASS with comments\"))","v":4},{"$f":"COUNTIF(INDIRECT(\"'Success Criteria'!\" & ADDRESS(80,A45+4)):INDIRECT(\"'Success Criteria'!\" & ADDRESS(131,A45+4)),\"NON conformant\")","v":0},{"$f":"COUNTIF(INDIRECT(\"'Success Criteria'!\" & ADDRESS(80,A45+4)):INDIRECT(\"'Success Criteria'!\" & ADDRESS(131,A45+4)),\"N/A\")","v":2},{"$f":"COUNTIF(INDIRECT(\"'Success Criteria'!\" & ADDRESS(80,A45+4)):INDIRECT(\"'Success Criteria'!\" & ADDRESS(131,A45+4)),\"not tested\")","v":18},{"$f":"SUM(COUNTIF(INDIRECT(\"'Success Criteria'!\" & ADDRESS(136,A45+4)):INDIRECT(\"'Success Criteria'!\" & ADDRESS(196,A45+4)),\"PASS\"),COUNTIF(INDIRECT(\"'Success Criteria'!\" & ADDRESS(136,A45+4)):INDIRECT(\"'Success Criteria'!\" & ADDRESS(196,A45+4)),\"PASS with comments\"))","v":0},{"$f":"COUNTIF(INDIRECT(\"'Success Criteria'!\" & ADDRESS(136,A45+4)):INDIRECT(\"'Success Criteria'!\" & ADDRESS(196,A45+4)),\"NON conformant\")","v":0},{"$f":"COUNTIF(INDIRECT(\"'Success Criteria'!\" & ADDRESS(136,A45+4)):INDIRECT(\"'Success Criteria'!\" & ADDRESS(196,A45+4)),\"N/A\")","v":0},{"$f":"COUNTIF(INDIRECT(\"'Success Criteria'!\" & ADDRESS(136,A45+4)):INDIRECT(\"'Success Criteria'!\" & ADDRESS(196,A45+4)),\"not tested\")","v":0},4,0,5,47,null,32,1,24,1,0,1]
[32,"Press release (WCAG 2.2 criteria only)","https://www.london.gov.uk/cross-party-statement-london-assembly-planned-protests-capital","HTML Page (full, excluding components)",{"$f":"SUM(COUNTIF(INDIRECT(\"'Success Criteria'!\" & ADDRESS(10,A46+4)):INDIRECT(\"'Success Criteria'!\" & ADDRESS(75,A46+4)),\"PASS\"),COUNTIF(INDIRECT(\"'Success Criteria'!\" & ADDRESS(10,A46+4)):INDIRECT(\"'Success Criteria'!\" & ADDRESS(75,A46+4)),\"PASS with comments\"))","v":0},{"$f":"COUNTIF(INDIRECT(\"'Success Criteria'!\" & ADDRESS(10,A46+4)):INDIRECT(\"'Success Criteria'!\" & ADDRESS(75,A46+4)),\"NON conformant\")","v":0},{"$f":"COUNTIF(INDIRECT(\"'Success Criteria'!\" & ADDRESS(10,A46+4)):INDIRECT(\"'Success Criteria'!\" & ADDRESS(75,A46+4)),\"N/A\")","v":3},{"$f":"COUNTIF(INDIRECT(\"'Success Criteria'!\" & ADDRESS(10,A46+4)):INDIRECT(\"'Success Criteria'!\" & ADDRESS(75,A46+4)),\"not tested\")","v":29},{"$f":"SUM(COUNTIF(INDIRECT(\"'Success Criteria'!\" & ADDRESS(80,A46+4)):INDIRECT(\"'Success Criteria'!\" & ADDRESS(131,A46+4)),\"PASS\"),COUNTIF(INDIRECT(\"'Success Criteria'!\" & ADDRESS(80,A46+4)):INDIRECT(\"'Success Criteria'!\" & ADDRESS(131,A46+4)),\"PASS with comments\"))","v":4},{"$f":"COUNTIF(INDIRECT(\"'Success Criteria'!\" & ADDRESS(80,A46+4)):INDIRECT(\"'Success Criteria'!\" & ADDRESS(131,A46+4)),\"NON conformant\")","v":0},{"$f":"COUNTIF(INDIRECT(\"'Success Criteria'!\" & ADDRESS(80,A46+4)):INDIRECT(\"'Success Criteria'!\" & ADDRESS(131,A46+4)),\"N/A\")","v":2},{"$f":"COUNTIF(INDIRECT(\"'Success Criteria'!\" & ADDRESS(80,A46+4)):INDIRECT(\"'Success Criteria'!\" & ADDRESS(131,A46+4)),\"not tested\")","v":18},{"$f":"SUM(COUNTIF(INDIRECT(\"'Success Criteria'!\" & ADDRESS(136,A46+4)):INDIRECT(\"'Success Criteria'!\" & ADDRESS(196,A46+4)),\"PASS\"),COUNTIF(INDIRECT(\"'Success Criteria'!\" & ADDRESS(136,A46+4)):INDIRECT(\"'Success Criteria'!\" & ADDRESS(196,A46+4)),\"PASS with comments\"))","v":0},{"$f":"COUNTIF(INDIRECT(\"'Success Criteria'!\" & ADDRESS(136,A46+4)):INDIRECT(\"'Success Criteria'!\" & ADDRESS(196,A46+4)),\"NON conformant\")","v":0},{"$f":"COUNTIF(INDIRECT(\"'Success Criteria'!\" & ADDRESS(136,A46+4)):INDIRECT(\"'Success Criteria'!\" & ADDRESS(196,A46+4)),\"N/A\")","v":0},{"$f":"COUNTIF(INDIRECT(\"'Success Criteria'!\" & ADDRESS(136,A46+4)):INDIRECT(\"'Success Criteria'!\" & ADDRESS(196,A46+4)),\"not tested\")","v":0},4,0,5,47,null,32,1,24,1,0,1]
[33,"Let's do London (WCAG 2.2 criteria only)","https://www.london.gov.uk/programmes-strategies/arts-and-culture/lets-do-london","HTML Page (full, excluding components)",{"$f":"SUM(COUNTIF(INDIRECT(\"'Success Criteria'!\" & ADDRESS(10,A47+4)):INDIRECT(\"'Success Criteria'!\" & ADDRESS(75,A47+4)),\"PASS\"),COUNTIF(INDIRECT(\"'Success Criteria'!\" & ADDRESS(10,A47+4)):INDIRECT(\"'Success Criteria'!\" & ADDRESS(75,A47+4)),\"PASS with comments\"))","v":0},{"$f":"COUNTIF(INDIRECT(\"'Success Criteria'!\" & ADDRESS(10,A47+4)):INDIRECT(\"'Success Criteria'!\" & ADDRESS(75,A47+4)),\"NON conformant\")","v":0},{"$f":"COUNTIF(INDIRECT(\"'Success Criteria'!\" & ADDRESS(10,A47+4)):INDIRECT(\"'Success Criteria'!\" & ADDRESS(75,A47+4)),\"N/A\")","v":3},{"$f":"COUNTIF(INDIRECT(\"'Success Criteria'!\" & ADDRESS(10,A47+4)):INDIRECT(\"'Success Criteria'!\" & ADDRESS(75,A47+4)),\"not tested\")","v":29},{"$f":"SUM(COUNTIF(INDIRECT(\"'Success Criteria'!\" & ADDRESS(80,A47+4)):INDIRECT(\"'Success Criteria'!\" & ADDRESS(131,A47+4)),\"PASS\"),COUNTIF(INDIRECT(\"'Success Criteria'!\" & ADDRESS(80,A47+4)):INDIRECT(\"'Success Criteria'!\" & ADDRESS(131,A47+4)),\"PASS with comments\"))","v":4},{"$f":"COUNTIF(INDIRECT(\"'Success Criteria'!\" & ADDRESS(80,A47+4)):INDIRECT(\"'Success Criteria'!\" & ADDRESS(131,A47+4)),\"NON conformant\")","v":0},{"$f":"COUNTIF(INDIRECT(\"'Success Criteria'!\" & ADDRESS(80,A47+4)):INDIRECT(\"'Success Criteria'!\" & ADDRESS(131,A47+4)),\"N/A\")","v":2},{"$f":"COUNTIF(INDIRECT(\"'Success Criteria'!\" & ADDRESS(80,A47+4)):INDIRECT(\"'Success Criteria'!\" & ADDRESS(131,A47+4)),\"not tested\")","v":18},{"$f":"SUM(COUNTIF(INDIRECT(\"'Success Criteria'!\" & ADDRESS(136,A47+4)):INDIRECT(\"'Success Criteria'!\" & ADDRESS(196,A47+4)),\"PASS\"),COUNTIF(INDIRECT(\"'Success Criteria'!\" & ADDRESS(136,A47+4)):INDIRECT(\"'Success Criteria'!\" & ADDRESS(196,A47+4)),\"PASS with comments\"))","v":0},{"$f":"COUNTIF(INDIRECT(\"'Success Criteria'!\" & ADDRESS(136,A47+4)):INDIRECT(\"'Success Criteria'!\" & ADDRESS(196,A47+4)),\"NON conformant\")","v":0},{"$f":"COUNTIF(INDIRECT(\"'Success Criteria'!\" & ADDRESS(136,A47+4)):INDIRECT(\"'Success Criteria'!\" & ADDRESS(196,A47+4)),\"N/A\")","v":0},{"$f":"COUNTIF(INDIRECT(\"'Success Criteria'!\" & ADDRESS(136,A47+4)):INDIRECT(\"'Success Criteria'!\" & ADDRESS(196,A47+4)),\"not tested\")","v":0},4,0,5,47,null,{"$f":"SUM(E47:H47)","v":32},1,24,1,0,1]
[34,"Infrastructure Mapping Application (WCAG 2.2 criteria only)","https://www.london.gov.uk/programmes-strategies/better-infrastructure/data-and-innovation-tools/infrastructure-mapping-application","HTML Page (full, excluding components)",{"$f":"SUM(COUNTIF(INDIRECT(\"'Success Criteria'!\" & ADDRESS(10,A48+4)):INDIRECT(\"'Success Criteria'!\" & ADDRESS(75,A48+4)),\"PASS\"),COUNTIF(INDIRECT(\"'Success Criteria'!\" & ADDRESS(10,A48+4)):INDIRECT(\"'Success Criteria'!\" & ADDRESS(75,A48+4)),\"PASS with comments\"))","v":0},{"$f":"COUNTIF(INDIRECT(\"'Success Criteria'!\" & ADDRESS(10,A48+4)):INDIRECT(\"'Success Criteria'!\" & ADDRESS(75,A48+4)),\"NON conformant\")","v":0},{"$f":"COUNTIF(INDIRECT(\"'Success Criteria'!\" & ADDRESS(10,A48+4)):INDIRECT(\"'Success Criteria'!\" & ADDRESS(75,A48+4)),\"N/A\")","v":3},{"$f":"COUNTIF(INDIRECT(\"'Success Criteria'!\" & ADDRESS(10,A48+4)):INDIRECT(\"'Success Criteria'!\" & ADDRESS(75,A48+4)),\"not tested\")","v":29},{"$f":"SUM(COUNTIF(INDIRECT(\"'Success Criteria'!\" & ADDRESS(80,A48+4)):INDIRECT(\"'Success Criteria'!\" & ADDRESS(131,A48+4)),\"PASS\"),COUNTIF(INDIRECT(\"'Success Criteria'!\" & ADDRESS(80,A48+4)):INDIRECT(\"'Success Criteria'!\" & ADDRESS(131,A48+4)),\"PASS with comments\"))","v":4},{"$f":"COUNTIF(INDIRECT(\"'Success Criteria'!\" & ADDRESS(80,A48+4)):INDIRECT(\"'Success Criteria'!\" & ADDRESS(131,A48+4)),\"NON conformant\")","v":0},{"$f":"COUNTIF(INDIRECT(\"'Success Criteria'!\" & ADDRESS(80,A48+4)):INDIRECT(\"'Success Criteria'!\" & ADDRESS(131,A48+4)),\"N/A\")","v":2},{"$f":"COUNTIF(INDIRECT(\"'Success Criteria'!\" & ADDRESS(80,A48+4)):INDIRECT(\"'Success Criteria'!\" & ADDRESS(131,A48+4)),\"not tested\")","v":18},{"$f":"SUM(COUNTIF(INDIRECT(\"'Success Criteria'!\" & ADDRESS(136,A48+4)):INDIRECT(\"'Success Criteria'!\" & ADDRESS(196,A48+4)),\"PASS\"),COUNTIF(INDIRECT(\"'Success Criteria'!\" & ADDRESS(136,A48+4)):INDIRECT(\"'Success Criteria'!\" & ADDRESS(196,A48+4)),\"PASS with comments\"))","v":0},{"$f":"COUNTIF(INDIRECT(\"'Success Criteria'!\" & ADDRESS(136,A48+4)):INDIRECT(\"'Success Criteria'!\" & ADDRESS(196,A48+4)),\"NON conformant\")","v":0},{"$f":"COUNTIF(INDIRECT(\"'Success Criteria'!\" & ADDRESS(136,A48+4)):INDIRECT(\"'Success Criteria'!\" & ADDRESS(196,A48+4)),\"N/A\")","v":0},{"$f":"COUNTIF(INDIRECT(\"'Success Criteria'!\" & ADDRESS(136,A48+4)):INDIRECT(\"'Success Criteria'!\" & ADDRESS(196,A48+4)),\"not tested\")","v":0},4,0,5,47,null,32,1,24,1,0,1]
[35,"Sign up to a termly newsletter for schools (WCAG 2.2 criteria only)","https://www.london.gov.uk/programmes-strategies/education-and-youth/improving-standards-schools-and-teaching/sign-termly-newsletter-schools","HTML Page (full, excluding components)",{"$f":"SUM(COUNTIF(INDIRECT(\"'Success Criteria'!\" & ADDRESS(10,A49+4)):INDIRECT(\"'Success Criteria'!\" & ADDRESS(75,A49+4)),\"PASS\"),COUNTIF(INDIRECT(\"'Success Criteria'!\" & ADDRESS(10,A49+4)):INDIRECT(\"'Success Criteria'!\" & ADDRESS(75,A49+4)),\"PASS with comments\"))","v":0},{"$f":"COUNTIF(INDIRECT(\"'Success Criteria'!\" & ADDRESS(10,A49+4)):INDIRECT(\"'Success Criteria'!\" & ADDRESS(75,A49+4)),\"NON conformant\")","v":0},{"$f":"COUNTIF(INDIRECT(\"'Success Criteria'!\" & ADDRESS(10,A49+4)):INDIRECT(\"'Success Criteria'!\" & ADDRESS(75,A49+4)),\"N/A\")","v":3},{"$f":"COUNTIF(INDIRECT(\"'Success Criteria'!\" & ADDRESS(10,A49+4)):INDIRECT(\"'Success Criteria'!\" & ADDRESS(75,A49+4)),\"not tested\")","v":29},{"$f":"SUM(COUNTIF(INDIRECT(\"'Success Criteria'!\" & ADDRESS(80,A49+4)):INDIRECT(\"'Success Criteria'!\" & ADDRESS(131,A49+4)),\"PASS\"),COUNTIF(INDIRECT(\"'Success Criteria'!\" & ADDRESS(80,A49+4)):INDIRECT(\"'Success Criteria'!\" & ADDRESS(131,A49+4)),\"PASS with comments\"))","v":4},{"$f":"COUNTIF(INDIRECT(\"'Success Criteria'!\" & ADDRESS(80,A49+4)):INDIRECT(\"'Success Criteria'!\" & ADDRESS(131,A49+4)),\"NON conformant\")","v":0},{"$f":"COUNTIF(INDIRECT(\"'Success Criteria'!\" & ADDRESS(80,A49+4)):INDIRECT(\"'Success Criteria'!\" & ADDRESS(131,A49+4)),\"N/A\")","v":2},{"$f":"COUNTIF(INDIRECT(\"'Success Criteria'!\" & ADDRESS(80,A49+4)):INDIRECT(\"'Success Criteria'!\" & ADDRESS(131,A49+4)),\"not tested\")","v":18},{"$f":"SUM(COUNTIF(INDIRECT(\"'Success Criteria'!\" & ADDRESS(136,A49+4)):INDIRECT(\"'Success Criteria'!\" & ADDRESS(196,A49+4)),\"PASS\"),COUNTIF(INDIRECT(\"'Success Criteria'!\" & ADDRESS(136,A49+4)):INDIRECT(\"'Success Criteria'!\" & ADDRESS(196,A49+4)),\"PASS with comments\"))","v":0},{"$f":"COUNTIF(INDIRECT(\"'Success Criteria'!\" & ADDRESS(136,A49+4)):INDIRECT(\"'Success Criteria'!\" & ADDRESS(196,A49+4)),\"NON conformant\")","v":0},{"$f":"COUNTIF(INDIRECT(\"'Success Criteria'!\" & ADDRESS(136,A49+4)):INDIRECT(\"'Success Criteria'!\" & ADDRESS(196,A49+4)),\"N/A\")","v":0},{"$f":"COUNTIF(INDIRECT(\"'Success Criteria'!\" & ADDRESS(136,A49+4)):INDIRECT(\"'Success Criteria'!\" & ADDRESS(196,A49+4)),\"not tested\")","v":0},4,0,5,47,null,32,1,24,1,0,1]
[36,"User login (WCAG 2.2 criteria only)","https://www.london.gov.uk/user/login?destination=/programmes-strategies/communities-and-social-justice/get-help-cost-living#guest-login","HTML Page (full, excluding components)",{"$f":"SUM(COUNTIF(INDIRECT(\"'Success Criteria'!\" & ADDRESS(10,A50+4)):INDIRECT(\"'Success Criteria'!\" & ADDRESS(75,A50+4)),\"PASS\"),COUNTIF(INDIRECT(\"'Success Criteria'!\" & ADDRESS(10,A50+4)):INDIRECT(\"'Success Criteria'!\" & ADDRESS(75,A50+4)),\"PASS with comments\"))","v":0},{"$f":"COUNTIF(INDIRECT(\"'Success Criteria'!\" & ADDRESS(10,A50+4)):INDIRECT(\"'Success Criteria'!\" & ADDRESS(75,A50+4)),\"NON conformant\")","v":0},{"$f":"COUNTIF(INDIRECT(\"'Success Criteria'!\" & ADDRESS(10,A50+4)):INDIRECT(\"'Success Criteria'!\" & ADDRESS(75,A50+4)),\"N/A\")","v":3},{"$f":"COUNTIF(INDIRECT(\"'Success Criteria'!\" & ADDRESS(10,A50+4)):INDIRECT(\"'Success Criteria'!\" & ADDRESS(75,A50+4)),\"not tested\")","v":29},{"$f":"SUM(COUNTIF(INDIRECT(\"'Success Criteria'!\" & ADDRESS(80,A50+4)):INDIRECT(\"'Success Criteria'!\" & ADDRESS(131,A50+4)),\"PASS\"),COUNTIF(INDIRECT(\"'Success Criteria'!\" & ADDRESS(80,A50+4)):INDIRECT(\"'Success Criteria'!\" & ADDRESS(131,A50+4)),\"PASS with comments\"))","v":4},{"$f":"COUNTIF(INDIRECT(\"'Success Criteria'!\" & ADDRESS(80,A50+4)):INDIRECT(\"'Success Criteria'!\" & ADDRESS(131,A50+4)),\"NON conformant\")","v":0},{"$f":"COUNTIF(INDIRECT(\"'Success Criteria'!\" & ADDRESS(80,A50+4)):INDIRECT(\"'Success Criteria'!\" & ADDRESS(131,A50+4)),\"N/A\")","v":2},{"$f":"COUNTIF(INDIRECT(\"'Success Criteria'!\" & ADDRESS(80,A50+4)):INDIRECT(\"'Success Criteria'!\" & ADDRESS(131,A50+4)),\"not tested\")","v":18},{"$f":"SUM(COUNTIF(INDIRECT(\"'Success Criteria'!\" & ADDRESS(136,A50+4)):INDIRECT(\"'Success Criteria'!\" & ADDRESS(196,A50+4)),\"PASS\"),COUNTIF(INDIRECT(\"'Success Criteria'!\" & ADDRESS(136,A50+4)):INDIRECT(\"'Success Criteria'!\" & ADDRESS(196,A50+4)),\"PASS with comments\"))","v":0},{"$f":"COUNTIF(INDIRECT(\"'Success Criteria'!\" & ADDRESS(136,A50+4)):INDIRECT(\"'Success Criteria'!\" & ADDRESS(196,A50+4)),\"NON conformant\")","v":0},{"$f":"COUNTIF(INDIRECT(\"'Success Criteria'!\" & ADDRESS(136,A50+4)):INDIRECT(\"'Success Criteria'!\" & ADDRESS(196,A50+4)),\"N/A\")","v":0},{"$f":"COUNTIF(INDIRECT(\"'Success Criteria'!\" & ADDRESS(136,A50+4)):INDIRECT(\"'Success Criteria'!\" & ADDRESS(196,A50+4)),\"not tested\")","v":0},4,0,5,47,null,32,1,24,1,0,1]
[37,"Current vacancies (WCAG 2.2 criteria only)","https://www.london.gov.uk/take-part/working-city-hall/current-vacancies","HTML Page (full, excluding components)",{"$f":"SUM(COUNTIF(INDIRECT(\"'Success Criteria'!\" & ADDRESS(10,A51+4)):INDIRECT(\"'Success Criteria'!\" & ADDRESS(75,A51+4)),\"PASS\"),COUNTIF(INDIRECT(\"'Success Criteria'!\" & ADDRESS(10,A51+4)):INDIRECT(\"'Success Criteria'!\" & ADDRESS(75,A51+4)),\"PASS with comments\"))","v":0},{"$f":"COUNTIF(INDIRECT(\"'Success Criteria'!\" & ADDRESS(10,A51+4)):INDIRECT(\"'Success Criteria'!\" & ADDRESS(75,A51+4)),\"NON conformant\")","v":0},{"$f":"COUNTIF(INDIRECT(\"'Success Criteria'!\" & ADDRESS(10,A51+4)):INDIRECT(\"'Success Criteria'!\" & ADDRESS(75,A51+4)),\"N/A\")","v":3},{"$f":"COUNTIF(INDIRECT(\"'Success Criteria'!\" & ADDRESS(10,A51+4)):INDIRECT(\"'Success Criteria'!\" & ADDRESS(75,A51+4)),\"not tested\")","v":29},{"$f":"SUM(COUNTIF(INDIRECT(\"'Success Criteria'!\" & ADDRESS(80,A51+4)):INDIRECT(\"'Success Criteria'!\" & ADDRESS(131,A51+4)),\"PASS\"),COUNTIF(INDIRECT(\"'Success Criteria'!\" & ADDRESS(80,A51+4)):INDIRECT(\"'Success Criteria'!\" & ADDRESS(131,A51+4)),\"PASS with comments\"))","v":4},{"$f":"COUNTIF(INDIRECT(\"'Success Criteria'!\" & ADDRESS(80,A51+4)):INDIRECT(\"'Success Criteria'!\" & ADDRESS(131,A51+4)),\"NON conformant\")","v":0},{"$f":"COUNTIF(INDIRECT(\"'Success Criteria'!\" & ADDRESS(80,A51+4)):INDIRECT(\"'Success Criteria'!\" & ADDRESS(131,A51+4)),\"N/A\")","v":2},{"$f":"COUNTIF(INDIRECT(\"'Success Criteria'!\" & ADDRESS(80,A51+4)):INDIRECT(\"'Success Criteria'!\" & ADDRESS(131,A51+4)),\"not tested\")","v":18},{"$f":"SUM(COUNTIF(INDIRECT(\"'Success Criteria'!\" & ADDRESS(136,A51+4)):INDIRECT(\"'Success Criteria'!\" & ADDRESS(196,A51+4)),\"PASS\"),COUNTIF(INDIRECT(\"'Success Criteria'!\" & ADDRESS(136,A51+4)):INDIRECT(\"'Success Criteria'!\" & ADDRESS(196,A51+4)),\"PASS with comments\"))","v":0},{"$f":"COUNTIF(INDIRECT(\"'Success Criteria'!\" & ADDRESS(136,A51+4)):INDIRECT(\"'Success Criteria'!\" & ADDRESS(196,A51+4)),\"NON conformant\")","v":0},{"$f":"COUNTIF(INDIRECT(\"'Success Criteria'!\" & ADDRESS(136,A51+4)):INDIRECT(\"'Success Criteria'!\" & ADDRESS(196,A51+4)),\"N/A\")","v":0},{"$f":"COUNTIF(INDIRECT(\"'Success Criteria'!\" & ADDRESS(136,A51+4)):INDIRECT(\"'Success Criteria'!\" & ADDRESS(196,A51+4)),\"not tested\")","v":0},4,0,5,47,null,32,1,24,1,0,1]
[38,"Profile - Zoe Oliver - Watts (WCAG 2.2 criteria only)","https://www.london.gov.uk/who-we-are/governance-and-spending/promoting-good-governance/senior-staff/zoe-oliver-watts","HTML Page (full, excluding components)",{"$f":"SUM(COUNTIF(INDIRECT(\"'Success Criteria'!\" & ADDRESS(10,A52+4)):INDIRECT(\"'Success Criteria'!\" & ADDRESS(75,A52+4)),\"PASS\"),COUNTIF(INDIRECT(\"'Success Criteria'!\" & ADDRESS(10,A52+4)):INDIRECT(\"'Success Criteria'!\" & ADDRESS(75,A52+4)),\"PASS with comments\"))","v":0},{"$f":"COUNTIF(INDIRECT(\"'Success Criteria'!\" & ADDRESS(10,A52+4)):INDIRECT(\"'Success Criteria'!\" & ADDRESS(75,A52+4)),\"NON conformant\")","v":0},{"$f":"COUNTIF(INDIRECT(\"'Success Criteria'!\" & ADDRESS(10,A52+4)):INDIRECT(\"'Success Criteria'!\" & ADDRESS(75,A52+4)),\"N/A\")","v":3},{"$f":"COUNTIF(INDIRECT(\"'Success Criteria'!\" & ADDRESS(10,A52+4)):INDIRECT(\"'Success Criteria'!\" & ADDRESS(75,A52+4)),\"not tested\")","v":29},{"$f":"SUM(COUNTIF(INDIRECT(\"'Success Criteria'!\" & ADDRESS(80,A52+4)):INDIRECT(\"'Success Criteria'!\" & ADDRESS(131,A52+4)),\"PASS\"),COUNTIF(INDIRECT(\"'Success Criteria'!\" & ADDRESS(80,A52+4)):INDIRECT(\"'Success Criteria'!\" & ADDRESS(131,A52+4)),\"PASS with comments\"))","v":4},{"$f":"COUNTIF(INDIRECT(\"'Success Criteria'!\" & ADDRESS(80,A52+4)):INDIRECT(\"'Success Criteria'!\" & ADDRESS(131,A52+4)),\"NON conformant\")","v":0},{"$f":"COUNTIF(INDIRECT(\"'Success Criteria'!\" & ADDRESS(80,A52+4)):INDIRECT(\"'Success Criteria'!\" & ADDRESS(131,A52+4)),\"N/A\")","v":2},{"$f":"COUNTIF(INDIRECT(\"'Success Criteria'!\" & ADDRESS(80,A52+4)):INDIRECT(\"'Success Criteria'!\" & ADDRESS(131,A52+4)),\"not tested\")","v":18},{"$f":"SUM(COUNTIF(INDIRECT(\"'Success Criteria'!\" & ADDRESS(136,A52+4)):INDIRECT(\"'Success Criteria'!\" & ADDRESS(196,A52+4)),\"PASS\"),COUNTIF(INDIRECT(\"'Success Criteria'!\" & ADDRESS(136,A52+4)):INDIRECT(\"'Success Criteria'!\" & ADDRESS(196,A52+4)),\"PASS with comments\"))","v":0},{"$f":"COUNTIF(INDIRECT(\"'Success Criteria'!\" & ADDRESS(136,A52+4)):INDIRECT(\"'Success Criteria'!\" & ADDRESS(196,A52+4)),\"NON conformant\")","v":0},{"$f":"COUNTIF(INDIRECT(\"'Success Criteria'!\" & ADDRESS(136,A52+4)):INDIRECT(\"'Success Criteria'!\" & ADDRESS(196,A52+4)),\"N/A\")","v":0},{"$f":"COUNTIF(INDIRECT(\"'Success Criteria'!\" & ADDRESS(136,A52+4)):INDIRECT(\"'Success Criteria'!\" & ADDRESS(196,A52+4)),\"not tested\")","v":0},4,0,5,47,null,32,1,24,1,0,1]
[39,"View cookies (WCAG 2.2 criteria only)","https://www.london.gov.uk/","HTML Page (full, excluding components)",{"$f":"SUM(COUNTIF(INDIRECT(\"'Success Criteria'!\" & ADDRESS(10,A53+4)):INDIRECT(\"'Success Criteria'!\" & ADDRESS(75,A53+4)),\"PASS\"),COUNTIF(INDIRECT(\"'Success Criteria'!\" & ADDRESS(10,A53+4)):INDIRECT(\"'Success Criteria'!\" & ADDRESS(75,A53+4)),\"PASS with comments\"))","v":0},{"$f":"COUNTIF(INDIRECT(\"'Success Criteria'!\" & ADDRESS(10,A53+4)):INDIRECT(\"'Success Criteria'!\" & ADDRESS(75,A53+4)),\"NON conformant\")","v":0},{"$f":"COUNTIF(INDIRECT(\"'Success Criteria'!\" & ADDRESS(10,A53+4)):INDIRECT(\"'Success Criteria'!\" & ADDRESS(75,A53+4)),\"N/A\")","v":3},{"$f":"COUNTIF(INDIRECT(\"'Success Criteria'!\" & ADDRESS(10,A53+4)):INDIRECT(\"'Success Criteria'!\" & ADDRESS(75,A53+4)),\"not tested\")","v":29},{"$f":"SUM(COUNTIF(INDIRECT(\"'Success Criteria'!\" & ADDRESS(80,A53+4)):INDIRECT(\"'Success Criteria'!\" & ADDRESS(131,A53+4)),\"PASS\"),COUNTIF(INDIRECT(\"'Success Criteria'!\" & ADDRESS(80,A53+4)):INDIRECT(\"'Success Criteria'!\" & ADDRESS(131,A53+4)),\"PASS with comments\"))","v":4},{"$f":"COUNTIF(INDIRECT(\"'Success Criteria'!\" & ADDRESS(80,A53+4)):INDIRECT(\"'Success Criteria'!\" & ADDRESS(131,A53+4)),\"NON conformant\")","v":0},{"$f":"COUNTIF(INDIRECT(\"'Success Criteria'!\" & ADDRESS(80,A53+4)):INDIRECT(\"'Success Criteria'!\" & ADDRESS(131,A53+4)),\"N/A\")","v":2},{"$f":"COUNTIF(INDIRECT(\"'Success Criteria'!\" & ADDRESS(80,A53+4)):INDIRECT(\"'Success Criteria'!\" & ADDRESS(131,A53+4)),\"not tested\")","v":18},{"$f":"SUM(COUNTIF(INDIRECT(\"'Success Criteria'!\" & ADDRESS(136,A53+4)):INDIRECT(\"'Success Criteria'!\" & ADDRESS(196,A53+4)),\"PASS\"),COUNTIF(INDIRECT(\"'Success Criteria'!\" & ADDRESS(136,A53+4)):INDIRECT(\"'Success Criteria'!\" & ADDRESS(196,A53+4)),\"PASS with comments\"))","v":0},{"$f":"COUNTIF(INDIRECT(\"'Success Criteria'!\" & ADDRESS(136,A53+4)):INDIRECT(\"'Success Criteria'!\" & ADDRESS(196,A53+4)),\"NON conformant\")","v":0},{"$f":"COUNTIF(INDIRECT(\"'Success Criteria'!\" & ADDRESS(136,A53+4)):INDIRECT(\"'Success Criteria'!\" & ADDRESS(196,A53+4)),\"N/A\")","v":0},{"$f":"COUNTIF(INDIRECT(\"'Success Criteria'!\" & ADDRESS(136,A53+4)):INDIRECT(\"'Success Criteria'!\" & ADDRESS(196,A53+4)),\"not tested\")","v":0},4,0,5,47,null,32,1,24,1,0,1]
[40,"Terms and conditions for the use of our website and Talk London website (WCAG 2.2 criteria only)","https://www.london.gov.uk/terms-and-conditions/terms-and-conditions-use-our-website-and-talk-london-website","HTML Page (full, excluding components)",{"$f":"SUM(COUNTIF(INDIRECT(\"'Success Criteria'!\" & ADDRESS(10,A54+4)):INDIRECT(\"'Success Criteria'!\" & ADDRESS(75,A54+4)),\"PASS\"),COUNTIF(INDIRECT(\"'Success Criteria'!\" & ADDRESS(10,A54+4)):INDIRECT(\"'Success Criteria'!\" & ADDRESS(75,A54+4)),\"PASS with comments\"))","v":0},{"$f":"COUNTIF(INDIRECT(\"'Success Criteria'!\" & ADDRESS(10,A54+4)):INDIRECT(\"'Success Criteria'!\" & ADDRESS(75,A54+4)),\"NON conformant\")","v":0},{"$f":"COUNTIF(INDIRECT(\"'Success Criteria'!\" & ADDRESS(10,A54+4)):INDIRECT(\"'Success Criteria'!\" & ADDRESS(75,A54+4)),\"N/A\")","v":3},{"$f":"COUNTIF(INDIRECT(\"'Success Criteria'!\" & ADDRESS(10,A54+4)):INDIRECT(\"'Success Criteria'!\" & ADDRESS(75,A54+4)),\"not tested\")","v":29},{"$f":"SUM(COUNTIF(INDIRECT(\"'Success Criteria'!\" & ADDRESS(80,A54+4)):INDIRECT(\"'Success Criteria'!\" & ADDRESS(131,A54+4)),\"PASS\"),COUNTIF(INDIRECT(\"'Success Criteria'!\" & ADDRESS(80,A54+4)):INDIRECT(\"'Success Criteria'!\" & ADDRESS(131,A54+4)),\"PASS with comments\"))","v":4},{"$f":"COUNTIF(INDIRECT(\"'Success Criteria'!\" & ADDRESS(80,A54+4)):INDIRECT(\"'Success Criteria'!\" & ADDRESS(131,A54+4)),\"NON conformant\")","v":0},{"$f":"COUNTIF(INDIRECT(\"'Success Criteria'!\" & ADDRESS(80,A54+4)):INDIRECT(\"'Success Criteria'!\" & ADDRESS(131,A54+4)),\"N/A\")","v":2},{"$f":"COUNTIF(INDIRECT(\"'Success Criteria'!\" & ADDRESS(80,A54+4)):INDIRECT(\"'Success Criteria'!\" & ADDRESS(131,A54+4)),\"not tested\")","v":18},{"$f":"SUM(COUNTIF(INDIRECT(\"'Success Criteria'!\" & ADDRESS(136,A54+4)):INDIRECT(\"'Success Criteria'!\" & ADDRESS(196,A54+4)),\"PASS\"),COUNTIF(INDIRECT(\"'Success Criteria'!\" & ADDRESS(136,A54+4)):INDIRECT(\"'Success Criteria'!\" & ADDRESS(196,A54+4)),\"PASS with comments\"))","v":0},{"$f":"COUNTIF(INDIRECT(\"'Success Criteria'!\" & ADDRESS(136,A54+4)):INDIRECT(\"'Success Criteria'!\" & ADDRESS(196,A54+4)),\"NON conformant\")","v":0},{"$f":"COUNTIF(INDIRECT(\"'Success Criteria'!\" & ADDRESS(136,A54+4)):INDIRECT(\"'Success Criteria'!\" & ADDRESS(196,A54+4)),\"N/A\")","v":0},{"$f":"COUNTIF(INDIRECT(\"'Success Criteria'!\" & ADDRESS(136,A54+4)):INDIRECT(\"'Success Criteria'!\" & ADDRESS(196,A54+4)),\"not tested\")","v":0},4,0,5,47,null,32,1,24,1,0,1]
[41,"Page 41","URL 41","Please select",{"$f":"SUM(COUNTIF(INDIRECT(\"'Success Criteria'!\" & ADDRESS(10,A55+4)):INDIRECT(\"'Success Criteria'!\" & ADDRESS(75,A55+4)),\"PASS\"),COUNTIF(INDIRECT(\"'Success Criteria'!\" & ADDRESS(10,A55+4)):INDIRECT(\"'Success Criteria'!\" & ADDRESS(75,A55+4)),\"PASS with comments\"))","v":0},{"$f":"COUNTIF(INDIRECT(\"'Success Criteria'!\" & ADDRESS(10,A55+4)):INDIRECT(\"'Success Criteria'!\" & ADDRESS(75,A55+4)),\"NON conformant\")","v":0},{"$f":"COUNTIF(INDIRECT(\"'Success Criteria'!\" & ADDRESS(10,A55+4)):INDIRECT(\"'Success Criteria'!\" & ADDRESS(75,A55+4)),\"N/A\")","v":1},{"$f":"COUNTIF(INDIRECT(\"'Success Criteria'!\" & ADDRESS(10,A55+4)):INDIRECT(\"'Success Criteria'!\" & ADDRESS(75,A55+4)),\"not tested\")","v":0},{"$f":"SUM(COUNTIF(INDIRECT(\"'Success Criteria'!\" & ADDRESS(80,A55+4)):INDIRECT(\"'Success Criteria'!\" & ADDRESS(131,A55+4)),\"PASS\"),COUNTIF(INDIRECT(\"'Success Criteria'!\" & ADDRESS(80,A55+4)):INDIRECT(\"'Success Criteria'!\" & ADDRESS(131,A55+4)),\"PASS with comments\"))","v":2},{"$f":"COUNTIF(INDIRECT(\"'Success Criteria'!\" & ADDRESS(80,A55+4)):INDIRECT(\"'Success Criteria'!\" & ADDRESS(131,A55+4)),\"NON conformant\")","v":0},{"$f":"COUNTIF(INDIRECT(\"'Success Criteria'!\" & ADDRESS(80,A55+4)):INDIRECT(\"'Success Criteria'!\" & ADDRESS(131,A55+4)),\"N/A\")","v":0},{"$f":"COUNTIF(INDIRECT(\"'Success Criteria'!\" & ADDRESS(80,A55+4)):INDIRECT(\"'Success Criteria'!\" & ADDRESS(131,A55+4)),\"not tested\")","v":0},{"$f":"SUM(COUNTIF(INDIRECT(\"'Success Criteria'!\" & ADDRESS(136,A55+4)):INDIRECT(\"'Success Criteria'!\" & ADDRESS(196,A55+4)),\"PASS\"),COUNTIF(INDIRECT(\"'Success Criteria'!\" & ADDRESS(136,A55+4)):INDIRECT(\"'Success Criteria'!\" & ADDRESS(196,A55+4)),\"PASS with comments\"))","v":0},{"$f":"COUNTIF(INDIRECT(\"'Success Criteria'!\" & ADDRESS(136,A55+4)):INDIRECT(\"'Success Criteria'!\" & ADDRESS(196,A55+4)),\"NON conformant\")","v":0},{"$f":"COUNTIF(INDIRECT(\"'Success Criteria'!\" & ADDRESS(136,A55+4)):INDIRECT(\"'Success Criteria'!\" & ADDRESS(196,A55+4)),\"N/A\")","v":0},{"$f":"COUNTIF(INDIRECT(\"'Success Criteria'!\" & ADDRESS(136,A55+4)):INDIRECT(\"'Success Criteria'!\" & ADDRESS(196,A55+4)),\"not tested\")","v":0},2,0,1,0,null,1,"",2,"",0,1]
[42,"Page 42","URL 42","Please select",{"$f":"SUM(COUNTIF(INDIRECT(\"'Success Criteria'!\" & ADDRESS(10,A56+4)):INDIRECT(\"'Success Criteria'!\" & ADDRESS(75,A56+4)),\"PASS\"),COUNTIF(INDIRECT(\"'Success Criteria'!\" & ADDRESS(10,A56+4)):INDIRECT(\"'Success Criteria'!\" & ADDRESS(75,A56+4)),\"PASS with comments\"))","v":0},{"$f":"COUNTIF(INDIRECT(\"'Success Criteria'!\" & ADDRESS(10,A56+4)):INDIRECT(\"'Success Criteria'!\" & ADDRESS(75,A56+4)),\"NON conformant\")","v":0},{"$f":"COUNTIF(INDIRECT(\"'Success Criteria'!\" & ADDRESS(10,A56+4)):INDIRECT(\"'Success Criteria'!\" & ADDRESS(75,A56+4)),\"N/A\")","v":1},{"$f":"COUNTIF(INDIRECT(\"'Success Criteria'!\" & ADDRESS(10,A56+4)):INDIRECT(\"'Success Criteria'!\" & ADDRESS(75,A56+4)),\"not tested\")","v":0},{"$f":"SUM(COUNTIF(INDIRECT(\"'Success Criteria'!\" & ADDRESS(80,A56+4)):INDIRECT(\"'Success Criteria'!\" & ADDRESS(131,A56+4)),\"PASS\"),COUNTIF(INDIRECT(\"'Success Criteria'!\" & ADDRESS(80,A56+4)):INDIRECT(\"'Success Criteria'!\" & ADDRESS(131,A56+4)),\"PASS with comments\"))","v":2},{"$f":"COUNTIF(INDIRECT(\"'Success Criteria'!\" & ADDRESS(80,A56+4)):INDIRECT(\"'Success Criteria'!\" & ADDRESS(131,A56+4)),\"NON conformant\")","v":0},{"$f":"COUNTIF(INDIRECT(\"'Success Criteria'!\" & ADDRESS(80,A56+4)):INDIRECT(\"'Success Criteria'!\" & ADDRESS(131,A56+4)),\"N/A\")","v":0},{"$f":"COUNTIF(INDIRECT(\"'Success Criteria'!\" & ADDRESS(80,A56+4)):INDIRECT(\"'Success Criteria'!\" & ADDRESS(131,A56+4)),\"not tested\")","v":0},{"$f":"SUM(COUNTIF(INDIRECT(\"'Success Criteria'!\" & ADDRESS(136,A56+4)):INDIRECT(\"'Success Criteria'!\" & ADDRESS(196,A56+4)),\"PASS\"),COUNTIF(INDIRECT(\"'Success Criteria'!\" & ADDRESS(136,A56+4)):INDIRECT(\"'Success Criteria'!\" & ADDRESS(196,A56+4)),\"PASS with comments\"))","v":0},{"$f":"COUNTIF(INDIRECT(\"'Success Criteria'!\" & ADDRESS(136,A56+4)):INDIRECT(\"'Success Criteria'!\" & ADDRESS(196,A56+4)),\"NON conformant\")","v":0},{"$f":"COUNTIF(INDIRECT(\"'Success Criteria'!\" & ADDRESS(136,A56+4)):INDIRECT(\"'Success Criteria'!\" & ADDRESS(196,A56+4)),\"N/A\")","v":0},{"$f":"COUNTIF(INDIRECT(\"'Success Criteria'!\" & ADDRESS(136,A56+4)):INDIRECT(\"'Success Criteria'!\" & ADDRESS(196,A56+4)),\"not tested\")","v":0},2,0,1,0,null,1,"",2,"",0,1]
[43,"Page 43","URL 43","Please select",{"$f":"SUM(COUNTIF(INDIRECT(\"'Success Criteria'!\" & ADDRESS(10,A57+4)):INDIRECT(\"'Success Criteria'!\" & ADDRESS(75,A57+4)),\"PASS\"),COUNTIF(INDIRECT(\"'Success Criteria'!\" & ADDRESS(10,A57+4)):INDIRECT(\"'Success Criteria'!\" & ADDRESS(75,A57+4)),\"PASS with comments\"))","v":0},{"$f":"COUNTIF(INDIRECT(\"'Success Criteria'!\" & ADDRESS(10,A57+4)):INDIRECT(\"'Success Criteria'!\" & ADDRESS(75,A57+4)),\"NON conformant\")","v":0},{"$f":"COUNTIF(INDIRECT(\"'Success Criteria'!\" & ADDRESS(10,A57+4)):INDIRECT(\"'Success Criteria'!\" & ADDRESS(75,A57+4)),\"N/A\")","v":1},{"$f":"COUNTIF(INDIRECT(\"'Success Criteria'!\" & ADDRESS(10,A57+4)):INDIRECT(\"'Success Criteria'!\" & ADDRESS(75,A57+4)),\"not tested\")","v":0},{"$f":"SUM(COUNTIF(INDIRECT(\"'Success Criteria'!\" & ADDRESS(80,A57+4)):INDIRECT(\"'Success Criteria'!\" & ADDRESS(131,A57+4)),\"PASS\"),COUNTIF(INDIRECT(\"'Success Criteria'!\" & ADDRESS(80,A57+4)):INDIRECT(\"'Success Criteria'!\" & ADDRESS(131,A57+4)),\"PASS with comments\"))","v":2},{"$f":"COUNTIF(INDIRECT(\"'Success Criteria'!\" & ADDRESS(80,A57+4)):INDIRECT(\"'Success Criteria'!\" & ADDRESS(131,A57+4)),\"NON conformant\")","v":0},{"$f":"COUNTIF(INDIRECT(\"'Success Criteria'!\" & ADDRESS(80,A57+4)):INDIRECT(\"'Success Criteria'!\" & ADDRESS(131,A57+4)),\"N/A\")","v":0},{"$f":"COUNTIF(INDIRECT(\"'Success Criteria'!\" & ADDRESS(80,A57+4)):INDIRECT(\"'Success Criteria'!\" & ADDRESS(131,A57+4)),\"not tested\")","v":0},{"$f":"SUM(COUNTIF(INDIRECT(\"'Success Criteria'!\" & ADDRESS(136,A57+4)):INDIRECT(\"'Success Criteria'!\" & ADDRESS(196,A57+4)),\"PASS\"),COUNTIF(INDIRECT(\"'Success Criteria'!\" & ADDRESS(136,A57+4)):INDIRECT(\"'Success Criteria'!\" & ADDRESS(196,A57+4)),\"PASS with comments\"))","v":0},{"$f":"COUNTIF(INDIRECT(\"'Success Criteria'!\" & ADDRESS(136,A57+4)):INDIRECT(\"'Success Criteria'!\" & ADDRESS(196,A57+4)),\"NON conformant\")","v":0},{"$f":"COUNTIF(INDIRECT(\"'Success Criteria'!\" & ADDRESS(136,A57+4)):INDIRECT(\"'Success Criteria'!\" & ADDRESS(196,A57+4)),\"N/A\")","v":0},{"$f":"COUNTIF(INDIRECT(\"'Success Criteria'!\" & ADDRESS(136,A57+4)):INDIRECT(\"'Success Criteria'!\" & ADDRESS(196,A57+4)),\"not tested\")","v":0},2,0,1,0,null,1,"",2,"",0,1]
[44,"Page 44","URL 44","Please select",{"$f":"SUM(COUNTIF(INDIRECT(\"'Success Criteria'!\" & ADDRESS(10,A58+4)):INDIRECT(\"'Success Criteria'!\" & ADDRESS(75,A58+4)),\"PASS\"),COUNTIF(INDIRECT(\"'Success Criteria'!\" & ADDRESS(10,A58+4)):INDIRECT(\"'Success Criteria'!\" & ADDRESS(75,A58+4)),\"PASS with comments\"))","v":0},{"$f":"COUNTIF(INDIRECT(\"'Success Criteria'!\" & ADDRESS(10,A58+4)):INDIRECT(\"'Success Criteria'!\" & ADDRESS(75,A58+4)),\"NON conformant\")","v":0},{"$f":"COUNTIF(INDIRECT(\"'Success Criteria'!\" & ADDRESS(10,A58+4)):INDIRECT(\"'Success Criteria'!\" & ADDRESS(75,A58+4)),\"N/A\")","v":1},{"$f":"COUNTIF(INDIRECT(\"'Success Criteria'!\" & ADDRESS(10,A58+4)):INDIRECT(\"'Success Criteria'!\" & ADDRESS(75,A58+4)),\"not tested\")","v":0},{"$f":"SUM(COUNTIF(INDIRECT(\"'Success Criteria'!\" & ADDRESS(80,A58+4)):INDIRECT(\"'Success Criteria'!\" & ADDRESS(131,A58+4)),\"PASS\"),COUNTIF(INDIRECT(\"'Success Criteria'!\" & ADDRESS(80,A58+4)):INDIRECT(\"'Success Criteria'!\" & ADDRESS(131,A58+4)),\"PASS with comments\"))","v":2},{"$f":"COUNTIF(INDIRECT(\"'Success Criteria'!\" & ADDRESS(80,A58+4)):INDIRECT(\"'Success Criteria'!\" & ADDRESS(131,A58+4)),\"NON conformant\")","v":0},{"$f":"COUNTIF(INDIRECT(\"'Success Criteria'!\" & ADDRESS(80,A58+4)):INDIRECT(\"'Success Criteria'!\" & ADDRESS(131,A58+4)),\"N/A\")","v":0},{"$f":"COUNTIF(INDIRECT(\"'Success Criteria'!\" & ADDRESS(80,A58+4)):INDIRECT(\"'Success Criteria'!\" & ADDRESS(131,A58+4)),\"not tested\")","v":0},{"$f":"SUM(COUNTIF(INDIRECT(\"'Success Criteria'!\" & ADDRESS(136,A58+4)):INDIRECT(\"'Success Criteria'!\" & ADDRESS(196,A58+4)),\"PASS\"),COUNTIF(INDIRECT(\"'Success Criteria'!\" & ADDRESS(136,A58+4)):INDIRECT(\"'Success Criteria'!\" & ADDRESS(196,A58+4)),\"PASS with comments\"))","v":0},{"$f":"COUNTIF(INDIRECT(\"'Success Criteria'!\" & ADDRESS(136,A58+4)):INDIRECT(\"'Success Criteria'!\" & ADDRESS(196,A58+4)),\"NON conformant\")","v":0},{"$f":"COUNTIF(INDIRECT(\"'Success Criteria'!\" & ADDRESS(136,A58+4)):INDIRECT(\"'Success Criteria'!\" & ADDRESS(196,A58+4)),\"N/A\")","v":0},{"$f":"COUNTIF(INDIRECT(\"'Success Criteria'!\" & ADDRESS(136,A58+4)):INDIRECT(\"'Success Criteria'!\" & ADDRESS(196,A58+4)),\"not tested\")","v":0},2,0,1,0,null,1,"",2,"",0,1]
[45,"Page 45","URL 45","Please select",{"$f":"SUM(COUNTIF(INDIRECT(\"'Success Criteria'!\" & ADDRESS(10,A59+4)):INDIRECT(\"'Success Criteria'!\" & ADDRESS(75,A59+4)),\"PASS\"),COUNTIF(INDIRECT(\"'Success Criteria'!\" & ADDRESS(10,A59+4)):INDIRECT(\"'Success Criteria'!\" & ADDRESS(75,A59+4)),\"PASS with comments\"))","v":0},{"$f":"COUNTIF(INDIRECT(\"'Success Criteria'!\" & ADDRESS(10,A59+4)):INDIRECT(\"'Success Criteria'!\" & ADDRESS(75,A59+4)),\"NON conformant\")","v":0},{"$f":"COUNTIF(INDIRECT(\"'Success Criteria'!\" & ADDRESS(10,A59+4)):INDIRECT(\"'Success Criteria'!\" & ADDRESS(75,A59+4)),\"N/A\")","v":1},{"$f":"COUNTIF(INDIRECT(\"'Success Criteria'!\" & ADDRESS(10,A59+4)):INDIRECT(\"'Success Criteria'!\" & ADDRESS(75,A59+4)),\"not tested\")","v":0},{"$f":"SUM(COUNTIF(INDIRECT(\"'Success Criteria'!\" & ADDRESS(80,A59+4)):INDIRECT(\"'Success Criteria'!\" & ADDRESS(131,A59+4)),\"PASS\"),COUNTIF(INDIRECT(\"'Success Criteria'!\" & ADDRESS(80,A59+4)):INDIRECT(\"'Success Criteria'!\" & ADDRESS(131,A59+4)),\"PASS with comments\"))","v":2},{"$f":"COUNTIF(INDIRECT(\"'Success Criteria'!\" & ADDRESS(80,A59+4)):INDIRECT(\"'Success Criteria'!\" & ADDRESS(131,A59+4)),\"NON conformant\")","v":0},{"$f":"COUNTIF(INDIRECT(\"'Success Criteria'!\" & ADDRESS(80,A59+4)):INDIRECT(\"'Success Criteria'!\" & ADDRESS(131,A59+4)),\"N/A\")","v":0},{"$f":"COUNTIF(INDIRECT(\"'Success Criteria'!\" & ADDRESS(80,A59+4)):INDIRECT(\"'Success Criteria'!\" & ADDRESS(131,A59+4)),\"not tested\")","v":0},{"$f":"SUM(COUNTIF(INDIRECT(\"'Success Criteria'!\" & ADDRESS(136,A59+4)):INDIRECT(\"'Success Criteria'!\" & ADDRESS(196,A59+4)),\"PASS\"),COUNTIF(INDIRECT(\"'Success Criteria'!\" & ADDRESS(136,A59+4)):INDIRECT(\"'Success Criteria'!\" & ADDRESS(196,A59+4)),\"PASS with comments\"))","v":0},{"$f":"COUNTIF(INDIRECT(\"'Success Criteria'!\" & ADDRESS(136,A59+4)):INDIRECT(\"'Success Criteria'!\" & ADDRESS(196,A59+4)),\"NON conformant\")","v":0},{"$f":"COUNTIF(INDIRECT(\"'Success Criteria'!\" & ADDRESS(136,A59+4)):INDIRECT(\"'Success Criteria'!\" & ADDRESS(196,A59+4)),\"N/A\")","v":0},{"$f":"COUNTIF(INDIRECT(\"'Success Criteria'!\" & ADDRESS(136,A59+4)):INDIRECT(\"'Success Criteria'!\" & ADDRESS(196,A59+4)),\"not tested\")","v":0},2,0,1,0,null,1,"",2,"",0,1]
[46,"Page 46","URL 46","Please select",{"$f":"SUM(COUNTIF(INDIRECT(\"'Success Criteria'!\" & ADDRESS(10,A60+4)):INDIRECT(\"'Success Criteria'!\" & ADDRESS(75,A60+4)),\"PASS\"),COUNTIF(INDIRECT(\"'Success Criteria'!\" & ADDRESS(10,A60+4)):INDIRECT(\"'Success Criteria'!\" & ADDRESS(75,A60+4)),\"PASS with comments\"))","v":0},{"$f":"COUNTIF(INDIRECT(\"'Success Criteria'!\" & ADDRESS(10,A60+4)):INDIRECT(\"'Success Criteria'!\" & ADDRESS(75,A60+4)),\"NON conformant\")","v":0},{"$f":"COUNTIF(INDIRECT(\"'Success Criteria'!\" & ADDRESS(10,A60+4)):INDIRECT(\"'Success Criteria'!\" & ADDRESS(75,A60+4)),\"N/A\")","v":1},{"$f":"COUNTIF(INDIRECT(\"'Success Criteria'!\" & ADDRESS(10,A60+4)):INDIRECT(\"'Success Criteria'!\" & ADDRESS(75,A60+4)),\"not tested\")","v":0},{"$f":"SUM(COUNTIF(INDIRECT(\"'Success Criteria'!\" & ADDRESS(80,A60+4)):INDIRECT(\"'Success Criteria'!\" & ADDRESS(131,A60+4)),\"PASS\"),COUNTIF(INDIRECT(\"'Success Criteria'!\" & ADDRESS(80,A60+4)):INDIRECT(\"'Success Criteria'!\" & ADDRESS(131,A60+4)),\"PASS with comments\"))","v":2},{"$f":"COUNTIF(INDIRECT(\"'Success Criteria'!\" & ADDRESS(80,A60+4)):INDIRECT(\"'Success Criteria'!\" & ADDRESS(131,A60+4)),\"NON conformant\")","v":0},{"$f":"COUNTIF(INDIRECT(\"'Success Criteria'!\" & ADDRESS(80,A60+4)):INDIRECT(\"'Success Criteria'!\" & ADDRESS(131,A60+4)),\"N/A\")","v":0},{"$f":"COUNTIF(INDIRECT(\"'Success Criteria'!\" & ADDRESS(80,A60+4)):INDIRECT(\"'Success Criteria'!\" & ADDRESS(131,A60+4)),\"not tested\")","v":0},{"$f":"SUM(COUNTIF(INDIRECT(\"'Success Criteria'!\" & ADDRESS(136,A60+4)):INDIRECT(\"'Success Criteria'!\" & ADDRESS(196,A60+4)),\"PASS\"),COUNTIF(INDIRECT(\"'Success Criteria'!\" & ADDRESS(136,A60+4)):INDIRECT(\"'Success Criteria'!\" & ADDRESS(196,A60+4)),\"PASS with comments\"))","v":0},{"$f":"COUNTIF(INDIRECT(\"'Success Criteria'!\" & ADDRESS(136,A60+4)):INDIRECT(\"'Success Criteria'!\" & ADDRESS(196,A60+4)),\"NON conformant\")","v":0},{"$f":"COUNTIF(INDIRECT(\"'Success Criteria'!\" & ADDRESS(136,A60+4)):INDIRECT(\"'Success Criteria'!\" & ADDRESS(196,A60+4)),\"N/A\")","v":0},{"$f":"COUNTIF(INDIRECT(\"'Success Criteria'!\" & ADDRESS(136,A60+4)):INDIRECT(\"'Success Criteria'!\" & ADDRESS(196,A60+4)),\"not tested\")","v":0},2,0,1,0,null,1,"",2,"",0,1]
[47,"Page 47","URL 47","Please select",{"$f":"SUM(COUNTIF(INDIRECT(\"'Success Criteria'!\" & ADDRESS(10,A61+4)):INDIRECT(\"'Success Criteria'!\" & ADDRESS(75,A61+4)),\"PASS\"),COUNTIF(INDIRECT(\"'Success Criteria'!\" & ADDRESS(10,A61+4)):INDIRECT(\"'Success Criteria'!\" & ADDRESS(75,A61+4)),\"PASS with comments\"))","v":0},{"$f":"COUNTIF(INDIRECT(\"'Success Criteria'!\" & ADDRESS(10,A61+4)):INDIRECT(\"'Success Criteria'!\" & ADDRESS(75,A61+4)),\"NON conformant\")","v":0},{"$f":"COUNTIF(INDIRECT(\"'Success Criteria'!\" & ADDRESS(10,A61+4)):INDIRECT(\"'Success Criteria'!\" & ADDRESS(75,A61+4)),\"N/A\")","v":1},{"$f":"COUNTIF(INDIRECT(\"'Success Criteria'!\" & ADDRESS(10,A61+4)):INDIRECT(\"'Success Criteria'!\" & ADDRESS(75,A61+4)),\"not tested\")","v":0},{"$f":"SUM(COUNTIF(INDIRECT(\"'Success Criteria'!\" & ADDRESS(80,A61+4)):INDIRECT(\"'Success Criteria'!\" & ADDRESS(131,A61+4)),\"PASS\"),COUNTIF(INDIRECT(\"'Success Criteria'!\" & ADDRESS(80,A61+4)):INDIRECT(\"'Success Criteria'!\" & ADDRESS(131,A61+4)),\"PASS with comments\"))","v":2},{"$f":"COUNTIF(INDIRECT(\"'Success Criteria'!\" & ADDRESS(80,A61+4)):INDIRECT(\"'Success Criteria'!\" & ADDRESS(131,A61+4)),\"NON conformant\")","v":0},{"$f":"COUNTIF(INDIRECT(\"'Success Criteria'!\" & ADDRESS(80,A61+4)):INDIRECT(\"'Success Criteria'!\" & ADDRESS(131,A61+4)),\"N/A\")","v":0},{"$f":"COUNTIF(INDIRECT(\"'Success Criteria'!\" & ADDRESS(80,A61+4)):INDIRECT(\"'Success Criteria'!\" & ADDRESS(131,A61+4)),\"not tested\")","v":0},{"$f":"SUM(COUNTIF(INDIRECT(\"'Success Criteria'!\" & ADDRESS(136,A61+4)):INDIRECT(\"'Success Criteria'!\" & ADDRESS(196,A61+4)),\"PASS\"),COUNTIF(INDIRECT(\"'Success Criteria'!\" & ADDRESS(136,A61+4)):INDIRECT(\"'Success Criteria'!\" & ADDRESS(196,A61+4)),\"PASS with comments\"))","v":0},{"$f":"COUNTIF(INDIRECT(\"'Success Criteria'!\" & ADDRESS(136,A61+4)):INDIRECT(\"'Success Criteria'!\" & ADDRESS(196,A61+4)),\"NON conformant\")","v":0},{"$f":"COUNTIF(INDIRECT(\"'Success Criteria'!\" & ADDRESS(136,A61+4)):INDIRECT(\"'Success Criteria'!\" & ADDRESS(196,A61+4)),\"N/A\")","v":0},{"$f":"COUNTIF(INDIRECT(\"'Success Criteria'!\" & ADDRESS(136,A61+4)):INDIRECT(\"'Success Criteria'!\" & ADDRESS(196,A61+4)),\"not tested\")","v":0},2,0,1,0,null,1,"",2,"",0,1]
[48,"Page 48","URL 48","Please select",{"$f":"SUM(COUNTIF(INDIRECT(\"'Success Criteria'!\" & ADDRESS(10,A62+4)):INDIRECT(\"'Success Criteria'!\" & ADDRESS(75,A62+4)),\"PASS\"),COUNTIF(INDIRECT(\"'Success Criteria'!\" & ADDRESS(10,A62+4)):INDIRECT(\"'Success Criteria'!\" & ADDRESS(75,A62+4)),\"PASS with comments\"))","v":0},{"$f":"COUNTIF(INDIRECT(\"'Success Criteria'!\" & ADDRESS(10,A62+4)):INDIRECT(\"'Success Criteria'!\" & ADDRESS(75,A62+4)),\"NON conformant\")","v":0},{"$f":"COUNTIF(INDIRECT(\"'Success Criteria'!\" & ADDRESS(10,A62+4)):INDIRECT(\"'Success Criteria'!\" & ADDRESS(75,A62+4)),\"N/A\")","v":1},{"$f":"COUNTIF(INDIRECT(\"'Success Criteria'!\" & ADDRESS(10,A62+4)):INDIRECT(\"'Success Criteria'!\" & ADDRESS(75,A62+4)),\"not tested\")","v":0},{"$f":"SUM(COUNTIF(INDIRECT(\"'Success Criteria'!\" & ADDRESS(80,A62+4)):INDIRECT(\"'Success Criteria'!\" & ADDRESS(131,A62+4)),\"PASS\"),COUNTIF(INDIRECT(\"'Success Criteria'!\" & ADDRESS(80,A62+4)):INDIRECT(\"'Success Criteria'!\" & ADDRESS(131,A62+4)),\"PASS with comments\"))","v":2},{"$f":"COUNTIF(INDIRECT(\"'Success Criteria'!\" & ADDRESS(80,A62+4)):INDIRECT(\"'Success Criteria'!\" & ADDRESS(131,A62+4)),\"NON conformant\")","v":0},{"$f":"COUNTIF(INDIRECT(\"'Success Criteria'!\" & ADDRESS(80,A62+4)):INDIRECT(\"'Success Criteria'!\" & ADDRESS(131,A62+4)),\"N/A\")","v":0},{"$f":"COUNTIF(INDIRECT(\"'Success Criteria'!\" & ADDRESS(80,A62+4)):INDIRECT(\"'Success Criteria'!\" & ADDRESS(131,A62+4)),\"not tested\")","v":0},{"$f":"SUM(COUNTIF(INDIRECT(\"'Success Criteria'!\" & ADDRESS(136,A62+4)):INDIRECT(\"'Success Criteria'!\" & ADDRESS(196,A62+4)),\"PASS\"),COUNTIF(INDIRECT(\"'Success Criteria'!\" & ADDRESS(136,A62+4)):INDIRECT(\"'Success Criteria'!\" & ADDRESS(196,A62+4)),\"PASS with comments\"))","v":0},{"$f":"COUNTIF(INDIRECT(\"'Success Criteria'!\" & ADDRESS(136,A62+4)):INDIRECT(\"'Success Criteria'!\" & ADDRESS(196,A62+4)),\"NON conformant\")","v":0},{"$f":"COUNTIF(INDIRECT(\"'Success Criteria'!\" & ADDRESS(136,A62+4)):INDIRECT(\"'Success Criteria'!\" & ADDRESS(196,A62+4)),\"N/A\")","v":0},{"$f":"COUNTIF(INDIRECT(\"'Success Criteria'!\" & ADDRESS(136,A62+4)):INDIRECT(\"'Success Criteria'!\" & ADDRESS(196,A62+4)),\"not tested\")","v":0},2,0,1,0,null,1,"",2,"",0,1]
[49,"Page 49","URL 49","Please select",{"$f":"SUM(COUNTIF(INDIRECT(\"'Success Criteria'!\" & ADDRESS(10,A63+4)):INDIRECT(\"'Success Criteria'!\" & ADDRESS(75,A63+4)),\"PASS\"),COUNTIF(INDIRECT(\"'Success Criteria'!\" & ADDRESS(10,A63+4)):INDIRECT(\"'Success Criteria'!\" & ADDRESS(75,A63+4)),\"PASS with comments\"))","v":0},{"$f":"COUNTIF(INDIRECT(\"'Success Criteria'!\" & ADDRESS(10,A63+4)):INDIRECT(\"'Success Criteria'!\" & ADDRESS(75,A63+4)),\"NON conformant\")","v":0},{"$f":"COUNTIF(INDIRECT(\"'Success Criteria'!\" & ADDRESS(10,A63+4)):INDIRECT(\"'Success Criteria'!\" & ADDRESS(75,A63+4)),\"N/A\")","v":1},{"$f":"COUNTIF(INDIRECT(\"'Success Criteria'!\" & ADDRESS(10,A63+4)):INDIRECT(\"'Success Criteria'!\" & ADDRESS(75,A63+4)),\"not tested\")","v":0},{"$f":"SUM(COUNTIF(INDIRECT(\"'Success Criteria'!\" & ADDRESS(80,A63+4)):INDIRECT(\"'Success Criteria'!\" & ADDRESS(131,A63+4)),\"PASS\"),COUNTIF(INDIRECT(\"'Success Criteria'!\" & ADDRESS(80,A63+4)):INDIRECT(\"'Success Criteria'!\" & ADDRESS(131,A63+4)),\"PASS with comments\"))","v":2},{"$f":"COUNTIF(INDIRECT(\"'Success Criteria'!\" & ADDRESS(80,A63+4)):INDIRECT(\"'Success Criteria'!\" & ADDRESS(131,A63+4)),\"NON conformant\")","v":0},{"$f":"COUNTIF(INDIRECT(\"'Success Criteria'!\" & ADDRESS(80,A63+4)):INDIRECT(\"'Success Criteria'!\" & ADDRESS(131,A63+4)),\"N/A\")","v":0},{"$f":"COUNTIF(INDIRECT(\"'Success Criteria'!\" & ADDRESS(80,A63+4)):INDIRECT(\"'Success Criteria'!\" & ADDRESS(131,A63+4)),\"not tested\")","v":0},{"$f":"SUM(COUNTIF(INDIRECT(\"'Success Criteria'!\" & ADDRESS(136,A63+4)):INDIRECT(\"'Success Criteria'!\" & ADDRESS(196,A63+4)),\"PASS\"),COUNTIF(INDIRECT(\"'Success Criteria'!\" & ADDRESS(136,A63+4)):INDIRECT(\"'Success Criteria'!\" & ADDRESS(196,A63+4)),\"PASS with comments\"))","v":0},{"$f":"COUNTIF(INDIRECT(\"'Success Criteria'!\" & ADDRESS(136,A63+4)):INDIRECT(\"'Success Criteria'!\" & ADDRESS(196,A63+4)),\"NON conformant\")","v":0},{"$f":"COUNTIF(INDIRECT(\"'Success Criteria'!\" & ADDRESS(136,A63+4)):INDIRECT(\"'Success Criteria'!\" & ADDRESS(196,A63+4)),\"N/A\")","v":0},{"$f":"COUNTIF(INDIRECT(\"'Success Criteria'!\" & ADDRESS(136,A63+4)):INDIRECT(\"'Success Criteria'!\" & ADDRESS(196,A63+4)),\"not tested\")","v":0},2,0,1,0,null,1,"",2,"",0,1]
[50,"Page 50","URL 50","Please select",{"$f":"SUM(COUNTIF(INDIRECT(\"'Success Criteria'!\" & ADDRESS(10,A64+4)):INDIRECT(\"'Success Criteria'!\" & ADDRESS(75,A64+4)),\"PASS\"),COUNTIF(INDIRECT(\"'Success Criteria'!\" & ADDRESS(10,A64+4)):INDIRECT(\"'Success Criteria'!\" & ADDRESS(75,A64+4)),\"PASS with comments\"))","v":0},{"$f":"COUNTIF(INDIRECT(\"'Success Criteria'!\" & ADDRESS(10,A64+4)):INDIRECT(\"'Success Criteria'!\" & ADDRESS(75,A64+4)),\"NON conformant\")","v":0},{"$f":"COUNTIF(INDIRECT(\"'Success Criteria'!\" & ADDRESS(10,A64+4)):INDIRECT(\"'Success Criteria'!\" & ADDRESS(75,A64+4)),\"N/A\")","v":1},{"$f":"COUNTIF(INDIRECT(\"'Success Criteria'!\" & ADDRESS(10,A64+4)):INDIRECT(\"'Success Criteria'!\" & ADDRESS(75,A64+4)),\"not tested\")","v":0},{"$f":"SUM(COUNTIF(INDIRECT(\"'Success Criteria'!\" & ADDRESS(80,A64+4)):INDIRECT(\"'Success Criteria'!\" & ADDRESS(131,A64+4)),\"PASS\"),COUNTIF(INDIRECT(\"'Success Criteria'!\" & ADDRESS(80,A64+4)):INDIRECT(\"'Success Criteria'!\" & ADDRESS(131,A64+4)),\"PASS with comments\"))","v":2},{"$f":"COUNTIF(INDIRECT(\"'Success Criteria'!\" & ADDRESS(80,A64+4)):INDIRECT(\"'Success Criteria'!\" & ADDRESS(131,A64+4)),\"NON conformant\")","v":0},{"$f":"COUNTIF(INDIRECT(\"'Success Criteria'!\" & ADDRESS(80,A64+4)):INDIRECT(\"'Success Criteria'!\" & ADDRESS(131,A64+4)),\"N/A\")","v":0},{"$f":"COUNTIF(INDIRECT(\"'Success Criteria'!\" & ADDRESS(80,A64+4)):INDIRECT(\"'Success Criteria'!\" & ADDRESS(131,A64+4)),\"not tested\")","v":0},{"$f":"SUM(COUNTIF(INDIRECT(\"'Success Criteria'!\" & ADDRESS(136,A64+4)):INDIRECT(\"'Success Criteria'!\" & ADDRESS(196,A64+4)),\"PASS\"),COUNTIF(INDIRECT(\"'Success Criteria'!\" & ADDRESS(136,A64+4)):INDIRECT(\"'Success Criteria'!\" & ADDRESS(196,A64+4)),\"PASS with comments\"))","v":0},{"$f":"COUNTIF(INDIRECT(\"'Success Criteria'!\" & ADDRESS(136,A64+4)):INDIRECT(\"'Success Criteria'!\" & ADDRESS(196,A64+4)),\"NON conformant\")","v":0},{"$f":"COUNTIF(INDIRECT(\"'Success Criteria'!\" & ADDRESS(136,A64+4)):INDIRECT(\"'Success Criteria'!\" & ADDRESS(196,A64+4)),\"N/A\")","v":0},{"$f":"COUNTIF(INDIRECT(\"'Success Criteria'!\" & ADDRESS(136,A64+4)):INDIRECT(\"'Success Criteria'!\" & ADDRESS(196,A64+4)),\"not tested\")","v":0},2,0,1,0,null,1,"",2,"",0,1]
[51,"Page 51","URL 51","Please select",{"$f":"SUM(COUNTIF(INDIRECT(\"'Success Criteria'!\" & ADDRESS(10,A65+4)):INDIRECT(\"'Success Criteria'!\" & ADDRESS(75,A65+4)),\"PASS\"),COUNTIF(INDIRECT(\"'Success Criteria'!\" & ADDRESS(10,A65+4)):INDIRECT(\"'Success Criteria'!\" & ADDRESS(75,A65+4)),\"PASS with comments\"))","v":0},{"$f":"COUNTIF(INDIRECT(\"'Success Criteria'!\" & ADDRESS(10,A65+4)):INDIRECT(\"'Success Criteria'!\" & ADDRESS(75,A65+4)),\"NON conformant\")","v":0},{"$f":"COUNTIF(INDIRECT(\"'Success Criteria'!\" & ADDRESS(10,A65+4)):INDIRECT(\"'Success Criteria'!\" & ADDRESS(75,A65+4)),\"N/A\")","v":1},{"$f":"COUNTIF(INDIRECT(\"'Success Criteria'!\" & ADDRESS(10,A65+4)):INDIRECT(\"'Success Criteria'!\" & ADDRESS(75,A65+4)),\"not tested\")","v":0},{"$f":"SUM(COUNTIF(INDIRECT(\"'Success Criteria'!\" & ADDRESS(80,A65+4)):INDIRECT(\"'Success Criteria'!\" & ADDRESS(131,A65+4)),\"PASS\"),COUNTIF(INDIRECT(\"'Success Criteria'!\" & ADDRESS(80,A65+4)):INDIRECT(\"'Success Criteria'!\" & ADDRESS(131,A65+4)),\"PASS with comments\"))","v":2},{"$f":"COUNTIF(INDIRECT(\"'Success Criteria'!\" & ADDRESS(80,A65+4)):INDIRECT(\"'Success Criteria'!\" & ADDRESS(131,A65+4)),\"NON conformant\")","v":0},{"$f":"COUNTIF(INDIRECT(\"'Success Criteria'!\" & ADDRESS(80,A65+4)):INDIRECT(\"'Success Criteria'!\" & ADDRESS(131,A65+4)),\"N/A\")","v":0},{"$f":"COUNTIF(INDIRECT(\"'Success Criteria'!\" & ADDRESS(80,A65+4)):INDIRECT(\"'Success Criteria'!\" & ADDRESS(131,A65+4)),\"not tested\")","v":0},{"$f":"SUM(COUNTIF(INDIRECT(\"'Success Criteria'!\" & ADDRESS(136,A65+4)):INDIRECT(\"'Success Criteria'!\" & ADDRESS(196,A65+4)),\"PASS\"),COUNTIF(INDIRECT(\"'Success Criteria'!\" & ADDRESS(136,A65+4)):INDIRECT(\"'Success Criteria'!\" & ADDRESS(196,A65+4)),\"PASS with comments\"))","v":0},{"$f":"COUNTIF(INDIRECT(\"'Success Criteria'!\" & ADDRESS(136,A65+4)):INDIRECT(\"'Success Criteria'!\" & ADDRESS(196,A65+4)),\"NON conformant\")","v":0},{"$f":"COUNTIF(INDIRECT(\"'Success Criteria'!\" & ADDRESS(136,A65+4)):INDIRECT(\"'Success Criteria'!\" & ADDRESS(196,A65+4)),\"N/A\")","v":0},{"$f":"COUNTIF(INDIRECT(\"'Success Criteria'!\" & ADDRESS(136,A65+4)):INDIRECT(\"'Success Criteria'!\" & ADDRESS(196,A65+4)),\"not tested\")","v":0},2,{"$f":"SUM(F65+J65+N65)","v":0},1,0,null,{"$f":"SUM(E65:H65)","v":1},"",2,"",0,1]
[52,"Page 52","URL 52","Please select",{"$f":"SUM(COUNTIF(INDIRECT(\"'Success Criteria'!\" & ADDRESS(10,A66+4)):INDIRECT(\"'Success Criteria'!\" & ADDRESS(75,A66+4)),\"PASS\"),COUNTIF(INDIRECT(\"'Success Criteria'!\" & ADDRESS(10,A66+4)):INDIRECT(\"'Success Criteria'!\" & ADDRESS(75,A66+4)),\"PASS with comments\"))","v":0},{"$f":"COUNTIF(INDIRECT(\"'Success Criteria'!\" & ADDRESS(10,A66+4)):INDIRECT(\"'Success Criteria'!\" & ADDRESS(75,A66+4)),\"NON conformant\")","v":0},{"$f":"COUNTIF(INDIRECT(\"'Success Criteria'!\" & ADDRESS(10,A66+4)):INDIRECT(\"'Success Criteria'!\" & ADDRESS(75,A66+4)),\"N/A\")","v":1},{"$f":"COUNTIF(INDIRECT(\"'Success Criteria'!\" & ADDRESS(10,A66+4)):INDIRECT(\"'Success Criteria'!\" & ADDRESS(75,A66+4)),\"not tested\")","v":0},{"$f":"SUM(COUNTIF(INDIRECT(\"'Success Criteria'!\" & ADDRESS(80,A66+4)):INDIRECT(\"'Success Criteria'!\" & ADDRESS(131,A66+4)),\"PASS\"),COUNTIF(INDIRECT(\"'Success Criteria'!\" & ADDRESS(80,A66+4)):INDIRECT(\"'Success Criteria'!\" & ADDRESS(131,A66+4)),\"PASS with comments\"))","v":2},{"$f":"COUNTIF(INDIRECT(\"'Success Criteria'!\" & ADDRESS(80,A66+4)):INDIRECT(\"'Success Criteria'!\" & ADDRESS(131,A66+4)),\"NON conformant\")","v":0},{"$f":"COUNTIF(INDIRECT(\"'Success Criteria'!\" & ADDRESS(80,A66+4)):INDIRECT(\"'Success Criteria'!\" & ADDRESS(131,A66+4)),\"N/A\")","v":0},{"$f":"COUNTIF(INDIRECT(\"'Success Criteria'!\" & ADDRESS(80,A66+4)):INDIRECT(\"'Success Criteria'!\" & ADDRESS(131,A66+4)),\"not tested\")","v":0},{"$f":"SUM(COUNTIF(INDIRECT(\"'Success Criteria'!\" & ADDRESS(136,A66+4)):INDIRECT(\"'Success Criteria'!\" & ADDRESS(196,A66+4)),\"PASS\"),COUNTIF(INDIRECT(\"'Success Criteria'!\" & ADDRESS(136,A66+4)):INDIRECT(\"'Success Criteria'!\" & ADDRESS(196,A66+4)),\"PASS with comments\"))","v":0},{"$f":"COUNTIF(INDIRECT(\"'Success Criteria'!\" & ADDRESS(136,A66+4)):INDIRECT(\"'Success Criteria'!\" & ADDRESS(196,A66+4)),\"NON conformant\")","v":0},{"$f":"COUNTIF(INDIRECT(\"'Success Criteria'!\" & ADDRESS(136,A66+4)):INDIRECT(\"'Success Criteria'!\" & ADDRESS(196,A66+4)),\"N/A\")","v":0},{"$f":"COUNTIF(INDIRECT(\"'Success Criteria'!\" & ADDRESS(136,A66+4)):INDIRECT(\"'Success Criteria'!\" & ADDRESS(196,A66+4)),\"not tested\")","v":0},2,0,1,0,null,1,"",2,"",0,1]
[53,"Page 53","URL 53","Please select",{"$f":"SUM(COUNTIF(INDIRECT(\"'Success Criteria'!\" & ADDRESS(10,A67+4)):INDIRECT(\"'Success Criteria'!\" & ADDRESS(75,A67+4)),\"PASS\"),COUNTIF(INDIRECT(\"'Success Criteria'!\" & ADDRESS(10,A67+4)):INDIRECT(\"'Success Criteria'!\" & ADDRESS(75,A67+4)),\"PASS with comments\"))","v":0},{"$f":"COUNTIF(INDIRECT(\"'Success Criteria'!\" & ADDRESS(10,A67+4)):INDIRECT(\"'Success Criteria'!\" & ADDRESS(75,A67+4)),\"NON conformant\")","v":0},{"$f":"COUNTIF(INDIRECT(\"'Success Criteria'!\" & ADDRESS(10,A67+4)):INDIRECT(\"'Success Criteria'!\" & ADDRESS(75,A67+4)),\"N/A\")","v":1},{"$f":"COUNTIF(INDIRECT(\"'Success Criteria'!\" & ADDRESS(10,A67+4)):INDIRECT(\"'Success Criteria'!\" & ADDRESS(75,A67+4)),\"not tested\")","v":0},{"$f":"SUM(COUNTIF(INDIRECT(\"'Success Criteria'!\" & ADDRESS(80,A67+4)):INDIRECT(\"'Success Criteria'!\" & ADDRESS(131,A67+4)),\"PASS\"),COUNTIF(INDIRECT(\"'Success Criteria'!\" & ADDRESS(80,A67+4)):INDIRECT(\"'Success Criteria'!\" & ADDRESS(131,A67+4)),\"PASS with comments\"))","v":2},{"$f":"COUNTIF(INDIRECT(\"'Success Criteria'!\" & ADDRESS(80,A67+4)):INDIRECT(\"'Success Criteria'!\" & ADDRESS(131,A67+4)),\"NON conformant\")","v":0},{"$f":"COUNTIF(INDIRECT(\"'Success Criteria'!\" & ADDRESS(80,A67+4)):INDIRECT(\"'Success Criteria'!\" & ADDRESS(131,A67+4)),\"N/A\")","v":0},{"$f":"COUNTIF(INDIRECT(\"'Success Criteria'!\" & ADDRESS(80,A67+4)):INDIRECT(\"'Success Criteria'!\" & ADDRESS(131,A67+4)),\"not tested\")","v":0},{"$f":"SUM(COUNTIF(INDIRECT(\"'Success Criteria'!\" & ADDRESS(136,A67+4)):INDIRECT(\"'Success Criteria'!\" & ADDRESS(196,A67+4)),\"PASS\"),COUNTIF(INDIRECT(\"'Success Criteria'!\" & ADDRESS(136,A67+4)):INDIRECT(\"'Success Criteria'!\" & ADDRESS(196,A67+4)),\"PASS with comments\"))","v":0},{"$f":"COUNTIF(INDIRECT(\"'Success Criteria'!\" & ADDRESS(136,A67+4)):INDIRECT(\"'Success Criteria'!\" & ADDRESS(196,A67+4)),\"NON conformant\")","v":0},{"$f":"COUNTIF(INDIRECT(\"'Success Criteria'!\" & ADDRESS(136,A67+4)):INDIRECT(\"'Success Criteria'!\" & ADDRESS(196,A67+4)),\"N/A\")","v":0},{"$f":"COUNTIF(INDIRECT(\"'Success Criteria'!\" & ADDRESS(136,A67+4)):INDIRECT(\"'Success Criteria'!\" & ADDRESS(196,A67+4)),\"not tested\")","v":0},2,0,1,0,null,1,"",2,"",0,1]
[54,"Page 54","URL 54","Please select",{"$f":"SUM(COUNTIF(INDIRECT(\"'Success Criteria'!\" & ADDRESS(10,A68+4)):INDIRECT(\"'Success Criteria'!\" & ADDRESS(75,A68+4)),\"PASS\"),COUNTIF(INDIRECT(\"'Success Criteria'!\" & ADDRESS(10,A68+4)):INDIRECT(\"'Success Criteria'!\" & ADDRESS(75,A68+4)),\"PASS with comments\"))","v":0},{"$f":"COUNTIF(INDIRECT(\"'Success Criteria'!\" & ADDRESS(10,A68+4)):INDIRECT(\"'Success Criteria'!\" & ADDRESS(75,A68+4)),\"NON conformant\")","v":0},{"$f":"COUNTIF(INDIRECT(\"'Success Criteria'!\" & ADDRESS(10,A68+4)):INDIRECT(\"'Success Criteria'!\" & ADDRESS(75,A68+4)),\"N/A\")","v":1},{"$f":"COUNTIF(INDIRECT(\"'Success Criteria'!\" & ADDRESS(10,A68+4)):INDIRECT(\"'Success Criteria'!\" & ADDRESS(75,A68+4)),\"not tested\")","v":0},{"$f":"SUM(COUNTIF(INDIRECT(\"'Success Criteria'!\" & ADDRESS(80,A68+4)):INDIRECT(\"'Success Criteria'!\" & ADDRESS(131,A68+4)),\"PASS\"),COUNTIF(INDIRECT(\"'Success Criteria'!\" & ADDRESS(80,A68+4)):INDIRECT(\"'Success Criteria'!\" & ADDRESS(131,A68+4)),\"PASS with comments\"))","v":2},{"$f":"COUNTIF(INDIRECT(\"'Success Criteria'!\" & ADDRESS(80,A68+4)):INDIRECT(\"'Success Criteria'!\" & ADDRESS(131,A68+4)),\"NON conformant\")","v":0},{"$f":"COUNTIF(INDIRECT(\"'Success Criteria'!\" & ADDRESS(80,A68+4)):INDIRECT(\"'Success Criteria'!\" & ADDRESS(131,A68+4)),\"N/A\")","v":0},{"$f":"COUNTIF(INDIRECT(\"'Success Criteria'!\" & ADDRESS(80,A68+4)):INDIRECT(\"'Success Criteria'!\" & ADDRESS(131,A68+4)),\"not tested\")","v":0},{"$f":"SUM(COUNTIF(INDIRECT(\"'Success Criteria'!\" & ADDRESS(136,A68+4)):INDIRECT(\"'Success Criteria'!\" & ADDRESS(196,A68+4)),\"PASS\"),COUNTIF(INDIRECT(\"'Success Criteria'!\" & ADDRESS(136,A68+4)):INDIRECT(\"'Success Criteria'!\" & ADDRESS(196,A68+4)),\"PASS with comments\"))","v":0},{"$f":"COUNTIF(INDIRECT(\"'Success Criteria'!\" & ADDRESS(136,A68+4)):INDIRECT(\"'Success Criteria'!\" & ADDRESS(196,A68+4)),\"NON conformant\")","v":0},{"$f":"COUNTIF(INDIRECT(\"'Success Criteria'!\" & ADDRESS(136,A68+4)):INDIRECT(\"'Success Criteria'!\" & ADDRESS(196,A68+4)),\"N/A\")","v":0},{"$f":"COUNTIF(INDIRECT(\"'Success Criteria'!\" & ADDRESS(136,A68+4)):INDIRECT(\"'Success Criteria'!\" & ADDRESS(196,A68+4)),\"not tested\")","v":0},2,0,1,0,null,1,"",2,"",0,1]
[55,"Page 55","URL 55","Please select",{"$f":"SUM(COUNTIF(INDIRECT(\"'Success Criteria'!\" & ADDRESS(10,A69+4)):INDIRECT(\"'Success Criteria'!\" & ADDRESS(75,A69+4)),\"PASS\"),COUNTIF(INDIRECT(\"'Success Criteria'!\" & ADDRESS(10,A69+4)):INDIRECT(\"'Success Criteria'!\" & ADDRESS(75,A69+4)),\"PASS with comments\"))","v":0},{"$f":"COUNTIF(INDIRECT(\"'Success Criteria'!\" & ADDRESS(10,A69+4)):INDIRECT(\"'Success Criteria'!\" & ADDRESS(75,A69+4)),\"NON conformant\")","v":0},{"$f":"COUNTIF(INDIRECT(\"'Success Criteria'!\" & ADDRESS(10,A69+4)):INDIRECT(\"'Success Criteria'!\" & ADDRESS(75,A69+4)),\"N/A\")","v":1},{"$f":"COUNTIF(INDIRECT(\"'Success Criteria'!\" & ADDRESS(10,A69+4)):INDIRECT(\"'Success Criteria'!\" & ADDRESS(75,A69+4)),\"not tested\")","v":0},{"$f":"SUM(COUNTIF(INDIRECT(\"'Success Criteria'!\" & ADDRESS(80,A69+4)):INDIRECT(\"'Success Criteria'!\" & ADDRESS(131,A69+4)),\"PASS\"),COUNTIF(INDIRECT(\"'Success Criteria'!\" & ADDRESS(80,A69+4)):INDIRECT(\"'Success Criteria'!\" & ADDRESS(131,A69+4)),\"PASS with comments\"))","v":2},{"$f":"COUNTIF(INDIRECT(\"'Success Criteria'!\" & ADDRESS(80,A69+4)):INDIRECT(\"'Success Criteria'!\" & ADDRESS(131,A69+4)),\"NON conformant\")","v":0},{"$f":"COUNTIF(INDIRECT(\"'Success Criteria'!\" & ADDRESS(80,A69+4)):INDIRECT(\"'Success Criteria'!\" & ADDRESS(131,A69+4)),\"N/A\")","v":0},{"$f":"COUNTIF(INDIRECT(\"'Success Criteria'!\" & ADDRESS(80,A69+4)):INDIRECT(\"'Success Criteria'!\" & ADDRESS(131,A69+4)),\"not tested\")","v":0},{"$f":"SUM(COUNTIF(INDIRECT(\"'Success Criteria'!\" & ADDRESS(136,A69+4)):INDIRECT(\"'Success Criteria'!\" & ADDRESS(196,A69+4)),\"PASS\"),COUNTIF(INDIRECT(\"'Success Criteria'!\" & ADDRESS(136,A69+4)):INDIRECT(\"'Success Criteria'!\" & ADDRESS(196,A69+4)),\"PASS with comments\"))","v":0},{"$f":"COUNTIF(INDIRECT(\"'Success Criteria'!\" & ADDRESS(136,A69+4)):INDIRECT(\"'Success Criteria'!\" & ADDRESS(196,A69+4)),\"NON conformant\")","v":0},{"$f":"COUNTIF(INDIRECT(\"'Success Criteria'!\" & ADDRESS(136,A69+4)):INDIRECT(\"'Success Criteria'!\" & ADDRESS(196,A69+4)),\"N/A\")","v":0},{"$f":"COUNTIF(INDIRECT(\"'Success Criteria'!\" & ADDRESS(136,A69+4)):INDIRECT(\"'Success Criteria'!\" & ADDRESS(196,A69+4)),\"not tested\")","v":0},2,0,1,0,null,1,"",2,"",0,1]
[56,"Page 56","URL 56","Please select",{"$f":"SUM(COUNTIF(INDIRECT(\"'Success Criteria'!\" & ADDRESS(10,A70+4)):INDIRECT(\"'Success Criteria'!\" & ADDRESS(75,A70+4)),\"PASS\"),COUNTIF(INDIRECT(\"'Success Criteria'!\" & ADDRESS(10,A70+4)):INDIRECT(\"'Success Criteria'!\" & ADDRESS(75,A70+4)),\"PASS with comments\"))","v":0},{"$f":"COUNTIF(INDIRECT(\"'Success Criteria'!\" & ADDRESS(10,A70+4)):INDIRECT(\"'Success Criteria'!\" & ADDRESS(75,A70+4)),\"NON conformant\")","v":0},{"$f":"COUNTIF(INDIRECT(\"'Success Criteria'!\" & ADDRESS(10,A70+4)):INDIRECT(\"'Success Criteria'!\" & ADDRESS(75,A70+4)),\"N/A\")","v":1},{"$f":"COUNTIF(INDIRECT(\"'Success Criteria'!\" & ADDRESS(10,A70+4)):INDIRECT(\"'Success Criteria'!\" & ADDRESS(75,A70+4)),\"not tested\")","v":0},{"$f":"SUM(COUNTIF(INDIRECT(\"'Success Criteria'!\" & ADDRESS(80,A70+4)):INDIRECT(\"'Success Criteria'!\" & ADDRESS(131,A70+4)),\"PASS\"),COUNTIF(INDIRECT(\"'Success Criteria'!\" & ADDRESS(80,A70+4)):INDIRECT(\"'Success Criteria'!\" & ADDRESS(131,A70+4)),\"PASS with comments\"))","v":2},{"$f":"COUNTIF(INDIRECT(\"'Success Criteria'!\" & ADDRESS(80,A70+4)):INDIRECT(\"'Success Criteria'!\" & ADDRESS(131,A70+4)),\"NON conformant\")","v":0},{"$f":"COUNTIF(INDIRECT(\"'Success Criteria'!\" & ADDRESS(80,A70+4)):INDIRECT(\"'Success Criteria'!\" & ADDRESS(131,A70+4)),\"N/A\")","v":0},{"$f":"COUNTIF(INDIRECT(\"'Success Criteria'!\" & ADDRESS(80,A70+4)):INDIRECT(\"'Success Criteria'!\" & ADDRESS(131,A70+4)),\"not tested\")","v":0},{"$f":"SUM(COUNTIF(INDIRECT(\"'Success Criteria'!\" & ADDRESS(136,A70+4)):INDIRECT(\"'Success Criteria'!\" & ADDRESS(196,A70+4)),\"PASS\"),COUNTIF(INDIRECT(\"'Success Criteria'!\" & ADDRESS(136,A70+4)):INDIRECT(\"'Success Criteria'!\" & ADDRESS(196,A70+4)),\"PASS with comments\"))","v":0},{"$f":"COUNTIF(INDIRECT(\"'Success Criteria'!\" & ADDRESS(136,A70+4)):INDIRECT(\"'Success Criteria'!\" & ADDRESS(196,A70+4)),\"NON conformant\")","v":0},{"$f":"COUNTIF(INDIRECT(\"'Success Criteria'!\" & ADDRESS(136,A70+4)):INDIRECT(\"'Success Criteria'!\" & ADDRESS(196,A70+4)),\"N/A\")","v":0},{"$f":"COUNTIF(INDIRECT(\"'Success Criteria'!\" & ADDRESS(136,A70+4)):INDIRECT(\"'Success Criteria'!\" & ADDRESS(196,A70+4)),\"not tested\")","v":0},2,0,1,0,null,1,"",2,"",0,1]
[57,"Page 57","URL 57","Please select",{"$f":"SUM(COUNTIF(INDIRECT(\"'Success Criteria'!\" & ADDRESS(10,A71+4)):INDIRECT(\"'Success Criteria'!\" & ADDRESS(75,A71+4)),\"PASS\"),COUNTIF(INDIRECT(\"'Success Criteria'!\" & ADDRESS(10,A71+4)):INDIRECT(\"'Success Criteria'!\" & ADDRESS(75,A71+4)),\"PASS with comments\"))","v":0},{"$f":"COUNTIF(INDIRECT(\"'Success Criteria'!\" & ADDRESS(10,A71+4)):INDIRECT(\"'Success Criteria'!\" & ADDRESS(75,A71+4)),\"NON conformant\")","v":0},{"$f":"COUNTIF(INDIRECT(\"'Success Criteria'!\" & ADDRESS(10,A71+4)):INDIRECT(\"'Success Criteria'!\" & ADDRESS(75,A71+4)),\"N/A\")","v":1},{"$f":"COUNTIF(INDIRECT(\"'Success Criteria'!\" & ADDRESS(10,A71+4)):INDIRECT(\"'Success Criteria'!\" & ADDRESS(75,A71+4)),\"not tested\")","v":0},{"$f":"SUM(COUNTIF(INDIRECT(\"'Success Criteria'!\" & ADDRESS(80,A71+4)):INDIRECT(\"'Success Criteria'!\" & ADDRESS(131,A71+4)),\"PASS\"),COUNTIF(INDIRECT(\"'Success Criteria'!\" & ADDRESS(80,A71+4)):INDIRECT(\"'Success Criteria'!\" & ADDRESS(131,A71+4)),\"PASS with comments\"))","v":2},{"$f":"COUNTIF(INDIRECT(\"'Success Criteria'!\" & ADDRESS(80,A71+4)):INDIRECT(\"'Success Criteria'!\" & ADDRESS(131,A71+4)),\"NON conformant\")","v":0},{"$f":"COUNTIF(INDIRECT(\"'Success Criteria'!\" & ADDRESS(80,A71+4)):INDIRECT(\"'Success Criteria'!\" & ADDRESS(131,A71+4)),\"N/A\")","v":0},{"$f":"COUNTIF(INDIRECT(\"'Success Criteria'!\" & ADDRESS(80,A71+4)):INDIRECT(\"'Success Criteria'!\" & ADDRESS(131,A71+4)),\"not tested\")","v":0},{"$f":"SUM(COUNTIF(INDIRECT(\"'Success Criteria'!\" & ADDRESS(136,A71+4)):INDIRECT(\"'Success Criteria'!\" & ADDRESS(196,A71+4)),\"PASS\"),COUNTIF(INDIRECT(\"'Success Criteria'!\" & ADDRESS(136,A71+4)):INDIRECT(\"'Success Criteria'!\" & ADDRESS(196,A71+4)),\"PASS with comments\"))","v":0},{"$f":"COUNTIF(INDIRECT(\"'Success Criteria'!\" & ADDRESS(136,A71+4)):INDIRECT(\"'Success Criteria'!\" & ADDRESS(196,A71+4)),\"NON conformant\")","v":0},{"$f":"COUNTIF(INDIRECT(\"'Success Criteria'!\" & ADDRESS(136,A71+4)):INDIRECT(\"'Success Criteria'!\" & ADDRESS(196,A71+4)),\"N/A\")","v":0},{"$f":"COUNTIF(INDIRECT(\"'Success Criteria'!\" & ADDRESS(136,A71+4)):INDIRECT(\"'Success Criteria'!\" & ADDRESS(196,A71+4)),\"not tested\")","v":0},2,0,1,0,null,1,"",2,"",0,1]
[58,"Page 58","URL 58","Please select",{"$f":"SUM(COUNTIF(INDIRECT(\"'Success Criteria'!\" & ADDRESS(10,A72+4)):INDIRECT(\"'Success Criteria'!\" & ADDRESS(75,A72+4)),\"PASS\"),COUNTIF(INDIRECT(\"'Success Criteria'!\" & ADDRESS(10,A72+4)):INDIRECT(\"'Success Criteria'!\" & ADDRESS(75,A72+4)),\"PASS with comments\"))","v":0},{"$f":"COUNTIF(INDIRECT(\"'Success Criteria'!\" & ADDRESS(10,A72+4)):INDIRECT(\"'Success Criteria'!\" & ADDRESS(75,A72+4)),\"NON conformant\")","v":0},{"$f":"COUNTIF(INDIRECT(\"'Success Criteria'!\" & ADDRESS(10,A72+4)):INDIRECT(\"'Success Criteria'!\" & ADDRESS(75,A72+4)),\"N/A\")","v":1},{"$f":"COUNTIF(INDIRECT(\"'Success Criteria'!\" & ADDRESS(10,A72+4)):INDIRECT(\"'Success Criteria'!\" & ADDRESS(75,A72+4)),\"not tested\")","v":0},{"$f":"SUM(COUNTIF(INDIRECT(\"'Success Criteria'!\" & ADDRESS(80,A72+4)):INDIRECT(\"'Success Criteria'!\" & ADDRESS(131,A72+4)),\"PASS\"),COUNTIF(INDIRECT(\"'Success Criteria'!\" & ADDRESS(80,A72+4)):INDIRECT(\"'Success Criteria'!\" & ADDRESS(131,A72+4)),\"PASS with comments\"))","v":2},{"$f":"COUNTIF(INDIRECT(\"'Success Criteria'!\" & ADDRESS(80,A72+4)):INDIRECT(\"'Success Criteria'!\" & ADDRESS(131,A72+4)),\"NON conformant\")","v":0},{"$f":"COUNTIF(INDIRECT(\"'Success Criteria'!\" & ADDRESS(80,A72+4)):INDIRECT(\"'Success Criteria'!\" & ADDRESS(131,A72+4)),\"N/A\")","v":0},{"$f":"COUNTIF(INDIRECT(\"'Success Criteria'!\" & ADDRESS(80,A72+4)):INDIRECT(\"'Success Criteria'!\" & ADDRESS(131,A72+4)),\"not tested\")","v":0},{"$f":"SUM(COUNTIF(INDIRECT(\"'Success Criteria'!\" & ADDRESS(136,A72+4)):INDIRECT(\"'Success Criteria'!\" & ADDRESS(196,A72+4)),\"PASS\"),COUNTIF(INDIRECT(\"'Success Criteria'!\" & ADDRESS(136,A72+4)):INDIRECT(\"'Success Criteria'!\" & ADDRESS(196,A72+4)),\"PASS with comments\"))","v":0},{"$f":"COUNTIF(INDIRECT(\"'Success Criteria'!\" & ADDRESS(136,A72+4)):INDIRECT(\"'Success Criteria'!\" & ADDRESS(196,A72+4)),\"NON conformant\")","v":0},{"$f":"COUNTIF(INDIRECT(\"'Success Criteria'!\" & ADDRESS(136,A72+4)):INDIRECT(\"'Success Criteria'!\" & ADDRESS(196,A72+4)),\"N/A\")","v":0},{"$f":"COUNTIF(INDIRECT(\"'Success Criteria'!\" & ADDRESS(136,A72+4)):INDIRECT(\"'Success Criteria'!\" & ADDRESS(196,A72+4)),\"not tested\")","v":0},2,0,1,0,null,1,"",2,"",0,1]
[59,"Page 59","URL 59","Please select",{"$f":"SUM(COUNTIF(INDIRECT(\"'Success Criteria'!\" & ADDRESS(10,A73+4)):INDIRECT(\"'Success Criteria'!\" & ADDRESS(75,A73+4)),\"PASS\"),COUNTIF(INDIRECT(\"'Success Criteria'!\" & ADDRESS(10,A73+4)):INDIRECT(\"'Success Criteria'!\" & ADDRESS(75,A73+4)),\"PASS with comments\"))","v":0},{"$f":"COUNTIF(INDIRECT(\"'Success Criteria'!\" & ADDRESS(10,A73+4)):INDIRECT(\"'Success Criteria'!\" & ADDRESS(75,A73+4)),\"NON conformant\")","v":0},{"$f":"COUNTIF(INDIRECT(\"'Success Criteria'!\" & ADDRESS(10,A73+4)):INDIRECT(\"'Success Criteria'!\" & ADDRESS(75,A73+4)),\"N/A\")","v":1},{"$f":"COUNTIF(INDIRECT(\"'Success Criteria'!\" & ADDRESS(10,A73+4)):INDIRECT(\"'Success Criteria'!\" & ADDRESS(75,A73+4)),\"not tested\")","v":0},{"$f":"SUM(COUNTIF(INDIRECT(\"'Success Criteria'!\" & ADDRESS(80,A73+4)):INDIRECT(\"'Success Criteria'!\" & ADDRESS(131,A73+4)),\"PASS\"),COUNTIF(INDIRECT(\"'Success Criteria'!\" & ADDRESS(80,A73+4)):INDIRECT(\"'Success Criteria'!\" & ADDRESS(131,A73+4)),\"PASS with comments\"))","v":2},{"$f":"COUNTIF(INDIRECT(\"'Success Criteria'!\" & ADDRESS(80,A73+4)):INDIRECT(\"'Success Criteria'!\" & ADDRESS(131,A73+4)),\"NON conformant\")","v":0},{"$f":"COUNTIF(INDIRECT(\"'Success Criteria'!\" & ADDRESS(80,A73+4)):INDIRECT(\"'Success Criteria'!\" & ADDRESS(131,A73+4)),\"N/A\")","v":0},{"$f":"COUNTIF(INDIRECT(\"'Success Criteria'!\" & ADDRESS(80,A73+4)):INDIRECT(\"'Success Criteria'!\" & ADDRESS(131,A73+4)),\"not tested\")","v":0},{"$f":"SUM(COUNTIF(INDIRECT(\"'Success Criteria'!\" & ADDRESS(136,A73+4)):INDIRECT(\"'Success Criteria'!\" & ADDRESS(196,A73+4)),\"PASS\"),COUNTIF(INDIRECT(\"'Success Criteria'!\" & ADDRESS(136,A73+4)):INDIRECT(\"'Success Criteria'!\" & ADDRESS(196,A73+4)),\"PASS with comments\"))","v":0},{"$f":"COUNTIF(INDIRECT(\"'Success Criteria'!\" & ADDRESS(136,A73+4)):INDIRECT(\"'Success Criteria'!\" & ADDRESS(196,A73+4)),\"NON conformant\")","v":0},{"$f":"COUNTIF(INDIRECT(\"'Success Criteria'!\" & ADDRESS(136,A73+4)):INDIRECT(\"'Success Criteria'!\" & ADDRESS(196,A73+4)),\"N/A\")","v":0},{"$f":"COUNTIF(INDIRECT(\"'Success Criteria'!\" & ADDRESS(136,A73+4)):INDIRECT(\"'Success Criteria'!\" & ADDRESS(196,A73+4)),\"not tested\")","v":0},2,0,1,0,null,1,"",2,"",0,1]
[60,"Page 60","URL 60","Please select",{"$f":"SUM(COUNTIF(INDIRECT(\"'Success Criteria'!\" & ADDRESS(10,A74+4)):INDIRECT(\"'Success Criteria'!\" & ADDRESS(75,A74+4)),\"PASS\"),COUNTIF(INDIRECT(\"'Success Criteria'!\" & ADDRESS(10,A74+4)):INDIRECT(\"'Success Criteria'!\" & ADDRESS(75,A74+4)),\"PASS with comments\"))","v":0},{"$f":"COUNTIF(INDIRECT(\"'Success Criteria'!\" & ADDRESS(10,A74+4)):INDIRECT(\"'Success Criteria'!\" & ADDRESS(75,A74+4)),\"NON conformant\")","v":0},{"$f":"COUNTIF(INDIRECT(\"'Success Criteria'!\" & ADDRESS(10,A74+4)):INDIRECT(\"'Success Criteria'!\" & ADDRESS(75,A74+4)),\"N/A\")","v":1},{"$f":"COUNTIF(INDIRECT(\"'Success Criteria'!\" & ADDRESS(10,A74+4)):INDIRECT(\"'Success Criteria'!\" & ADDRESS(75,A74+4)),\"not tested\")","v":0},{"$f":"SUM(COUNTIF(INDIRECT(\"'Success Criteria'!\" & ADDRESS(80,A74+4)):INDIRECT(\"'Success Criteria'!\" & ADDRESS(131,A74+4)),\"PASS\"),COUNTIF(INDIRECT(\"'Success Criteria'!\" & ADDRESS(80,A74+4)):INDIRECT(\"'Success Criteria'!\" & ADDRESS(131,A74+4)),\"PASS with comments\"))","v":2},{"$f":"COUNTIF(INDIRECT(\"'Success Criteria'!\" & ADDRESS(80,A74+4)):INDIRECT(\"'Success Criteria'!\" & ADDRESS(131,A74+4)),\"NON conformant\")","v":0},{"$f":"COUNTIF(INDIRECT(\"'Success Criteria'!\" & ADDRESS(80,A74+4)):INDIRECT(\"'Success Criteria'!\" & ADDRESS(131,A74+4)),\"N/A\")","v":0},{"$f":"COUNTIF(INDIRECT(\"'Success Criteria'!\" & ADDRESS(80,A74+4)):INDIRECT(\"'Success Criteria'!\" & ADDRESS(131,A74+4)),\"not tested\")","v":0},{"$f":"SUM(COUNTIF(INDIRECT(\"'Success Criteria'!\" & ADDRESS(136,A74+4)):INDIRECT(\"'Success Criteria'!\" & ADDRESS(196,A74+4)),\"PASS\"),COUNTIF(INDIRECT(\"'Success Criteria'!\" & ADDRESS(136,A74+4)):INDIRECT(\"'Success Criteria'!\" & ADDRESS(196,A74+4)),\"PASS with comments\"))","v":0},{"$f":"COUNTIF(INDIRECT(\"'Success Criteria'!\" & ADDRESS(136,A74+4)):INDIRECT(\"'Success Criteria'!\" & ADDRESS(196,A74+4)),\"NON conformant\")","v":0},{"$f":"COUNTIF(INDIRECT(\"'Success Criteria'!\" & ADDRESS(136,A74+4)):INDIRECT(\"'Success Criteria'!\" & ADDRESS(196,A74+4)),\"N/A\")","v":0},{"$f":"COUNTIF(INDIRECT(\"'Success Criteria'!\" & ADDRESS(136,A74+4)):INDIRECT(\"'Success Criteria'!\" & ADDRESS(196,A74+4)),\"not tested\")","v":0},2,0,1,0,null,1,"",2,"",0,1]
[61,"Page 61","URL 61","Please select",{"$f":"SUM(COUNTIF(INDIRECT(\"'Success Criteria'!\" & ADDRESS(10,A75+4)):INDIRECT(\"'Success Criteria'!\" & ADDRESS(75,A75+4)),\"PASS\"),COUNTIF(INDIRECT(\"'Success Criteria'!\" & ADDRESS(10,A75+4)):INDIRECT(\"'Success Criteria'!\" & ADDRESS(75,A75+4)),\"PASS with comments\"))","v":0},{"$f":"COUNTIF(INDIRECT(\"'Success Criteria'!\" & ADDRESS(10,A75+4)):INDIRECT(\"'Success Criteria'!\" & ADDRESS(75,A75+4)),\"NON conformant\")","v":0},{"$f":"COUNTIF(INDIRECT(\"'Success Criteria'!\" & ADDRESS(10,A75+4)):INDIRECT(\"'Success Criteria'!\" & ADDRESS(75,A75+4)),\"N/A\")","v":1},{"$f":"COUNTIF(INDIRECT(\"'Success Criteria'!\" & ADDRESS(10,A75+4)):INDIRECT(\"'Success Criteria'!\" & ADDRESS(75,A75+4)),\"not tested\")","v":0},{"$f":"SUM(COUNTIF(INDIRECT(\"'Success Criteria'!\" & ADDRESS(80,A75+4)):INDIRECT(\"'Success Criteria'!\" & ADDRESS(131,A75+4)),\"PASS\"),COUNTIF(INDIRECT(\"'Success Criteria'!\" & ADDRESS(80,A75+4)):INDIRECT(\"'Success Criteria'!\" & ADDRESS(131,A75+4)),\"PASS with comments\"))","v":2},{"$f":"COUNTIF(INDIRECT(\"'Success Criteria'!\" & ADDRESS(80,A75+4)):INDIRECT(\"'Success Criteria'!\" & ADDRESS(131,A75+4)),\"NON conformant\")","v":0},{"$f":"COUNTIF(INDIRECT(\"'Success Criteria'!\" & ADDRESS(80,A75+4)):INDIRECT(\"'Success Criteria'!\" & ADDRESS(131,A75+4)),\"N/A\")","v":0},{"$f":"COUNTIF(INDIRECT(\"'Success Criteria'!\" & ADDRESS(80,A75+4)):INDIRECT(\"'Success Criteria'!\" & ADDRESS(131,A75+4)),\"not tested\")","v":0},{"$f":"SUM(COUNTIF(INDIRECT(\"'Success Criteria'!\" & ADDRESS(136,A75+4)):INDIRECT(\"'Success Criteria'!\" & ADDRESS(196,A75+4)),\"PASS\"),COUNTIF(INDIRECT(\"'Success Criteria'!\" & ADDRESS(136,A75+4)):INDIRECT(\"'Success Criteria'!\" & ADDRESS(196,A75+4)),\"PASS with comments\"))","v":0},{"$f":"COUNTIF(INDIRECT(\"'Success Criteria'!\" & ADDRESS(136,A75+4)):INDIRECT(\"'Success Criteria'!\" & ADDRESS(196,A75+4)),\"NON conformant\")","v":0},{"$f":"COUNTIF(INDIRECT(\"'Success Criteria'!\" & ADDRESS(136,A75+4)):INDIRECT(\"'Success Criteria'!\" & ADDRESS(196,A75+4)),\"N/A\")","v":0},{"$f":"COUNTIF(INDIRECT(\"'Success Criteria'!\" & ADDRESS(136,A75+4)):INDIRECT(\"'Success Criteria'!\" & ADDRESS(196,A75+4)),\"not tested\")","v":0},2,0,1,0,null,1,"",2,"",0,1]
[62,"Page 62","URL 62","Please select",{"$f":"SUM(COUNTIF(INDIRECT(\"'Success Criteria'!\" & ADDRESS(10,A76+4)):INDIRECT(\"'Success Criteria'!\" & ADDRESS(75,A76+4)),\"PASS\"),COUNTIF(INDIRECT(\"'Success Criteria'!\" & ADDRESS(10,A76+4)):INDIRECT(\"'Success Criteria'!\" & ADDRESS(75,A76+4)),\"PASS with comments\"))","v":0},{"$f":"COUNTIF(INDIRECT(\"'Success Criteria'!\" & ADDRESS(10,A76+4)):INDIRECT(\"'Success Criteria'!\" & ADDRESS(75,A76+4)),\"NON conformant\")","v":0},{"$f":"COUNTIF(INDIRECT(\"'Success Criteria'!\" & ADDRESS(10,A76+4)):INDIRECT(\"'Success Criteria'!\" & ADDRESS(75,A76+4)),\"N/A\")","v":1},{"$f":"COUNTIF(INDIRECT(\"'Success Criteria'!\" & ADDRESS(10,A76+4)):INDIRECT(\"'Success Criteria'!\" & ADDRESS(75,A76+4)),\"not tested\")","v":0},{"$f":"SUM(COUNTIF(INDIRECT(\"'Success Criteria'!\" & ADDRESS(80,A76+4)):INDIRECT(\"'Success Criteria'!\" & ADDRESS(131,A76+4)),\"PASS\"),COUNTIF(INDIRECT(\"'Success Criteria'!\" & ADDRESS(80,A76+4)):INDIRECT(\"'Success Criteria'!\" & ADDRESS(131,A76+4)),\"PASS with comments\"))","v":2},{"$f":"COUNTIF(INDIRECT(\"'Success Criteria'!\" & ADDRESS(80,A76+4)):INDIRECT(\"'Success Criteria'!\" & ADDRESS(131,A76+4)),\"NON conformant\")","v":0},{"$f":"COUNTIF(INDIRECT(\"'Success Criteria'!\" & ADDRESS(80,A76+4)):INDIRECT(\"'Success Criteria'!\" & ADDRESS(131,A76+4)),\"N/A\")","v":0},{"$f":"COUNTIF(INDIRECT(\"'Success Criteria'!\" & ADDRESS(80,A76+4)):INDIRECT(\"'Success Criteria'!\" & ADDRESS(131,A76+4)),\"not tested\")","v":0},{"$f":"SUM(COUNTIF(INDIRECT(\"'Success Criteria'!\" & ADDRESS(136,A76+4)):INDIRECT(\"'Success Criteria'!\" & ADDRESS(196,A76+4)),\"PASS\"),COUNTIF(INDIRECT(\"'Success Criteria'!\" & ADDRESS(136,A76+4)):INDIRECT(\"'Success Criteria'!\" & ADDRESS(196,A76+4)),\"PASS with comments\"))","v":0},{"$f":"COUNTIF(INDIRECT(\"'Success Criteria'!\" & ADDRESS(136,A76+4)):INDIRECT(\"'Success Criteria'!\" & ADDRESS(196,A76+4)),\"NON conformant\")","v":0},{"$f":"COUNTIF(INDIRECT(\"'Success Criteria'!\" & ADDRESS(136,A76+4)):INDIRECT(\"'Success Criteria'!\" & ADDRESS(196,A76+4)),\"N/A\")","v":0},{"$f":"COUNTIF(INDIRECT(\"'Success Criteria'!\" & ADDRESS(136,A76+4)):INDIRECT(\"'Success Criteria'!\" & ADDRESS(196,A76+4)),\"not tested\")","v":0},2,0,1,0,null,1,"",2,"",0,1]
[63,"Page 63","URL 63","Please select",{"$f":"SUM(COUNTIF(INDIRECT(\"'Success Criteria'!\" & ADDRESS(10,A77+4)):INDIRECT(\"'Success Criteria'!\" & ADDRESS(75,A77+4)),\"PASS\"),COUNTIF(INDIRECT(\"'Success Criteria'!\" & ADDRESS(10,A77+4)):INDIRECT(\"'Success Criteria'!\" & ADDRESS(75,A77+4)),\"PASS with comments\"))","v":0},{"$f":"COUNTIF(INDIRECT(\"'Success Criteria'!\" & ADDRESS(10,A77+4)):INDIRECT(\"'Success Criteria'!\" & ADDRESS(75,A77+4)),\"NON conformant\")","v":0},{"$f":"COUNTIF(INDIRECT(\"'Success Criteria'!\" & ADDRESS(10,A77+4)):INDIRECT(\"'Success Criteria'!\" & ADDRESS(75,A77+4)),\"N/A\")","v":1},{"$f":"COUNTIF(INDIRECT(\"'Success Criteria'!\" & ADDRESS(10,A77+4)):INDIRECT(\"'Success Criteria'!\" & ADDRESS(75,A77+4)),\"not tested\")","v":0},{"$f":"SUM(COUNTIF(INDIRECT(\"'Success Criteria'!\" & ADDRESS(80,A77+4)):INDIRECT(\"'Success Criteria'!\" & ADDRESS(131,A77+4)),\"PASS\"),COUNTIF(INDIRECT(\"'Success Criteria'!\" & ADDRESS(80,A77+4)):INDIRECT(\"'Success Criteria'!\" & ADDRESS(131,A77+4)),\"PASS with comments\"))","v":2},{"$f":"COUNTIF(INDIRECT(\"'Success Criteria'!\" & ADDRESS(80,A77+4)):INDIRECT(\"'Success Criteria'!\" & ADDRESS(131,A77+4)),\"NON conformant\")","v":0},{"$f":"COUNTIF(INDIRECT(\"'Success Criteria'!\" & ADDRESS(80,A77+4)):INDIRECT(\"'Success Criteria'!\" & ADDRESS(131,A77+4)),\"N/A\")","v":0},{"$f":"COUNTIF(INDIRECT(\"'Success Criteria'!\" & ADDRESS(80,A77+4)):INDIRECT(\"'Success Criteria'!\" & ADDRESS(131,A77+4)),\"not tested\")","v":0},{"$f":"SUM(COUNTIF(INDIRECT(\"'Success Criteria'!\" & ADDRESS(136,A77+4)):INDIRECT(\"'Success Criteria'!\" & ADDRESS(196,A77+4)),\"PASS\"),COUNTIF(INDIRECT(\"'Success Criteria'!\" & ADDRESS(136,A77+4)):INDIRECT(\"'Success Criteria'!\" & ADDRESS(196,A77+4)),\"PASS with comments\"))","v":0},{"$f":"COUNTIF(INDIRECT(\"'Success Criteria'!\" & ADDRESS(136,A77+4)):INDIRECT(\"'Success Criteria'!\" & ADDRESS(196,A77+4)),\"NON conformant\")","v":0},{"$f":"COUNTIF(INDIRECT(\"'Success Criteria'!\" & ADDRESS(136,A77+4)):INDIRECT(\"'Success Criteria'!\" & ADDRESS(196,A77+4)),\"N/A\")","v":0},{"$f":"COUNTIF(INDIRECT(\"'Success Criteria'!\" & ADDRESS(136,A77+4)):INDIRECT(\"'Success Criteria'!\" & ADDRESS(196,A77+4)),\"not tested\")","v":0},2,0,1,0,null,1,"",2,"",0,1]
[64,"Page 64","URL 64","Please select",{"$f":"SUM(COUNTIF(INDIRECT(\"'Success Criteria'!\" & ADDRESS(10,A78+4)):INDIRECT(\"'Success Criteria'!\" & ADDRESS(75,A78+4)),\"PASS\"),COUNTIF(INDIRECT(\"'Success Criteria'!\" & ADDRESS(10,A78+4)):INDIRECT(\"'Success Criteria'!\" & ADDRESS(75,A78+4)),\"PASS with comments\"))","v":0},{"$f":"COUNTIF(INDIRECT(\"'Success Criteria'!\" & ADDRESS(10,A78+4)):INDIRECT(\"'Success Criteria'!\" & ADDRESS(75,A78+4)),\"NON conformant\")","v":0},{"$f":"COUNTIF(INDIRECT(\"'Success Criteria'!\" & ADDRESS(10,A78+4)):INDIRECT(\"'Success Criteria'!\" & ADDRESS(75,A78+4)),\"N/A\")","v":1},{"$f":"COUNTIF(INDIRECT(\"'Success Criteria'!\" & ADDRESS(10,A78+4)):INDIRECT(\"'Success Criteria'!\" & ADDRESS(75,A78+4)),\"not tested\")","v":0},{"$f":"SUM(COUNTIF(INDIRECT(\"'Success Criteria'!\" & ADDRESS(80,A78+4)):INDIRECT(\"'Success Criteria'!\" & ADDRESS(131,A78+4)),\"PASS\"),COUNTIF(INDIRECT(\"'Success Criteria'!\" & ADDRESS(80,A78+4)):INDIRECT(\"'Success Criteria'!\" & ADDRESS(131,A78+4)),\"PASS with comments\"))","v":2},{"$f":"COUNTIF(INDIRECT(\"'Success Criteria'!\" & ADDRESS(80,A78+4)):INDIRECT(\"'Success Criteria'!\" & ADDRESS(131,A78+4)),\"NON conformant\")","v":0},{"$f":"COUNTIF(INDIRECT(\"'Success Criteria'!\" & ADDRESS(80,A78+4)):INDIRECT(\"'Success Criteria'!\" & ADDRESS(131,A78+4)),\"N/A\")","v":0},{"$f":"COUNTIF(INDIRECT(\"'Success Criteria'!\" & ADDRESS(80,A78+4)):INDIRECT(\"'Success Criteria'!\" & ADDRESS(131,A78+4)),\"not tested\")","v":0},{"$f":"SUM(COUNTIF(INDIRECT(\"'Success Criteria'!\" & ADDRESS(136,A78+4)):INDIRECT(\"'Success Criteria'!\" & ADDRESS(196,A78+4)),\"PASS\"),COUNTIF(INDIRECT(\"'Success Criteria'!\" & ADDRESS(136,A78+4)):INDIRECT(\"'Success Criteria'!\" & ADDRESS(196,A78+4)),\"PASS with comments\"))","v":0},{"$f":"COUNTIF(INDIRECT(\"'Success Criteria'!\" & ADDRESS(136,A78+4)):INDIRECT(\"'Success Criteria'!\" & ADDRESS(196,A78+4)),\"NON conformant\")","v":0},{"$f":"COUNTIF(INDIRECT(\"'Success Criteria'!\" & ADDRESS(136,A78+4)):INDIRECT(\"'Success Criteria'!\" & ADDRESS(196,A78+4)),\"N/A\")","v":0},{"$f":"COUNTIF(INDIRECT(\"'Success Criteria'!\" & ADDRESS(136,A78+4)):INDIRECT(\"'Success Criteria'!\" & ADDRESS(196,A78+4)),\"not tested\")","v":0},2,0,1,0,null,1,"",2,"",0,1]
[65,"Page 65","URL 65","Please select",{"$f":"SUM(COUNTIF(INDIRECT(\"'Success Criteria'!\" & ADDRESS(10,A79+4)):INDIRECT(\"'Success Criteria'!\" & ADDRESS(75,A79+4)),\"PASS\"),COUNTIF(INDIRECT(\"'Success Criteria'!\" & ADDRESS(10,A79+4)):INDIRECT(\"'Success Criteria'!\" & ADDRESS(75,A79+4)),\"PASS with comments\"))","v":0},{"$f":"COUNTIF(INDIRECT(\"'Success Criteria'!\" & ADDRESS(10,A79+4)):INDIRECT(\"'Success Criteria'!\" & ADDRESS(75,A79+4)),\"NON conformant\")","v":0},{"$f":"COUNTIF(INDIRECT(\"'Success Criteria'!\" & ADDRESS(10,A79+4)):INDIRECT(\"'Success Criteria'!\" & ADDRESS(75,A79+4)),\"N/A\")","v":1},{"$f":"COUNTIF(INDIRECT(\"'Success Criteria'!\" & ADDRESS(10,A79+4)):INDIRECT(\"'Success Criteria'!\" & ADDRESS(75,A79+4)),\"not tested\")","v":0},{"$f":"SUM(COUNTIF(INDIRECT(\"'Success Criteria'!\" & ADDRESS(80,A79+4)):INDIRECT(\"'Success Criteria'!\" & ADDRESS(131,A79+4)),\"PASS\"),COUNTIF(INDIRECT(\"'Success Criteria'!\" & ADDRESS(80,A79+4)):INDIRECT(\"'Success Criteria'!\" & ADDRESS(131,A79+4)),\"PASS with comments\"))","v":2},{"$f":"COUNTIF(INDIRECT(\"'Success Criteria'!\" & ADDRESS(80,A79+4)):INDIRECT(\"'Success Criteria'!\" & ADDRESS(131,A79+4)),\"NON conformant\")","v":0},{"$f":"COUNTIF(INDIRECT(\"'Success Criteria'!\" & ADDRESS(80,A79+4)):INDIRECT(\"'Success Criteria'!\" & ADDRESS(131,A79+4)),\"N/A\")","v":0},{"$f":"COUNTIF(INDIRECT(\"'Success Criteria'!\" & ADDRESS(80,A79+4)):INDIRECT(\"'Success Criteria'!\" & ADDRESS(131,A79+4)),\"not tested\")","v":0},{"$f":"SUM(COUNTIF(INDIRECT(\"'Success Criteria'!\" & ADDRESS(136,A79+4)):INDIRECT(\"'Success Criteria'!\" & ADDRESS(196,A79+4)),\"PASS\"),COUNTIF(INDIRECT(\"'Success Criteria'!\" & ADDRESS(136,A79+4)):INDIRECT(\"'Success Criteria'!\" & ADDRESS(196,A79+4)),\"PASS with comments\"))","v":0},{"$f":"COUNTIF(INDIRECT(\"'Success Criteria'!\" & ADDRESS(136,A79+4)):INDIRECT(\"'Success Criteria'!\" & ADDRESS(196,A79+4)),\"NON conformant\")","v":0},{"$f":"COUNTIF(INDIRECT(\"'Success Criteria'!\" & ADDRESS(136,A79+4)):INDIRECT(\"'Success Criteria'!\" & ADDRESS(196,A79+4)),\"N/A\")","v":0},{"$f":"COUNTIF(INDIRECT(\"'Success Criteria'!\" & ADDRESS(136,A79+4)):INDIRECT(\"'Success Criteria'!\" & ADDRESS(196,A79+4)),\"not tested\")","v":0},2,0,1,0,null,1,"",2,"",0,1]
[{"$f":"HYPERLINK(\"#'Success Criteria'!\"&ADDRESS(1,ROW()-10,4),ROW()-14)","v":66},"Page 66","URL 66","Please select",{"$f":"SUM(COUNTIF(INDIRECT(\"'Success Criteria'!\" & ADDRESS(10,A80+4)):INDIRECT(\"'Success Criteria'!\" & ADDRESS(75,A80+4)),\"PASS\"),COUNTIF(INDIRECT(\"'Success Criteria'!\" & ADDRESS(10,A80+4)):INDIRECT(\"'Success Criteria'!\" & ADDRESS(75,A80+4)),\"PASS with comments\"))","v":0},{"$f":"COUNTIF(INDIRECT(\"'Success Criteria'!\" & ADDRESS(10,A80+4)):INDIRECT(\"'Success Criteria'!\" & ADDRESS(75,A80+4)),\"NON conformant\")","v":0},{"$f":"COUNTIF(INDIRECT(\"'Success Criteria'!\" & ADDRESS(10,A80+4)):INDIRECT(\"'Success Criteria'!\" & ADDRESS(75,A80+4)),\"N/A\")","v":1},{"$f":"COUNTIF(INDIRECT(\"'Success Criteria'!\" & ADDRESS(10,A80+4)):INDIRECT(\"'Success Criteria'!\" & ADDRESS(75,A80+4)),\"not tested\")","v":0},{"$f":"SUM(COUNTIF(INDIRECT(\"'Success Criteria'!\" & ADDRESS(80,A80+4)):INDIRECT(\"'Success Criteria'!\" & ADDRESS(131,A80+4)),\"PASS\"),COUNTIF(INDIRECT(\"'Success Criteria'!\" & ADDRESS(80,A80+4)):INDIRECT(\"'Success Criteria'!\" & ADDRESS(131,A80+4)),\"PASS with comments\"))","v":2},{"$f":"COUNTIF(INDIRECT(\"'Success Criteria'!\" & ADDRESS(80,A80+4)):INDIRECT(\"'Success Criteria'!\" & ADDRESS(131,A80+4)),\"NON conformant\")","v":0},{"$f":"COUNTIF(INDIRECT(\"'Success Criteria'!\" & ADDRESS(80,A80+4)):INDIRECT(\"'Success Criteria'!\" & ADDRESS(131,A80+4)),\"N/A\")","v":0},{"$f":"COUNTIF(INDIRECT(\"'Success Criteria'!\" & ADDRESS(80,A80+4)):INDIRECT(\"'Success Criteria'!\" & ADDRESS(131,A80+4)),\"not tested\")","v":0},{"$f":"SUM(COUNTIF(INDIRECT(\"'Success Criteria'!\" & ADDRESS(136,A80+4)):INDIRECT(\"'Success Criteria'!\" & ADDRESS(196,A80+4)),\"PASS\"),COUNTIF(INDIRECT(\"'Success Criteria'!\" & ADDRESS(136,A80+4)):INDIRECT(\"'Success Criteria'!\" & ADDRESS(196,A80+4)),\"PASS with comments\"))","v":0},{"$f":"COUNTIF(INDIRECT(\"'Success Criteria'!\" & ADDRESS(136,A80+4)):INDIRECT(\"'Success Criteria'!\" & ADDRESS(196,A80+4)),\"NON conformant\")","v":0},{"$f":"COUNTIF(INDIRECT(\"'Success Criteria'!\" & ADDRESS(136,A80+4)):INDIRECT(\"'Success Criteria'!\" & ADDRESS(196,A80+4)),\"N/A\")","v":0},{"$f":"COUNTIF(INDIRECT(\"'Success Criteria'!\" & ADDRESS(136,A80+4)):INDIRECT(\"'Success Criteria'!\" & ADDRESS(196,A80+4)),\"not tested\")","v":0},{"$f":"SUM(E80+I80+M80)","v":2},0,1,0,null,1,"",{"$f":"SUM($I80:$L80)","v":2},"",{"$f":"SUM($M80:$P80)","v":0},{"$f":"IF(Z80=AA$12,1,\"\")","v":1}]
[67,"Page 67","URL 67","Please select",{"$f":"SUM(COUNTIF(INDIRECT(\"'Success Criteria'!\" & ADDRESS(10,A81+4)):INDIRECT(\"'Success Criteria'!\" & ADDRESS(75,A81+4)),\"PASS\"),COUNTIF(INDIRECT(\"'Success Criteria'!\" & ADDRESS(10,A81+4)):INDIRECT(\"'Success Criteria'!\" & ADDRESS(75,A81+4)),\"PASS with comments\"))","v":0},{"$f":"COUNTIF(INDIRECT(\"'Success Criteria'!\" & ADDRESS(10,A81+4)):INDIRECT(\"'Success Criteria'!\" & ADDRESS(75,A81+4)),\"NON conformant\")","v":0},{"$f":"COUNTIF(INDIRECT(\"'Success Criteria'!\" & ADDRESS(10,A81+4)):INDIRECT(\"'Success Criteria'!\" & ADDRESS(75,A81+4)),\"N/A\")","v":1},{"$f":"COUNTIF(INDIRECT(\"'Success Criteria'!\" & ADDRESS(10,A81+4)):INDIRECT(\"'Success Criteria'!\" & ADDRESS(75,A81+4)),\"not tested\")","v":0},{"$f":"SUM(COUNTIF(INDIRECT(\"'Success Criteria'!\" & ADDRESS(80,A81+4)):INDIRECT(\"'Success Criteria'!\" & ADDRESS(131,A81+4)),\"PASS\"),COUNTIF(INDIRECT(\"'Success Criteria'!\" & ADDRESS(80,A81+4)):INDIRECT(\"'Success Criteria'!\" & ADDRESS(131,A81+4)),\"PASS with comments\"))","v":2},{"$f":"COUNTIF(INDIRECT(\"'Success Criteria'!\" & ADDRESS(80,A81+4)):INDIRECT(\"'Success Criteria'!\" & ADDRESS(131,A81+4)),\"NON conformant\")","v":0},{"$f":"COUNTIF(INDIRECT(\"'Success Criteria'!\" & ADDRESS(80,A81+4)):INDIRECT(\"'Success Criteria'!\" & ADDRESS(131,A81+4)),\"N/A\")","v":0},{"$f":"COUNTIF(INDIRECT(\"'Success Criteria'!\" & ADDRESS(80,A81+4)):INDIRECT(\"'Success Criteria'!\" & ADDRESS(131,A81+4)),\"not tested\")","v":0},{"$f":"SUM(COUNTIF(INDIRECT(\"'Success Criteria'!\" & ADDRESS(136,A81+4)):INDIRECT(\"'Success Criteria'!\" & ADDRESS(196,A81+4)),\"PASS\"),COUNTIF(INDIRECT(\"'Success Criteria'!\" & ADDRESS(136,A81+4)):INDIRECT(\"'Success Criteria'!\" & ADDRESS(196,A81+4)),\"PASS with comments\"))","v":0},{"$f":"COUNTIF(INDIRECT(\"'Success Criteria'!\" & ADDRESS(136,A81+4)):INDIRECT(\"'Success Criteria'!\" & ADDRESS(196,A81+4)),\"NON conformant\")","v":0},{"$f":"COUNTIF(INDIRECT(\"'Success Criteria'!\" & ADDRESS(136,A81+4)):INDIRECT(\"'Success Criteria'!\" & ADDRESS(196,A81+4)),\"N/A\")","v":0},{"$f":"COUNTIF(INDIRECT(\"'Success Criteria'!\" & ADDRESS(136,A81+4)):INDIRECT(\"'Success Criteria'!\" & ADDRESS(196,A81+4)),\"not tested\")","v":0},2,{"$f":"SUM(F81+J81+N81)","v":0},1,0,null,1,{"$f":"IF(V81=W$12,1,\"\")","v":""},2,{"$f":"IF(X81=Y$12,1,\"\")","v":""},0,1]
[68,"Page 68","URL 68","Please select",{"$f":"SUM(COUNTIF(INDIRECT(\"'Success Criteria'!\" & ADDRESS(10,A82+4)):INDIRECT(\"'Success Criteria'!\" & ADDRESS(75,A82+4)),\"PASS\"),COUNTIF(INDIRECT(\"'Success Criteria'!\" & ADDRESS(10,A82+4)):INDIRECT(\"'Success Criteria'!\" & ADDRESS(75,A82+4)),\"PASS with comments\"))","v":0},{"$f":"COUNTIF(INDIRECT(\"'Success Criteria'!\" & ADDRESS(10,A82+4)):INDIRECT(\"'Success Criteria'!\" & ADDRESS(75,A82+4)),\"NON conformant\")","v":0},{"$f":"COUNTIF(INDIRECT(\"'Success Criteria'!\" & ADDRESS(10,A82+4)):INDIRECT(\"'Success Criteria'!\" & ADDRESS(75,A82+4)),\"N/A\")","v":1},{"$f":"COUNTIF(INDIRECT(\"'Success Criteria'!\" & ADDRESS(10,A82+4)):INDIRECT(\"'Success Criteria'!\" & ADDRESS(75,A82+4)),\"not tested\")","v":0},{"$f":"SUM(COUNTIF(INDIRECT(\"'Success Criteria'!\" & ADDRESS(80,A82+4)):INDIRECT(\"'Success Criteria'!\" & ADDRESS(131,A82+4)),\"PASS\"),COUNTIF(INDIRECT(\"'Success Criteria'!\" & ADDRESS(80,A82+4)):INDIRECT(\"'Success Criteria'!\" & ADDRESS(131,A82+4)),\"PASS with comments\"))","v":2},{"$f":"COUNTIF(INDIRECT(\"'Success Criteria'!\" & ADDRESS(80,A82+4)):INDIRECT(\"'Success Criteria'!\" & ADDRESS(131,A82+4)),\"NON conformant\")","v":0},{"$f":"COUNTIF(INDIRECT(\"'Success Criteria'!\" & ADDRESS(80,A82+4)):INDIRECT(\"'Success Criteria'!\" & ADDRESS(131,A82+4)),\"N/A\")","v":0},{"$f":"COUNTIF(INDIRECT(\"'Success Criteria'!\" & ADDRESS(80,A82+4)):INDIRECT(\"'Success Criteria'!\" & ADDRESS(131,A82+4)),\"not tested\")","v":0},{"$f":"SUM(COUNTIF(INDIRECT(\"'Success Criteria'!\" & ADDRESS(136,A82+4)):INDIRECT(\"'Success Criteria'!\" & ADDRESS(196,A82+4)),\"PASS\"),COUNTIF(INDIRECT(\"'Success Criteria'!\" & ADDRESS(136,A82+4)):INDIRECT(\"'Success Criteria'!\" & ADDRESS(196,A82+4)),\"PASS with comments\"))","v":0},{"$f":"COUNTIF(INDIRECT(\"'Success Criteria'!\" & ADDRESS(136,A82+4)):INDIRECT(\"'Success Criteria'!\" & ADDRESS(196,A82+4)),\"NON conformant\")","v":0},{"$f":"COUNTIF(INDIRECT(\"'Success Criteria'!\" & ADDRESS(136,A82+4)):INDIRECT(\"'Success Criteria'!\" & ADDRESS(196,A82+4)),\"N/A\")","v":0},{"$f":"COUNTIF(INDIRECT(\"'Success Criteria'!\" & ADDRESS(136,A82+4)):INDIRECT(\"'Success Criteria'!\" & ADDRESS(196,A82+4)),\"not tested\")","v":0},2,0,1,0,null,1,"",2,"",0,1]
[69,"Page 69","URL 69","Please select",{"$f":"SUM(COUNTIF(INDIRECT(\"'Success Criteria'!\" & ADDRESS(10,A83+4)):INDIRECT(\"'Success Criteria'!\" & ADDRESS(75,A83+4)),\"PASS\"),COUNTIF(INDIRECT(\"'Success Criteria'!\" & ADDRESS(10,A83+4)):INDIRECT(\"'Success Criteria'!\" & ADDRESS(75,A83+4)),\"PASS with comments\"))","v":0},{"$f":"COUNTIF(INDIRECT(\"'Success Criteria'!\" & ADDRESS(10,A83+4)):INDIRECT(\"'Success Criteria'!\" & ADDRESS(75,A83+4)),\"NON conformant\")","v":0},{"$f":"COUNTIF(INDIRECT(\"'Success Criteria'!\" & ADDRESS(10,A83+4)):INDIRECT(\"'Success Criteria'!\" & ADDRESS(75,A83+4)),\"N/A\")","v":1},{"$f":"COUNTIF(INDIRECT(\"'Success Criteria'!\" & ADDRESS(10,A83+4)):INDIRECT(\"'Success Criteria'!\" & ADDRESS(75,A83+4)),\"not tested\")","v":0},{"$f":"SUM(COUNTIF(INDIRECT(\"'Success Criteria'!\" & ADDRESS(80,A83+4)):INDIRECT(\"'Success Criteria'!\" & ADDRESS(131,A83+4)),\"PASS\"),COUNTIF(INDIRECT(\"'Success Criteria'!\" & ADDRESS(80,A83+4)):INDIRECT(\"'Success Criteria'!\" & ADDRESS(131,A83+4)),\"PASS with comments\"))","v":2},{"$f":"COUNTIF(INDIRECT(\"'Success Criteria'!\" & ADDRESS(80,A83+4)):INDIRECT(\"'Success Criteria'!\" & ADDRESS(131,A83+4)),\"NON conformant\")","v":0},{"$f":"COUNTIF(INDIRECT(\"'Success Criteria'!\" & ADDRESS(80,A83+4)):INDIRECT(\"'Success Criteria'!\" & ADDRESS(131,A83+4)),\"N/A\")","v":0},{"$f":"COUNTIF(INDIRECT(\"'Success Criteria'!\" & ADDRESS(80,A83+4)):INDIRECT(\"'Success Criteria'!\" & ADDRESS(131,A83+4)),\"not tested\")","v":0},{"$f":"SUM(COUNTIF(INDIRECT(\"'Success Criteria'!\" & ADDRESS(136,A83+4)):INDIRECT(\"'Success Criteria'!\" & ADDRESS(196,A83+4)),\"PASS\"),COUNTIF(INDIRECT(\"'Success Criteria'!\" & ADDRESS(136,A83+4)):INDIRECT(\"'Success Criteria'!\" & ADDRESS(196,A83+4)),\"PASS with comments\"))","v":0},{"$f":"COUNTIF(INDIRECT(\"'Success Criteria'!\" & ADDRESS(136,A83+4)):INDIRECT(\"'Success Criteria'!\" & ADDRESS(196,A83+4)),\"NON conformant\")","v":0},{"$f":"COUNTIF(INDIRECT(\"'Success Criteria'!\" & ADDRESS(136,A83+4)):INDIRECT(\"'Success Criteria'!\" & ADDRESS(196,A83+4)),\"N/A\")","v":0},{"$f":"COUNTIF(INDIRECT(\"'Success Criteria'!\" & ADDRESS(136,A83+4)):INDIRECT(\"'Success Criteria'!\" & ADDRESS(196,A83+4)),\"not tested\")","v":0},2,0,1,0,null,1,"",2,"",0,1]
[70,"Page 70","URL 70","Please select",{"$f":"SUM(COUNTIF(INDIRECT(\"'Success Criteria'!\" & ADDRESS(10,A84+4)):INDIRECT(\"'Success Criteria'!\" & ADDRESS(75,A84+4)),\"PASS\"),COUNTIF(INDIRECT(\"'Success Criteria'!\" & ADDRESS(10,A84+4)):INDIRECT(\"'Success Criteria'!\" & ADDRESS(75,A84+4)),\"PASS with comments\"))","v":0},{"$f":"COUNTIF(INDIRECT(\"'Success Criteria'!\" & ADDRESS(10,A84+4)):INDIRECT(\"'Success Criteria'!\" & ADDRESS(75,A84+4)),\"NON conformant\")","v":0},{"$f":"COUNTIF(INDIRECT(\"'Success Criteria'!\" & ADDRESS(10,A84+4)):INDIRECT(\"'Success Criteria'!\" & ADDRESS(75,A84+4)),\"N/A\")","v":1},{"$f":"COUNTIF(INDIRECT(\"'Success Criteria'!\" & ADDRESS(10,A84+4)):INDIRECT(\"'Success Criteria'!\" & ADDRESS(75,A84+4)),\"not tested\")","v":0},{"$f":"SUM(COUNTIF(INDIRECT(\"'Success Criteria'!\" & ADDRESS(80,A84+4)):INDIRECT(\"'Success Criteria'!\" & ADDRESS(131,A84+4)),\"PASS\"),COUNTIF(INDIRECT(\"'Success Criteria'!\" & ADDRESS(80,A84+4)):INDIRECT(\"'Success Criteria'!\" & ADDRESS(131,A84+4)),\"PASS with comments\"))","v":2},{"$f":"COUNTIF(INDIRECT(\"'Success Criteria'!\" & ADDRESS(80,A84+4)):INDIRECT(\"'Success Criteria'!\" & ADDRESS(131,A84+4)),\"NON conformant\")","v":0},{"$f":"COUNTIF(INDIRECT(\"'Success Criteria'!\" & ADDRESS(80,A84+4)):INDIRECT(\"'Success Criteria'!\" & ADDRESS(131,A84+4)),\"N/A\")","v":0},{"$f":"COUNTIF(INDIRECT(\"'Success Criteria'!\" & ADDRESS(80,A84+4)):INDIRECT(\"'Success Criteria'!\" & ADDRESS(131,A84+4)),\"not tested\")","v":0},{"$f":"SUM(COUNTIF(INDIRECT(\"'Success Criteria'!\" & ADDRESS(136,A84+4)):INDIRECT(\"'Success Criteria'!\" & ADDRESS(196,A84+4)),\"PASS\"),COUNTIF(INDIRECT(\"'Success Criteria'!\" & ADDRESS(136,A84+4)):INDIRECT(\"'Success Criteria'!\" & ADDRESS(196,A84+4)),\"PASS with comments\"))","v":0},{"$f":"COUNTIF(INDIRECT(\"'Success Criteria'!\" & ADDRESS(136,A84+4)):INDIRECT(\"'Success Criteria'!\" & ADDRESS(196,A84+4)),\"NON conformant\")","v":0},{"$f":"COUNTIF(INDIRECT(\"'Success Criteria'!\" & ADDRESS(136,A84+4)):INDIRECT(\"'Success Criteria'!\" & ADDRESS(196,A84+4)),\"N/A\")","v":0},{"$f":"COUNTIF(INDIRECT(\"'Success Criteria'!\" & ADDRESS(136,A84+4)):INDIRECT(\"'Success Criteria'!\" & ADDRESS(196,A84+4)),\"not tested\")","v":0},2,0,1,0,null,1,"",2,"",0,1]
[71,"Page 71","URL 71","Please select",{"$f":"SUM(COUNTIF(INDIRECT(\"'Success Criteria'!\" & ADDRESS(10,A85+4)):INDIRECT(\"'Success Criteria'!\" & ADDRESS(75,A85+4)),\"PASS\"),COUNTIF(INDIRECT(\"'Success Criteria'!\" & ADDRESS(10,A85+4)):INDIRECT(\"'Success Criteria'!\" & ADDRESS(75,A85+4)),\"PASS with comments\"))","v":0},{"$f":"COUNTIF(INDIRECT(\"'Success Criteria'!\" & ADDRESS(10,A85+4)):INDIRECT(\"'Success Criteria'!\" & ADDRESS(75,A85+4)),\"NON conformant\")","v":0},{"$f":"COUNTIF(INDIRECT(\"'Success Criteria'!\" & ADDRESS(10,A85+4)):INDIRECT(\"'Success Criteria'!\" & ADDRESS(75,A85+4)),\"N/A\")","v":1},{"$f":"COUNTIF(INDIRECT(\"'Success Criteria'!\" & ADDRESS(10,A85+4)):INDIRECT(\"'Success Criteria'!\" & ADDRESS(75,A85+4)),\"not tested\")","v":0},{"$f":"SUM(COUNTIF(INDIRECT(\"'Success Criteria'!\" & ADDRESS(80,A85+4)):INDIRECT(\"'Success Criteria'!\" & ADDRESS(131,A85+4)),\"PASS\"),COUNTIF(INDIRECT(\"'Success Criteria'!\" & ADDRESS(80,A85+4)):INDIRECT(\"'Success Criteria'!\" & ADDRESS(131,A85+4)),\"PASS with comments\"))","v":2},{"$f":"COUNTIF(INDIRECT(\"'Success Criteria'!\" & ADDRESS(80,A85+4)):INDIRECT(\"'Success Criteria'!\" & ADDRESS(131,A85+4)),\"NON conformant\")","v":0},{"$f":"COUNTIF(INDIRECT(\"'Success Criteria'!\" & ADDRESS(80,A85+4)):INDIRECT(\"'Success Criteria'!\" & ADDRESS(131,A85+4)),\"N/A\")","v":0},{"$f":"COUNTIF(INDIRECT(\"'Success Criteria'!\" & ADDRESS(80,A85+4)):INDIRECT(\"'Success Criteria'!\" & ADDRESS(131,A85+4)),\"not tested\")","v":0},{"$f":"SUM(COUNTIF(INDIRECT(\"'Success Criteria'!\" & ADDRESS(136,A85+4)):INDIRECT(\"'Success Criteria'!\" & ADDRESS(196,A85+4)),\"PASS\"),COUNTIF(INDIRECT(\"'Success Criteria'!\" & ADDRESS(136,A85+4)):INDIRECT(\"'Success Criteria'!\" & ADDRESS(196,A85+4)),\"PASS with comments\"))","v":0},{"$f":"COUNTIF(INDIRECT(\"'Success Criteria'!\" & ADDRESS(136,A85+4)):INDIRECT(\"'Success Criteria'!\" & ADDRESS(196,A85+4)),\"NON conformant\")","v":0},{"$f":"COUNTIF(INDIRECT(\"'Success Criteria'!\" & ADDRESS(136,A85+4)):INDIRECT(\"'Success Criteria'!\" & ADDRESS(196,A85+4)),\"N/A\")","v":0},{"$f":"COUNTIF(INDIRECT(\"'Success Criteria'!\" & ADDRESS(136,A85+4)):INDIRECT(\"'Success Criteria'!\" & ADDRESS(196,A85+4)),\"not tested\")","v":0},2,0,1,0,null,1,"",2,"",0,1]
[72,"Page 72","URL 72","Please select",{"$f":"SUM(COUNTIF(INDIRECT(\"'Success Criteria'!\" & ADDRESS(10,A86+4)):INDIRECT(\"'Success Criteria'!\" & ADDRESS(75,A86+4)),\"PASS\"),COUNTIF(INDIRECT(\"'Success Criteria'!\" & ADDRESS(10,A86+4)):INDIRECT(\"'Success Criteria'!\" & ADDRESS(75,A86+4)),\"PASS with comments\"))","v":0},{"$f":"COUNTIF(INDIRECT(\"'Success Criteria'!\" & ADDRESS(10,A86+4)):INDIRECT(\"'Success Criteria'!\" & ADDRESS(75,A86+4)),\"NON conformant\")","v":0},{"$f":"COUNTIF(INDIRECT(\"'Success Criteria'!\" & ADDRESS(10,A86+4)):INDIRECT(\"'Success Criteria'!\" & ADDRESS(75,A86+4)),\"N/A\")","v":1},{"$f":"COUNTIF(INDIRECT(\"'Success Criteria'!\" & ADDRESS(10,A86+4)):INDIRECT(\"'Success Criteria'!\" & ADDRESS(75,A86+4)),\"not tested\")","v":0},{"$f":"SUM(COUNTIF(INDIRECT(\"'Success Criteria'!\" & ADDRESS(80,A86+4)):INDIRECT(\"'Success Criteria'!\" & ADDRESS(131,A86+4)),\"PASS\"),COUNTIF(INDIRECT(\"'Success Criteria'!\" & ADDRESS(80,A86+4)):INDIRECT(\"'Success Criteria'!\" & ADDRESS(131,A86+4)),\"PASS with comments\"))","v":2},{"$f":"COUNTIF(INDIRECT(\"'Success Criteria'!\" & ADDRESS(80,A86+4)):INDIRECT(\"'Success Criteria'!\" & ADDRESS(131,A86+4)),\"NON conformant\")","v":0},{"$f":"COUNTIF(INDIRECT(\"'Success Criteria'!\" & ADDRESS(80,A86+4)):INDIRECT(\"'Success Criteria'!\" & ADDRESS(131,A86+4)),\"N/A\")","v":0},{"$f":"COUNTIF(INDIRECT(\"'Success Criteria'!\" & ADDRESS(80,A86+4)):INDIRECT(\"'Success Criteria'!\" & ADDRESS(131,A86+4)),\"not tested\")","v":0},{"$f":"SUM(COUNTIF(INDIRECT(\"'Success Criteria'!\" & ADDRESS(136,A86+4)):INDIRECT(\"'Success Criteria'!\" & ADDRESS(196,A86+4)),\"PASS\"),COUNTIF(INDIRECT(\"'Success Criteria'!\" & ADDRESS(136,A86+4)):INDIRECT(\"'Success Criteria'!\" & ADDRESS(196,A86+4)),\"PASS with comments\"))","v":0},{"$f":"COUNTIF(INDIRECT(\"'Success Criteria'!\" & ADDRESS(136,A86+4)):INDIRECT(\"'Success Criteria'!\" & ADDRESS(196,A86+4)),\"NON conformant\")","v":0},{"$f":"COUNTIF(INDIRECT(\"'Success Criteria'!\" & ADDRESS(136,A86+4)):INDIRECT(\"'Success Criteria'!\" & ADDRESS(196,A86+4)),\"N/A\")","v":0},{"$f":"COUNTIF(INDIRECT(\"'Success Criteria'!\" & ADDRESS(136,A86+4)):INDIRECT(\"'Success Criteria'!\" & ADDRESS(196,A86+4)),\"not tested\")","v":0},2,0,1,0,null,1,"",2,"",0,1]
[73,"Page 73","URL 73","Please select",{"$f":"SUM(COUNTIF(INDIRECT(\"'Success Criteria'!\" & ADDRESS(10,A87+4)):INDIRECT(\"'Success Criteria'!\" & ADDRESS(75,A87+4)),\"PASS\"),COUNTIF(INDIRECT(\"'Success Criteria'!\" & ADDRESS(10,A87+4)):INDIRECT(\"'Success Criteria'!\" & ADDRESS(75,A87+4)),\"PASS with comments\"))","v":0},{"$f":"COUNTIF(INDIRECT(\"'Success Criteria'!\" & ADDRESS(10,A87+4)):INDIRECT(\"'Success Criteria'!\" & ADDRESS(75,A87+4)),\"NON conformant\")","v":0},{"$f":"COUNTIF(INDIRECT(\"'Success Criteria'!\" & ADDRESS(10,A87+4)):INDIRECT(\"'Success Criteria'!\" & ADDRESS(75,A87+4)),\"N/A\")","v":1},{"$f":"COUNTIF(INDIRECT(\"'Success Criteria'!\" & ADDRESS(10,A87+4)):INDIRECT(\"'Success Criteria'!\" & ADDRESS(75,A87+4)),\"not tested\")","v":0},{"$f":"SUM(COUNTIF(INDIRECT(\"'Success Criteria'!\" & ADDRESS(80,A87+4)):INDIRECT(\"'Success Criteria'!\" & ADDRESS(131,A87+4)),\"PASS\"),COUNTIF(INDIRECT(\"'Success Criteria'!\" & ADDRESS(80,A87+4)):INDIRECT(\"'Success Criteria'!\" & ADDRESS(131,A87+4)),\"PASS with comments\"))","v":2},{"$f":"COUNTIF(INDIRECT(\"'Success Criteria'!\" & ADDRESS(80,A87+4)):INDIRECT(\"'Success Criteria'!\" & ADDRESS(131,A87+4)),\"NON conformant\")","v":0},{"$f":"COUNTIF(INDIRECT(\"'Success Criteria'!\" & ADDRESS(80,A87+4)):INDIRECT(\"'Success Criteria'!\" & ADDRESS(131,A87+4)),\"N/A\")","v":0},{"$f":"COUNTIF(INDIRECT(\"'Success Criteria'!\" & ADDRESS(80,A87+4)):INDIRECT(\"'Success Criteria'!\" & ADDRESS(131,A87+4)),\"not tested\")","v":0},{"$f":"SUM(COUNTIF(INDIRECT(\"'Success Criteria'!\" & ADDRESS(136,A87+4)):INDIRECT(\"'Success Criteria'!\" & ADDRESS(196,A87+4)),\"PASS\"),COUNTIF(INDIRECT(\"'Success Criteria'!\" & ADDRESS(136,A87+4)):INDIRECT(\"'Success Criteria'!\" & ADDRESS(196,A87+4)),\"PASS with comments\"))","v":0},{"$f":"COUNTIF(INDIRECT(\"'Success Criteria'!\" & ADDRESS(136,A87+4)):INDIRECT(\"'Success Criteria'!\" & ADDRESS(196,A87+4)),\"NON conformant\")","v":0},{"$f":"COUNTIF(INDIRECT(\"'Success Criteria'!\" & ADDRESS(136,A87+4)):INDIRECT(\"'Success Criteria'!\" & ADDRESS(196,A87+4)),\"N/A\")","v":0},{"$f":"COUNTIF(INDIRECT(\"'Success Criteria'!\" & ADDRESS(136,A87+4)):INDIRECT(\"'Success Criteria'!\" & ADDRESS(196,A87+4)),\"not tested\")","v":0},2,0,1,0,null,1,"",2,"",0,1]
[74,"Page 74","URL 74","Please select",{"$f":"SUM(COUNTIF(INDIRECT(\"'Success Criteria'!\" & ADDRESS(10,A88+4)):INDIRECT(\"'Success Criteria'!\" & ADDRESS(75,A88+4)),\"PASS\"),COUNTIF(INDIRECT(\"'Success Criteria'!\" & ADDRESS(10,A88+4)):INDIRECT(\"'Success Criteria'!\" & ADDRESS(75,A88+4)),\"PASS with comments\"))","v":0},{"$f":"COUNTIF(INDIRECT(\"'Success Criteria'!\" & ADDRESS(10,A88+4)):INDIRECT(\"'Success Criteria'!\" & ADDRESS(75,A88+4)),\"NON conformant\")","v":0},{"$f":"COUNTIF(INDIRECT(\"'Success Criteria'!\" & ADDRESS(10,A88+4)):INDIRECT(\"'Success Criteria'!\" & ADDRESS(75,A88+4)),\"N/A\")","v":1},{"$f":"COUNTIF(INDIRECT(\"'Success Criteria'!\" & ADDRESS(10,A88+4)):INDIRECT(\"'Success Criteria'!\" & ADDRESS(75,A88+4)),\"not tested\")","v":0},{"$f":"SUM(COUNTIF(INDIRECT(\"'Success Criteria'!\" & ADDRESS(80,A88+4)):INDIRECT(\"'Success Criteria'!\" & ADDRESS(131,A88+4)),\"PASS\"),COUNTIF(INDIRECT(\"'Success Criteria'!\" & ADDRESS(80,A88+4)):INDIRECT(\"'Success Criteria'!\" & ADDRESS(131,A88+4)),\"PASS with comments\"))","v":2},{"$f":"COUNTIF(INDIRECT(\"'Success Criteria'!\" & ADDRESS(80,A88+4)):INDIRECT(\"'Success Criteria'!\" & ADDRESS(131,A88+4)),\"NON conformant\")","v":0},{"$f":"COUNTIF(INDIRECT(\"'Success Criteria'!\" & ADDRESS(80,A88+4)):INDIRECT(\"'Success Criteria'!\" & ADDRESS(131,A88+4)),\"N/A\")","v":0},{"$f":"COUNTIF(INDIRECT(\"'Success Criteria'!\" & ADDRESS(80,A88+4)):INDIRECT(\"'Success Criteria'!\" & ADDRESS(131,A88+4)),\"not tested\")","v":0},{"$f":"SUM(COUNTIF(INDIRECT(\"'Success Criteria'!\" & ADDRESS(136,A88+4)):INDIRECT(\"'Success Criteria'!\" & ADDRESS(196,A88+4)),\"PASS\"),COUNTIF(INDIRECT(\"'Success Criteria'!\" & ADDRESS(136,A88+4)):INDIRECT(\"'Success Criteria'!\" & ADDRESS(196,A88+4)),\"PASS with comments\"))","v":0},{"$f":"COUNTIF(INDIRECT(\"'Success Criteria'!\" & ADDRESS(136,A88+4)):INDIRECT(\"'Success Criteria'!\" & ADDRESS(196,A88+4)),\"NON conformant\")","v":0},{"$f":"COUNTIF(INDIRECT(\"'Success Criteria'!\" & ADDRESS(136,A88+4)):INDIRECT(\"'Success Criteria'!\" & ADDRESS(196,A88+4)),\"N/A\")","v":0},{"$f":"COUNTIF(INDIRECT(\"'Success Criteria'!\" & ADDRESS(136,A88+4)):INDIRECT(\"'Success Criteria'!\" & ADDRESS(196,A88+4)),\"not tested\")","v":0},2,0,1,0,null,1,"",2,"",0,1]
[75,"Page 75","URL 75","Please select",{"$f":"SUM(COUNTIF(INDIRECT(\"'Success Criteria'!\" & ADDRESS(10,A89+4)):INDIRECT(\"'Success Criteria'!\" & ADDRESS(75,A89+4)),\"PASS\"),COUNTIF(INDIRECT(\"'Success Criteria'!\" & ADDRESS(10,A89+4)):INDIRECT(\"'Success Criteria'!\" & ADDRESS(75,A89+4)),\"PASS with comments\"))","v":0},{"$f":"COUNTIF(INDIRECT(\"'Success Criteria'!\" & ADDRESS(10,A89+4)):INDIRECT(\"'Success Criteria'!\" & ADDRESS(75,A89+4)),\"NON conformant\")","v":0},{"$f":"COUNTIF(INDIRECT(\"'Success Criteria'!\" & ADDRESS(10,A89+4)):INDIRECT(\"'Success Criteria'!\" & ADDRESS(75,A89+4)),\"N/A\")","v":1},{"$f":"COUNTIF(INDIRECT(\"'Success Criteria'!\" & ADDRESS(10,A89+4)):INDIRECT(\"'Success Criteria'!\" & ADDRESS(75,A89+4)),\"not tested\")","v":0},{"$f":"SUM(COUNTIF(INDIRECT(\"'Success Criteria'!\" & ADDRESS(80,A89+4)):INDIRECT(\"'Success Criteria'!\" & ADDRESS(131,A89+4)),\"PASS\"),COUNTIF(INDIRECT(\"'Success Criteria'!\" & ADDRESS(80,A89+4)):INDIRECT(\"'Success Criteria'!\" & ADDRESS(131,A89+4)),\"PASS with comments\"))","v":2},{"$f":"COUNTIF(INDIRECT(\"'Success Criteria'!\" & ADDRESS(80,A89+4)):INDIRECT(\"'Success Criteria'!\" & ADDRESS(131,A89+4)),\"NON conformant\")","v":0},{"$f":"COUNTIF(INDIRECT(\"'Success Criteria'!\" & ADDRESS(80,A89+4)):INDIRECT(\"'Success Criteria'!\" & ADDRESS(131,A89+4)),\"N/A\")","v":0},{"$f":"COUNTIF(INDIRECT(\"'Success Criteria'!\" & ADDRESS(80,A89+4)):INDIRECT(\"'Success Criteria'!\" & ADDRESS(131,A89+4)),\"not tested\")","v":0},{"$f":"SUM(COUNTIF(INDIRECT(\"'Success Criteria'!\" & ADDRESS(136,A89+4)):INDIRECT(\"'Success Criteria'!\" & ADDRESS(196,A89+4)),\"PASS\"),COUNTIF(INDIRECT(\"'Success Criteria'!\" & ADDRESS(136,A89+4)):INDIRECT(\"'Success Criteria'!\" & ADDRESS(196,A89+4)),\"PASS with comments\"))","v":0},{"$f":"COUNTIF(INDIRECT(\"'Success Criteria'!\" & ADDRESS(136,A89+4)):INDIRECT(\"'Success Criteria'!\" & ADDRESS(196,A89+4)),\"NON conformant\")","v":0},{"$f":"COUNTIF(INDIRECT(\"'Success Criteria'!\" & ADDRESS(136,A89+4)):INDIRECT(\"'Success Criteria'!\" & ADDRESS(196,A89+4)),\"N/A\")","v":0},{"$f":"COUNTIF(INDIRECT(\"'Success Criteria'!\" & ADDRESS(136,A89+4)):INDIRECT(\"'Success Criteria'!\" & ADDRESS(196,A89+4)),\"not tested\")","v":0},2,0,1,0,null,1,"",2,"",0,1]
[76,"Page 76","URL 76","Please select",{"$f":"SUM(COUNTIF(INDIRECT(\"'Success Criteria'!\" & ADDRESS(10,A90+4)):INDIRECT(\"'Success Criteria'!\" & ADDRESS(75,A90+4)),\"PASS\"),COUNTIF(INDIRECT(\"'Success Criteria'!\" & ADDRESS(10,A90+4)):INDIRECT(\"'Success Criteria'!\" & ADDRESS(75,A90+4)),\"PASS with comments\"))","v":0},{"$f":"COUNTIF(INDIRECT(\"'Success Criteria'!\" & ADDRESS(10,A90+4)):INDIRECT(\"'Success Criteria'!\" & ADDRESS(75,A90+4)),\"NON conformant\")","v":0},{"$f":"COUNTIF(INDIRECT(\"'Success Criteria'!\" & ADDRESS(10,A90+4)):INDIRECT(\"'Success Criteria'!\" & ADDRESS(75,A90+4)),\"N/A\")","v":1},{"$f":"COUNTIF(INDIRECT(\"'Success Criteria'!\" & ADDRESS(10,A90+4)):INDIRECT(\"'Success Criteria'!\" & ADDRESS(75,A90+4)),\"not tested\")","v":0},{"$f":"SUM(COUNTIF(INDIRECT(\"'Success Criteria'!\" & ADDRESS(80,A90+4)):INDIRECT(\"'Success Criteria'!\" & ADDRESS(131,A90+4)),\"PASS\"),COUNTIF(INDIRECT(\"'Success Criteria'!\" & ADDRESS(80,A90+4)):INDIRECT(\"'Success Criteria'!\" & ADDRESS(131,A90+4)),\"PASS with comments\"))","v":2},{"$f":"COUNTIF(INDIRECT(\"'Success Criteria'!\" & ADDRESS(80,A90+4)):INDIRECT(\"'Success Criteria'!\" & ADDRESS(131,A90+4)),\"NON conformant\")","v":0},{"$f":"COUNTIF(INDIRECT(\"'Success Criteria'!\" & ADDRESS(80,A90+4)):INDIRECT(\"'Success Criteria'!\" & ADDRESS(131,A90+4)),\"N/A\")","v":0},{"$f":"COUNTIF(INDIRECT(\"'Success Criteria'!\" & ADDRESS(80,A90+4)):INDIRECT(\"'Success Criteria'!\" & ADDRESS(131,A90+4)),\"not tested\")","v":0},{"$f":"SUM(COUNTIF(INDIRECT(\"'Success Criteria'!\" & ADDRESS(136,A90+4)):INDIRECT(\"'Success Criteria'!\" & ADDRESS(196,A90+4)),\"PASS\"),COUNTIF(INDIRECT(\"'Success Criteria'!\" & ADDRESS(136,A90+4)):INDIRECT(\"'Success Criteria'!\" & ADDRESS(196,A90+4)),\"PASS with comments\"))","v":0},{"$f":"COUNTIF(INDIRECT(\"'Success Criteria'!\" & ADDRESS(136,A90+4)):INDIRECT(\"'Success Criteria'!\" & ADDRESS(196,A90+4)),\"NON conformant\")","v":0},{"$f":"COUNTIF(INDIRECT(\"'Success Criteria'!\" & ADDRESS(136,A90+4)):INDIRECT(\"'Success Criteria'!\" & ADDRESS(196,A90+4)),\"N/A\")","v":0},{"$f":"COUNTIF(INDIRECT(\"'Success Criteria'!\" & ADDRESS(136,A90+4)):INDIRECT(\"'Success Criteria'!\" & ADDRESS(196,A90+4)),\"not tested\")","v":0},2,0,1,0,null,1,"",2,"",0,1]
[77,"Page 77","URL 77","Please select",{"$f":"SUM(COUNTIF(INDIRECT(\"'Success Criteria'!\" & ADDRESS(10,A91+4)):INDIRECT(\"'Success Criteria'!\" & ADDRESS(75,A91+4)),\"PASS\"),COUNTIF(INDIRECT(\"'Success Criteria'!\" & ADDRESS(10,A91+4)):INDIRECT(\"'Success Criteria'!\" & ADDRESS(75,A91+4)),\"PASS with comments\"))","v":0},{"$f":"COUNTIF(INDIRECT(\"'Success Criteria'!\" & ADDRESS(10,A91+4)):INDIRECT(\"'Success Criteria'!\" & ADDRESS(75,A91+4)),\"NON conformant\")","v":0},{"$f":"COUNTIF(INDIRECT(\"'Success Criteria'!\" & ADDRESS(10,A91+4)):INDIRECT(\"'Success Criteria'!\" & ADDRESS(75,A91+4)),\"N/A\")","v":1},{"$f":"COUNTIF(INDIRECT(\"'Success Criteria'!\" & ADDRESS(10,A91+4)):INDIRECT(\"'Success Criteria'!\" & ADDRESS(75,A91+4)),\"not tested\")","v":0},{"$f":"SUM(COUNTIF(INDIRECT(\"'Success Criteria'!\" & ADDRESS(80,A91+4)):INDIRECT(\"'Success Criteria'!\" & ADDRESS(131,A91+4)),\"PASS\"),COUNTIF(INDIRECT(\"'Success Criteria'!\" & ADDRESS(80,A91+4)):INDIRECT(\"'Success Criteria'!\" & ADDRESS(131,A91+4)),\"PASS with comments\"))","v":2},{"$f":"COUNTIF(INDIRECT(\"'Success Criteria'!\" & ADDRESS(80,A91+4)):INDIRECT(\"'Success Criteria'!\" & ADDRESS(131,A91+4)),\"NON conformant\")","v":0},{"$f":"COUNTIF(INDIRECT(\"'Success Criteria'!\" & ADDRESS(80,A91+4)):INDIRECT(\"'Success Criteria'!\" & ADDRESS(131,A91+4)),\"N/A\")","v":0},{"$f":"COUNTIF(INDIRECT(\"'Success Criteria'!\" & ADDRESS(80,A91+4)):INDIRECT(\"'Success Criteria'!\" & ADDRESS(131,A91+4)),\"not tested\")","v":0},{"$f":"SUM(COUNTIF(INDIRECT(\"'Success Criteria'!\" & ADDRESS(136,A91+4)):INDIRECT(\"'Success Criteria'!\" & ADDRESS(196,A91+4)),\"PASS\"),COUNTIF(INDIRECT(\"'Success Criteria'!\" & ADDRESS(136,A91+4)):INDIRECT(\"'Success Criteria'!\" & ADDRESS(196,A91+4)),\"PASS with comments\"))","v":0},{"$f":"COUNTIF(INDIRECT(\"'Success Criteria'!\" & ADDRESS(136,A91+4)):INDIRECT(\"'Success Criteria'!\" & ADDRESS(196,A91+4)),\"NON conformant\")","v":0},{"$f":"COUNTIF(INDIRECT(\"'Success Criteria'!\" & ADDRESS(136,A91+4)):INDIRECT(\"'Success Criteria'!\" & ADDRESS(196,A91+4)),\"N/A\")","v":0},{"$f":"COUNTIF(INDIRECT(\"'Success Criteria'!\" & ADDRESS(136,A91+4)):INDIRECT(\"'Success Criteria'!\" & ADDRESS(196,A91+4)),\"not tested\")","v":0},2,0,1,0,null,1,"",2,"",0,1]
[78,"Page 78","URL 78","Please select",{"$f":"SUM(COUNTIF(INDIRECT(\"'Success Criteria'!\" & ADDRESS(10,A92+4)):INDIRECT(\"'Success Criteria'!\" & ADDRESS(75,A92+4)),\"PASS\"),COUNTIF(INDIRECT(\"'Success Criteria'!\" & ADDRESS(10,A92+4)):INDIRECT(\"'Success Criteria'!\" & ADDRESS(75,A92+4)),\"PASS with comments\"))","v":0},{"$f":"COUNTIF(INDIRECT(\"'Success Criteria'!\" & ADDRESS(10,A92+4)):INDIRECT(\"'Success Criteria'!\" & ADDRESS(75,A92+4)),\"NON conformant\")","v":0},{"$f":"COUNTIF(INDIRECT(\"'Success Criteria'!\" & ADDRESS(10,A92+4)):INDIRECT(\"'Success Criteria'!\" & ADDRESS(75,A92+4)),\"N/A\")","v":1},{"$f":"COUNTIF(INDIRECT(\"'Success Criteria'!\" & ADDRESS(10,A92+4)):INDIRECT(\"'Success Criteria'!\" & ADDRESS(75,A92+4)),\"not tested\")","v":0},{"$f":"SUM(COUNTIF(INDIRECT(\"'Success Criteria'!\" & ADDRESS(80,A92+4)):INDIRECT(\"'Success Criteria'!\" & ADDRESS(131,A92+4)),\"PASS\"),COUNTIF(INDIRECT(\"'Success Criteria'!\" & ADDRESS(80,A92+4)):INDIRECT(\"'Success Criteria'!\" & ADDRESS(131,A92+4)),\"PASS with comments\"))","v":2},{"$f":"COUNTIF(INDIRECT(\"'Success Criteria'!\" & ADDRESS(80,A92+4)):INDIRECT(\"'Success Criteria'!\" & ADDRESS(131,A92+4)),\"NON conformant\")","v":0},{"$f":"COUNTIF(INDIRECT(\"'Success Criteria'!\" & ADDRESS(80,A92+4)):INDIRECT(\"'Success Criteria'!\" & ADDRESS(131,A92+4)),\"N/A\")","v":0},{"$f":"COUNTIF(INDIRECT(\"'Success Criteria'!\" & ADDRESS(80,A92+4)):INDIRECT(\"'Success Criteria'!\" & ADDRESS(131,A92+4)),\"not tested\")","v":0},{"$f":"SUM(COUNTIF(INDIRECT(\"'Success Criteria'!\" & ADDRESS(136,A92+4)):INDIRECT(\"'Success Criteria'!\" & ADDRESS(196,A92+4)),\"PASS\"),COUNTIF(INDIRECT(\"'Success Criteria'!\" & ADDRESS(136,A92+4)):INDIRECT(\"'Success Criteria'!\" & ADDRESS(196,A92+4)),\"PASS with comments\"))","v":0},{"$f":"COUNTIF(INDIRECT(\"'Success Criteria'!\" & ADDRESS(136,A92+4)):INDIRECT(\"'Success Criteria'!\" & ADDRESS(196,A92+4)),\"NON conformant\")","v":0},{"$f":"COUNTIF(INDIRECT(\"'Success Criteria'!\" & ADDRESS(136,A92+4)):INDIRECT(\"'Success Criteria'!\" & ADDRESS(196,A92+4)),\"N/A\")","v":0},{"$f":"COUNTIF(INDIRECT(\"'Success Criteria'!\" & ADDRESS(136,A92+4)):INDIRECT(\"'Success Criteria'!\" & ADDRESS(196,A92+4)),\"not tested\")","v":0},2,0,1,0,null,1,"",2,"",0,1]
[79,"Page 79","URL 79","Please select",{"$f":"SUM(COUNTIF(INDIRECT(\"'Success Criteria'!\" & ADDRESS(10,A93+4)):INDIRECT(\"'Success Criteria'!\" & ADDRESS(75,A93+4)),\"PASS\"),COUNTIF(INDIRECT(\"'Success Criteria'!\" & ADDRESS(10,A93+4)):INDIRECT(\"'Success Criteria'!\" & ADDRESS(75,A93+4)),\"PASS with comments\"))","v":0},{"$f":"COUNTIF(INDIRECT(\"'Success Criteria'!\" & ADDRESS(10,A93+4)):INDIRECT(\"'Success Criteria'!\" & ADDRESS(75,A93+4)),\"NON conformant\")","v":0},{"$f":"COUNTIF(INDIRECT(\"'Success Criteria'!\" & ADDRESS(10,A93+4)):INDIRECT(\"'Success Criteria'!\" & ADDRESS(75,A93+4)),\"N/A\")","v":1},{"$f":"COUNTIF(INDIRECT(\"'Success Criteria'!\" & ADDRESS(10,A93+4)):INDIRECT(\"'Success Criteria'!\" & ADDRESS(75,A93+4)),\"not tested\")","v":0},{"$f":"SUM(COUNTIF(INDIRECT(\"'Success Criteria'!\" & ADDRESS(80,A93+4)):INDIRECT(\"'Success Criteria'!\" & ADDRESS(131,A93+4)),\"PASS\"),COUNTIF(INDIRECT(\"'Success Criteria'!\" & ADDRESS(80,A93+4)):INDIRECT(\"'Success Criteria'!\" & ADDRESS(131,A93+4)),\"PASS with comments\"))","v":2},{"$f":"COUNTIF(INDIRECT(\"'Success Criteria'!\" & ADDRESS(80,A93+4)):INDIRECT(\"'Success Criteria'!\" & ADDRESS(131,A93+4)),\"NON conformant\")","v":0},{"$f":"COUNTIF(INDIRECT(\"'Success Criteria'!\" & ADDRESS(80,A93+4)):INDIRECT(\"'Success Criteria'!\" & ADDRESS(131,A93+4)),\"N/A\")","v":0},{"$f":"COUNTIF(INDIRECT(\"'Success Criteria'!\" & ADDRESS(80,A93+4)):INDIRECT(\"'Success Criteria'!\" & ADDRESS(131,A93+4)),\"not tested\")","v":0},{"$f":"SUM(COUNTIF(INDIRECT(\"'Success Criteria'!\" & ADDRESS(136,A93+4)):INDIRECT(\"'Success Criteria'!\" & ADDRESS(196,A93+4)),\"PASS\"),COUNTIF(INDIRECT(\"'Success Criteria'!\" & ADDRESS(136,A93+4)):INDIRECT(\"'Success Criteria'!\" & ADDRESS(196,A93+4)),\"PASS with comments\"))","v":0},{"$f":"COUNTIF(INDIRECT(\"'Success Criteria'!\" & ADDRESS(136,A93+4)):INDIRECT(\"'Success Criteria'!\" & ADDRESS(196,A93+4)),\"NON conformant\")","v":0},{"$f":"COUNTIF(INDIRECT(\"'Success Criteria'!\" & ADDRESS(136,A93+4)):INDIRECT(\"'Success Criteria'!\" & ADDRESS(196,A93+4)),\"N/A\")","v":0},{"$f":"COUNTIF(INDIRECT(\"'Success Criteria'!\" & ADDRESS(136,A93+4)):INDIRECT(\"'Success Criteria'!\" & ADDRESS(196,A93+4)),\"not tested\")","v":0},2,0,1,0,null,1,"",2,"",0,1]
[80,"Page 80","URL 80","Please select",{"$f":"SUM(COUNTIF(INDIRECT(\"'Success Criteria'!\" & ADDRESS(10,A94+4)):INDIRECT(\"'Success Criteria'!\" & ADDRESS(75,A94+4)),\"PASS\"),COUNTIF(INDIRECT(\"'Success Criteria'!\" & ADDRESS(10,A94+4)):INDIRECT(\"'Success Criteria'!\" & ADDRESS(75,A94+4)),\"PASS with comments\"))","v":0},{"$f":"COUNTIF(INDIRECT(\"'Success Criteria'!\" & ADDRESS(10,A94+4)):INDIRECT(\"'Success Criteria'!\" & ADDRESS(75,A94+4)),\"NON conformant\")","v":0},{"$f":"COUNTIF(INDIRECT(\"'Success Criteria'!\" & ADDRESS(10,A94+4)):INDIRECT(\"'Success Criteria'!\" & ADDRESS(75,A94+4)),\"N/A\")","v":1},{"$f":"COUNTIF(INDIRECT(\"'Success Criteria'!\" & ADDRESS(10,A94+4)):INDIRECT(\"'Success Criteria'!\" & ADDRESS(75,A94+4)),\"not tested\")","v":0},{"$f":"SUM(COUNTIF(INDIRECT(\"'Success Criteria'!\" & ADDRESS(80,A94+4)):INDIRECT(\"'Success Criteria'!\" & ADDRESS(131,A94+4)),\"PASS\"),COUNTIF(INDIRECT(\"'Success Criteria'!\" & ADDRESS(80,A94+4)):INDIRECT(\"'Success Criteria'!\" & ADDRESS(131,A94+4)),\"PASS with comments\"))","v":2},{"$f":"COUNTIF(INDIRECT(\"'Success Criteria'!\" & ADDRESS(80,A94+4)):INDIRECT(\"'Success Criteria'!\" & ADDRESS(131,A94+4)),\"NON conformant\")","v":0},{"$f":"COUNTIF(INDIRECT(\"'Success Criteria'!\" & ADDRESS(80,A94+4)):INDIRECT(\"'Success Criteria'!\" & ADDRESS(131,A94+4)),\"N/A\")","v":0},{"$f":"COUNTIF(INDIRECT(\"'Success Criteria'!\" & ADDRESS(80,A94+4)):INDIRECT(\"'Success Criteria'!\" & ADDRESS(131,A94+4)),\"not tested\")","v":0},{"$f":"SUM(COUNTIF(INDIRECT(\"'Success Criteria'!\" & ADDRESS(136,A94+4)):INDIRECT(\"'Success Criteria'!\" & ADDRESS(196,A94+4)),\"PASS\"),COUNTIF(INDIRECT(\"'Success Criteria'!\" & ADDRESS(136,A94+4)):INDIRECT(\"'Success Criteria'!\" & ADDRESS(196,A94+4)),\"PASS with comments\"))","v":0},{"$f":"COUNTIF(INDIRECT(\"'Success Criteria'!\" & ADDRESS(136,A94+4)):INDIRECT(\"'Success Criteria'!\" & ADDRESS(196,A94+4)),\"NON conformant\")","v":0},{"$f":"COUNTIF(INDIRECT(\"'Success Criteria'!\" & ADDRESS(136,A94+4)):INDIRECT(\"'Success Criteria'!\" & ADDRESS(196,A94+4)),\"N/A\")","v":0},{"$f":"COUNTIF(INDIRECT(\"'Success Criteria'!\" & ADDRESS(136,A94+4)):INDIRECT(\"'Success Criteria'!\" & ADDRESS(196,A94+4)),\"not tested\")","v":0},2,0,1,0,null,1,"",2,"",0,1]
[81,"Page 81","URL 81","Please select",{"$f":"SUM(COUNTIF(INDIRECT(\"'Success Criteria'!\" & ADDRESS(10,A95+4)):INDIRECT(\"'Success Criteria'!\" & ADDRESS(75,A95+4)),\"PASS\"),COUNTIF(INDIRECT(\"'Success Criteria'!\" & ADDRESS(10,A95+4)):INDIRECT(\"'Success Criteria'!\" & ADDRESS(75,A95+4)),\"PASS with comments\"))","v":0},{"$f":"COUNTIF(INDIRECT(\"'Success Criteria'!\" & ADDRESS(10,A95+4)):INDIRECT(\"'Success Criteria'!\" & ADDRESS(75,A95+4)),\"NON conformant\")","v":0},{"$f":"COUNTIF(INDIRECT(\"'Success Criteria'!\" & ADDRESS(10,A95+4)):INDIRECT(\"'Success Criteria'!\" & ADDRESS(75,A95+4)),\"N/A\")","v":1},{"$f":"COUNTIF(INDIRECT(\"'Success Criteria'!\" & ADDRESS(10,A95+4)):INDIRECT(\"'Success Criteria'!\" & ADDRESS(75,A95+4)),\"not tested\")","v":0},{"$f":"SUM(COUNTIF(INDIRECT(\"'Success Criteria'!\" & ADDRESS(80,A95+4)):INDIRECT(\"'Success Criteria'!\" & ADDRESS(131,A95+4)),\"PASS\"),COUNTIF(INDIRECT(\"'Success Criteria'!\" & ADDRESS(80,A95+4)):INDIRECT(\"'Success Criteria'!\" & ADDRESS(131,A95+4)),\"PASS with comments\"))","v":2},{"$f":"COUNTIF(INDIRECT(\"'Success Criteria'!\" & ADDRESS(80,A95+4)):INDIRECT(\"'Success Criteria'!\" & ADDRESS(131,A95+4)),\"NON conformant\")","v":0},{"$f":"COUNTIF(INDIRECT(\"'Success Criteria'!\" & ADDRESS(80,A95+4)):INDIRECT(\"'Success Criteria'!\" & ADDRESS(131,A95+4)),\"N/A\")","v":0},{"$f":"COUNTIF(INDIRECT(\"'Success Criteria'!\" & ADDRESS(80,A95+4)):INDIRECT(\"'Success Criteria'!\" & ADDRESS(131,A95+4)),\"not tested\")","v":0},{"$f":"SUM(COUNTIF(INDIRECT(\"'Success Criteria'!\" & ADDRESS(136,A95+4)):INDIRECT(\"'Success Criteria'!\" & ADDRESS(196,A95+4)),\"PASS\"),COUNTIF(INDIRECT(\"'Success Criteria'!\" & ADDRESS(136,A95+4)):INDIRECT(\"'Success Criteria'!\" & ADDRESS(196,A95+4)),\"PASS with comments\"))","v":0},{"$f":"COUNTIF(INDIRECT(\"'Success Criteria'!\" & ADDRESS(136,A95+4)):INDIRECT(\"'Success Criteria'!\" & ADDRESS(196,A95+4)),\"NON conformant\")","v":0},{"$f":"COUNTIF(INDIRECT(\"'Success Criteria'!\" & ADDRESS(136,A95+4)):INDIRECT(\"'Success Criteria'!\" & ADDRESS(196,A95+4)),\"N/A\")","v":0},{"$f":"COUNTIF(INDIRECT(\"'Success Criteria'!\" & ADDRESS(136,A95+4)):INDIRECT(\"'Success Criteria'!\" & ADDRESS(196,A95+4)),\"not tested\")","v":0},2,0,1,0,null,1,"",2,"",0,1]
[82,"Page 82","URL 82","Please select",{"$f":"SUM(COUNTIF(INDIRECT(\"'Success Criteria'!\" & ADDRESS(10,A96+4)):INDIRECT(\"'Success Criteria'!\" & ADDRESS(75,A96+4)),\"PASS\"),COUNTIF(INDIRECT(\"'Success Criteria'!\" & ADDRESS(10,A96+4)):INDIRECT(\"'Success Criteria'!\" & ADDRESS(75,A96+4)),\"PASS with comments\"))","v":0},{"$f":"COUNTIF(INDIRECT(\"'Success Criteria'!\" & ADDRESS(10,A96+4)):INDIRECT(\"'Success Criteria'!\" & ADDRESS(75,A96+4)),\"NON conformant\")","v":0},{"$f":"COUNTIF(INDIRECT(\"'Success Criteria'!\" & ADDRESS(10,A96+4)):INDIRECT(\"'Success Criteria'!\" & ADDRESS(75,A96+4)),\"N/A\")","v":1},{"$f":"COUNTIF(INDIRECT(\"'Success Criteria'!\" & ADDRESS(10,A96+4)):INDIRECT(\"'Success Criteria'!\" & ADDRESS(75,A96+4)),\"not tested\")","v":0},{"$f":"SUM(COUNTIF(INDIRECT(\"'Success Criteria'!\" & ADDRESS(80,A96+4)):INDIRECT(\"'Success Criteria'!\" & ADDRESS(131,A96+4)),\"PASS\"),COUNTIF(INDIRECT(\"'Success Criteria'!\" & ADDRESS(80,A96+4)):INDIRECT(\"'Success Criteria'!\" & ADDRESS(131,A96+4)),\"PASS with comments\"))","v":2},{"$f":"COUNTIF(INDIRECT(\"'Success Criteria'!\" & ADDRESS(80,A96+4)):INDIRECT(\"'Success Criteria'!\" & ADDRESS(131,A96+4)),\"NON conformant\")","v":0},{"$f":"COUNTIF(INDIRECT(\"'Success Criteria'!\" & ADDRESS(80,A96+4)):INDIRECT(\"'Success Criteria'!\" & ADDRESS(131,A96+4)),\"N/A\")","v":0},{"$f":"COUNTIF(INDIRECT(\"'Success Criteria'!\" & ADDRESS(80,A96+4)):INDIRECT(\"'Success Criteria'!\" & ADDRESS(131,A96+4)),\"not tested\")","v":0},{"$f":"SUM(COUNTIF(INDIRECT(\"'Success Criteria'!\" & ADDRESS(136,A96+4)):INDIRECT(\"'Success Criteria'!\" & ADDRESS(196,A96+4)),\"PASS\"),COUNTIF(INDIRECT(\"'Success Criteria'!\" & ADDRESS(136,A96+4)):INDIRECT(\"'Success Criteria'!\" & ADDRESS(196,A96+4)),\"PASS with comments\"))","v":0},{"$f":"COUNTIF(INDIRECT(\"'Success Criteria'!\" & ADDRESS(136,A96+4)):INDIRECT(\"'Success Criteria'!\" & ADDRESS(196,A96+4)),\"NON conformant\")","v":0},{"$f":"COUNTIF(INDIRECT(\"'Success Criteria'!\" & ADDRESS(136,A96+4)):INDIRECT(\"'Success Criteria'!\" & ADDRESS(196,A96+4)),\"N/A\")","v":0},{"$f":"COUNTIF(INDIRECT(\"'Success Criteria'!\" & ADDRESS(136,A96+4)):INDIRECT(\"'Success Criteria'!\" & ADDRESS(196,A96+4)),\"not tested\")","v":0},2,0,1,0,null,1,"",2,"",0,1]
[83,"Page 83","URL 83","Please select",{"$f":"SUM(COUNTIF(INDIRECT(\"'Success Criteria'!\" & ADDRESS(10,A97+4)):INDIRECT(\"'Success Criteria'!\" & ADDRESS(75,A97+4)),\"PASS\"),COUNTIF(INDIRECT(\"'Success Criteria'!\" & ADDRESS(10,A97+4)):INDIRECT(\"'Success Criteria'!\" & ADDRESS(75,A97+4)),\"PASS with comments\"))","v":0},{"$f":"COUNTIF(INDIRECT(\"'Success Criteria'!\" & ADDRESS(10,A97+4)):INDIRECT(\"'Success Criteria'!\" & ADDRESS(75,A97+4)),\"NON conformant\")","v":0},{"$f":"COUNTIF(INDIRECT(\"'Success Criteria'!\" & ADDRESS(10,A97+4)):INDIRECT(\"'Success Criteria'!\" & ADDRESS(75,A97+4)),\"N/A\")","v":1},{"$f":"COUNTIF(INDIRECT(\"'Success Criteria'!\" & ADDRESS(10,A97+4)):INDIRECT(\"'Success Criteria'!\" & ADDRESS(75,A97+4)),\"not tested\")","v":0},{"$f":"SUM(COUNTIF(INDIRECT(\"'Success Criteria'!\" & ADDRESS(80,A97+4)):INDIRECT(\"'Success Criteria'!\" & ADDRESS(131,A97+4)),\"PASS\"),COUNTIF(INDIRECT(\"'Success Criteria'!\" & ADDRESS(80,A97+4)):INDIRECT(\"'Success Criteria'!\" & ADDRESS(131,A97+4)),\"PASS with comments\"))","v":2},{"$f":"COUNTIF(INDIRECT(\"'Success Criteria'!\" & ADDRESS(80,A97+4)):INDIRECT(\"'Success Criteria'!\" & ADDRESS(131,A97+4)),\"NON conformant\")","v":0},{"$f":"COUNTIF(INDIRECT(\"'Success Criteria'!\" & ADDRESS(80,A97+4)):INDIRECT(\"'Success Criteria'!\" & ADDRESS(131,A97+4)),\"N/A\")","v":0},{"$f":"COUNTIF(INDIRECT(\"'Success Criteria'!\" & ADDRESS(80,A97+4)):INDIRECT(\"'Success Criteria'!\" & ADDRESS(131,A97+4)),\"not tested\")","v":0},{"$f":"SUM(COUNTIF(INDIRECT(\"'Success Criteria'!\" & ADDRESS(136,A97+4)):INDIRECT(\"'Success Criteria'!\" & ADDRESS(196,A97+4)),\"PASS\"),COUNTIF(INDIRECT(\"'Success Criteria'!\" & ADDRESS(136,A97+4)):INDIRECT(\"'Success Criteria'!\" & ADDRESS(196,A97+4)),\"PASS with comments\"))","v":0},{"$f":"COUNTIF(INDIRECT(\"'Success Criteria'!\" & ADDRESS(136,A97+4)):INDIRECT(\"'Success Criteria'!\" & ADDRESS(196,A97+4)),\"NON conformant\")","v":0},{"$f":"COUNTIF(INDIRECT(\"'Success Criteria'!\" & ADDRESS(136,A97+4)):INDIRECT(\"'Success Criteria'!\" & ADDRESS(196,A97+4)),\"N/A\")","v":0},{"$f":"COUNTIF(INDIRECT(\"'Success Criteria'!\" & ADDRESS(136,A97+4)):INDIRECT(\"'Success Criteria'!\" & ADDRESS(196,A97+4)),\"not tested\")","v":0},2,0,1,0,null,1,"",2,"",0,1]
[84,"Page 84","URL 84","Please select",{"$f":"SUM(COUNTIF(INDIRECT(\"'Success Criteria'!\" & ADDRESS(10,A98+4)):INDIRECT(\"'Success Criteria'!\" & ADDRESS(75,A98+4)),\"PASS\"),COUNTIF(INDIRECT(\"'Success Criteria'!\" & ADDRESS(10,A98+4)):INDIRECT(\"'Success Criteria'!\" & ADDRESS(75,A98+4)),\"PASS with comments\"))","v":0},{"$f":"COUNTIF(INDIRECT(\"'Success Criteria'!\" & ADDRESS(10,A98+4)):INDIRECT(\"'Success Criteria'!\" & ADDRESS(75,A98+4)),\"NON conformant\")","v":0},{"$f":"COUNTIF(INDIRECT(\"'Success Criteria'!\" & ADDRESS(10,A98+4)):INDIRECT(\"'Success Criteria'!\" & ADDRESS(75,A98+4)),\"N/A\")","v":1},{"$f":"COUNTIF(INDIRECT(\"'Success Criteria'!\" & ADDRESS(10,A98+4)):INDIRECT(\"'Success Criteria'!\" & ADDRESS(75,A98+4)),\"not tested\")","v":0},{"$f":"SUM(COUNTIF(INDIRECT(\"'Success Criteria'!\" & ADDRESS(80,A98+4)):INDIRECT(\"'Success Criteria'!\" & ADDRESS(131,A98+4)),\"PASS\"),COUNTIF(INDIRECT(\"'Success Criteria'!\" & ADDRESS(80,A98+4)):INDIRECT(\"'Success Criteria'!\" & ADDRESS(131,A98+4)),\"PASS with comments\"))","v":2},{"$f":"COUNTIF(INDIRECT(\"'Success Criteria'!\" & ADDRESS(80,A98+4)):INDIRECT(\"'Success Criteria'!\" & ADDRESS(131,A98+4)),\"NON conformant\")","v":0},{"$f":"COUNTIF(INDIRECT(\"'Success Criteria'!\" & ADDRESS(80,A98+4)):INDIRECT(\"'Success Criteria'!\" & ADDRESS(131,A98+4)),\"N/A\")","v":0},{"$f":"COUNTIF(INDIRECT(\"'Success Criteria'!\" & ADDRESS(80,A98+4)):INDIRECT(\"'Success Criteria'!\" & ADDRESS(131,A98+4)),\"not tested\")","v":0},{"$f":"SUM(COUNTIF(INDIRECT(\"'Success Criteria'!\" & ADDRESS(136,A98+4)):INDIRECT(\"'Success Criteria'!\" & ADDRESS(196,A98+4)),\"PASS\"),COUNTIF(INDIRECT(\"'Success Criteria'!\" & ADDRESS(136,A98+4)):INDIRECT(\"'Success Criteria'!\" & ADDRESS(196,A98+4)),\"PASS with comments\"))","v":0},{"$f":"COUNTIF(INDIRECT(\"'Success Criteria'!\" & ADDRESS(136,A98+4)):INDIRECT(\"'Success Criteria'!\" & ADDRESS(196,A98+4)),\"NON conformant\")","v":0},{"$f":"COUNTIF(INDIRECT(\"'Success Criteria'!\" & ADDRESS(136,A98+4)):INDIRECT(\"'Success Criteria'!\" & ADDRESS(196,A98+4)),\"N/A\")","v":0},{"$f":"COUNTIF(INDIRECT(\"'Success Criteria'!\" & ADDRESS(136,A98+4)):INDIRECT(\"'Success Criteria'!\" & ADDRESS(196,A98+4)),\"not tested\")","v":0},2,0,1,0,null,1,"",2,"",0,1]
[85,"Page 85","URL 85","Please select",{"$f":"SUM(COUNTIF(INDIRECT(\"'Success Criteria'!\" & ADDRESS(10,A99+4)):INDIRECT(\"'Success Criteria'!\" & ADDRESS(75,A99+4)),\"PASS\"),COUNTIF(INDIRECT(\"'Success Criteria'!\" & ADDRESS(10,A99+4)):INDIRECT(\"'Success Criteria'!\" & ADDRESS(75,A99+4)),\"PASS with comments\"))","v":0},{"$f":"COUNTIF(INDIRECT(\"'Success Criteria'!\" & ADDRESS(10,A99+4)):INDIRECT(\"'Success Criteria'!\" & ADDRESS(75,A99+4)),\"NON conformant\")","v":0},{"$f":"COUNTIF(INDIRECT(\"'Success Criteria'!\" & ADDRESS(10,A99+4)):INDIRECT(\"'Success Criteria'!\" & ADDRESS(75,A99+4)),\"N/A\")","v":1},{"$f":"COUNTIF(INDIRECT(\"'Success Criteria'!\" & ADDRESS(10,A99+4)):INDIRECT(\"'Success Criteria'!\" & ADDRESS(75,A99+4)),\"not tested\")","v":0},{"$f":"SUM(COUNTIF(INDIRECT(\"'Success Criteria'!\" & ADDRESS(80,A99+4)):INDIRECT(\"'Success Criteria'!\" & ADDRESS(131,A99+4)),\"PASS\"),COUNTIF(INDIRECT(\"'Success Criteria'!\" & ADDRESS(80,A99+4)):INDIRECT(\"'Success Criteria'!\" & ADDRESS(131,A99+4)),\"PASS with comments\"))","v":2},{"$f":"COUNTIF(INDIRECT(\"'Success Criteria'!\" & ADDRESS(80,A99+4)):INDIRECT(\"'Success Criteria'!\" & ADDRESS(131,A99+4)),\"NON conformant\")","v":0},{"$f":"COUNTIF(INDIRECT(\"'Success Criteria'!\" & ADDRESS(80,A99+4)):INDIRECT(\"'Success Criteria'!\" & ADDRESS(131,A99+4)),\"N/A\")","v":0},{"$f":"COUNTIF(INDIRECT(\"'Success Criteria'!\" & ADDRESS(80,A99+4)):INDIRECT(\"'Success Criteria'!\" & ADDRESS(131,A99+4)),\"not tested\")","v":0},{"$f":"SUM(COUNTIF(INDIRECT(\"'Success Criteria'!\" & ADDRESS(136,A99+4)):INDIRECT(\"'Success Criteria'!\" & ADDRESS(196,A99+4)),\"PASS\"),COUNTIF(INDIRECT(\"'Success Criteria'!\" & ADDRESS(136,A99+4)):INDIRECT(\"'Success Criteria'!\" & ADDRESS(196,A99+4)),\"PASS with comments\"))","v":0},{"$f":"COUNTIF(INDIRECT(\"'Success Criteria'!\" & ADDRESS(136,A99+4)):INDIRECT(\"'Success Criteria'!\" & ADDRESS(196,A99+4)),\"NON conformant\")","v":0},{"$f":"COUNTIF(INDIRECT(\"'Success Criteria'!\" & ADDRESS(136,A99+4)):INDIRECT(\"'Success Criteria'!\" & ADDRESS(196,A99+4)),\"N/A\")","v":0},{"$f":"COUNTIF(INDIRECT(\"'Success Criteria'!\" & ADDRESS(136,A99+4)):INDIRECT(\"'Success Criteria'!\" & ADDRESS(196,A99+4)),\"not tested\")","v":0},2,0,1,0,null,1,"",2,"",0,1]
[86,"Page 86","URL 86","Please select",{"$f":"SUM(COUNTIF(INDIRECT(\"'Success Criteria'!\" & ADDRESS(10,A100+4)):INDIRECT(\"'Success Criteria'!\" & ADDRESS(75,A100+4)),\"PASS\"),COUNTIF(INDIRECT(\"'Success Criteria'!\" & ADDRESS(10,A100+4)):INDIRECT(\"'Success Criteria'!\" & ADDRESS(75,A100+4)),\"PASS with comments\"))","v":0},{"$f":"COUNTIF(INDIRECT(\"'Success Criteria'!\" & ADDRESS(10,A100+4)):INDIRECT(\"'Success Criteria'!\" & ADDRESS(75,A100+4)),\"NON conformant\")","v":0},{"$f":"COUNTIF(INDIRECT(\"'Success Criteria'!\" & ADDRESS(10,A100+4)):INDIRECT(\"'Success Criteria'!\" & ADDRESS(75,A100+4)),\"N/A\")","v":1},{"$f":"COUNTIF(INDIRECT(\"'Success Criteria'!\" & ADDRESS(10,A100+4)):INDIRECT(\"'Success Criteria'!\" & ADDRESS(75,A100+4)),\"not tested\")","v":0},{"$f":"SUM(COUNTIF(INDIRECT(\"'Success Criteria'!\" & ADDRESS(80,A100+4)):INDIRECT(\"'Success Criteria'!\" & ADDRESS(131,A100+4)),\"PASS\"),COUNTIF(INDIRECT(\"'Success Criteria'!\" & ADDRESS(80,A100+4)):INDIRECT(\"'Success Criteria'!\" & ADDRESS(131,A100+4)),\"PASS with comments\"))","v":2},{"$f":"COUNTIF(INDIRECT(\"'Success Criteria'!\" & ADDRESS(80,A100+4)):INDIRECT(\"'Success Criteria'!\" & ADDRESS(131,A100+4)),\"NON conformant\")","v":0},{"$f":"COUNTIF(INDIRECT(\"'Success Criteria'!\" & ADDRESS(80,A100+4)):INDIRECT(\"'Success Criteria'!\" & ADDRESS(131,A100+4)),\"N/A\")","v":0},{"$f":"COUNTIF(INDIRECT(\"'Success Criteria'!\" & ADDRESS(80,A100+4)):INDIRECT(\"'Success Criteria'!\" & ADDRESS(131,A100+4)),\"not tested\")","v":0},{"$f":"SUM(COUNTIF(INDIRECT(\"'Success Criteria'!\" & ADDRESS(136,A100+4)):INDIRECT(\"'Success Criteria'!\" & ADDRESS(196,A100+4)),\"PASS\"),COUNTIF(INDIRECT(\"'Success Criteria'!\" & ADDRESS(136,A100+4)):INDIRECT(\"'Success Criteria'!\" & ADDRESS(196,A100+4)),\"PASS with comments\"))","v":0},{"$f":"COUNTIF(INDIRECT(\"'Success Criteria'!\" & ADDRESS(136,A100+4)):INDIRECT(\"'Success Criteria'!\" & ADDRESS(196,A100+4)),\"NON conformant\")","v":0},{"$f":"COUNTIF(INDIRECT(\"'Success Criteria'!\" & ADDRESS(136,A100+4)):INDIRECT(\"'Success Criteria'!\" & ADDRESS(196,A100+4)),\"N/A\")","v":0},{"$f":"COUNTIF(INDIRECT(\"'Success Criteria'!\" & ADDRESS(136,A100+4)):INDIRECT(\"'Success Criteria'!\" & ADDRESS(196,A100+4)),\"not tested\")","v":0},2,0,1,0,null,1,"",2,"",0,1]
[87,"Page 87","URL 87","Please select",{"$f":"SUM(COUNTIF(INDIRECT(\"'Success Criteria'!\" & ADDRESS(10,A101+4)):INDIRECT(\"'Success Criteria'!\" & ADDRESS(75,A101+4)),\"PASS\"),COUNTIF(INDIRECT(\"'Success Criteria'!\" & ADDRESS(10,A101+4)):INDIRECT(\"'Success Criteria'!\" & ADDRESS(75,A101+4)),\"PASS with comments\"))","v":0},{"$f":"COUNTIF(INDIRECT(\"'Success Criteria'!\" & ADDRESS(10,A101+4)):INDIRECT(\"'Success Criteria'!\" & ADDRESS(75,A101+4)),\"NON conformant\")","v":0},{"$f":"COUNTIF(INDIRECT(\"'Success Criteria'!\" & ADDRESS(10,A101+4)):INDIRECT(\"'Success Criteria'!\" & ADDRESS(75,A101+4)),\"N/A\")","v":1},{"$f":"COUNTIF(INDIRECT(\"'Success Criteria'!\" & ADDRESS(10,A101+4)):INDIRECT(\"'Success Criteria'!\" & ADDRESS(75,A101+4)),\"not tested\")","v":0},{"$f":"SUM(COUNTIF(INDIRECT(\"'Success Criteria'!\" & ADDRESS(80,A101+4)):INDIRECT(\"'Success Criteria'!\" & ADDRESS(131,A101+4)),\"PASS\"),COUNTIF(INDIRECT(\"'Success Criteria'!\" & ADDRESS(80,A101+4)):INDIRECT(\"'Success Criteria'!\" & ADDRESS(131,A101+4)),\"PASS with comments\"))","v":2},{"$f":"COUNTIF(INDIRECT(\"'Success Criteria'!\" & ADDRESS(80,A101+4)):INDIRECT(\"'Success Criteria'!\" & ADDRESS(131,A101+4)),\"NON conformant\")","v":0},{"$f":"COUNTIF(INDIRECT(\"'Success Criteria'!\" & ADDRESS(80,A101+4)):INDIRECT(\"'Success Criteria'!\" & ADDRESS(131,A101+4)),\"N/A\")","v":0},{"$f":"COUNTIF(INDIRECT(\"'Success Criteria'!\" & ADDRESS(80,A101+4)):INDIRECT(\"'Success Criteria'!\" & ADDRESS(131,A101+4)),\"not tested\")","v":0},{"$f":"SUM(COUNTIF(INDIRECT(\"'Success Criteria'!\" & ADDRESS(136,A101+4)):INDIRECT(\"'Success Criteria'!\" & ADDRESS(196,A101+4)),\"PASS\"),COUNTIF(INDIRECT(\"'Success Criteria'!\" & ADDRESS(136,A101+4)):INDIRECT(\"'Success Criteria'!\" & ADDRESS(196,A101+4)),\"PASS with comments\"))","v":0},{"$f":"COUNTIF(INDIRECT(\"'Success Criteria'!\" & ADDRESS(136,A101+4)):INDIRECT(\"'Success Criteria'!\" & ADDRESS(196,A101+4)),\"NON conformant\")","v":0},{"$f":"COUNTIF(INDIRECT(\"'Success Criteria'!\" & ADDRESS(136,A101+4)):INDIRECT(\"'Success Criteria'!\" & ADDRESS(196,A101+4)),\"N/A\")","v":0},{"$f":"COUNTIF(INDIRECT(\"'Success Criteria'!\" & ADDRESS(136,A101+4)):INDIRECT(\"'Success Criteria'!\" & ADDRESS(196,A101+4)),\"not tested\")","v":0},2,0,1,0,null,1,"",2,"",0,1]
[88,"Page 88","URL 88","Please select",{"$f":"SUM(COUNTIF(INDIRECT(\"'Success Criteria'!\" & ADDRESS(10,A102+4)):INDIRECT(\"'Success Criteria'!\" & ADDRESS(75,A102+4)),\"PASS\"),COUNTIF(INDIRECT(\"'Success Criteria'!\" & ADDRESS(10,A102+4)):INDIRECT(\"'Success Criteria'!\" & ADDRESS(75,A102+4)),\"PASS with comments\"))","v":0},{"$f":"COUNTIF(INDIRECT(\"'Success Criteria'!\" & ADDRESS(10,A102+4)):INDIRECT(\"'Success Criteria'!\" & ADDRESS(75,A102+4)),\"NON conformant\")","v":0},{"$f":"COUNTIF(INDIRECT(\"'Success Criteria'!\" & ADDRESS(10,A102+4)):INDIRECT(\"'Success Criteria'!\" & ADDRESS(75,A102+4)),\"N/A\")","v":1},{"$f":"COUNTIF(INDIRECT(\"'Success Criteria'!\" & ADDRESS(10,A102+4)):INDIRECT(\"'Success Criteria'!\" & ADDRESS(75,A102+4)),\"not tested\")","v":0},{"$f":"SUM(COUNTIF(INDIRECT(\"'Success Criteria'!\" & ADDRESS(80,A102+4)):INDIRECT(\"'Success Criteria'!\" & ADDRESS(131,A102+4)),\"PASS\"),COUNTIF(INDIRECT(\"'Success Criteria'!\" & ADDRESS(80,A102+4)):INDIRECT(\"'Success Criteria'!\" & ADDRESS(131,A102+4)),\"PASS with comments\"))","v":2},{"$f":"COUNTIF(INDIRECT(\"'Success Criteria'!\" & ADDRESS(80,A102+4)):INDIRECT(\"'Success Criteria'!\" & ADDRESS(131,A102+4)),\"NON conformant\")","v":0},{"$f":"COUNTIF(INDIRECT(\"'Success Criteria'!\" & ADDRESS(80,A102+4)):INDIRECT(\"'Success Criteria'!\" & ADDRESS(131,A102+4)),\"N/A\")","v":0},{"$f":"COUNTIF(INDIRECT(\"'Success Criteria'!\" & ADDRESS(80,A102+4)):INDIRECT(\"'Success Criteria'!\" & ADDRESS(131,A102+4)),\"not tested\")","v":0},{"$f":"SUM(COUNTIF(INDIRECT(\"'Success Criteria'!\" & ADDRESS(136,A102+4)):INDIRECT(\"'Success Criteria'!\" & ADDRESS(196,A102+4)),\"PASS\"),COUNTIF(INDIRECT(\"'Success Criteria'!\" & ADDRESS(136,A102+4)):INDIRECT(\"'Success Criteria'!\" & ADDRESS(196,A102+4)),\"PASS with comments\"))","v":0},{"$f":"COUNTIF(INDIRECT(\"'Success Criteria'!\" & ADDRESS(136,A102+4)):INDIRECT(\"'Success Criteria'!\" & ADDRESS(196,A102+4)),\"NON conformant\")","v":0},{"$f":"COUNTIF(INDIRECT(\"'Success Criteria'!\" & ADDRESS(136,A102+4)):INDIRECT(\"'Success Criteria'!\" & ADDRESS(196,A102+4)),\"N/A\")","v":0},{"$f":"COUNTIF(INDIRECT(\"'Success Criteria'!\" & ADDRESS(136,A102+4)):INDIRECT(\"'Success Criteria'!\" & ADDRESS(196,A102+4)),\"not tested\")","v":0},2,0,1,0,null,1,"",2,"",0,1]
[89,"Page 89","URL 89","Please select",{"$f":"SUM(COUNTIF(INDIRECT(\"'Success Criteria'!\" & ADDRESS(10,A103+4)):INDIRECT(\"'Success Criteria'!\" & ADDRESS(75,A103+4)),\"PASS\"),COUNTIF(INDIRECT(\"'Success Criteria'!\" & ADDRESS(10,A103+4)):INDIRECT(\"'Success Criteria'!\" & ADDRESS(75,A103+4)),\"PASS with comments\"))","v":0},{"$f":"COUNTIF(INDIRECT(\"'Success Criteria'!\" & ADDRESS(10,A103+4)):INDIRECT(\"'Success Criteria'!\" & ADDRESS(75,A103+4)),\"NON conformant\")","v":0},{"$f":"COUNTIF(INDIRECT(\"'Success Criteria'!\" & ADDRESS(10,A103+4)):INDIRECT(\"'Success Criteria'!\" & ADDRESS(75,A103+4)),\"N/A\")","v":1},{"$f":"COUNTIF(INDIRECT(\"'Success Criteria'!\" & ADDRESS(10,A103+4)):INDIRECT(\"'Success Criteria'!\" & ADDRESS(75,A103+4)),\"not tested\")","v":0},{"$f":"SUM(COUNTIF(INDIRECT(\"'Success Criteria'!\" & ADDRESS(80,A103+4)):INDIRECT(\"'Success Criteria'!\" & ADDRESS(131,A103+4)),\"PASS\"),COUNTIF(INDIRECT(\"'Success Criteria'!\" & ADDRESS(80,A103+4)):INDIRECT(\"'Success Criteria'!\" & ADDRESS(131,A103+4)),\"PASS with comments\"))","v":2},{"$f":"COUNTIF(INDIRECT(\"'Success Criteria'!\" & ADDRESS(80,A103+4)):INDIRECT(\"'Success Criteria'!\" & ADDRESS(131,A103+4)),\"NON conformant\")","v":0},{"$f":"COUNTIF(INDIRECT(\"'Success Criteria'!\" & ADDRESS(80,A103+4)):INDIRECT(\"'Success Criteria'!\" & ADDRESS(131,A103+4)),\"N/A\")","v":0},{"$f":"COUNTIF(INDIRECT(\"'Success Criteria'!\" & ADDRESS(80,A103+4)):INDIRECT(\"'Success Criteria'!\" & ADDRESS(131,A103+4)),\"not tested\")","v":0},{"$f":"SUM(COUNTIF(INDIRECT(\"'Success Criteria'!\" & ADDRESS(136,A103+4)):INDIRECT(\"'Success Criteria'!\" & ADDRESS(196,A103+4)),\"PASS\"),COUNTIF(INDIRECT(\"'Success Criteria'!\" & ADDRESS(136,A103+4)):INDIRECT(\"'Success Criteria'!\" & ADDRESS(196,A103+4)),\"PASS with comments\"))","v":0},{"$f":"COUNTIF(INDIRECT(\"'Success Criteria'!\" & ADDRESS(136,A103+4)):INDIRECT(\"'Success Criteria'!\" & ADDRESS(196,A103+4)),\"NON conformant\")","v":0},{"$f":"COUNTIF(INDIRECT(\"'Success Criteria'!\" & ADDRESS(136,A103+4)):INDIRECT(\"'Success Criteria'!\" & ADDRESS(196,A103+4)),\"N/A\")","v":0},{"$f":"COUNTIF(INDIRECT(\"'Success Criteria'!\" & ADDRESS(136,A103+4)):INDIRECT(\"'Success Criteria'!\" & ADDRESS(196,A103+4)),\"not tested\")","v":0},2,0,1,0,null,1,"",2,"",0,1]
[90,"Page 90","URL 90","Please select",{"$f":"SUM(COUNTIF(INDIRECT(\"'Success Criteria'!\" & ADDRESS(10,A104+4)):INDIRECT(\"'Success Criteria'!\" & ADDRESS(75,A104+4)),\"PASS\"),COUNTIF(INDIRECT(\"'Success Criteria'!\" & ADDRESS(10,A104+4)):INDIRECT(\"'Success Criteria'!\" & ADDRESS(75,A104+4)),\"PASS with comments\"))","v":0},{"$f":"COUNTIF(INDIRECT(\"'Success Criteria'!\" & ADDRESS(10,A104+4)):INDIRECT(\"'Success Criteria'!\" & ADDRESS(75,A104+4)),\"NON conformant\")","v":0},{"$f":"COUNTIF(INDIRECT(\"'Success Criteria'!\" & ADDRESS(10,A104+4)):INDIRECT(\"'Success Criteria'!\" & ADDRESS(75,A104+4)),\"N/A\")","v":1},{"$f":"COUNTIF(INDIRECT(\"'Success Criteria'!\" & ADDRESS(10,A104+4)):INDIRECT(\"'Success Criteria'!\" & ADDRESS(75,A104+4)),\"not tested\")","v":0},{"$f":"SUM(COUNTIF(INDIRECT(\"'Success Criteria'!\" & ADDRESS(80,A104+4)):INDIRECT(\"'Success Criteria'!\" & ADDRESS(131,A104+4)),\"PASS\"),COUNTIF(INDIRECT(\"'Success Criteria'!\" & ADDRESS(80,A104+4)):INDIRECT(\"'Success Criteria'!\" & ADDRESS(131,A104+4)),\"PASS with comments\"))","v":2},{"$f":"COUNTIF(INDIRECT(\"'Success Criteria'!\" & ADDRESS(80,A104+4)):INDIRECT(\"'Success Criteria'!\" & ADDRESS(131,A104+4)),\"NON conformant\")","v":0},{"$f":"COUNTIF(INDIRECT(\"'Success Criteria'!\" & ADDRESS(80,A104+4)):INDIRECT(\"'Success Criteria'!\" & ADDRESS(131,A104+4)),\"N/A\")","v":0},{"$f":"COUNTIF(INDIRECT(\"'Success Criteria'!\" & ADDRESS(80,A104+4)):INDIRECT(\"'Success Criteria'!\" & ADDRESS(131,A104+4)),\"not tested\")","v":0},{"$f":"SUM(COUNTIF(INDIRECT(\"'Success Criteria'!\" & ADDRESS(136,A104+4)):INDIRECT(\"'Success Criteria'!\" & ADDRESS(196,A104+4)),\"PASS\"),COUNTIF(INDIRECT(\"'Success Criteria'!\" & ADDRESS(136,A104+4)):INDIRECT(\"'Success Criteria'!\" & ADDRESS(196,A104+4)),\"PASS with comments\"))","v":0},{"$f":"COUNTIF(INDIRECT(\"'Success Criteria'!\" & ADDRESS(136,A104+4)):INDIRECT(\"'Success Criteria'!\" & ADDRESS(196,A104+4)),\"NON conformant\")","v":0},{"$f":"COUNTIF(INDIRECT(\"'Success Criteria'!\" & ADDRESS(136,A104+4)):INDIRECT(\"'Success Criteria'!\" & ADDRESS(196,A104+4)),\"N/A\")","v":0},{"$f":"COUNTIF(INDIRECT(\"'Success Criteria'!\" & ADDRESS(136,A104+4)):INDIRECT(\"'Success Criteria'!\" & ADDRESS(196,A104+4)),\"not tested\")","v":0},2,0,1,0,null,1,"",2,"",0,1]
[91,"Page 91","URL 91","Please select",{"$f":"SUM(COUNTIF(INDIRECT(\"'Success Criteria'!\" & ADDRESS(10,A105+4)):INDIRECT(\"'Success Criteria'!\" & ADDRESS(75,A105+4)),\"PASS\"),COUNTIF(INDIRECT(\"'Success Criteria'!\" & ADDRESS(10,A105+4)):INDIRECT(\"'Success Criteria'!\" & ADDRESS(75,A105+4)),\"PASS with comments\"))","v":0},{"$f":"COUNTIF(INDIRECT(\"'Success Criteria'!\" & ADDRESS(10,A105+4)):INDIRECT(\"'Success Criteria'!\" & ADDRESS(75,A105+4)),\"NON conformant\")","v":0},{"$f":"COUNTIF(INDIRECT(\"'Success Criteria'!\" & ADDRESS(10,A105+4)):INDIRECT(\"'Success Criteria'!\" & ADDRESS(75,A105+4)),\"N/A\")","v":1},{"$f":"COUNTIF(INDIRECT(\"'Success Criteria'!\" & ADDRESS(10,A105+4)):INDIRECT(\"'Success Criteria'!\" & ADDRESS(75,A105+4)),\"not tested\")","v":0},{"$f":"SUM(COUNTIF(INDIRECT(\"'Success Criteria'!\" & ADDRESS(80,A105+4)):INDIRECT(\"'Success Criteria'!\" & ADDRESS(131,A105+4)),\"PASS\"),COUNTIF(INDIRECT(\"'Success Criteria'!\" & ADDRESS(80,A105+4)):INDIRECT(\"'Success Criteria'!\" & ADDRESS(131,A105+4)),\"PASS with comments\"))","v":2},{"$f":"COUNTIF(INDIRECT(\"'Success Criteria'!\" & ADDRESS(80,A105+4)):INDIRECT(\"'Success Criteria'!\" & ADDRESS(131,A105+4)),\"NON conformant\")","v":0},{"$f":"COUNTIF(INDIRECT(\"'Success Criteria'!\" & ADDRESS(80,A105+4)):INDIRECT(\"'Success Criteria'!\" & ADDRESS(131,A105+4)),\"N/A\")","v":0},{"$f":"COUNTIF(INDIRECT(\"'Success Criteria'!\" & ADDRESS(80,A105+4)):INDIRECT(\"'Success Criteria'!\" & ADDRESS(131,A105+4)),\"not tested\")","v":0},{"$f":"SUM(COUNTIF(INDIRECT(\"'Success Criteria'!\" & ADDRESS(136,A105+4)):INDIRECT(\"'Success Criteria'!\" & ADDRESS(196,A105+4)),\"PASS\"),COUNTIF(INDIRECT(\"'Success Criteria'!\" & ADDRESS(136,A105+4)):INDIRECT(\"'Success Criteria'!\" & ADDRESS(196,A105+4)),\"PASS with comments\"))","v":0},{"$f":"COUNTIF(INDIRECT(\"'Success Criteria'!\" & ADDRESS(136,A105+4)):INDIRECT(\"'Success Criteria'!\" & ADDRESS(196,A105+4)),\"NON conformant\")","v":0},{"$f":"COUNTIF(INDIRECT(\"'Success Criteria'!\" & ADDRESS(136,A105+4)):INDIRECT(\"'Success Criteria'!\" & ADDRESS(196,A105+4)),\"N/A\")","v":0},{"$f":"COUNTIF(INDIRECT(\"'Success Criteria'!\" & ADDRESS(136,A105+4)):INDIRECT(\"'Success Criteria'!\" & ADDRESS(196,A105+4)),\"not tested\")","v":0},2,0,1,0,null,1,"",2,"",0,1]
[92,"Page 92","URL 92","Please select",{"$f":"SUM(COUNTIF(INDIRECT(\"'Success Criteria'!\" & ADDRESS(10,A106+4)):INDIRECT(\"'Success Criteria'!\" & ADDRESS(75,A106+4)),\"PASS\"),COUNTIF(INDIRECT(\"'Success Criteria'!\" & ADDRESS(10,A106+4)):INDIRECT(\"'Success Criteria'!\" & ADDRESS(75,A106+4)),\"PASS with comments\"))","v":0},{"$f":"COUNTIF(INDIRECT(\"'Success Criteria'!\" & ADDRESS(10,A106+4)):INDIRECT(\"'Success Criteria'!\" & ADDRESS(75,A106+4)),\"NON conformant\")","v":0},{"$f":"COUNTIF(INDIRECT(\"'Success Criteria'!\" & ADDRESS(10,A106+4)):INDIRECT(\"'Success Criteria'!\" & ADDRESS(75,A106+4)),\"N/A\")","v":1},{"$f":"COUNTIF(INDIRECT(\"'Success Criteria'!\" & ADDRESS(10,A106+4)):INDIRECT(\"'Success Criteria'!\" & ADDRESS(75,A106+4)),\"not tested\")","v":0},{"$f":"SUM(COUNTIF(INDIRECT(\"'Success Criteria'!\" & ADDRESS(80,A106+4)):INDIRECT(\"'Success Criteria'!\" & ADDRESS(131,A106+4)),\"PASS\"),COUNTIF(INDIRECT(\"'Success Criteria'!\" & ADDRESS(80,A106+4)):INDIRECT(\"'Success Criteria'!\" & ADDRESS(131,A106+4)),\"PASS with comments\"))","v":2},{"$f":"COUNTIF(INDIRECT(\"'Success Criteria'!\" & ADDRESS(80,A106+4)):INDIRECT(\"'Success Criteria'!\" & ADDRESS(131,A106+4)),\"NON conformant\")","v":0},{"$f":"COUNTIF(INDIRECT(\"'Success Criteria'!\" & ADDRESS(80,A106+4)):INDIRECT(\"'Success Criteria'!\" & ADDRESS(131,A106+4)),\"N/A\")","v":0},{"$f":"COUNTIF(INDIRECT(\"'Success Criteria'!\" & ADDRESS(80,A106+4)):INDIRECT(\"'Success Criteria'!\" & ADDRESS(131,A106+4)),\"not tested\")","v":0},{"$f":"SUM(COUNTIF(INDIRECT(\"'Success Criteria'!\" & ADDRESS(136,A106+4)):INDIRECT(\"'Success Criteria'!\" & ADDRESS(196,A106+4)),\"PASS\"),COUNTIF(INDIRECT(\"'Success Criteria'!\" & ADDRESS(136,A106+4)):INDIRECT(\"'Success Criteria'!\" & ADDRESS(196,A106+4)),\"PASS with comments\"))","v":0},{"$f":"COUNTIF(INDIRECT(\"'Success Criteria'!\" & ADDRESS(136,A106+4)):INDIRECT(\"'Success Criteria'!\" & ADDRESS(196,A106+4)),\"NON conformant\")","v":0},{"$f":"COUNTIF(INDIRECT(\"'Success Criteria'!\" & ADDRESS(136,A106+4)):INDIRECT(\"'Success Criteria'!\" & ADDRESS(196,A106+4)),\"N/A\")","v":0},{"$f":"COUNTIF(INDIRECT(\"'Success Criteria'!\" & ADDRESS(136,A106+4)):INDIRECT(\"'Success Criteria'!\" & ADDRESS(196,A106+4)),\"not tested\")","v":0},2,0,1,0,null,1,"",2,"",0,1]
[93,"Page 93","URL 93","Please select",{"$f":"SUM(COUNTIF(INDIRECT(\"'Success Criteria'!\" & ADDRESS(10,A107+4)):INDIRECT(\"'Success Criteria'!\" & ADDRESS(75,A107+4)),\"PASS\"),COUNTIF(INDIRECT(\"'Success Criteria'!\" & ADDRESS(10,A107+4)):INDIRECT(\"'Success Criteria'!\" & ADDRESS(75,A107+4)),\"PASS with comments\"))","v":0},{"$f":"COUNTIF(INDIRECT(\"'Success Criteria'!\" & ADDRESS(10,A107+4)):INDIRECT(\"'Success Criteria'!\" & ADDRESS(75,A107+4)),\"NON conformant\")","v":0},{"$f":"COUNTIF(INDIRECT(\"'Success Criteria'!\" & ADDRESS(10,A107+4)):INDIRECT(\"'Success Criteria'!\" & ADDRESS(75,A107+4)),\"N/A\")","v":1},{"$f":"COUNTIF(INDIRECT(\"'Success Criteria'!\" & ADDRESS(10,A107+4)):INDIRECT(\"'Success Criteria'!\" & ADDRESS(75,A107+4)),\"not tested\")","v":0},{"$f":"SUM(COUNTIF(INDIRECT(\"'Success Criteria'!\" & ADDRESS(80,A107+4)):INDIRECT(\"'Success Criteria'!\" & ADDRESS(131,A107+4)),\"PASS\"),COUNTIF(INDIRECT(\"'Success Criteria'!\" & ADDRESS(80,A107+4)):INDIRECT(\"'Success Criteria'!\" & ADDRESS(131,A107+4)),\"PASS with comments\"))","v":2},{"$f":"COUNTIF(INDIRECT(\"'Success Criteria'!\" & ADDRESS(80,A107+4)):INDIRECT(\"'Success Criteria'!\" & ADDRESS(131,A107+4)),\"NON conformant\")","v":0},{"$f":"COUNTIF(INDIRECT(\"'Success Criteria'!\" & ADDRESS(80,A107+4)):INDIRECT(\"'Success Criteria'!\" & ADDRESS(131,A107+4)),\"N/A\")","v":0},{"$f":"COUNTIF(INDIRECT(\"'Success Criteria'!\" & ADDRESS(80,A107+4)):INDIRECT(\"'Success Criteria'!\" & ADDRESS(131,A107+4)),\"not tested\")","v":0},{"$f":"SUM(COUNTIF(INDIRECT(\"'Success Criteria'!\" & ADDRESS(136,A107+4)):INDIRECT(\"'Success Criteria'!\" & ADDRESS(196,A107+4)),\"PASS\"),COUNTIF(INDIRECT(\"'Success Criteria'!\" & ADDRESS(136,A107+4)):INDIRECT(\"'Success Criteria'!\" & ADDRESS(196,A107+4)),\"PASS with comments\"))","v":0},{"$f":"COUNTIF(INDIRECT(\"'Success Criteria'!\" & ADDRESS(136,A107+4)):INDIRECT(\"'Success Criteria'!\" & ADDRESS(196,A107+4)),\"NON conformant\")","v":0},{"$f":"COUNTIF(INDIRECT(\"'Success Criteria'!\" & ADDRESS(136,A107+4)):INDIRECT(\"'Success Criteria'!\" & ADDRESS(196,A107+4)),\"N/A\")","v":0},{"$f":"COUNTIF(INDIRECT(\"'Success Criteria'!\" & ADDRESS(136,A107+4)):INDIRECT(\"'Success Criteria'!\" & ADDRESS(196,A107+4)),\"not tested\")","v":0},2,0,1,0,null,1,"",2,"",0,1]
[94,"Page 94","URL 94","Please select",{"$f":"SUM(COUNTIF(INDIRECT(\"'Success Criteria'!\" & ADDRESS(10,A108+4)):INDIRECT(\"'Success Criteria'!\" & ADDRESS(75,A108+4)),\"PASS\"),COUNTIF(INDIRECT(\"'Success Criteria'!\" & ADDRESS(10,A108+4)):INDIRECT(\"'Success Criteria'!\" & ADDRESS(75,A108+4)),\"PASS with comments\"))","v":0},{"$f":"COUNTIF(INDIRECT(\"'Success Criteria'!\" & ADDRESS(10,A108+4)):INDIRECT(\"'Success Criteria'!\" & ADDRESS(75,A108+4)),\"NON conformant\")","v":0},{"$f":"COUNTIF(INDIRECT(\"'Success Criteria'!\" & ADDRESS(10,A108+4)):INDIRECT(\"'Success Criteria'!\" & ADDRESS(75,A108+4)),\"N/A\")","v":1},{"$f":"COUNTIF(INDIRECT(\"'Success Criteria'!\" & ADDRESS(10,A108+4)):INDIRECT(\"'Success Criteria'!\" & ADDRESS(75,A108+4)),\"not tested\")","v":0},{"$f":"SUM(COUNTIF(INDIRECT(\"'Success Criteria'!\" & ADDRESS(80,A108+4)):INDIRECT(\"'Success Criteria'!\" & ADDRESS(131,A108+4)),\"PASS\"),COUNTIF(INDIRECT(\"'Success Criteria'!\" & ADDRESS(80,A108+4)):INDIRECT(\"'Success Criteria'!\" & ADDRESS(131,A108+4)),\"PASS with comments\"))","v":2},{"$f":"COUNTIF(INDIRECT(\"'Success Criteria'!\" & ADDRESS(80,A108+4)):INDIRECT(\"'Success Criteria'!\" & ADDRESS(131,A108+4)),\"NON conformant\")","v":0},{"$f":"COUNTIF(INDIRECT(\"'Success Criteria'!\" & ADDRESS(80,A108+4)):INDIRECT(\"'Success Criteria'!\" & ADDRESS(131,A108+4)),\"N/A\")","v":0},{"$f":"COUNTIF(INDIRECT(\"'Success Criteria'!\" & ADDRESS(80,A108+4)):INDIRECT(\"'Success Criteria'!\" & ADDRESS(131,A108+4)),\"not tested\")","v":0},{"$f":"SUM(COUNTIF(INDIRECT(\"'Success Criteria'!\" & ADDRESS(136,A108+4)):INDIRECT(\"'Success Criteria'!\" & ADDRESS(196,A108+4)),\"PASS\"),COUNTIF(INDIRECT(\"'Success Criteria'!\" & ADDRESS(136,A108+4)):INDIRECT(\"'Success Criteria'!\" & ADDRESS(196,A108+4)),\"PASS with comments\"))","v":0},{"$f":"COUNTIF(INDIRECT(\"'Success Criteria'!\" & ADDRESS(136,A108+4)):INDIRECT(\"'Success Criteria'!\" & ADDRESS(196,A108+4)),\"NON conformant\")","v":0},{"$f":"COUNTIF(INDIRECT(\"'Success Criteria'!\" & ADDRESS(136,A108+4)):INDIRECT(\"'Success Criteria'!\" & ADDRESS(196,A108+4)),\"N/A\")","v":0},{"$f":"COUNTIF(INDIRECT(\"'Success Criteria'!\" & ADDRESS(136,A108+4)):INDIRECT(\"'Success Criteria'!\" & ADDRESS(196,A108+4)),\"not tested\")","v":0},2,0,1,0,null,1,"",2,"",0,1]
[95,"Page 95","URL 95","Please select",{"$f":"SUM(COUNTIF(INDIRECT(\"'Success Criteria'!\" & ADDRESS(10,A109+4)):INDIRECT(\"'Success Criteria'!\" & ADDRESS(75,A109+4)),\"PASS\"),COUNTIF(INDIRECT(\"'Success Criteria'!\" & ADDRESS(10,A109+4)):INDIRECT(\"'Success Criteria'!\" & ADDRESS(75,A109+4)),\"PASS with comments\"))","v":0},{"$f":"COUNTIF(INDIRECT(\"'Success Criteria'!\" & ADDRESS(10,A109+4)):INDIRECT(\"'Success Criteria'!\" & ADDRESS(75,A109+4)),\"NON conformant\")","v":0},{"$f":"COUNTIF(INDIRECT(\"'Success Criteria'!\" & ADDRESS(10,A109+4)):INDIRECT(\"'Success Criteria'!\" & ADDRESS(75,A109+4)),\"N/A\")","v":1},{"$f":"COUNTIF(INDIRECT(\"'Success Criteria'!\" & ADDRESS(10,A109+4)):INDIRECT(\"'Success Criteria'!\" & ADDRESS(75,A109+4)),\"not tested\")","v":0},{"$f":"SUM(COUNTIF(INDIRECT(\"'Success Criteria'!\" & ADDRESS(80,A109+4)):INDIRECT(\"'Success Criteria'!\" & ADDRESS(131,A109+4)),\"PASS\"),COUNTIF(INDIRECT(\"'Success Criteria'!\" & ADDRESS(80,A109+4)):INDIRECT(\"'Success Criteria'!\" & ADDRESS(131,A109+4)),\"PASS with comments\"))","v":2},{"$f":"COUNTIF(INDIRECT(\"'Success Criteria'!\" & ADDRESS(80,A109+4)):INDIRECT(\"'Success Criteria'!\" & ADDRESS(131,A109+4)),\"NON conformant\")","v":0},{"$f":"COUNTIF(INDIRECT(\"'Success Criteria'!\" & ADDRESS(80,A109+4)):INDIRECT(\"'Success Criteria'!\" & ADDRESS(131,A109+4)),\"N/A\")","v":0},{"$f":"COUNTIF(INDIRECT(\"'Success Criteria'!\" & ADDRESS(80,A109+4)):INDIRECT(\"'Success Criteria'!\" & ADDRESS(131,A109+4)),\"not tested\")","v":0},{"$f":"SUM(COUNTIF(INDIRECT(\"'Success Criteria'!\" & ADDRESS(136,A109+4)):INDIRECT(\"'Success Criteria'!\" & ADDRESS(196,A109+4)),\"PASS\"),COUNTIF(INDIRECT(\"'Success Criteria'!\" & ADDRESS(136,A109+4)):INDIRECT(\"'Success Criteria'!\" & ADDRESS(196,A109+4)),\"PASS with comments\"))","v":0},{"$f":"COUNTIF(INDIRECT(\"'Success Criteria'!\" & ADDRESS(136,A109+4)):INDIRECT(\"'Success Criteria'!\" & ADDRESS(196,A109+4)),\"NON conformant\")","v":0},{"$f":"COUNTIF(INDIRECT(\"'Success Criteria'!\" & ADDRESS(136,A109+4)):INDIRECT(\"'Success Criteria'!\" & ADDRESS(196,A109+4)),\"N/A\")","v":0},{"$f":"COUNTIF(INDIRECT(\"'Success Criteria'!\" & ADDRESS(136,A109+4)):INDIRECT(\"'Success Criteria'!\" & ADDRESS(196,A109+4)),\"not tested\")","v":0},2,0,1,0,null,1,"",2,"",0,1]
[96,"Page 96","URL 96","Please select",{"$f":"SUM(COUNTIF(INDIRECT(\"'Success Criteria'!\" & ADDRESS(10,A110+4)):INDIRECT(\"'Success Criteria'!\" & ADDRESS(75,A110+4)),\"PASS\"),COUNTIF(INDIRECT(\"'Success Criteria'!\" & ADDRESS(10,A110+4)):INDIRECT(\"'Success Criteria'!\" & ADDRESS(75,A110+4)),\"PASS with comments\"))","v":0},{"$f":"COUNTIF(INDIRECT(\"'Success Criteria'!\" & ADDRESS(10,A110+4)):INDIRECT(\"'Success Criteria'!\" & ADDRESS(75,A110+4)),\"NON conformant\")","v":0},{"$f":"COUNTIF(INDIRECT(\"'Success Criteria'!\" & ADDRESS(10,A110+4)):INDIRECT(\"'Success Criteria'!\" & ADDRESS(75,A110+4)),\"N/A\")","v":1},{"$f":"COUNTIF(INDIRECT(\"'Success Criteria'!\" & ADDRESS(10,A110+4)):INDIRECT(\"'Success Criteria'!\" & ADDRESS(75,A110+4)),\"not tested\")","v":0},{"$f":"SUM(COUNTIF(INDIRECT(\"'Success Criteria'!\" & ADDRESS(80,A110+4)):INDIRECT(\"'Success Criteria'!\" & ADDRESS(131,A110+4)),\"PASS\"),COUNTIF(INDIRECT(\"'Success Criteria'!\" & ADDRESS(80,A110+4)):INDIRECT(\"'Success Criteria'!\" & ADDRESS(131,A110+4)),\"PASS with comments\"))","v":2},{"$f":"COUNTIF(INDIRECT(\"'Success Criteria'!\" & ADDRESS(80,A110+4)):INDIRECT(\"'Success Criteria'!\" & ADDRESS(131,A110+4)),\"NON conformant\")","v":0},{"$f":"COUNTIF(INDIRECT(\"'Success Criteria'!\" & ADDRESS(80,A110+4)):INDIRECT(\"'Success Criteria'!\" & ADDRESS(131,A110+4)),\"N/A\")","v":0},{"$f":"COUNTIF(INDIRECT(\"'Success Criteria'!\" & ADDRESS(80,A110+4)):INDIRECT(\"'Success Criteria'!\" & ADDRESS(131,A110+4)),\"not tested\")","v":0},{"$f":"SUM(COUNTIF(INDIRECT(\"'Success Criteria'!\" & ADDRESS(136,A110+4)):INDIRECT(\"'Success Criteria'!\" & ADDRESS(196,A110+4)),\"PASS\"),COUNTIF(INDIRECT(\"'Success Criteria'!\" & ADDRESS(136,A110+4)):INDIRECT(\"'Success Criteria'!\" & ADDRESS(196,A110+4)),\"PASS with comments\"))","v":0},{"$f":"COUNTIF(INDIRECT(\"'Success Criteria'!\" & ADDRESS(136,A110+4)):INDIRECT(\"'Success Criteria'!\" & ADDRESS(196,A110+4)),\"NON conformant\")","v":0},{"$f":"COUNTIF(INDIRECT(\"'Success Criteria'!\" & ADDRESS(136,A110+4)):INDIRECT(\"'Success Criteria'!\" & ADDRESS(196,A110+4)),\"N/A\")","v":0},{"$f":"COUNTIF(INDIRECT(\"'Success Criteria'!\" & ADDRESS(136,A110+4)):INDIRECT(\"'Success Criteria'!\" & ADDRESS(196,A110+4)),\"not tested\")","v":0},2,0,1,0,null,1,"",2,"",0,1]
[97,"Page 97","URL 97","Please select",{"$f":"SUM(COUNTIF(INDIRECT(\"'Success Criteria'!\" & ADDRESS(10,A111+4)):INDIRECT(\"'Success Criteria'!\" & ADDRESS(75,A111+4)),\"PASS\"),COUNTIF(INDIRECT(\"'Success Criteria'!\" & ADDRESS(10,A111+4)):INDIRECT(\"'Success Criteria'!\" & ADDRESS(75,A111+4)),\"PASS with comments\"))","v":0},{"$f":"COUNTIF(INDIRECT(\"'Success Criteria'!\" & ADDRESS(10,A111+4)):INDIRECT(\"'Success Criteria'!\" & ADDRESS(75,A111+4)),\"NON conformant\")","v":0},{"$f":"COUNTIF(INDIRECT(\"'Success Criteria'!\" & ADDRESS(10,A111+4)):INDIRECT(\"'Success Criteria'!\" & ADDRESS(75,A111+4)),\"N/A\")","v":1},{"$f":"COUNTIF(INDIRECT(\"'Success Criteria'!\" & ADDRESS(10,A111+4)):INDIRECT(\"'Success Criteria'!\" & ADDRESS(75,A111+4)),\"not tested\")","v":0},{"$f":"SUM(COUNTIF(INDIRECT(\"'Success Criteria'!\" & ADDRESS(80,A111+4)):INDIRECT(\"'Success Criteria'!\" & ADDRESS(131,A111+4)),\"PASS\"),COUNTIF(INDIRECT(\"'Success Criteria'!\" & ADDRESS(80,A111+4)):INDIRECT(\"'Success Criteria'!\" & ADDRESS(131,A111+4)),\"PASS with comments\"))","v":2},{"$f":"COUNTIF(INDIRECT(\"'Success Criteria'!\" & ADDRESS(80,A111+4)):INDIRECT(\"'Success Criteria'!\" & ADDRESS(131,A111+4)),\"NON conformant\")","v":0},{"$f":"COUNTIF(INDIRECT(\"'Success Criteria'!\" & ADDRESS(80,A111+4)):INDIRECT(\"'Success Criteria'!\" & ADDRESS(131,A111+4)),\"N/A\")","v":0},{"$f":"COUNTIF(INDIRECT(\"'Success Criteria'!\" & ADDRESS(80,A111+4)):INDIRECT(\"'Success Criteria'!\" & ADDRESS(131,A111+4)),\"not tested\")","v":0},{"$f":"SUM(COUNTIF(INDIRECT(\"'Success Criteria'!\" & ADDRESS(136,A111+4)):INDIRECT(\"'Success Criteria'!\" & ADDRESS(196,A111+4)),\"PASS\"),COUNTIF(INDIRECT(\"'Success Criteria'!\" & ADDRESS(136,A111+4)):INDIRECT(\"'Success Criteria'!\" & ADDRESS(196,A111+4)),\"PASS with comments\"))","v":0},{"$f":"COUNTIF(INDIRECT(\"'Success Criteria'!\" & ADDRESS(136,A111+4)):INDIRECT(\"'Success Criteria'!\" & ADDRESS(196,A111+4)),\"NON conformant\")","v":0},{"$f":"COUNTIF(INDIRECT(\"'Success Criteria'!\" & ADDRESS(136,A111+4)):INDIRECT(\"'Success Criteria'!\" & ADDRESS(196,A111+4)),\"N/A\")","v":0},{"$f":"COUNTIF(INDIRECT(\"'Success Criteria'!\" & ADDRESS(136,A111+4)):INDIRECT(\"'Success Criteria'!\" & ADDRESS(196,A111+4)),\"not tested\")","v":0},2,0,1,0,null,1,"",2,"",0,1]
[98,"Page 98","URL 98","Please select",{"$f":"SUM(COUNTIF(INDIRECT(\"'Success Criteria'!\" & ADDRESS(10,A112+4)):INDIRECT(\"'Success Criteria'!\" & ADDRESS(75,A112+4)),\"PASS\"),COUNTIF(INDIRECT(\"'Success Criteria'!\" & ADDRESS(10,A112+4)):INDIRECT(\"'Success Criteria'!\" & ADDRESS(75,A112+4)),\"PASS with comments\"))","v":0},{"$f":"COUNTIF(INDIRECT(\"'Success Criteria'!\" & ADDRESS(10,A112+4)):INDIRECT(\"'Success Criteria'!\" & ADDRESS(75,A112+4)),\"NON conformant\")","v":0},{"$f":"COUNTIF(INDIRECT(\"'Success Criteria'!\" & ADDRESS(10,A112+4)):INDIRECT(\"'Success Criteria'!\" & ADDRESS(75,A112+4)),\"N/A\")","v":1},{"$f":"COUNTIF(INDIRECT(\"'Success Criteria'!\" & ADDRESS(10,A112+4)):INDIRECT(\"'Success Criteria'!\" & ADDRESS(75,A112+4)),\"not tested\")","v":0},{"$f":"SUM(COUNTIF(INDIRECT(\"'Success Criteria'!\" & ADDRESS(80,A112+4)):INDIRECT(\"'Success Criteria'!\" & ADDRESS(131,A112+4)),\"PASS\"),COUNTIF(INDIRECT(\"'Success Criteria'!\" & ADDRESS(80,A112+4)):INDIRECT(\"'Success Criteria'!\" & ADDRESS(131,A112+4)),\"PASS with comments\"))","v":2},{"$f":"COUNTIF(INDIRECT(\"'Success Criteria'!\" & ADDRESS(80,A112+4)):INDIRECT(\"'Success Criteria'!\" & ADDRESS(131,A112+4)),\"NON conformant\")","v":0},{"$f":"COUNTIF(INDIRECT(\"'Success Criteria'!\" & ADDRESS(80,A112+4)):INDIRECT(\"'Success Criteria'!\" & ADDRESS(131,A112+4)),\"N/A\")","v":0},{"$f":"COUNTIF(INDIRECT(\"'Success Criteria'!\" & ADDRESS(80,A112+4)):INDIRECT(\"'Success Criteria'!\" & ADDRESS(131,A112+4)),\"not tested\")","v":0},{"$f":"SUM(COUNTIF(INDIRECT(\"'Success Criteria'!\" & ADDRESS(136,A112+4)):INDIRECT(\"'Success Criteria'!\" & ADDRESS(196,A112+4)),\"PASS\"),COUNTIF(INDIRECT(\"'Success Criteria'!\" & ADDRESS(136,A112+4)):INDIRECT(\"'Success Criteria'!\" & ADDRESS(196,A112+4)),\"PASS with comments\"))","v":0},{"$f":"COUNTIF(INDIRECT(\"'Success Criteria'!\" & ADDRESS(136,A112+4)):INDIRECT(\"'Success Criteria'!\" & ADDRESS(196,A112+4)),\"NON conformant\")","v":0},{"$f":"COUNTIF(INDIRECT(\"'Success Criteria'!\" & ADDRESS(136,A112+4)):INDIRECT(\"'Success Criteria'!\" & ADDRESS(196,A112+4)),\"N/A\")","v":0},{"$f":"COUNTIF(INDIRECT(\"'Success Criteria'!\" & ADDRESS(136,A112+4)):INDIRECT(\"'Success Criteria'!\" & ADDRESS(196,A112+4)),\"not tested\")","v":0},2,0,1,0,null,1,"",2,"",0,1]
[99,"Page 99","URL 99","Please select",{"$f":"SUM(COUNTIF(INDIRECT(\"'Success Criteria'!\" & ADDRESS(10,A113+4)):INDIRECT(\"'Success Criteria'!\" & ADDRESS(75,A113+4)),\"PASS\"),COUNTIF(INDIRECT(\"'Success Criteria'!\" & ADDRESS(10,A113+4)):INDIRECT(\"'Success Criteria'!\" & ADDRESS(75,A113+4)),\"PASS with comments\"))","v":0},{"$f":"COUNTIF(INDIRECT(\"'Success Criteria'!\" & ADDRESS(10,A113+4)):INDIRECT(\"'Success Criteria'!\" & ADDRESS(75,A113+4)),\"NON conformant\")","v":0},{"$f":"COUNTIF(INDIRECT(\"'Success Criteria'!\" & ADDRESS(10,A113+4)):INDIRECT(\"'Success Criteria'!\" & ADDRESS(75,A113+4)),\"N/A\")","v":1},{"$f":"COUNTIF(INDIRECT(\"'Success Criteria'!\" & ADDRESS(10,A113+4)):INDIRECT(\"'Success Criteria'!\" & ADDRESS(75,A113+4)),\"not tested\")","v":0},{"$f":"SUM(COUNTIF(INDIRECT(\"'Success Criteria'!\" & ADDRESS(80,A113+4)):INDIRECT(\"'Success Criteria'!\" & ADDRESS(131,A113+4)),\"PASS\"),COUNTIF(INDIRECT(\"'Success Criteria'!\" & ADDRESS(80,A113+4)):INDIRECT(\"'Success Criteria'!\" & ADDRESS(131,A113+4)),\"PASS with comments\"))","v":2},{"$f":"COUNTIF(INDIRECT(\"'Success Criteria'!\" & ADDRESS(80,A113+4)):INDIRECT(\"'Success Criteria'!\" & ADDRESS(131,A113+4)),\"NON conformant\")","v":0},{"$f":"COUNTIF(INDIRECT(\"'Success Criteria'!\" & ADDRESS(80,A113+4)):INDIRECT(\"'Success Criteria'!\" & ADDRESS(131,A113+4)),\"N/A\")","v":0},{"$f":"COUNTIF(INDIRECT(\"'Success Criteria'!\" & ADDRESS(80,A113+4)):INDIRECT(\"'Success Criteria'!\" & ADDRESS(131,A113+4)),\"not tested\")","v":0},{"$f":"SUM(COUNTIF(INDIRECT(\"'Success Criteria'!\" & ADDRESS(136,A113+4)):INDIRECT(\"'Success Criteria'!\" & ADDRESS(196,A113+4)),\"PASS\"),COUNTIF(INDIRECT(\"'Success Criteria'!\" & ADDRESS(136,A113+4)):INDIRECT(\"'Success Criteria'!\" & ADDRESS(196,A113+4)),\"PASS with comments\"))","v":0},{"$f":"COUNTIF(INDIRECT(\"'Success Criteria'!\" & ADDRESS(136,A113+4)):INDIRECT(\"'Success Criteria'!\" & ADDRESS(196,A113+4)),\"NON conformant\")","v":0},{"$f":"COUNTIF(INDIRECT(\"'Success Criteria'!\" & ADDRESS(136,A113+4)):INDIRECT(\"'Success Criteria'!\" & ADDRESS(196,A113+4)),\"N/A\")","v":0},{"$f":"COUNTIF(INDIRECT(\"'Success Criteria'!\" & ADDRESS(136,A113+4)):INDIRECT(\"'Success Criteria'!\" & ADDRESS(196,A113+4)),\"not tested\")","v":0},2,0,1,0,null,1,"",2,"",0,1]
[100,"Page 100","URL 100","Please select",{"$f":"SUM(COUNTIF(INDIRECT(\"'Success Criteria'!\" & ADDRESS(10,A114+4)):INDIRECT(\"'Success Criteria'!\" & ADDRESS(75,A114+4)),\"PASS\"),COUNTIF(INDIRECT(\"'Success Criteria'!\" & ADDRESS(10,A114+4)):INDIRECT(\"'Success Criteria'!\" & ADDRESS(75,A114+4)),\"PASS with comments\"))","v":0},{"$f":"COUNTIF(INDIRECT(\"'Success Criteria'!\" & ADDRESS(10,A114+4)):INDIRECT(\"'Success Criteria'!\" & ADDRESS(75,A114+4)),\"NON conformant\")","v":0},{"$f":"COUNTIF(INDIRECT(\"'Success Criteria'!\" & ADDRESS(10,A114+4)):INDIRECT(\"'Success Criteria'!\" & ADDRESS(75,A114+4)),\"N/A\")","v":1},{"$f":"COUNTIF(INDIRECT(\"'Success Criteria'!\" & ADDRESS(10,A114+4)):INDIRECT(\"'Success Criteria'!\" & ADDRESS(75,A114+4)),\"not tested\")","v":0},{"$f":"SUM(COUNTIF(INDIRECT(\"'Success Criteria'!\" & ADDRESS(80,A114+4)):INDIRECT(\"'Success Criteria'!\" & ADDRESS(131,A114+4)),\"PASS\"),COUNTIF(INDIRECT(\"'Success Criteria'!\" & ADDRESS(80,A114+4)):INDIRECT(\"'Success Criteria'!\" & ADDRESS(131,A114+4)),\"PASS with comments\"))","v":2},{"$f":"COUNTIF(INDIRECT(\"'Success Criteria'!\" & ADDRESS(80,A114+4)):INDIRECT(\"'Success Criteria'!\" & ADDRESS(131,A114+4)),\"NON conformant\")","v":0},{"$f":"COUNTIF(INDIRECT(\"'Success Criteria'!\" & ADDRESS(80,A114+4)):INDIRECT(\"'Success Criteria'!\" & ADDRESS(131,A114+4)),\"N/A\")","v":0},{"$f":"COUNTIF(INDIRECT(\"'Success Criteria'!\" & ADDRESS(80,A114+4)):INDIRECT(\"'Success Criteria'!\" & ADDRESS(131,A114+4)),\"not tested\")","v":0},{"$f":"SUM(COUNTIF(INDIRECT(\"'Success Criteria'!\" & ADDRESS(136,A114+4)):INDIRECT(\"'Success Criteria'!\" & ADDRESS(196,A114+4)),\"PASS\"),COUNTIF(INDIRECT(\"'Success Criteria'!\" & ADDRESS(136,A114+4)):INDIRECT(\"'Success Criteria'!\" & ADDRESS(196,A114+4)),\"PASS with comments\"))","v":0},{"$f":"COUNTIF(INDIRECT(\"'Success Criteria'!\" & ADDRESS(136,A114+4)):INDIRECT(\"'Success Criteria'!\" & ADDRESS(196,A114+4)),\"NON conformant\")","v":0},{"$f":"COUNTIF(INDIRECT(\"'Success Criteria'!\" & ADDRESS(136,A114+4)):INDIRECT(\"'Success Criteria'!\" & ADDRESS(196,A114+4)),\"N/A\")","v":0},{"$f":"COUNTIF(INDIRECT(\"'Success Criteria'!\" & ADDRESS(136,A114+4)):INDIRECT(\"'Success Criteria'!\" & ADDRESS(196,A114+4)),\"not tested\")","v":0},2,0,1,0,null,1,"",2,"",0,1]
[101,"Page 101","URL 101","Please select",{"$f":"SUM(COUNTIF(INDIRECT(\"'Success Criteria'!\" & ADDRESS(10,A115+4)):INDIRECT(\"'Success Criteria'!\" & ADDRESS(75,A115+4)),\"PASS\"),COUNTIF(INDIRECT(\"'Success Criteria'!\" & ADDRESS(10,A115+4)):INDIRECT(\"'Success Criteria'!\" & ADDRESS(75,A115+4)),\"PASS with comments\"))","v":0},{"$f":"COUNTIF(INDIRECT(\"'Success Criteria'!\" & ADDRESS(10,A115+4)):INDIRECT(\"'Success Criteria'!\" & ADDRESS(75,A115+4)),\"NON conformant\")","v":0},{"$f":"COUNTIF(INDIRECT(\"'Success Criteria'!\" & ADDRESS(10,A115+4)):INDIRECT(\"'Success Criteria'!\" & ADDRESS(75,A115+4)),\"N/A\")","v":1},{"$f":"COUNTIF(INDIRECT(\"'Success Criteria'!\" & ADDRESS(10,A115+4)):INDIRECT(\"'Success Criteria'!\" & ADDRESS(75,A115+4)),\"not tested\")","v":0},{"$f":"SUM(COUNTIF(INDIRECT(\"'Success Criteria'!\" & ADDRESS(80,A115+4)):INDIRECT(\"'Success Criteria'!\" & ADDRESS(131,A115+4)),\"PASS\"),COUNTIF(INDIRECT(\"'Success Criteria'!\" & ADDRESS(80,A115+4)):INDIRECT(\"'Success Criteria'!\" & ADDRESS(131,A115+4)),\"PASS with comments\"))","v":2},{"$f":"COUNTIF(INDIRECT(\"'Success Criteria'!\" & ADDRESS(80,A115+4)):INDIRECT(\"'Success Criteria'!\" & ADDRESS(131,A115+4)),\"NON conformant\")","v":0},{"$f":"COUNTIF(INDIRECT(\"'Success Criteria'!\" & ADDRESS(80,A115+4)):INDIRECT(\"'Success Criteria'!\" & ADDRESS(131,A115+4)),\"N/A\")","v":0},{"$f":"COUNTIF(INDIRECT(\"'Success Criteria'!\" & ADDRESS(80,A115+4)):INDIRECT(\"'Success Criteria'!\" & ADDRESS(131,A115+4)),\"not tested\")","v":0},{"$f":"SUM(COUNTIF(INDIRECT(\"'Success Criteria'!\" & ADDRESS(136,A115+4)):INDIRECT(\"'Success Criteria'!\" & ADDRESS(196,A115+4)),\"PASS\"),COUNTIF(INDIRECT(\"'Success Criteria'!\" & ADDRESS(136,A115+4)):INDIRECT(\"'Success Criteria'!\" & ADDRESS(196,A115+4)),\"PASS with comments\"))","v":0},{"$f":"COUNTIF(INDIRECT(\"'Success Criteria'!\" & ADDRESS(136,A115+4)):INDIRECT(\"'Success Criteria'!\" & ADDRESS(196,A115+4)),\"NON conformant\")","v":0},{"$f":"COUNTIF(INDIRECT(\"'Success Criteria'!\" & ADDRESS(136,A115+4)):INDIRECT(\"'Success Criteria'!\" & ADDRESS(196,A115+4)),\"N/A\")","v":0},{"$f":"COUNTIF(INDIRECT(\"'Success Criteria'!\" & ADDRESS(136,A115+4)):INDIRECT(\"'Success Criteria'!\" & ADDRESS(196,A115+4)),\"not tested\")","v":0},2,0,1,0,null,1,"",2,"",0,1]
[102,"Page 102","URL 102","Please select",{"$f":"SUM(COUNTIF(INDIRECT(\"'Success Criteria'!\" & ADDRESS(10,A116+4)):INDIRECT(\"'Success Criteria'!\" & ADDRESS(75,A116+4)),\"PASS\"),COUNTIF(INDIRECT(\"'Success Criteria'!\" & ADDRESS(10,A116+4)):INDIRECT(\"'Success Criteria'!\" & ADDRESS(75,A116+4)),\"PASS with comments\"))","v":0},{"$f":"COUNTIF(INDIRECT(\"'Success Criteria'!\" & ADDRESS(10,A116+4)):INDIRECT(\"'Success Criteria'!\" & ADDRESS(75,A116+4)),\"NON conformant\")","v":0},{"$f":"COUNTIF(INDIRECT(\"'Success Criteria'!\" & ADDRESS(10,A116+4)):INDIRECT(\"'Success Criteria'!\" & ADDRESS(75,A116+4)),\"N/A\")","v":1},{"$f":"COUNTIF(INDIRECT(\"'Success Criteria'!\" & ADDRESS(10,A116+4)):INDIRECT(\"'Success Criteria'!\" & ADDRESS(75,A116+4)),\"not tested\")","v":0},{"$f":"SUM(COUNTIF(INDIRECT(\"'Success Criteria'!\" & ADDRESS(80,A116+4)):INDIRECT(\"'Success Criteria'!\" & ADDRESS(131,A116+4)),\"PASS\"),COUNTIF(INDIRECT(\"'Success Criteria'!\" & ADDRESS(80,A116+4)):INDIRECT(\"'Success Criteria'!\" & ADDRESS(131,A116+4)),\"PASS with comments\"))","v":2},{"$f":"COUNTIF(INDIRECT(\"'Success Criteria'!\" & ADDRESS(80,A116+4)):INDIRECT(\"'Success Criteria'!\" & ADDRESS(131,A116+4)),\"NON conformant\")","v":0},{"$f":"COUNTIF(INDIRECT(\"'Success Criteria'!\" & ADDRESS(80,A116+4)):INDIRECT(\"'Success Criteria'!\" & ADDRESS(131,A116+4)),\"N/A\")","v":0},{"$f":"COUNTIF(INDIRECT(\"'Success Criteria'!\" & ADDRESS(80,A116+4)):INDIRECT(\"'Success Criteria'!\" & ADDRESS(131,A116+4)),\"not tested\")","v":0},{"$f":"SUM(COUNTIF(INDIRECT(\"'Success Criteria'!\" & ADDRESS(136,A116+4)):INDIRECT(\"'Success Criteria'!\" & ADDRESS(196,A116+4)),\"PASS\"),COUNTIF(INDIRECT(\"'Success Criteria'!\" & ADDRESS(136,A116+4)):INDIRECT(\"'Success Criteria'!\" & ADDRESS(196,A116+4)),\"PASS with comments\"))","v":0},{"$f":"COUNTIF(INDIRECT(\"'Success Criteria'!\" & ADDRESS(136,A116+4)):INDIRECT(\"'Success Criteria'!\" & ADDRESS(196,A116+4)),\"NON conformant\")","v":0},{"$f":"COUNTIF(INDIRECT(\"'Success Criteria'!\" & ADDRESS(136,A116+4)):INDIRECT(\"'Success Criteria'!\" & ADDRESS(196,A116+4)),\"N/A\")","v":0},{"$f":"COUNTIF(INDIRECT(\"'Success Criteria'!\" & ADDRESS(136,A116+4)):INDIRECT(\"'Success Criteria'!\" & ADDRESS(196,A116+4)),\"not tested\")","v":0},2,0,1,0,null,1,"",2,"",0,1]
[103,"Page 103","URL 103","Please select",{"$f":"SUM(COUNTIF(INDIRECT(\"'Success Criteria'!\" & ADDRESS(10,A117+4)):INDIRECT(\"'Success Criteria'!\" & ADDRESS(75,A117+4)),\"PASS\"),COUNTIF(INDIRECT(\"'Success Criteria'!\" & ADDRESS(10,A117+4)):INDIRECT(\"'Success Criteria'!\" & ADDRESS(75,A117+4)),\"PASS with comments\"))","v":0},{"$f":"COUNTIF(INDIRECT(\"'Success Criteria'!\" & ADDRESS(10,A117+4)):INDIRECT(\"'Success Criteria'!\" & ADDRESS(75,A117+4)),\"NON conformant\")","v":0},{"$f":"COUNTIF(INDIRECT(\"'Success Criteria'!\" & ADDRESS(10,A117+4)):INDIRECT(\"'Success Criteria'!\" & ADDRESS(75,A117+4)),\"N/A\")","v":1},{"$f":"COUNTIF(INDIRECT(\"'Success Criteria'!\" & ADDRESS(10,A117+4)):INDIRECT(\"'Success Criteria'!\" & ADDRESS(75,A117+4)),\"not tested\")","v":0},{"$f":"SUM(COUNTIF(INDIRECT(\"'Success Criteria'!\" & ADDRESS(80,A117+4)):INDIRECT(\"'Success Criteria'!\" & ADDRESS(131,A117+4)),\"PASS\"),COUNTIF(INDIRECT(\"'Success Criteria'!\" & ADDRESS(80,A117+4)):INDIRECT(\"'Success Criteria'!\" & ADDRESS(131,A117+4)),\"PASS with comments\"))","v":2},{"$f":"COUNTIF(INDIRECT(\"'Success Criteria'!\" & ADDRESS(80,A117+4)):INDIRECT(\"'Success Criteria'!\" & ADDRESS(131,A117+4)),\"NON conformant\")","v":0},{"$f":"COUNTIF(INDIRECT(\"'Success Criteria'!\" & ADDRESS(80,A117+4)):INDIRECT(\"'Success Criteria'!\" & ADDRESS(131,A117+4)),\"N/A\")","v":0},{"$f":"COUNTIF(INDIRECT(\"'Success Criteria'!\" & ADDRESS(80,A117+4)):INDIRECT(\"'Success Criteria'!\" & ADDRESS(131,A117+4)),\"not tested\")","v":0},{"$f":"SUM(COUNTIF(INDIRECT(\"'Success Criteria'!\" & ADDRESS(136,A117+4)):INDIRECT(\"'Success Criteria'!\" & ADDRESS(196,A117+4)),\"PASS\"),COUNTIF(INDIRECT(\"'Success Criteria'!\" & ADDRESS(136,A117+4)):INDIRECT(\"'Success Criteria'!\" & ADDRESS(196,A117+4)),\"PASS with comments\"))","v":0},{"$f":"COUNTIF(INDIRECT(\"'Success Criteria'!\" & ADDRESS(136,A117+4)):INDIRECT(\"'Success Criteria'!\" & ADDRESS(196,A117+4)),\"NON conformant\")","v":0},{"$f":"COUNTIF(INDIRECT(\"'Success Criteria'!\" & ADDRESS(136,A117+4)):INDIRECT(\"'Success Criteria'!\" & ADDRESS(196,A117+4)),\"N/A\")","v":0},{"$f":"COUNTIF(INDIRECT(\"'Success Criteria'!\" & ADDRESS(136,A117+4)):INDIRECT(\"'Success Criteria'!\" & ADDRESS(196,A117+4)),\"not tested\")","v":0},2,0,1,0,null,1,"",2,"",0,1]
[104,"Page 104","URL 104","Please select",{"$f":"SUM(COUNTIF(INDIRECT(\"'Success Criteria'!\" & ADDRESS(10,A118+4)):INDIRECT(\"'Success Criteria'!\" & ADDRESS(75,A118+4)),\"PASS\"),COUNTIF(INDIRECT(\"'Success Criteria'!\" & ADDRESS(10,A118+4)):INDIRECT(\"'Success Criteria'!\" & ADDRESS(75,A118+4)),\"PASS with comments\"))","v":0},{"$f":"COUNTIF(INDIRECT(\"'Success Criteria'!\" & ADDRESS(10,A118+4)):INDIRECT(\"'Success Criteria'!\" & ADDRESS(75,A118+4)),\"NON conformant\")","v":0},{"$f":"COUNTIF(INDIRECT(\"'Success Criteria'!\" & ADDRESS(10,A118+4)):INDIRECT(\"'Success Criteria'!\" & ADDRESS(75,A118+4)),\"N/A\")","v":1},{"$f":"COUNTIF(INDIRECT(\"'Success Criteria'!\" & ADDRESS(10,A118+4)):INDIRECT(\"'Success Criteria'!\" & ADDRESS(75,A118+4)),\"not tested\")","v":0},{"$f":"SUM(COUNTIF(INDIRECT(\"'Success Criteria'!\" & ADDRESS(80,A118+4)):INDIRECT(\"'Success Criteria'!\" & ADDRESS(131,A118+4)),\"PASS\"),COUNTIF(INDIRECT(\"'Success Criteria'!\" & ADDRESS(80,A118+4)):INDIRECT(\"'Success Criteria'!\" & ADDRESS(131,A118+4)),\"PASS with comments\"))","v":2},{"$f":"COUNTIF(INDIRECT(\"'Success Criteria'!\" & ADDRESS(80,A118+4)):INDIRECT(\"'Success Criteria'!\" & ADDRESS(131,A118+4)),\"NON conformant\")","v":0},{"$f":"COUNTIF(INDIRECT(\"'Success Criteria'!\" & ADDRESS(80,A118+4)):INDIRECT(\"'Success Criteria'!\" & ADDRESS(131,A118+4)),\"N/A\")","v":0},{"$f":"COUNTIF(INDIRECT(\"'Success Criteria'!\" & ADDRESS(80,A118+4)):INDIRECT(\"'Success Criteria'!\" & ADDRESS(131,A118+4)),\"not tested\")","v":0},{"$f":"SUM(COUNTIF(INDIRECT(\"'Success Criteria'!\" & ADDRESS(136,A118+4)):INDIRECT(\"'Success Criteria'!\" & ADDRESS(196,A118+4)),\"PASS\"),COUNTIF(INDIRECT(\"'Success Criteria'!\" & ADDRESS(136,A118+4)):INDIRECT(\"'Success Criteria'!\" & ADDRESS(196,A118+4)),\"PASS with comments\"))","v":0},{"$f":"COUNTIF(INDIRECT(\"'Success Criteria'!\" & ADDRESS(136,A118+4)):INDIRECT(\"'Success Criteria'!\" & ADDRESS(196,A118+4)),\"NON conformant\")","v":0},{"$f":"COUNTIF(INDIRECT(\"'Success Criteria'!\" & ADDRESS(136,A118+4)):INDIRECT(\"'Success Criteria'!\" & ADDRESS(196,A118+4)),\"N/A\")","v":0},{"$f":"COUNTIF(INDIRECT(\"'Success Criteria'!\" & ADDRESS(136,A118+4)):INDIRECT(\"'Success Criteria'!\" & ADDRESS(196,A118+4)),\"not tested\")","v":0},2,0,1,0,null,1,"",2,"",0,1]
[105,"Page 105","URL 105","Please select",{"$f":"SUM(COUNTIF(INDIRECT(\"'Success Criteria'!\" & ADDRESS(10,A119+4)):INDIRECT(\"'Success Criteria'!\" & ADDRESS(75,A119+4)),\"PASS\"),COUNTIF(INDIRECT(\"'Success Criteria'!\" & ADDRESS(10,A119+4)):INDIRECT(\"'Success Criteria'!\" & ADDRESS(75,A119+4)),\"PASS with comments\"))","v":0},{"$f":"COUNTIF(INDIRECT(\"'Success Criteria'!\" & ADDRESS(10,A119+4)):INDIRECT(\"'Success Criteria'!\" & ADDRESS(75,A119+4)),\"NON conformant\")","v":0},{"$f":"COUNTIF(INDIRECT(\"'Success Criteria'!\" & ADDRESS(10,A119+4)):INDIRECT(\"'Success Criteria'!\" & ADDRESS(75,A119+4)),\"N/A\")","v":1},{"$f":"COUNTIF(INDIRECT(\"'Success Criteria'!\" & ADDRESS(10,A119+4)):INDIRECT(\"'Success Criteria'!\" & ADDRESS(75,A119+4)),\"not tested\")","v":0},{"$f":"SUM(COUNTIF(INDIRECT(\"'Success Criteria'!\" & ADDRESS(80,A119+4)):INDIRECT(\"'Success Criteria'!\" & ADDRESS(131,A119+4)),\"PASS\"),COUNTIF(INDIRECT(\"'Success Criteria'!\" & ADDRESS(80,A119+4)):INDIRECT(\"'Success Criteria'!\" & ADDRESS(131,A119+4)),\"PASS with comments\"))","v":2},{"$f":"COUNTIF(INDIRECT(\"'Success Criteria'!\" & ADDRESS(80,A119+4)):INDIRECT(\"'Success Criteria'!\" & ADDRESS(131,A119+4)),\"NON conformant\")","v":0},{"$f":"COUNTIF(INDIRECT(\"'Success Criteria'!\" & ADDRESS(80,A119+4)):INDIRECT(\"'Success Criteria'!\" & ADDRESS(131,A119+4)),\"N/A\")","v":0},{"$f":"COUNTIF(INDIRECT(\"'Success Criteria'!\" & ADDRESS(80,A119+4)):INDIRECT(\"'Success Criteria'!\" & ADDRESS(131,A119+4)),\"not tested\")","v":0},{"$f":"SUM(COUNTIF(INDIRECT(\"'Success Criteria'!\" & ADDRESS(136,A119+4)):INDIRECT(\"'Success Criteria'!\" & ADDRESS(196,A119+4)),\"PASS\"),COUNTIF(INDIRECT(\"'Success Criteria'!\" & ADDRESS(136,A119+4)):INDIRECT(\"'Success Criteria'!\" & ADDRESS(196,A119+4)),\"PASS with comments\"))","v":0},{"$f":"COUNTIF(INDIRECT(\"'Success Criteria'!\" & ADDRESS(136,A119+4)):INDIRECT(\"'Success Criteria'!\" & ADDRESS(196,A119+4)),\"NON conformant\")","v":0},{"$f":"COUNTIF(INDIRECT(\"'Success Criteria'!\" & ADDRESS(136,A119+4)):INDIRECT(\"'Success Criteria'!\" & ADDRESS(196,A119+4)),\"N/A\")","v":0},{"$f":"COUNTIF(INDIRECT(\"'Success Criteria'!\" & ADDRESS(136,A119+4)):INDIRECT(\"'Success Criteria'!\" & ADDRESS(196,A119+4)),\"not tested\")","v":0},2,0,1,0,null,1,"",2,"",0,1]
[106,"Page 106","URL 106","Please select",{"$f":"SUM(COUNTIF(INDIRECT(\"'Success Criteria'!\" & ADDRESS(10,A120+4)):INDIRECT(\"'Success Criteria'!\" & ADDRESS(75,A120+4)),\"PASS\"),COUNTIF(INDIRECT(\"'Success Criteria'!\" & ADDRESS(10,A120+4)):INDIRECT(\"'Success Criteria'!\" & ADDRESS(75,A120+4)),\"PASS with comments\"))","v":0},{"$f":"COUNTIF(INDIRECT(\"'Success Criteria'!\" & ADDRESS(10,A120+4)):INDIRECT(\"'Success Criteria'!\" & ADDRESS(75,A120+4)),\"NON conformant\")","v":0},{"$f":"COUNTIF(INDIRECT(\"'Success Criteria'!\" & ADDRESS(10,A120+4)):INDIRECT(\"'Success Criteria'!\" & ADDRESS(75,A120+4)),\"N/A\")","v":1},{"$f":"COUNTIF(INDIRECT(\"'Success Criteria'!\" & ADDRESS(10,A120+4)):INDIRECT(\"'Success Criteria'!\" & ADDRESS(75,A120+4)),\"not tested\")","v":0},{"$f":"SUM(COUNTIF(INDIRECT(\"'Success Criteria'!\" & ADDRESS(80,A120+4)):INDIRECT(\"'Success Criteria'!\" & ADDRESS(131,A120+4)),\"PASS\"),COUNTIF(INDIRECT(\"'Success Criteria'!\" & ADDRESS(80,A120+4)):INDIRECT(\"'Success Criteria'!\" & ADDRESS(131,A120+4)),\"PASS with comments\"))","v":2},{"$f":"COUNTIF(INDIRECT(\"'Success Criteria'!\" & ADDRESS(80,A120+4)):INDIRECT(\"'Success Criteria'!\" & ADDRESS(131,A120+4)),\"NON conformant\")","v":0},{"$f":"COUNTIF(INDIRECT(\"'Success Criteria'!\" & ADDRESS(80,A120+4)):INDIRECT(\"'Success Criteria'!\" & ADDRESS(131,A120+4)),\"N/A\")","v":0},{"$f":"COUNTIF(INDIRECT(\"'Success Criteria'!\" & ADDRESS(80,A120+4)):INDIRECT(\"'Success Criteria'!\" & ADDRESS(131,A120+4)),\"not tested\")","v":0},{"$f":"SUM(COUNTIF(INDIRECT(\"'Success Criteria'!\" & ADDRESS(136,A120+4)):INDIRECT(\"'Success Criteria'!\" & ADDRESS(196,A120+4)),\"PASS\"),COUNTIF(INDIRECT(\"'Success Criteria'!\" & ADDRESS(136,A120+4)):INDIRECT(\"'Success Criteria'!\" & ADDRESS(196,A120+4)),\"PASS with comments\"))","v":0},{"$f":"COUNTIF(INDIRECT(\"'Success Criteria'!\" & ADDRESS(136,A120+4)):INDIRECT(\"'Success Criteria'!\" & ADDRESS(196,A120+4)),\"NON conformant\")","v":0},{"$f":"COUNTIF(INDIRECT(\"'Success Criteria'!\" & ADDRESS(136,A120+4)):INDIRECT(\"'Success Criteria'!\" & ADDRESS(196,A120+4)),\"N/A\")","v":0},{"$f":"COUNTIF(INDIRECT(\"'Success Criteria'!\" & ADDRESS(136,A120+4)):INDIRECT(\"'Success Criteria'!\" & ADDRESS(196,A120+4)),\"not tested\")","v":0},2,0,1,0,null,1,"",2,"",0,1]
[107,"Page 107","URL 107","Please select",{"$f":"SUM(COUNTIF(INDIRECT(\"'Success Criteria'!\" & ADDRESS(10,A121+4)):INDIRECT(\"'Success Criteria'!\" & ADDRESS(75,A121+4)),\"PASS\"),COUNTIF(INDIRECT(\"'Success Criteria'!\" & ADDRESS(10,A121+4)):INDIRECT(\"'Success Criteria'!\" & ADDRESS(75,A121+4)),\"PASS with comments\"))","v":0},{"$f":"COUNTIF(INDIRECT(\"'Success Criteria'!\" & ADDRESS(10,A121+4)):INDIRECT(\"'Success Criteria'!\" & ADDRESS(75,A121+4)),\"NON conformant\")","v":0},{"$f":"COUNTIF(INDIRECT(\"'Success Criteria'!\" & ADDRESS(10,A121+4)):INDIRECT(\"'Success Criteria'!\" & ADDRESS(75,A121+4)),\"N/A\")","v":1},{"$f":"COUNTIF(INDIRECT(\"'Success Criteria'!\" & ADDRESS(10,A121+4)):INDIRECT(\"'Success Criteria'!\" & ADDRESS(75,A121+4)),\"not tested\")","v":0},{"$f":"SUM(COUNTIF(INDIRECT(\"'Success Criteria'!\" & ADDRESS(80,A121+4)):INDIRECT(\"'Success Criteria'!\" & ADDRESS(131,A121+4)),\"PASS\"),COUNTIF(INDIRECT(\"'Success Criteria'!\" & ADDRESS(80,A121+4)):INDIRECT(\"'Success Criteria'!\" & ADDRESS(131,A121+4)),\"PASS with comments\"))","v":2},{"$f":"COUNTIF(INDIRECT(\"'Success Criteria'!\" & ADDRESS(80,A121+4)):INDIRECT(\"'Success Criteria'!\" & ADDRESS(131,A121+4)),\"NON conformant\")","v":0},{"$f":"COUNTIF(INDIRECT(\"'Success Criteria'!\" & ADDRESS(80,A121+4)):INDIRECT(\"'Success Criteria'!\" & ADDRESS(131,A121+4)),\"N/A\")","v":0},{"$f":"COUNTIF(INDIRECT(\"'Success Criteria'!\" & ADDRESS(80,A121+4)):INDIRECT(\"'Success Criteria'!\" & ADDRESS(131,A121+4)),\"not tested\")","v":0},{"$f":"SUM(COUNTIF(INDIRECT(\"'Success Criteria'!\" & ADDRESS(136,A121+4)):INDIRECT(\"'Success Criteria'!\" & ADDRESS(196,A121+4)),\"PASS\"),COUNTIF(INDIRECT(\"'Success Criteria'!\" & ADDRESS(136,A121+4)):INDIRECT(\"'Success Criteria'!\" & ADDRESS(196,A121+4)),\"PASS with comments\"))","v":0},{"$f":"COUNTIF(INDIRECT(\"'Success Criteria'!\" & ADDRESS(136,A121+4)):INDIRECT(\"'Success Criteria'!\" & ADDRESS(196,A121+4)),\"NON conformant\")","v":0},{"$f":"COUNTIF(INDIRECT(\"'Success Criteria'!\" & ADDRESS(136,A121+4)):INDIRECT(\"'Success Criteria'!\" & ADDRESS(196,A121+4)),\"N/A\")","v":0},{"$f":"COUNTIF(INDIRECT(\"'Success Criteria'!\" & ADDRESS(136,A121+4)):INDIRECT(\"'Success Criteria'!\" & ADDRESS(196,A121+4)),\"not tested\")","v":0},2,0,1,0,null,1,"",2,"",0,1]
[108,"Page 108","URL 108","Please select",{"$f":"SUM(COUNTIF(INDIRECT(\"'Success Criteria'!\" & ADDRESS(10,A122+4)):INDIRECT(\"'Success Criteria'!\" & ADDRESS(75,A122+4)),\"PASS\"),COUNTIF(INDIRECT(\"'Success Criteria'!\" & ADDRESS(10,A122+4)):INDIRECT(\"'Success Criteria'!\" & ADDRESS(75,A122+4)),\"PASS with comments\"))","v":0},{"$f":"COUNTIF(INDIRECT(\"'Success Criteria'!\" & ADDRESS(10,A122+4)):INDIRECT(\"'Success Criteria'!\" & ADDRESS(75,A122+4)),\"NON conformant\")","v":0},{"$f":"COUNTIF(INDIRECT(\"'Success Criteria'!\" & ADDRESS(10,A122+4)):INDIRECT(\"'Success Criteria'!\" & ADDRESS(75,A122+4)),\"N/A\")","v":1},{"$f":"COUNTIF(INDIRECT(\"'Success Criteria'!\" & ADDRESS(10,A122+4)):INDIRECT(\"'Success Criteria'!\" & ADDRESS(75,A122+4)),\"not tested\")","v":0},{"$f":"SUM(COUNTIF(INDIRECT(\"'Success Criteria'!\" & ADDRESS(80,A122+4)):INDIRECT(\"'Success Criteria'!\" & ADDRESS(131,A122+4)),\"PASS\"),COUNTIF(INDIRECT(\"'Success Criteria'!\" & ADDRESS(80,A122+4)):INDIRECT(\"'Success Criteria'!\" & ADDRESS(131,A122+4)),\"PASS with comments\"))","v":2},{"$f":"COUNTIF(INDIRECT(\"'Success Criteria'!\" & ADDRESS(80,A122+4)):INDIRECT(\"'Success Criteria'!\" & ADDRESS(131,A122+4)),\"NON conformant\")","v":0},{"$f":"COUNTIF(INDIRECT(\"'Success Criteria'!\" & ADDRESS(80,A122+4)):INDIRECT(\"'Success Criteria'!\" & ADDRESS(131,A122+4)),\"N/A\")","v":0},{"$f":"COUNTIF(INDIRECT(\"'Success Criteria'!\" & ADDRESS(80,A122+4)):INDIRECT(\"'Success Criteria'!\" & ADDRESS(131,A122+4)),\"not tested\")","v":0},{"$f":"SUM(COUNTIF(INDIRECT(\"'Success Criteria'!\" & ADDRESS(136,A122+4)):INDIRECT(\"'Success Criteria'!\" & ADDRESS(196,A122+4)),\"PASS\"),COUNTIF(INDIRECT(\"'Success Criteria'!\" & ADDRESS(136,A122+4)):INDIRECT(\"'Success Criteria'!\" & ADDRESS(196,A122+4)),\"PASS with comments\"))","v":0},{"$f":"COUNTIF(INDIRECT(\"'Success Criteria'!\" & ADDRESS(136,A122+4)):INDIRECT(\"'Success Criteria'!\" & ADDRESS(196,A122+4)),\"NON conformant\")","v":0},{"$f":"COUNTIF(INDIRECT(\"'Success Criteria'!\" & ADDRESS(136,A122+4)):INDIRECT(\"'Success Criteria'!\" & ADDRESS(196,A122+4)),\"N/A\")","v":0},{"$f":"COUNTIF(INDIRECT(\"'Success Criteria'!\" & ADDRESS(136,A122+4)):INDIRECT(\"'Success Criteria'!\" & ADDRESS(196,A122+4)),\"not tested\")","v":0},2,0,1,0,null,1,"",2,"",0,1]
[109,"Page 109","URL 109","Please select",{"$f":"SUM(COUNTIF(INDIRECT(\"'Success Criteria'!\" & ADDRESS(10,A123+4)):INDIRECT(\"'Success Criteria'!\" & ADDRESS(75,A123+4)),\"PASS\"),COUNTIF(INDIRECT(\"'Success Criteria'!\" & ADDRESS(10,A123+4)):INDIRECT(\"'Success Criteria'!\" & ADDRESS(75,A123+4)),\"PASS with comments\"))","v":0},{"$f":"COUNTIF(INDIRECT(\"'Success Criteria'!\" & ADDRESS(10,A123+4)):INDIRECT(\"'Success Criteria'!\" & ADDRESS(75,A123+4)),\"NON conformant\")","v":0},{"$f":"COUNTIF(INDIRECT(\"'Success Criteria'!\" & ADDRESS(10,A123+4)):INDIRECT(\"'Success Criteria'!\" & ADDRESS(75,A123+4)),\"N/A\")","v":1},{"$f":"COUNTIF(INDIRECT(\"'Success Criteria'!\" & ADDRESS(10,A123+4)):INDIRECT(\"'Success Criteria'!\" & ADDRESS(75,A123+4)),\"not tested\")","v":0},{"$f":"SUM(COUNTIF(INDIRECT(\"'Success Criteria'!\" & ADDRESS(80,A123+4)):INDIRECT(\"'Success Criteria'!\" & ADDRESS(131,A123+4)),\"PASS\"),COUNTIF(INDIRECT(\"'Success Criteria'!\" & ADDRESS(80,A123+4)):INDIRECT(\"'Success Criteria'!\" & ADDRESS(131,A123+4)),\"PASS with comments\"))","v":2},{"$f":"COUNTIF(INDIRECT(\"'Success Criteria'!\" & ADDRESS(80,A123+4)):INDIRECT(\"'Success Criteria'!\" & ADDRESS(131,A123+4)),\"NON conformant\")","v":0},{"$f":"COUNTIF(INDIRECT(\"'Success Criteria'!\" & ADDRESS(80,A123+4)):INDIRECT(\"'Success Criteria'!\" & ADDRESS(131,A123+4)),\"N/A\")","v":0},{"$f":"COUNTIF(INDIRECT(\"'Success Criteria'!\" & ADDRESS(80,A123+4)):INDIRECT(\"'Success Criteria'!\" & ADDRESS(131,A123+4)),\"not tested\")","v":0},{"$f":"SUM(COUNTIF(INDIRECT(\"'Success Criteria'!\" & ADDRESS(136,A123+4)):INDIRECT(\"'Success Criteria'!\" & ADDRESS(196,A123+4)),\"PASS\"),COUNTIF(INDIRECT(\"'Success Criteria'!\" & ADDRESS(136,A123+4)):INDIRECT(\"'Success Criteria'!\" & ADDRESS(196,A123+4)),\"PASS with comments\"))","v":0},{"$f":"COUNTIF(INDIRECT(\"'Success Criteria'!\" & ADDRESS(136,A123+4)):INDIRECT(\"'Success Criteria'!\" & ADDRESS(196,A123+4)),\"NON conformant\")","v":0},{"$f":"COUNTIF(INDIRECT(\"'Success Criteria'!\" & ADDRESS(136,A123+4)):INDIRECT(\"'Success Criteria'!\" & ADDRESS(196,A123+4)),\"N/A\")","v":0},{"$f":"COUNTIF(INDIRECT(\"'Success Criteria'!\" & ADDRESS(136,A123+4)):INDIRECT(\"'Success Criteria'!\" & ADDRESS(196,A123+4)),\"not tested\")","v":0},2,0,1,0,null,1,"",2,"",0,1]
[110,"Page 110","URL 110","Please select",{"$f":"SUM(COUNTIF(INDIRECT(\"'Success Criteria'!\" & ADDRESS(10,A124+4)):INDIRECT(\"'Success Criteria'!\" & ADDRESS(75,A124+4)),\"PASS\"),COUNTIF(INDIRECT(\"'Success Criteria'!\" & ADDRESS(10,A124+4)):INDIRECT(\"'Success Criteria'!\" & ADDRESS(75,A124+4)),\"PASS with comments\"))","v":0},{"$f":"COUNTIF(INDIRECT(\"'Success Criteria'!\" & ADDRESS(10,A124+4)):INDIRECT(\"'Success Criteria'!\" & ADDRESS(75,A124+4)),\"NON conformant\")","v":0},{"$f":"COUNTIF(INDIRECT(\"'Success Criteria'!\" & ADDRESS(10,A124+4)):INDIRECT(\"'Success Criteria'!\" & ADDRESS(75,A124+4)),\"N/A\")","v":1},{"$f":"COUNTIF(INDIRECT(\"'Success Criteria'!\" & ADDRESS(10,A124+4)):INDIRECT(\"'Success Criteria'!\" & ADDRESS(75,A124+4)),\"not tested\")","v":0},{"$f":"SUM(COUNTIF(INDIRECT(\"'Success Criteria'!\" & ADDRESS(80,A124+4)):INDIRECT(\"'Success Criteria'!\" & ADDRESS(131,A124+4)),\"PASS\"),COUNTIF(INDIRECT(\"'Success Criteria'!\" & ADDRESS(80,A124+4)):INDIRECT(\"'Success Criteria'!\" & ADDRESS(131,A124+4)),\"PASS with comments\"))","v":2},{"$f":"COUNTIF(INDIRECT(\"'Success Criteria'!\" & ADDRESS(80,A124+4)):INDIRECT(\"'Success Criteria'!\" & ADDRESS(131,A124+4)),\"NON conformant\")","v":0},{"$f":"COUNTIF(INDIRECT(\"'Success Criteria'!\" & ADDRESS(80,A124+4)):INDIRECT(\"'Success Criteria'!\" & ADDRESS(131,A124+4)),\"N/A\")","v":0},{"$f":"COUNTIF(INDIRECT(\"'Success Criteria'!\" & ADDRESS(80,A124+4)):INDIRECT(\"'Success Criteria'!\" & ADDRESS(131,A124+4)),\"not tested\")","v":0},{"$f":"SUM(COUNTIF(INDIRECT(\"'Success Criteria'!\" & ADDRESS(136,A124+4)):INDIRECT(\"'Success Criteria'!\" & ADDRESS(196,A124+4)),\"PASS\"),COUNTIF(INDIRECT(\"'Success Criteria'!\" & ADDRESS(136,A124+4)):INDIRECT(\"'Success Criteria'!\" & ADDRESS(196,A124+4)),\"PASS with comments\"))","v":0},{"$f":"COUNTIF(INDIRECT(\"'Success Criteria'!\" & ADDRESS(136,A124+4)):INDIRECT(\"'Success Criteria'!\" & ADDRESS(196,A124+4)),\"NON conformant\")","v":0},{"$f":"COUNTIF(INDIRECT(\"'Success Criteria'!\" & ADDRESS(136,A124+4)):INDIRECT(\"'Success Criteria'!\" & ADDRESS(196,A124+4)),\"N/A\")","v":0},{"$f":"COUNTIF(INDIRECT(\"'Success Criteria'!\" & ADDRESS(136,A124+4)):INDIRECT(\"'Success Criteria'!\" & ADDRESS(196,A124+4)),\"not tested\")","v":0},2,0,1,0,null,1,"",2,"",0,1]
[111,"Page 111","URL 111","Please select",{"$f":"SUM(COUNTIF(INDIRECT(\"'Success Criteria'!\" & ADDRESS(10,A125+4)):INDIRECT(\"'Success Criteria'!\" & ADDRESS(75,A125+4)),\"PASS\"),COUNTIF(INDIRECT(\"'Success Criteria'!\" & ADDRESS(10,A125+4)):INDIRECT(\"'Success Criteria'!\" & ADDRESS(75,A125+4)),\"PASS with comments\"))","v":0},{"$f":"COUNTIF(INDIRECT(\"'Success Criteria'!\" & ADDRESS(10,A125+4)):INDIRECT(\"'Success Criteria'!\" & ADDRESS(75,A125+4)),\"NON conformant\")","v":0},{"$f":"COUNTIF(INDIRECT(\"'Success Criteria'!\" & ADDRESS(10,A125+4)):INDIRECT(\"'Success Criteria'!\" & ADDRESS(75,A125+4)),\"N/A\")","v":1},{"$f":"COUNTIF(INDIRECT(\"'Success Criteria'!\" & ADDRESS(10,A125+4)):INDIRECT(\"'Success Criteria'!\" & ADDRESS(75,A125+4)),\"not tested\")","v":0},{"$f":"SUM(COUNTIF(INDIRECT(\"'Success Criteria'!\" & ADDRESS(80,A125+4)):INDIRECT(\"'Success Criteria'!\" & ADDRESS(131,A125+4)),\"PASS\"),COUNTIF(INDIRECT(\"'Success Criteria'!\" & ADDRESS(80,A125+4)):INDIRECT(\"'Success Criteria'!\" & ADDRESS(131,A125+4)),\"PASS with comments\"))","v":2},{"$f":"COUNTIF(INDIRECT(\"'Success Criteria'!\" & ADDRESS(80,A125+4)):INDIRECT(\"'Success Criteria'!\" & ADDRESS(131,A125+4)),\"NON conformant\")","v":0},{"$f":"COUNTIF(INDIRECT(\"'Success Criteria'!\" & ADDRESS(80,A125+4)):INDIRECT(\"'Success Criteria'!\" & ADDRESS(131,A125+4)),\"N/A\")","v":0},{"$f":"COUNTIF(INDIRECT(\"'Success Criteria'!\" & ADDRESS(80,A125+4)):INDIRECT(\"'Success Criteria'!\" & ADDRESS(131,A125+4)),\"not tested\")","v":0},{"$f":"SUM(COUNTIF(INDIRECT(\"'Success Criteria'!\" & ADDRESS(136,A125+4)):INDIRECT(\"'Success Criteria'!\" & ADDRESS(196,A125+4)),\"PASS\"),COUNTIF(INDIRECT(\"'Success Criteria'!\" & ADDRESS(136,A125+4)):INDIRECT(\"'Success Criteria'!\" & ADDRESS(196,A125+4)),\"PASS with comments\"))","v":0},{"$f":"COUNTIF(INDIRECT(\"'Success Criteria'!\" & ADDRESS(136,A125+4)):INDIRECT(\"'Success Criteria'!\" & ADDRESS(196,A125+4)),\"NON conformant\")","v":0},{"$f":"COUNTIF(INDIRECT(\"'Success Criteria'!\" & ADDRESS(136,A125+4)):INDIRECT(\"'Success Criteria'!\" & ADDRESS(196,A125+4)),\"N/A\")","v":0},{"$f":"COUNTIF(INDIRECT(\"'Success Criteria'!\" & ADDRESS(136,A125+4)):INDIRECT(\"'Success Criteria'!\" & ADDRESS(196,A125+4)),\"not tested\")","v":0},2,0,1,0,null,1,"",2,"",0,1]
[112,"Page 112","URL 112","Please select",{"$f":"SUM(COUNTIF(INDIRECT(\"'Success Criteria'!\" & ADDRESS(10,A126+4)):INDIRECT(\"'Success Criteria'!\" & ADDRESS(75,A126+4)),\"PASS\"),COUNTIF(INDIRECT(\"'Success Criteria'!\" & ADDRESS(10,A126+4)):INDIRECT(\"'Success Criteria'!\" & ADDRESS(75,A126+4)),\"PASS with comments\"))","v":0},{"$f":"COUNTIF(INDIRECT(\"'Success Criteria'!\" & ADDRESS(10,A126+4)):INDIRECT(\"'Success Criteria'!\" & ADDRESS(75,A126+4)),\"NON conformant\")","v":0},{"$f":"COUNTIF(INDIRECT(\"'Success Criteria'!\" & ADDRESS(10,A126+4)):INDIRECT(\"'Success Criteria'!\" & ADDRESS(75,A126+4)),\"N/A\")","v":1},{"$f":"COUNTIF(INDIRECT(\"'Success Criteria'!\" & ADDRESS(10,A126+4)):INDIRECT(\"'Success Criteria'!\" & ADDRESS(75,A126+4)),\"not tested\")","v":0},{"$f":"SUM(COUNTIF(INDIRECT(\"'Success Criteria'!\" & ADDRESS(80,A126+4)):INDIRECT(\"'Success Criteria'!\" & ADDRESS(131,A126+4)),\"PASS\"),COUNTIF(INDIRECT(\"'Success Criteria'!\" & ADDRESS(80,A126+4)):INDIRECT(\"'Success Criteria'!\" & ADDRESS(131,A126+4)),\"PASS with comments\"))","v":2},{"$f":"COUNTIF(INDIRECT(\"'Success Criteria'!\" & ADDRESS(80,A126+4)):INDIRECT(\"'Success Criteria'!\" & ADDRESS(131,A126+4)),\"NON conformant\")","v":0},{"$f":"COUNTIF(INDIRECT(\"'Success Criteria'!\" & ADDRESS(80,A126+4)):INDIRECT(\"'Success Criteria'!\" & ADDRESS(131,A126+4)),\"N/A\")","v":0},{"$f":"COUNTIF(INDIRECT(\"'Success Criteria'!\" & ADDRESS(80,A126+4)):INDIRECT(\"'Success Criteria'!\" & ADDRESS(131,A126+4)),\"not tested\")","v":0},{"$f":"SUM(COUNTIF(INDIRECT(\"'Success Criteria'!\" & ADDRESS(136,A126+4)):INDIRECT(\"'Success Criteria'!\" & ADDRESS(196,A126+4)),\"PASS\"),COUNTIF(INDIRECT(\"'Success Criteria'!\" & ADDRESS(136,A126+4)):INDIRECT(\"'Success Criteria'!\" & ADDRESS(196,A126+4)),\"PASS with comments\"))","v":0},{"$f":"COUNTIF(INDIRECT(\"'Success Criteria'!\" & ADDRESS(136,A126+4)):INDIRECT(\"'Success Criteria'!\" & ADDRESS(196,A126+4)),\"NON conformant\")","v":0},{"$f":"COUNTIF(INDIRECT(\"'Success Criteria'!\" & ADDRESS(136,A126+4)):INDIRECT(\"'Success Criteria'!\" & ADDRESS(196,A126+4)),\"N/A\")","v":0},{"$f":"COUNTIF(INDIRECT(\"'Success Criteria'!\" & ADDRESS(136,A126+4)):INDIRECT(\"'Success Criteria'!\" & ADDRESS(196,A126+4)),\"not tested\")","v":0},2,0,1,0,null,1,"",2,"",0,1]
[113,"Page 113","URL 113","Please select",{"$f":"SUM(COUNTIF(INDIRECT(\"'Success Criteria'!\" & ADDRESS(10,A127+4)):INDIRECT(\"'Success Criteria'!\" & ADDRESS(75,A127+4)),\"PASS\"),COUNTIF(INDIRECT(\"'Success Criteria'!\" & ADDRESS(10,A127+4)):INDIRECT(\"'Success Criteria'!\" & ADDRESS(75,A127+4)),\"PASS with comments\"))","v":0},{"$f":"COUNTIF(INDIRECT(\"'Success Criteria'!\" & ADDRESS(10,A127+4)):INDIRECT(\"'Success Criteria'!\" & ADDRESS(75,A127+4)),\"NON conformant\")","v":0},{"$f":"COUNTIF(INDIRECT(\"'Success Criteria'!\" & ADDRESS(10,A127+4)):INDIRECT(\"'Success Criteria'!\" & ADDRESS(75,A127+4)),\"N/A\")","v":1},{"$f":"COUNTIF(INDIRECT(\"'Success Criteria'!\" & ADDRESS(10,A127+4)):INDIRECT(\"'Success Criteria'!\" & ADDRESS(75,A127+4)),\"not tested\")","v":0},{"$f":"SUM(COUNTIF(INDIRECT(\"'Success Criteria'!\" & ADDRESS(80,A127+4)):INDIRECT(\"'Success Criteria'!\" & ADDRESS(131,A127+4)),\"PASS\"),COUNTIF(INDIRECT(\"'Success Criteria'!\" & ADDRESS(80,A127+4)):INDIRECT(\"'Success Criteria'!\" & ADDRESS(131,A127+4)),\"PASS with comments\"))","v":2},{"$f":"COUNTIF(INDIRECT(\"'Success Criteria'!\" & ADDRESS(80,A127+4)):INDIRECT(\"'Success Criteria'!\" & ADDRESS(131,A127+4)),\"NON conformant\")","v":0},{"$f":"COUNTIF(INDIRECT(\"'Success Criteria'!\" & ADDRESS(80,A127+4)):INDIRECT(\"'Success Criteria'!\" & ADDRESS(131,A127+4)),\"N/A\")","v":0},{"$f":"COUNTIF(INDIRECT(\"'Success Criteria'!\" & ADDRESS(80,A127+4)):INDIRECT(\"'Success Criteria'!\" & ADDRESS(131,A127+4)),\"not tested\")","v":0},{"$f":"SUM(COUNTIF(INDIRECT(\"'Success Criteria'!\" & ADDRESS(136,A127+4)):INDIRECT(\"'Success Criteria'!\" & ADDRESS(196,A127+4)),\"PASS\"),COUNTIF(INDIRECT(\"'Success Criteria'!\" & ADDRESS(136,A127+4)):INDIRECT(\"'Success Criteria'!\" & ADDRESS(196,A127+4)),\"PASS with comments\"))","v":0},{"$f":"COUNTIF(INDIRECT(\"'Success Criteria'!\" & ADDRESS(136,A127+4)):INDIRECT(\"'Success Criteria'!\" & ADDRESS(196,A127+4)),\"NON conformant\")","v":0},{"$f":"COUNTIF(INDIRECT(\"'Success Criteria'!\" & ADDRESS(136,A127+4)):INDIRECT(\"'Success Criteria'!\" & ADDRESS(196,A127+4)),\"N/A\")","v":0},{"$f":"COUNTIF(INDIRECT(\"'Success Criteria'!\" & ADDRESS(136,A127+4)):INDIRECT(\"'Success Criteria'!\" & ADDRESS(196,A127+4)),\"not tested\")","v":0},2,0,1,0,null,1,"",2,"",0,1]
[114,"Page 114","URL 114","Please select",{"$f":"SUM(COUNTIF(INDIRECT(\"'Success Criteria'!\" & ADDRESS(10,A128+4)):INDIRECT(\"'Success Criteria'!\" & ADDRESS(75,A128+4)),\"PASS\"),COUNTIF(INDIRECT(\"'Success Criteria'!\" & ADDRESS(10,A128+4)):INDIRECT(\"'Success Criteria'!\" & ADDRESS(75,A128+4)),\"PASS with comments\"))","v":0},{"$f":"COUNTIF(INDIRECT(\"'Success Criteria'!\" & ADDRESS(10,A128+4)):INDIRECT(\"'Success Criteria'!\" & ADDRESS(75,A128+4)),\"NON conformant\")","v":0},{"$f":"COUNTIF(INDIRECT(\"'Success Criteria'!\" & ADDRESS(10,A128+4)):INDIRECT(\"'Success Criteria'!\" & ADDRESS(75,A128+4)),\"N/A\")","v":1},{"$f":"COUNTIF(INDIRECT(\"'Success Criteria'!\" & ADDRESS(10,A128+4)):INDIRECT(\"'Success Criteria'!\" & ADDRESS(75,A128+4)),\"not tested\")","v":0},{"$f":"SUM(COUNTIF(INDIRECT(\"'Success Criteria'!\" & ADDRESS(80,A128+4)):INDIRECT(\"'Success Criteria'!\" & ADDRESS(131,A128+4)),\"PASS\"),COUNTIF(INDIRECT(\"'Success Criteria'!\" & ADDRESS(80,A128+4)):INDIRECT(\"'Success Criteria'!\" & ADDRESS(131,A128+4)),\"PASS with comments\"))","v":2},{"$f":"COUNTIF(INDIRECT(\"'Success Criteria'!\" & ADDRESS(80,A128+4)):INDIRECT(\"'Success Criteria'!\" & ADDRESS(131,A128+4)),\"NON conformant\")","v":0},{"$f":"COUNTIF(INDIRECT(\"'Success Criteria'!\" & ADDRESS(80,A128+4)):INDIRECT(\"'Success Criteria'!\" & ADDRESS(131,A128+4)),\"N/A\")","v":0},{"$f":"COUNTIF(INDIRECT(\"'Success Criteria'!\" & ADDRESS(80,A128+4)):INDIRECT(\"'Success Criteria'!\" & ADDRESS(131,A128+4)),\"not tested\")","v":0},{"$f":"SUM(COUNTIF(INDIRECT(\"'Success Criteria'!\" & ADDRESS(136,A128+4)):INDIRECT(\"'Success Criteria'!\" & ADDRESS(196,A128+4)),\"PASS\"),COUNTIF(INDIRECT(\"'Success Criteria'!\" & ADDRESS(136,A128+4)):INDIRECT(\"'Success Criteria'!\" & ADDRESS(196,A128+4)),\"PASS with comments\"))","v":0},{"$f":"COUNTIF(INDIRECT(\"'Success Criteria'!\" & ADDRESS(136,A128+4)):INDIRECT(\"'Success Criteria'!\" & ADDRESS(196,A128+4)),\"NON conformant\")","v":0},{"$f":"COUNTIF(INDIRECT(\"'Success Criteria'!\" & ADDRESS(136,A128+4)):INDIRECT(\"'Success Criteria'!\" & ADDRESS(196,A128+4)),\"N/A\")","v":0},{"$f":"COUNTIF(INDIRECT(\"'Success Criteria'!\" & ADDRESS(136,A128+4)):INDIRECT(\"'Success Criteria'!\" & ADDRESS(196,A128+4)),\"not tested\")","v":0},2,0,1,0,null,1,"",2,"",0,1]
[115,"Page 115","URL 115","Please select",{"$f":"SUM(COUNTIF(INDIRECT(\"'Success Criteria'!\" & ADDRESS(10,A129+4)):INDIRECT(\"'Success Criteria'!\" & ADDRESS(75,A129+4)),\"PASS\"),COUNTIF(INDIRECT(\"'Success Criteria'!\" & ADDRESS(10,A129+4)):INDIRECT(\"'Success Criteria'!\" & ADDRESS(75,A129+4)),\"PASS with comments\"))","v":0},{"$f":"COUNTIF(INDIRECT(\"'Success Criteria'!\" & ADDRESS(10,A129+4)):INDIRECT(\"'Success Criteria'!\" & ADDRESS(75,A129+4)),\"NON conformant\")","v":0},{"$f":"COUNTIF(INDIRECT(\"'Success Criteria'!\" & ADDRESS(10,A129+4)):INDIRECT(\"'Success Criteria'!\" & ADDRESS(75,A129+4)),\"N/A\")","v":1},{"$f":"COUNTIF(INDIRECT(\"'Success Criteria'!\" & ADDRESS(10,A129+4)):INDIRECT(\"'Success Criteria'!\" & ADDRESS(75,A129+4)),\"not tested\")","v":0},{"$f":"SUM(COUNTIF(INDIRECT(\"'Success Criteria'!\" & ADDRESS(80,A129+4)):INDIRECT(\"'Success Criteria'!\" & ADDRESS(131,A129+4)),\"PASS\"),COUNTIF(INDIRECT(\"'Success Criteria'!\" & ADDRESS(80,A129+4)):INDIRECT(\"'Success Criteria'!\" & ADDRESS(131,A129+4)),\"PASS with comments\"))","v":2},{"$f":"COUNTIF(INDIRECT(\"'Success Criteria'!\" & ADDRESS(80,A129+4)):INDIRECT(\"'Success Criteria'!\" & ADDRESS(131,A129+4)),\"NON conformant\")","v":0},{"$f":"COUNTIF(INDIRECT(\"'Success Criteria'!\" & ADDRESS(80,A129+4)):INDIRECT(\"'Success Criteria'!\" & ADDRESS(131,A129+4)),\"N/A\")","v":0},{"$f":"COUNTIF(INDIRECT(\"'Success Criteria'!\" & ADDRESS(80,A129+4)):INDIRECT(\"'Success Criteria'!\" & ADDRESS(131,A129+4)),\"not tested\")","v":0},{"$f":"SUM(COUNTIF(INDIRECT(\"'Success Criteria'!\" & ADDRESS(136,A129+4)):INDIRECT(\"'Success Criteria'!\" & ADDRESS(196,A129+4)),\"PASS\"),COUNTIF(INDIRECT(\"'Success Criteria'!\" & ADDRESS(136,A129+4)):INDIRECT(\"'Success Criteria'!\" & ADDRESS(196,A129+4)),\"PASS with comments\"))","v":0},{"$f":"COUNTIF(INDIRECT(\"'Success Criteria'!\" & ADDRESS(136,A129+4)):INDIRECT(\"'Success Criteria'!\" & ADDRESS(196,A129+4)),\"NON conformant\")","v":0},{"$f":"COUNTIF(INDIRECT(\"'Success Criteria'!\" & ADDRESS(136,A129+4)):INDIRECT(\"'Success Criteria'!\" & ADDRESS(196,A129+4)),\"N/A\")","v":0},{"$f":"COUNTIF(INDIRECT(\"'Success Criteria'!\" & ADDRESS(136,A129+4)):INDIRECT(\"'Success Criteria'!\" & ADDRESS(196,A129+4)),\"not tested\")","v":0},2,0,1,0,null,{"$f":"SUM(E129:H129)","v":1},"",2,"",0,1]
[116,"Page 116","URL 116","Please select",{"$f":"SUM(COUNTIF(INDIRECT(\"'Success Criteria'!\" & ADDRESS(10,A130+4)):INDIRECT(\"'Success Criteria'!\" & ADDRESS(75,A130+4)),\"PASS\"),COUNTIF(INDIRECT(\"'Success Criteria'!\" & ADDRESS(10,A130+4)):INDIRECT(\"'Success Criteria'!\" & ADDRESS(75,A130+4)),\"PASS with comments\"))","v":0},{"$f":"COUNTIF(INDIRECT(\"'Success Criteria'!\" & ADDRESS(10,A130+4)):INDIRECT(\"'Success Criteria'!\" & ADDRESS(75,A130+4)),\"NON conformant\")","v":0},{"$f":"COUNTIF(INDIRECT(\"'Success Criteria'!\" & ADDRESS(10,A130+4)):INDIRECT(\"'Success Criteria'!\" & ADDRESS(75,A130+4)),\"N/A\")","v":1},{"$f":"COUNTIF(INDIRECT(\"'Success Criteria'!\" & ADDRESS(10,A130+4)):INDIRECT(\"'Success Criteria'!\" & ADDRESS(75,A130+4)),\"not tested\")","v":0},{"$f":"SUM(COUNTIF(INDIRECT(\"'Success Criteria'!\" & ADDRESS(80,A130+4)):INDIRECT(\"'Success Criteria'!\" & ADDRESS(131,A130+4)),\"PASS\"),COUNTIF(INDIRECT(\"'Success Criteria'!\" & ADDRESS(80,A130+4)):INDIRECT(\"'Success Criteria'!\" & ADDRESS(131,A130+4)),\"PASS with comments\"))","v":2},{"$f":"COUNTIF(INDIRECT(\"'Success Criteria'!\" & ADDRESS(80,A130+4)):INDIRECT(\"'Success Criteria'!\" & ADDRESS(131,A130+4)),\"NON conformant\")","v":0},{"$f":"COUNTIF(INDIRECT(\"'Success Criteria'!\" & ADDRESS(80,A130+4)):INDIRECT(\"'Success Criteria'!\" & ADDRESS(131,A130+4)),\"N/A\")","v":0},{"$f":"COUNTIF(INDIRECT(\"'Success Criteria'!\" & ADDRESS(80,A130+4)):INDIRECT(\"'Success Criteria'!\" & ADDRESS(131,A130+4)),\"not tested\")","v":0},{"$f":"SUM(COUNTIF(INDIRECT(\"'Success Criteria'!\" & ADDRESS(136,A130+4)):INDIRECT(\"'Success Criteria'!\" & ADDRESS(196,A130+4)),\"PASS\"),COUNTIF(INDIRECT(\"'Success Criteria'!\" & ADDRESS(136,A130+4)):INDIRECT(\"'Success Criteria'!\" & ADDRESS(196,A130+4)),\"PASS with comments\"))","v":0},{"$f":"COUNTIF(INDIRECT(\"'Success Criteria'!\" & ADDRESS(136,A130+4)):INDIRECT(\"'Success Criteria'!\" & ADDRESS(196,A130+4)),\"NON conformant\")","v":0},{"$f":"COUNTIF(INDIRECT(\"'Success Criteria'!\" & ADDRESS(136,A130+4)):INDIRECT(\"'Success Criteria'!\" & ADDRESS(196,A130+4)),\"N/A\")","v":0},{"$f":"COUNTIF(INDIRECT(\"'Success Criteria'!\" & ADDRESS(136,A130+4)):INDIRECT(\"'Success Criteria'!\" & ADDRESS(196,A130+4)),\"not tested\")","v":0},2,{"$f":"SUM(F130+J130+N130)","v":0},1,0,null,1,"",2,"",0,1]
[117,"Page 117","URL 117","Please select",{"$f":"SUM(COUNTIF(INDIRECT(\"'Success Criteria'!\" & ADDRESS(10,A131+4)):INDIRECT(\"'Success Criteria'!\" & ADDRESS(75,A131+4)),\"PASS\"),COUNTIF(INDIRECT(\"'Success Criteria'!\" & ADDRESS(10,A131+4)):INDIRECT(\"'Success Criteria'!\" & ADDRESS(75,A131+4)),\"PASS with comments\"))","v":0},{"$f":"COUNTIF(INDIRECT(\"'Success Criteria'!\" & ADDRESS(10,A131+4)):INDIRECT(\"'Success Criteria'!\" & ADDRESS(75,A131+4)),\"NON conformant\")","v":0},{"$f":"COUNTIF(INDIRECT(\"'Success Criteria'!\" & ADDRESS(10,A131+4)):INDIRECT(\"'Success Criteria'!\" & ADDRESS(75,A131+4)),\"N/A\")","v":1},{"$f":"COUNTIF(INDIRECT(\"'Success Criteria'!\" & ADDRESS(10,A131+4)):INDIRECT(\"'Success Criteria'!\" & ADDRESS(75,A131+4)),\"not tested\")","v":0},{"$f":"SUM(COUNTIF(INDIRECT(\"'Success Criteria'!\" & ADDRESS(80,A131+4)):INDIRECT(\"'Success Criteria'!\" & ADDRESS(131,A131+4)),\"PASS\"),COUNTIF(INDIRECT(\"'Success Criteria'!\" & ADDRESS(80,A131+4)):INDIRECT(\"'Success Criteria'!\" & ADDRESS(131,A131+4)),\"PASS with comments\"))","v":2},{"$f":"COUNTIF(INDIRECT(\"'Success Criteria'!\" & ADDRESS(80,A131+4)):INDIRECT(\"'Success Criteria'!\" & ADDRESS(131,A131+4)),\"NON conformant\")","v":0},{"$f":"COUNTIF(INDIRECT(\"'Success Criteria'!\" & ADDRESS(80,A131+4)):INDIRECT(\"'Success Criteria'!\" & ADDRESS(131,A131+4)),\"N/A\")","v":0},{"$f":"COUNTIF(INDIRECT(\"'Success Criteria'!\" & ADDRESS(80,A131+4)):INDIRECT(\"'Success Criteria'!\" & ADDRESS(131,A131+4)),\"not tested\")","v":0},{"$f":"SUM(COUNTIF(INDIRECT(\"'Success Criteria'!\" & ADDRESS(136,A131+4)):INDIRECT(\"'Success Criteria'!\" & ADDRESS(196,A131+4)),\"PASS\"),COUNTIF(INDIRECT(\"'Success Criteria'!\" & ADDRESS(136,A131+4)):INDIRECT(\"'Success Criteria'!\" & ADDRESS(196,A131+4)),\"PASS with comments\"))","v":0},{"$f":"COUNTIF(INDIRECT(\"'Success Criteria'!\" & ADDRESS(136,A131+4)):INDIRECT(\"'Success Criteria'!\" & ADDRESS(196,A131+4)),\"NON conformant\")","v":0},{"$f":"COUNTIF(INDIRECT(\"'Success Criteria'!\" & ADDRESS(136,A131+4)):INDIRECT(\"'Success Criteria'!\" & ADDRESS(196,A131+4)),\"N/A\")","v":0},{"$f":"COUNTIF(INDIRECT(\"'Success Criteria'!\" & ADDRESS(136,A131+4)):INDIRECT(\"'Success Criteria'!\" & ADDRESS(196,A131+4)),\"not tested\")","v":0},2,0,1,0,null,1,"",2,"",0,1]
[118,"Page 118","URL 118","Please select",{"$f":"SUM(COUNTIF(INDIRECT(\"'Success Criteria'!\" & ADDRESS(10,A132+4)):INDIRECT(\"'Success Criteria'!\" & ADDRESS(75,A132+4)),\"PASS\"),COUNTIF(INDIRECT(\"'Success Criteria'!\" & ADDRESS(10,A132+4)):INDIRECT(\"'Success Criteria'!\" & ADDRESS(75,A132+4)),\"PASS with comments\"))","v":0},{"$f":"COUNTIF(INDIRECT(\"'Success Criteria'!\" & ADDRESS(10,A132+4)):INDIRECT(\"'Success Criteria'!\" & ADDRESS(75,A132+4)),\"NON conformant\")","v":0},{"$f":"COUNTIF(INDIRECT(\"'Success Criteria'!\" & ADDRESS(10,A132+4)):INDIRECT(\"'Success Criteria'!\" & ADDRESS(75,A132+4)),\"N/A\")","v":1},{"$f":"COUNTIF(INDIRECT(\"'Success Criteria'!\" & ADDRESS(10,A132+4)):INDIRECT(\"'Success Criteria'!\" & ADDRESS(75,A132+4)),\"not tested\")","v":0},{"$f":"SUM(COUNTIF(INDIRECT(\"'Success Criteria'!\" & ADDRESS(80,A132+4)):INDIRECT(\"'Success Criteria'!\" & ADDRESS(131,A132+4)),\"PASS\"),COUNTIF(INDIRECT(\"'Success Criteria'!\" & ADDRESS(80,A132+4)):INDIRECT(\"'Success Criteria'!\" & ADDRESS(131,A132+4)),\"PASS with comments\"))","v":2},{"$f":"COUNTIF(INDIRECT(\"'Success Criteria'!\" & ADDRESS(80,A132+4)):INDIRECT(\"'Success Criteria'!\" & ADDRESS(131,A132+4)),\"NON conformant\")","v":0},{"$f":"COUNTIF(INDIRECT(\"'Success Criteria'!\" & ADDRESS(80,A132+4)):INDIRECT(\"'Success Criteria'!\" & ADDRESS(131,A132+4)),\"N/A\")","v":0},{"$f":"COUNTIF(INDIRECT(\"'Success Criteria'!\" & ADDRESS(80,A132+4)):INDIRECT(\"'Success Criteria'!\" & ADDRESS(131,A132+4)),\"not tested\")","v":0},{"$f":"SUM(COUNTIF(INDIRECT(\"'Success Criteria'!\" & ADDRESS(136,A132+4)):INDIRECT(\"'Success Criteria'!\" & ADDRESS(196,A132+4)),\"PASS\"),COUNTIF(INDIRECT(\"'Success Criteria'!\" & ADDRESS(136,A132+4)):INDIRECT(\"'Success Criteria'!\" & ADDRESS(196,A132+4)),\"PASS with comments\"))","v":0},{"$f":"COUNTIF(INDIRECT(\"'Success Criteria'!\" & ADDRESS(136,A132+4)):INDIRECT(\"'Success Criteria'!\" & ADDRESS(196,A132+4)),\"NON conformant\")","v":0},{"$f":"COUNTIF(INDIRECT(\"'Success Criteria'!\" & ADDRESS(136,A132+4)):INDIRECT(\"'Success Criteria'!\" & ADDRESS(196,A132+4)),\"N/A\")","v":0},{"$f":"COUNTIF(INDIRECT(\"'Success Criteria'!\" & ADDRESS(136,A132+4)):INDIRECT(\"'Success Criteria'!\" & ADDRESS(196,A132+4)),\"not tested\")","v":0},2,0,1,0,null,1,"",2,"",0,1]
[119,"Page 119","URL 119","Please select",{"$f":"SUM(COUNTIF(INDIRECT(\"'Success Criteria'!\" & ADDRESS(10,A133+4)):INDIRECT(\"'Success Criteria'!\" & ADDRESS(75,A133+4)),\"PASS\"),COUNTIF(INDIRECT(\"'Success Criteria'!\" & ADDRESS(10,A133+4)):INDIRECT(\"'Success Criteria'!\" & ADDRESS(75,A133+4)),\"PASS with comments\"))","v":0},{"$f":"COUNTIF(INDIRECT(\"'Success Criteria'!\" & ADDRESS(10,A133+4)):INDIRECT(\"'Success Criteria'!\" & ADDRESS(75,A133+4)),\"NON conformant\")","v":0},{"$f":"COUNTIF(INDIRECT(\"'Success Criteria'!\" & ADDRESS(10,A133+4)):INDIRECT(\"'Success Criteria'!\" & ADDRESS(75,A133+4)),\"N/A\")","v":1},{"$f":"COUNTIF(INDIRECT(\"'Success Criteria'!\" & ADDRESS(10,A133+4)):INDIRECT(\"'Success Criteria'!\" & ADDRESS(75,A133+4)),\"not tested\")","v":0},{"$f":"SUM(COUNTIF(INDIRECT(\"'Success Criteria'!\" & ADDRESS(80,A133+4)):INDIRECT(\"'Success Criteria'!\" & ADDRESS(131,A133+4)),\"PASS\"),COUNTIF(INDIRECT(\"'Success Criteria'!\" & ADDRESS(80,A133+4)):INDIRECT(\"'Success Criteria'!\" & ADDRESS(131,A133+4)),\"PASS with comments\"))","v":2},{"$f":"COUNTIF(INDIRECT(\"'Success Criteria'!\" & ADDRESS(80,A133+4)):INDIRECT(\"'Success Criteria'!\" & ADDRESS(131,A133+4)),\"NON conformant\")","v":0},{"$f":"COUNTIF(INDIRECT(\"'Success Criteria'!\" & ADDRESS(80,A133+4)):INDIRECT(\"'Success Criteria'!\" & ADDRESS(131,A133+4)),\"N/A\")","v":0},{"$f":"COUNTIF(INDIRECT(\"'Success Criteria'!\" & ADDRESS(80,A133+4)):INDIRECT(\"'Success Criteria'!\" & ADDRESS(131,A133+4)),\"not tested\")","v":0},{"$f":"SUM(COUNTIF(INDIRECT(\"'Success Criteria'!\" & ADDRESS(136,A133+4)):INDIRECT(\"'Success Criteria'!\" & ADDRESS(196,A133+4)),\"PASS\"),COUNTIF(INDIRECT(\"'Success Criteria'!\" & ADDRESS(136,A133+4)):INDIRECT(\"'Success Criteria'!\" & ADDRESS(196,A133+4)),\"PASS with comments\"))","v":0},{"$f":"COUNTIF(INDIRECT(\"'Success Criteria'!\" & ADDRESS(136,A133+4)):INDIRECT(\"'Success Criteria'!\" & ADDRESS(196,A133+4)),\"NON conformant\")","v":0},{"$f":"COUNTIF(INDIRECT(\"'Success Criteria'!\" & ADDRESS(136,A133+4)):INDIRECT(\"'Success Criteria'!\" & ADDRESS(196,A133+4)),\"N/A\")","v":0},{"$f":"COUNTIF(INDIRECT(\"'Success Criteria'!\" & ADDRESS(136,A133+4)):INDIRECT(\"'Success Criteria'!\" & ADDRESS(196,A133+4)),\"not tested\")","v":0},2,0,1,0,null,1,"",2,"",0,1]
[120,"Page 120","URL 120","Please select",{"$f":"SUM(COUNTIF(INDIRECT(\"'Success Criteria'!\" & ADDRESS(10,A134+4)):INDIRECT(\"'Success Criteria'!\" & ADDRESS(75,A134+4)),\"PASS\"),COUNTIF(INDIRECT(\"'Success Criteria'!\" & ADDRESS(10,A134+4)):INDIRECT(\"'Success Criteria'!\" & ADDRESS(75,A134+4)),\"PASS with comments\"))","v":0},{"$f":"COUNTIF(INDIRECT(\"'Success Criteria'!\" & ADDRESS(10,A134+4)):INDIRECT(\"'Success Criteria'!\" & ADDRESS(75,A134+4)),\"NON conformant\")","v":0},{"$f":"COUNTIF(INDIRECT(\"'Success Criteria'!\" & ADDRESS(10,A134+4)):INDIRECT(\"'Success Criteria'!\" & ADDRESS(75,A134+4)),\"N/A\")","v":1},{"$f":"COUNTIF(INDIRECT(\"'Success Criteria'!\" & ADDRESS(10,A134+4)):INDIRECT(\"'Success Criteria'!\" & ADDRESS(75,A134+4)),\"not tested\")","v":0},{"$f":"SUM(COUNTIF(INDIRECT(\"'Success Criteria'!\" & ADDRESS(80,A134+4)):INDIRECT(\"'Success Criteria'!\" & ADDRESS(131,A134+4)),\"PASS\"),COUNTIF(INDIRECT(\"'Success Criteria'!\" & ADDRESS(80,A134+4)):INDIRECT(\"'Success Criteria'!\" & ADDRESS(131,A134+4)),\"PASS with comments\"))","v":2},{"$f":"COUNTIF(INDIRECT(\"'Success Criteria'!\" & ADDRESS(80,A134+4)):INDIRECT(\"'Success Criteria'!\" & ADDRESS(131,A134+4)),\"NON conformant\")","v":0},{"$f":"COUNTIF(INDIRECT(\"'Success Criteria'!\" & ADDRESS(80,A134+4)):INDIRECT(\"'Success Criteria'!\" & ADDRESS(131,A134+4)),\"N/A\")","v":0},{"$f":"COUNTIF(INDIRECT(\"'Success Criteria'!\" & ADDRESS(80,A134+4)):INDIRECT(\"'Success Criteria'!\" & ADDRESS(131,A134+4)),\"not tested\")","v":0},{"$f":"SUM(COUNTIF(INDIRECT(\"'Success Criteria'!\" & ADDRESS(136,A134+4)):INDIRECT(\"'Success Criteria'!\" & ADDRESS(196,A134+4)),\"PASS\"),COUNTIF(INDIRECT(\"'Success Criteria'!\" & ADDRESS(136,A134+4)):INDIRECT(\"'Success Criteria'!\" & ADDRESS(196,A134+4)),\"PASS with comments\"))","v":0},{"$f":"COUNTIF(INDIRECT(\"'Success Criteria'!\" & ADDRESS(136,A134+4)):INDIRECT(\"'Success Criteria'!\" & ADDRESS(196,A134+4)),\"NON conformant\")","v":0},{"$f":"COUNTIF(INDIRECT(\"'Success Criteria'!\" & ADDRESS(136,A134+4)):INDIRECT(\"'Success Criteria'!\" & ADDRESS(196,A134+4)),\"N/A\")","v":0},{"$f":"COUNTIF(INDIRECT(\"'Success Criteria'!\" & ADDRESS(136,A134+4)):INDIRECT(\"'Success Criteria'!\" & ADDRESS(196,A134+4)),\"not tested\")","v":0},2,0,1,0,null,1,"",2,"",0,1]
[121,"Page 121","URL 121","Please select",{"$f":"SUM(COUNTIF(INDIRECT(\"'Success Criteria'!\" & ADDRESS(10,A135+4)):INDIRECT(\"'Success Criteria'!\" & ADDRESS(75,A135+4)),\"PASS\"),COUNTIF(INDIRECT(\"'Success Criteria'!\" & ADDRESS(10,A135+4)):INDIRECT(\"'Success Criteria'!\" & ADDRESS(75,A135+4)),\"PASS with comments\"))","v":0},{"$f":"COUNTIF(INDIRECT(\"'Success Criteria'!\" & ADDRESS(10,A135+4)):INDIRECT(\"'Success Criteria'!\" & ADDRESS(75,A135+4)),\"NON conformant\")","v":0},{"$f":"COUNTIF(INDIRECT(\"'Success Criteria'!\" & ADDRESS(10,A135+4)):INDIRECT(\"'Success Criteria'!\" & ADDRESS(75,A135+4)),\"N/A\")","v":1},{"$f":"COUNTIF(INDIRECT(\"'Success Criteria'!\" & ADDRESS(10,A135+4)):INDIRECT(\"'Success Criteria'!\" & ADDRESS(75,A135+4)),\"not tested\")","v":0},{"$f":"SUM(COUNTIF(INDIRECT(\"'Success Criteria'!\" & ADDRESS(80,A135+4)):INDIRECT(\"'Success Criteria'!\" & ADDRESS(131,A135+4)),\"PASS\"),COUNTIF(INDIRECT(\"'Success Criteria'!\" & ADDRESS(80,A135+4)):INDIRECT(\"'Success Criteria'!\" & ADDRESS(131,A135+4)),\"PASS with comments\"))","v":2},{"$f":"COUNTIF(INDIRECT(\"'Success Criteria'!\" & ADDRESS(80,A135+4)):INDIRECT(\"'Success Criteria'!\" & ADDRESS(131,A135+4)),\"NON conformant\")","v":0},{"$f":"COUNTIF(INDIRECT(\"'Success Criteria'!\" & ADDRESS(80,A135+4)):INDIRECT(\"'Success Criteria'!\" & ADDRESS(131,A135+4)),\"N/A\")","v":0},{"$f":"COUNTIF(INDIRECT(\"'Success Criteria'!\" & ADDRESS(80,A135+4)):INDIRECT(\"'Success Criteria'!\" & ADDRESS(131,A135+4)),\"not tested\")","v":0},{"$f":"SUM(COUNTIF(INDIRECT(\"'Success Criteria'!\" & ADDRESS(136,A135+4)):INDIRECT(\"'Success Criteria'!\" & ADDRESS(196,A135+4)),\"PASS\"),COUNTIF(INDIRECT(\"'Success Criteria'!\" & ADDRESS(136,A135+4)):INDIRECT(\"'Success Criteria'!\" & ADDRESS(196,A135+4)),\"PASS with comments\"))","v":0},{"$f":"COUNTIF(INDIRECT(\"'Success Criteria'!\" & ADDRESS(136,A135+4)):INDIRECT(\"'Success Criteria'!\" & ADDRESS(196,A135+4)),\"NON conformant\")","v":0},{"$f":"COUNTIF(INDIRECT(\"'Success Criteria'!\" & ADDRESS(136,A135+4)):INDIRECT(\"'Success Criteria'!\" & ADDRESS(196,A135+4)),\"N/A\")","v":0},{"$f":"COUNTIF(INDIRECT(\"'Success Criteria'!\" & ADDRESS(136,A135+4)):INDIRECT(\"'Success Criteria'!\" & ADDRESS(196,A135+4)),\"not tested\")","v":0},2,0,1,0,null,1,"",2,"",0,1]
[122,"Page 122","URL 122","Please select",{"$f":"SUM(COUNTIF(INDIRECT(\"'Success Criteria'!\" & ADDRESS(10,A136+4)):INDIRECT(\"'Success Criteria'!\" & ADDRESS(75,A136+4)),\"PASS\"),COUNTIF(INDIRECT(\"'Success Criteria'!\" & ADDRESS(10,A136+4)):INDIRECT(\"'Success Criteria'!\" & ADDRESS(75,A136+4)),\"PASS with comments\"))","v":0},{"$f":"COUNTIF(INDIRECT(\"'Success Criteria'!\" & ADDRESS(10,A136+4)):INDIRECT(\"'Success Criteria'!\" & ADDRESS(75,A136+4)),\"NON conformant\")","v":0},{"$f":"COUNTIF(INDIRECT(\"'Success Criteria'!\" & ADDRESS(10,A136+4)):INDIRECT(\"'Success Criteria'!\" & ADDRESS(75,A136+4)),\"N/A\")","v":1},{"$f":"COUNTIF(INDIRECT(\"'Success Criteria'!\" & ADDRESS(10,A136+4)):INDIRECT(\"'Success Criteria'!\" & ADDRESS(75,A136+4)),\"not tested\")","v":0},{"$f":"SUM(COUNTIF(INDIRECT(\"'Success Criteria'!\" & ADDRESS(80,A136+4)):INDIRECT(\"'Success Criteria'!\" & ADDRESS(131,A136+4)),\"PASS\"),COUNTIF(INDIRECT(\"'Success Criteria'!\" & ADDRESS(80,A136+4)):INDIRECT(\"'Success Criteria'!\" & ADDRESS(131,A136+4)),\"PASS with comments\"))","v":2},{"$f":"COUNTIF(INDIRECT(\"'Success Criteria'!\" & ADDRESS(80,A136+4)):INDIRECT(\"'Success Criteria'!\" & ADDRESS(131,A136+4)),\"NON conformant\")","v":0},{"$f":"COUNTIF(INDIRECT(\"'Success Criteria'!\" & ADDRESS(80,A136+4)):INDIRECT(\"'Success Criteria'!\" & ADDRESS(131,A136+4)),\"N/A\")","v":0},{"$f":"COUNTIF(INDIRECT(\"'Success Criteria'!\" & ADDRESS(80,A136+4)):INDIRECT(\"'Success Criteria'!\" & ADDRESS(131,A136+4)),\"not tested\")","v":0},{"$f":"SUM(COUNTIF(INDIRECT(\"'Success Criteria'!\" & ADDRESS(136,A136+4)):INDIRECT(\"'Success Criteria'!\" & ADDRESS(196,A136+4)),\"PASS\"),COUNTIF(INDIRECT(\"'Success Criteria'!\" & ADDRESS(136,A136+4)):INDIRECT(\"'Success Criteria'!\" & ADDRESS(196,A136+4)),\"PASS with comments\"))","v":0},{"$f":"COUNTIF(INDIRECT(\"'Success Criteria'!\" & ADDRESS(136,A136+4)):INDIRECT(\"'Success Criteria'!\" & ADDRESS(196,A136+4)),\"NON conformant\")","v":0},{"$f":"COUNTIF(INDIRECT(\"'Success Criteria'!\" & ADDRESS(136,A136+4)):INDIRECT(\"'Success Criteria'!\" & ADDRESS(196,A136+4)),\"N/A\")","v":0},{"$f":"COUNTIF(INDIRECT(\"'Success Criteria'!\" & ADDRESS(136,A136+4)):INDIRECT(\"'Success Criteria'!\" & ADDRESS(196,A136+4)),\"not tested\")","v":0},2,0,1,0,null,1,"",2,"",0,1]
[123,"Page 123","URL 123","Please select",{"$f":"SUM(COUNTIF(INDIRECT(\"'Success Criteria'!\" & ADDRESS(10,A137+4)):INDIRECT(\"'Success Criteria'!\" & ADDRESS(75,A137+4)),\"PASS\"),COUNTIF(INDIRECT(\"'Success Criteria'!\" & ADDRESS(10,A137+4)):INDIRECT(\"'Success Criteria'!\" & ADDRESS(75,A137+4)),\"PASS with comments\"))","v":0},{"$f":"COUNTIF(INDIRECT(\"'Success Criteria'!\" & ADDRESS(10,A137+4)):INDIRECT(\"'Success Criteria'!\" & ADDRESS(75,A137+4)),\"NON conformant\")","v":0},{"$f":"COUNTIF(INDIRECT(\"'Success Criteria'!\" & ADDRESS(10,A137+4)):INDIRECT(\"'Success Criteria'!\" & ADDRESS(75,A137+4)),\"N/A\")","v":1},{"$f":"COUNTIF(INDIRECT(\"'Success Criteria'!\" & ADDRESS(10,A137+4)):INDIRECT(\"'Success Criteria'!\" & ADDRESS(75,A137+4)),\"not tested\")","v":0},{"$f":"SUM(COUNTIF(INDIRECT(\"'Success Criteria'!\" & ADDRESS(80,A137+4)):INDIRECT(\"'Success Criteria'!\" & ADDRESS(131,A137+4)),\"PASS\"),COUNTIF(INDIRECT(\"'Success Criteria'!\" & ADDRESS(80,A137+4)):INDIRECT(\"'Success Criteria'!\" & ADDRESS(131,A137+4)),\"PASS with comments\"))","v":2},{"$f":"COUNTIF(INDIRECT(\"'Success Criteria'!\" & ADDRESS(80,A137+4)):INDIRECT(\"'Success Criteria'!\" & ADDRESS(131,A137+4)),\"NON conformant\")","v":0},{"$f":"COUNTIF(INDIRECT(\"'Success Criteria'!\" & ADDRESS(80,A137+4)):INDIRECT(\"'Success Criteria'!\" & ADDRESS(131,A137+4)),\"N/A\")","v":0},{"$f":"COUNTIF(INDIRECT(\"'Success Criteria'!\" & ADDRESS(80,A137+4)):INDIRECT(\"'Success Criteria'!\" & ADDRESS(131,A137+4)),\"not tested\")","v":0},{"$f":"SUM(COUNTIF(INDIRECT(\"'Success Criteria'!\" & ADDRESS(136,A137+4)):INDIRECT(\"'Success Criteria'!\" & ADDRESS(196,A137+4)),\"PASS\"),COUNTIF(INDIRECT(\"'Success Criteria'!\" & ADDRESS(136,A137+4)):INDIRECT(\"'Success Criteria'!\" & ADDRESS(196,A137+4)),\"PASS with comments\"))","v":0},{"$f":"COUNTIF(INDIRECT(\"'Success Criteria'!\" & ADDRESS(136,A137+4)):INDIRECT(\"'Success Criteria'!\" & ADDRESS(196,A137+4)),\"NON conformant\")","v":0},{"$f":"COUNTIF(INDIRECT(\"'Success Criteria'!\" & ADDRESS(136,A137+4)):INDIRECT(\"'Success Criteria'!\" & ADDRESS(196,A137+4)),\"N/A\")","v":0},{"$f":"COUNTIF(INDIRECT(\"'Success Criteria'!\" & ADDRESS(136,A137+4)):INDIRECT(\"'Success Criteria'!\" & ADDRESS(196,A137+4)),\"not tested\")","v":0},2,0,1,0,null,1,"",2,"",0,1]
[124,"Page 124","URL 124","Please select",{"$f":"SUM(COUNTIF(INDIRECT(\"'Success Criteria'!\" & ADDRESS(10,A138+4)):INDIRECT(\"'Success Criteria'!\" & ADDRESS(75,A138+4)),\"PASS\"),COUNTIF(INDIRECT(\"'Success Criteria'!\" & ADDRESS(10,A138+4)):INDIRECT(\"'Success Criteria'!\" & ADDRESS(75,A138+4)),\"PASS with comments\"))","v":0},{"$f":"COUNTIF(INDIRECT(\"'Success Criteria'!\" & ADDRESS(10,A138+4)):INDIRECT(\"'Success Criteria'!\" & ADDRESS(75,A138+4)),\"NON conformant\")","v":0},{"$f":"COUNTIF(INDIRECT(\"'Success Criteria'!\" & ADDRESS(10,A138+4)):INDIRECT(\"'Success Criteria'!\" & ADDRESS(75,A138+4)),\"N/A\")","v":1},{"$f":"COUNTIF(INDIRECT(\"'Success Criteria'!\" & ADDRESS(10,A138+4)):INDIRECT(\"'Success Criteria'!\" & ADDRESS(75,A138+4)),\"not tested\")","v":0},{"$f":"SUM(COUNTIF(INDIRECT(\"'Success Criteria'!\" & ADDRESS(80,A138+4)):INDIRECT(\"'Success Criteria'!\" & ADDRESS(131,A138+4)),\"PASS\"),COUNTIF(INDIRECT(\"'Success Criteria'!\" & ADDRESS(80,A138+4)):INDIRECT(\"'Success Criteria'!\" & ADDRESS(131,A138+4)),\"PASS with comments\"))","v":2},{"$f":"COUNTIF(INDIRECT(\"'Success Criteria'!\" & ADDRESS(80,A138+4)):INDIRECT(\"'Success Criteria'!\" & ADDRESS(131,A138+4)),\"NON conformant\")","v":0},{"$f":"COUNTIF(INDIRECT(\"'Success Criteria'!\" & ADDRESS(80,A138+4)):INDIRECT(\"'Success Criteria'!\" & ADDRESS(131,A138+4)),\"N/A\")","v":0},{"$f":"COUNTIF(INDIRECT(\"'Success Criteria'!\" & ADDRESS(80,A138+4)):INDIRECT(\"'Success Criteria'!\" & ADDRESS(131,A138+4)),\"not tested\")","v":0},{"$f":"SUM(COUNTIF(INDIRECT(\"'Success Criteria'!\" & ADDRESS(136,A138+4)):INDIRECT(\"'Success Criteria'!\" & ADDRESS(196,A138+4)),\"PASS\"),COUNTIF(INDIRECT(\"'Success Criteria'!\" & ADDRESS(136,A138+4)):INDIRECT(\"'Success Criteria'!\" & ADDRESS(196,A138+4)),\"PASS with comments\"))","v":0},{"$f":"COUNTIF(INDIRECT(\"'Success Criteria'!\" & ADDRESS(136,A138+4)):INDIRECT(\"'Success Criteria'!\" & ADDRESS(196,A138+4)),\"NON conformant\")","v":0},{"$f":"COUNTIF(INDIRECT(\"'Success Criteria'!\" & ADDRESS(136,A138+4)):INDIRECT(\"'Success Criteria'!\" & ADDRESS(196,A138+4)),\"N/A\")","v":0},{"$f":"COUNTIF(INDIRECT(\"'Success Criteria'!\" & ADDRESS(136,A138+4)):INDIRECT(\"'Success Criteria'!\" & ADDRESS(196,A138+4)),\"not tested\")","v":0},2,0,1,0,null,1,"",2,"",0,1]
[125,"Page 125","URL 125","Please select",{"$f":"SUM(COUNTIF(INDIRECT(\"'Success Criteria'!\" & ADDRESS(10,A139+4)):INDIRECT(\"'Success Criteria'!\" & ADDRESS(75,A139+4)),\"PASS\"),COUNTIF(INDIRECT(\"'Success Criteria'!\" & ADDRESS(10,A139+4)):INDIRECT(\"'Success Criteria'!\" & ADDRESS(75,A139+4)),\"PASS with comments\"))","v":0},{"$f":"COUNTIF(INDIRECT(\"'Success Criteria'!\" & ADDRESS(10,A139+4)):INDIRECT(\"'Success Criteria'!\" & ADDRESS(75,A139+4)),\"NON conformant\")","v":0},{"$f":"COUNTIF(INDIRECT(\"'Success Criteria'!\" & ADDRESS(10,A139+4)):INDIRECT(\"'Success Criteria'!\" & ADDRESS(75,A139+4)),\"N/A\")","v":1},{"$f":"COUNTIF(INDIRECT(\"'Success Criteria'!\" & ADDRESS(10,A139+4)):INDIRECT(\"'Success Criteria'!\" & ADDRESS(75,A139+4)),\"not tested\")","v":0},{"$f":"SUM(COUNTIF(INDIRECT(\"'Success Criteria'!\" & ADDRESS(80,A139+4)):INDIRECT(\"'Success Criteria'!\" & ADDRESS(131,A139+4)),\"PASS\"),COUNTIF(INDIRECT(\"'Success Criteria'!\" & ADDRESS(80,A139+4)):INDIRECT(\"'Success Criteria'!\" & ADDRESS(131,A139+4)),\"PASS with comments\"))","v":2},{"$f":"COUNTIF(INDIRECT(\"'Success Criteria'!\" & ADDRESS(80,A139+4)):INDIRECT(\"'Success Criteria'!\" & ADDRESS(131,A139+4)),\"NON conformant\")","v":0},{"$f":"COUNTIF(INDIRECT(\"'Success Criteria'!\" & ADDRESS(80,A139+4)):INDIRECT(\"'Success Criteria'!\" & ADDRESS(131,A139+4)),\"N/A\")","v":0},{"$f":"COUNTIF(INDIRECT(\"'Success Criteria'!\" & ADDRESS(80,A139+4)):INDIRECT(\"'Success Criteria'!\" & ADDRESS(131,A139+4)),\"not tested\")","v":0},{"$f":"SUM(COUNTIF(INDIRECT(\"'Success Criteria'!\" & ADDRESS(136,A139+4)):INDIRECT(\"'Success Criteria'!\" & ADDRESS(196,A139+4)),\"PASS\"),COUNTIF(INDIRECT(\"'Success Criteria'!\" & ADDRESS(136,A139+4)):INDIRECT(\"'Success Criteria'!\" & ADDRESS(196,A139+4)),\"PASS with comments\"))","v":0},{"$f":"COUNTIF(INDIRECT(\"'Success Criteria'!\" & ADDRESS(136,A139+4)):INDIRECT(\"'Success Criteria'!\" & ADDRESS(196,A139+4)),\"NON conformant\")","v":0},{"$f":"COUNTIF(INDIRECT(\"'Success Criteria'!\" & ADDRESS(136,A139+4)):INDIRECT(\"'Success Criteria'!\" & ADDRESS(196,A139+4)),\"N/A\")","v":0},{"$f":"COUNTIF(INDIRECT(\"'Success Criteria'!\" & ADDRESS(136,A139+4)):INDIRECT(\"'Success Criteria'!\" & ADDRESS(196,A139+4)),\"not tested\")","v":0},2,0,1,0,null,1,"",2,"",0,1]
[126,"Page 126","URL 126","Please select",{"$f":"SUM(COUNTIF(INDIRECT(\"'Success Criteria'!\" & ADDRESS(10,A140+4)):INDIRECT(\"'Success Criteria'!\" & ADDRESS(75,A140+4)),\"PASS\"),COUNTIF(INDIRECT(\"'Success Criteria'!\" & ADDRESS(10,A140+4)):INDIRECT(\"'Success Criteria'!\" & ADDRESS(75,A140+4)),\"PASS with comments\"))","v":0},{"$f":"COUNTIF(INDIRECT(\"'Success Criteria'!\" & ADDRESS(10,A140+4)):INDIRECT(\"'Success Criteria'!\" & ADDRESS(75,A140+4)),\"NON conformant\")","v":0},{"$f":"COUNTIF(INDIRECT(\"'Success Criteria'!\" & ADDRESS(10,A140+4)):INDIRECT(\"'Success Criteria'!\" & ADDRESS(75,A140+4)),\"N/A\")","v":1},{"$f":"COUNTIF(INDIRECT(\"'Success Criteria'!\" & ADDRESS(10,A140+4)):INDIRECT(\"'Success Criteria'!\" & ADDRESS(75,A140+4)),\"not tested\")","v":0},{"$f":"SUM(COUNTIF(INDIRECT(\"'Success Criteria'!\" & ADDRESS(80,A140+4)):INDIRECT(\"'Success Criteria'!\" & ADDRESS(131,A140+4)),\"PASS\"),COUNTIF(INDIRECT(\"'Success Criteria'!\" & ADDRESS(80,A140+4)):INDIRECT(\"'Success Criteria'!\" & ADDRESS(131,A140+4)),\"PASS with comments\"))","v":2},{"$f":"COUNTIF(INDIRECT(\"'Success Criteria'!\" & ADDRESS(80,A140+4)):INDIRECT(\"'Success Criteria'!\" & ADDRESS(131,A140+4)),\"NON conformant\")","v":0},{"$f":"COUNTIF(INDIRECT(\"'Success Criteria'!\" & ADDRESS(80,A140+4)):INDIRECT(\"'Success Criteria'!\" & ADDRESS(131,A140+4)),\"N/A\")","v":0},{"$f":"COUNTIF(INDIRECT(\"'Success Criteria'!\" & ADDRESS(80,A140+4)):INDIRECT(\"'Success Criteria'!\" & ADDRESS(131,A140+4)),\"not tested\")","v":0},{"$f":"SUM(COUNTIF(INDIRECT(\"'Success Criteria'!\" & ADDRESS(136,A140+4)):INDIRECT(\"'Success Criteria'!\" & ADDRESS(196,A140+4)),\"PASS\"),COUNTIF(INDIRECT(\"'Success Criteria'!\" & ADDRESS(136,A140+4)):INDIRECT(\"'Success Criteria'!\" & ADDRESS(196,A140+4)),\"PASS with comments\"))","v":0},{"$f":"COUNTIF(INDIRECT(\"'Success Criteria'!\" & ADDRESS(136,A140+4)):INDIRECT(\"'Success Criteria'!\" & ADDRESS(196,A140+4)),\"NON conformant\")","v":0},{"$f":"COUNTIF(INDIRECT(\"'Success Criteria'!\" & ADDRESS(136,A140+4)):INDIRECT(\"'Success Criteria'!\" & ADDRESS(196,A140+4)),\"N/A\")","v":0},{"$f":"COUNTIF(INDIRECT(\"'Success Criteria'!\" & ADDRESS(136,A140+4)):INDIRECT(\"'Success Criteria'!\" & ADDRESS(196,A140+4)),\"not tested\")","v":0},2,0,1,0,null,1,"",2,"",0,1]
[127,"Page 127","URL 127","Please select",{"$f":"SUM(COUNTIF(INDIRECT(\"'Success Criteria'!\" & ADDRESS(10,A141+4)):INDIRECT(\"'Success Criteria'!\" & ADDRESS(75,A141+4)),\"PASS\"),COUNTIF(INDIRECT(\"'Success Criteria'!\" & ADDRESS(10,A141+4)):INDIRECT(\"'Success Criteria'!\" & ADDRESS(75,A141+4)),\"PASS with comments\"))","v":0},{"$f":"COUNTIF(INDIRECT(\"'Success Criteria'!\" & ADDRESS(10,A141+4)):INDIRECT(\"'Success Criteria'!\" & ADDRESS(75,A141+4)),\"NON conformant\")","v":0},{"$f":"COUNTIF(INDIRECT(\"'Success Criteria'!\" & ADDRESS(10,A141+4)):INDIRECT(\"'Success Criteria'!\" & ADDRESS(75,A141+4)),\"N/A\")","v":1},{"$f":"COUNTIF(INDIRECT(\"'Success Criteria'!\" & ADDRESS(10,A141+4)):INDIRECT(\"'Success Criteria'!\" & ADDRESS(75,A141+4)),\"not tested\")","v":0},{"$f":"SUM(COUNTIF(INDIRECT(\"'Success Criteria'!\" & ADDRESS(80,A141+4)):INDIRECT(\"'Success Criteria'!\" & ADDRESS(131,A141+4)),\"PASS\"),COUNTIF(INDIRECT(\"'Success Criteria'!\" & ADDRESS(80,A141+4)):INDIRECT(\"'Success Criteria'!\" & ADDRESS(131,A141+4)),\"PASS with comments\"))","v":2},{"$f":"COUNTIF(INDIRECT(\"'Success Criteria'!\" & ADDRESS(80,A141+4)):INDIRECT(\"'Success Criteria'!\" & ADDRESS(131,A141+4)),\"NON conformant\")","v":0},{"$f":"COUNTIF(INDIRECT(\"'Success Criteria'!\" & ADDRESS(80,A141+4)):INDIRECT(\"'Success Criteria'!\" & ADDRESS(131,A141+4)),\"N/A\")","v":0},{"$f":"COUNTIF(INDIRECT(\"'Success Criteria'!\" & ADDRESS(80,A141+4)):INDIRECT(\"'Success Criteria'!\" & ADDRESS(131,A141+4)),\"not tested\")","v":0},{"$f":"SUM(COUNTIF(INDIRECT(\"'Success Criteria'!\" & ADDRESS(136,A141+4)):INDIRECT(\"'Success Criteria'!\" & ADDRESS(196,A141+4)),\"PASS\"),COUNTIF(INDIRECT(\"'Success Criteria'!\" & ADDRESS(136,A141+4)):INDIRECT(\"'Success Criteria'!\" & ADDRESS(196,A141+4)),\"PASS with comments\"))","v":0},{"$f":"COUNTIF(INDIRECT(\"'Success Criteria'!\" & ADDRESS(136,A141+4)):INDIRECT(\"'Success Criteria'!\" & ADDRESS(196,A141+4)),\"NON conformant\")","v":0},{"$f":"COUNTIF(INDIRECT(\"'Success Criteria'!\" & ADDRESS(136,A141+4)):INDIRECT(\"'Success Criteria'!\" & ADDRESS(196,A141+4)),\"N/A\")","v":0},{"$f":"COUNTIF(INDIRECT(\"'Success Criteria'!\" & ADDRESS(136,A141+4)):INDIRECT(\"'Success Criteria'!\" & ADDRESS(196,A141+4)),\"not tested\")","v":0},2,0,1,0,null,1,"",2,"",0,1]
[128,"Page 128","URL 128","Please select",{"$f":"SUM(COUNTIF(INDIRECT(\"'Success Criteria'!\" & ADDRESS(10,A142+4)):INDIRECT(\"'Success Criteria'!\" & ADDRESS(75,A142+4)),\"PASS\"),COUNTIF(INDIRECT(\"'Success Criteria'!\" & ADDRESS(10,A142+4)):INDIRECT(\"'Success Criteria'!\" & ADDRESS(75,A142+4)),\"PASS with comments\"))","v":0},{"$f":"COUNTIF(INDIRECT(\"'Success Criteria'!\" & ADDRESS(10,A142+4)):INDIRECT(\"'Success Criteria'!\" & ADDRESS(75,A142+4)),\"NON conformant\")","v":0},{"$f":"COUNTIF(INDIRECT(\"'Success Criteria'!\" & ADDRESS(10,A142+4)):INDIRECT(\"'Success Criteria'!\" & ADDRESS(75,A142+4)),\"N/A\")","v":1},{"$f":"COUNTIF(INDIRECT(\"'Success Criteria'!\" & ADDRESS(10,A142+4)):INDIRECT(\"'Success Criteria'!\" & ADDRESS(75,A142+4)),\"not tested\")","v":0},{"$f":"SUM(COUNTIF(INDIRECT(\"'Success Criteria'!\" & ADDRESS(80,A142+4)):INDIRECT(\"'Success Criteria'!\" & ADDRESS(131,A142+4)),\"PASS\"),COUNTIF(INDIRECT(\"'Success Criteria'!\" & ADDRESS(80,A142+4)):INDIRECT(\"'Success Criteria'!\" & ADDRESS(131,A142+4)),\"PASS with comments\"))","v":2},{"$f":"COUNTIF(INDIRECT(\"'Success Criteria'!\" & ADDRESS(80,A142+4)):INDIRECT(\"'Success Criteria'!\" & ADDRESS(131,A142+4)),\"NON conformant\")","v":0},{"$f":"COUNTIF(INDIRECT(\"'Success Criteria'!\" & ADDRESS(80,A142+4)):INDIRECT(\"'Success Criteria'!\" & ADDRESS(131,A142+4)),\"N/A\")","v":0},{"$f":"COUNTIF(INDIRECT(\"'Success Criteria'!\" & ADDRESS(80,A142+4)):INDIRECT(\"'Success Criteria'!\" & ADDRESS(131,A142+4)),\"not tested\")","v":0},{"$f":"SUM(COUNTIF(INDIRECT(\"'Success Criteria'!\" & ADDRESS(136,A142+4)):INDIRECT(\"'Success Criteria'!\" & ADDRESS(196,A142+4)),\"PASS\"),COUNTIF(INDIRECT(\"'Success Criteria'!\" & ADDRESS(136,A142+4)):INDIRECT(\"'Success Criteria'!\" & ADDRESS(196,A142+4)),\"PASS with comments\"))","v":0},{"$f":"COUNTIF(INDIRECT(\"'Success Criteria'!\" & ADDRESS(136,A142+4)):INDIRECT(\"'Success Criteria'!\" & ADDRESS(196,A142+4)),\"NON conformant\")","v":0},{"$f":"COUNTIF(INDIRECT(\"'Success Criteria'!\" & ADDRESS(136,A142+4)):INDIRECT(\"'Success Criteria'!\" & ADDRESS(196,A142+4)),\"N/A\")","v":0},{"$f":"COUNTIF(INDIRECT(\"'Success Criteria'!\" & ADDRESS(136,A142+4)):INDIRECT(\"'Success Criteria'!\" & ADDRESS(196,A142+4)),\"not tested\")","v":0},2,0,1,0,null,1,"",2,"",0,1]
[129,"Page 129","URL 129","Please select",{"$f":"SUM(COUNTIF(INDIRECT(\"'Success Criteria'!\" & ADDRESS(10,A143+4)):INDIRECT(\"'Success Criteria'!\" & ADDRESS(75,A143+4)),\"PASS\"),COUNTIF(INDIRECT(\"'Success Criteria'!\" & ADDRESS(10,A143+4)):INDIRECT(\"'Success Criteria'!\" & ADDRESS(75,A143+4)),\"PASS with comments\"))","v":0},{"$f":"COUNTIF(INDIRECT(\"'Success Criteria'!\" & ADDRESS(10,A143+4)):INDIRECT(\"'Success Criteria'!\" & ADDRESS(75,A143+4)),\"NON conformant\")","v":0},{"$f":"COUNTIF(INDIRECT(\"'Success Criteria'!\" & ADDRESS(10,A143+4)):INDIRECT(\"'Success Criteria'!\" & ADDRESS(75,A143+4)),\"N/A\")","v":1},{"$f":"COUNTIF(INDIRECT(\"'Success Criteria'!\" & ADDRESS(10,A143+4)):INDIRECT(\"'Success Criteria'!\" & ADDRESS(75,A143+4)),\"not tested\")","v":0},{"$f":"SUM(COUNTIF(INDIRECT(\"'Success Criteria'!\" & ADDRESS(80,A143+4)):INDIRECT(\"'Success Criteria'!\" & ADDRESS(131,A143+4)),\"PASS\"),COUNTIF(INDIRECT(\"'Success Criteria'!\" & ADDRESS(80,A143+4)):INDIRECT(\"'Success Criteria'!\" & ADDRESS(131,A143+4)),\"PASS with comments\"))","v":2},{"$f":"COUNTIF(INDIRECT(\"'Success Criteria'!\" & ADDRESS(80,A143+4)):INDIRECT(\"'Success Criteria'!\" & ADDRESS(131,A143+4)),\"NON conformant\")","v":0},{"$f":"COUNTIF(INDIRECT(\"'Success Criteria'!\" & ADDRESS(80,A143+4)):INDIRECT(\"'Success Criteria'!\" & ADDRESS(131,A143+4)),\"N/A\")","v":0},{"$f":"COUNTIF(INDIRECT(\"'Success Criteria'!\" & ADDRESS(80,A143+4)):INDIRECT(\"'Success Criteria'!\" & ADDRESS(131,A143+4)),\"not tested\")","v":0},{"$f":"SUM(COUNTIF(INDIRECT(\"'Success Criteria'!\" & ADDRESS(136,A143+4)):INDIRECT(\"'Success Criteria'!\" & ADDRESS(196,A143+4)),\"PASS\"),COUNTIF(INDIRECT(\"'Success Criteria'!\" & ADDRESS(136,A143+4)):INDIRECT(\"'Success Criteria'!\" & ADDRESS(196,A143+4)),\"PASS with comments\"))","v":0},{"$f":"COUNTIF(INDIRECT(\"'Success Criteria'!\" & ADDRESS(136,A143+4)):INDIRECT(\"'Success Criteria'!\" & ADDRESS(196,A143+4)),\"NON conformant\")","v":0},{"$f":"COUNTIF(INDIRECT(\"'Success Criteria'!\" & ADDRESS(136,A143+4)):INDIRECT(\"'Success Criteria'!\" & ADDRESS(196,A143+4)),\"N/A\")","v":0},{"$f":"COUNTIF(INDIRECT(\"'Success Criteria'!\" & ADDRESS(136,A143+4)):INDIRECT(\"'Success Criteria'!\" & ADDRESS(196,A143+4)),\"not tested\")","v":0},2,0,1,0,null,1,"",2,"",0,1]
[{"$f":"HYPERLINK(\"#'Success Criteria'!\"&ADDRESS(1,ROW()-10,4),ROW()-14)","v":130},"Page 130","URL 130","Please select",{"$f":"SUM(COUNTIF(INDIRECT(\"'Success Criteria'!\" & ADDRESS(10,A144+4)):INDIRECT(\"'Success Criteria'!\" & ADDRESS(75,A144+4)),\"PASS\"),COUNTIF(INDIRECT(\"'Success Criteria'!\" & ADDRESS(10,A144+4)):INDIRECT(\"'Success Criteria'!\" & ADDRESS(75,A144+4)),\"PASS with comments\"))","v":0},{"$f":"COUNTIF(INDIRECT(\"'Success Criteria'!\" & ADDRESS(10,A144+4)):INDIRECT(\"'Success Criteria'!\" & ADDRESS(75,A144+4)),\"NON conformant\")","v":0},{"$f":"COUNTIF(INDIRECT(\"'Success Criteria'!\" & ADDRESS(10,A144+4)):INDIRECT(\"'Success Criteria'!\" & ADDRESS(75,A144+4)),\"N/A\")","v":1},{"$f":"COUNTIF(INDIRECT(\"'Success Criteria'!\" & ADDRESS(10,A144+4)):INDIRECT(\"'Success Criteria'!\" & ADDRESS(75,A144+4)),\"not tested\")","v":0},{"$f":"SUM(COUNTIF(INDIRECT(\"'Success Criteria'!\" & ADDRESS(80,A144+4)):INDIRECT(\"'Success Criteria'!\" & ADDRESS(131,A144+4)),\"PASS\"),COUNTIF(INDIRECT(\"'Success Criteria'!\" & ADDRESS(80,A144+4)):INDIRECT(\"'Success Criteria'!\" & ADDRESS(131,A144+4)),\"PASS with comments\"))","v":2},{"$f":"COUNTIF(INDIRECT(\"'Success Criteria'!\" & ADDRESS(80,A144+4)):INDIRECT(\"'Success Criteria'!\" & ADDRESS(131,A144+4)),\"NON conformant\")","v":0},{"$f":"COUNTIF(INDIRECT(\"'Success Criteria'!\" & ADDRESS(80,A144+4)):INDIRECT(\"'Success Criteria'!\" & ADDRESS(131,A144+4)),\"N/A\")","v":0},{"$f":"COUNTIF(INDIRECT(\"'Success Criteria'!\" & ADDRESS(80,A144+4)):INDIRECT(\"'Success Criteria'!\" & ADDRESS(131,A144+4)),\"not tested\")","v":0},{"$f":"SUM(COUNTIF(INDIRECT(\"'Success Criteria'!\" & ADDRESS(136,A144+4)):INDIRECT(\"'Success Criteria'!\" & ADDRESS(196,A144+4)),\"PASS\"),COUNTIF(INDIRECT(\"'Success Criteria'!\" & ADDRESS(136,A144+4)):INDIRECT(\"'Success Criteria'!\" & ADDRESS(196,A144+4)),\"PASS with comments\"))","v":0},{"$f":"COUNTIF(INDIRECT(\"'Success Criteria'!\" & ADDRESS(136,A144+4)):INDIRECT(\"'Success Criteria'!\" & ADDRESS(196,A144+4)),\"NON conformant\")","v":0},{"$f":"COUNTIF(INDIRECT(\"'Success Criteria'!\" & ADDRESS(136,A144+4)):INDIRECT(\"'Success Criteria'!\" & ADDRESS(196,A144+4)),\"N/A\")","v":0},{"$f":"COUNTIF(INDIRECT(\"'Success Criteria'!\" & ADDRESS(136,A144+4)):INDIRECT(\"'Success Criteria'!\" & ADDRESS(196,A144+4)),\"not tested\")","v":0},{"$f":"SUM(E144+I144+M144)","v":2},0,1,0,null,1,"",{"$f":"SUM($I144:$L144)","v":2},"",{"$f":"SUM($M144:$P144)","v":0},{"$f":"IF(Z144=AA$12,1,\"\")","v":1}]
[131,"Page 131","URL 131","Please select",{"$f":"SUM(COUNTIF(INDIRECT(\"'Success Criteria'!\" & ADDRESS(10,A145+4)):INDIRECT(\"'Success Criteria'!\" & ADDRESS(75,A145+4)),\"PASS\"),COUNTIF(INDIRECT(\"'Success Criteria'!\" & ADDRESS(10,A145+4)):INDIRECT(\"'Success Criteria'!\" & ADDRESS(75,A145+4)),\"PASS with comments\"))","v":0},{"$f":"COUNTIF(INDIRECT(\"'Success Criteria'!\" & ADDRESS(10,A145+4)):INDIRECT(\"'Success Criteria'!\" & ADDRESS(75,A145+4)),\"NON conformant\")","v":0},{"$f":"COUNTIF(INDIRECT(\"'Success Criteria'!\" & ADDRESS(10,A145+4)):INDIRECT(\"'Success Criteria'!\" & ADDRESS(75,A145+4)),\"N/A\")","v":1},{"$f":"COUNTIF(INDIRECT(\"'Success Criteria'!\" & ADDRESS(10,A145+4)):INDIRECT(\"'Success Criteria'!\" & ADDRESS(75,A145+4)),\"not tested\")","v":0},{"$f":"SUM(COUNTIF(INDIRECT(\"'Success Criteria'!\" & ADDRESS(80,A145+4)):INDIRECT(\"'Success Criteria'!\" & ADDRESS(131,A145+4)),\"PASS\"),COUNTIF(INDIRECT(\"'Success Criteria'!\" & ADDRESS(80,A145+4)):INDIRECT(\"'Success Criteria'!\" & ADDRESS(131,A145+4)),\"PASS with comments\"))","v":2},{"$f":"COUNTIF(INDIRECT(\"'Success Criteria'!\" & ADDRESS(80,A145+4)):INDIRECT(\"'Success Criteria'!\" & ADDRESS(131,A145+4)),\"NON conformant\")","v":0},{"$f":"COUNTIF(INDIRECT(\"'Success Criteria'!\" & ADDRESS(80,A145+4)):INDIRECT(\"'Success Criteria'!\" & ADDRESS(131,A145+4)),\"N/A\")","v":0},{"$f":"COUNTIF(INDIRECT(\"'Success Criteria'!\" & ADDRESS(80,A145+4)):INDIRECT(\"'Success Criteria'!\" & ADDRESS(131,A145+4)),\"not tested\")","v":0},{"$f":"SUM(COUNTIF(INDIRECT(\"'Success Criteria'!\" & ADDRESS(136,A145+4)):INDIRECT(\"'Success Criteria'!\" & ADDRESS(196,A145+4)),\"PASS\"),COUNTIF(INDIRECT(\"'Success Criteria'!\" & ADDRESS(136,A145+4)):INDIRECT(\"'Success Criteria'!\" & ADDRESS(196,A145+4)),\"PASS with comments\"))","v":0},{"$f":"COUNTIF(INDIRECT(\"'Success Criteria'!\" & ADDRESS(136,A145+4)):INDIRECT(\"'Success Criteria'!\" & ADDRESS(196,A145+4)),\"NON conformant\")","v":0},{"$f":"COUNTIF(INDIRECT(\"'Success Criteria'!\" & ADDRESS(136,A145+4)):INDIRECT(\"'Success Criteria'!\" & ADDRESS(196,A145+4)),\"N/A\")","v":0},{"$f":"COUNTIF(INDIRECT(\"'Success Criteria'!\" & ADDRESS(136,A145+4)):INDIRECT(\"'Success Criteria'!\" & ADDRESS(196,A145+4)),\"not tested\")","v":0},2,0,1,0,null,1,{"$f":"IF(V145=W$12,1,\"\")","v":""},2,{"$f":"IF(X145=Y$12,1,\"\")","v":""},0,1]
[132,"Page 132","URL 132","Please select",{"$f":"SUM(COUNTIF(INDIRECT(\"'Success Criteria'!\" & ADDRESS(10,A146+4)):INDIRECT(\"'Success Criteria'!\" & ADDRESS(75,A146+4)),\"PASS\"),COUNTIF(INDIRECT(\"'Success Criteria'!\" & ADDRESS(10,A146+4)):INDIRECT(\"'Success Criteria'!\" & ADDRESS(75,A146+4)),\"PASS with comments\"))","v":0},{"$f":"COUNTIF(INDIRECT(\"'Success Criteria'!\" & ADDRESS(10,A146+4)):INDIRECT(\"'Success Criteria'!\" & ADDRESS(75,A146+4)),\"NON conformant\")","v":0},{"$f":"COUNTIF(INDIRECT(\"'Success Criteria'!\" & ADDRESS(10,A146+4)):INDIRECT(\"'Success Criteria'!\" & ADDRESS(75,A146+4)),\"N/A\")","v":1},{"$f":"COUNTIF(INDIRECT(\"'Success Criteria'!\" & ADDRESS(10,A146+4)):INDIRECT(\"'Success Criteria'!\" & ADDRESS(75,A146+4)),\"not tested\")","v":0},{"$f":"SUM(COUNTIF(INDIRECT(\"'Success Criteria'!\" & ADDRESS(80,A146+4)):INDIRECT(\"'Success Criteria'!\" & ADDRESS(131,A146+4)),\"PASS\"),COUNTIF(INDIRECT(\"'Success Criteria'!\" & ADDRESS(80,A146+4)):INDIRECT(\"'Success Criteria'!\" & ADDRESS(131,A146+4)),\"PASS with comments\"))","v":2},{"$f":"COUNTIF(INDIRECT(\"'Success Criteria'!\" & ADDRESS(80,A146+4)):INDIRECT(\"'Success Criteria'!\" & ADDRESS(131,A146+4)),\"NON conformant\")","v":0},{"$f":"COUNTIF(INDIRECT(\"'Success Criteria'!\" & ADDRESS(80,A146+4)):INDIRECT(\"'Success Criteria'!\" & ADDRESS(131,A146+4)),\"N/A\")","v":0},{"$f":"COUNTIF(INDIRECT(\"'Success Criteria'!\" & ADDRESS(80,A146+4)):INDIRECT(\"'Success Criteria'!\" & ADDRESS(131,A146+4)),\"not tested\")","v":0},{"$f":"SUM(COUNTIF(INDIRECT(\"'Success Criteria'!\" & ADDRESS(136,A146+4)):INDIRECT(\"'Success Criteria'!\" & ADDRESS(196,A146+4)),\"PASS\"),COUNTIF(INDIRECT(\"'Success Criteria'!\" & ADDRESS(136,A146+4)):INDIRECT(\"'Success Criteria'!\" & ADDRESS(196,A146+4)),\"PASS with comments\"))","v":0},{"$f":"COUNTIF(INDIRECT(\"'Success Criteria'!\" & ADDRESS(136,A146+4)):INDIRECT(\"'Success Criteria'!\" & ADDRESS(196,A146+4)),\"NON conformant\")","v":0},{"$f":"COUNTIF(INDIRECT(\"'Success Criteria'!\" & ADDRESS(136,A146+4)):INDIRECT(\"'Success Criteria'!\" & ADDRESS(196,A146+4)),\"N/A\")","v":0},{"$f":"COUNTIF(INDIRECT(\"'Success Criteria'!\" & ADDRESS(136,A146+4)):INDIRECT(\"'Success Criteria'!\" & ADDRESS(196,A146+4)),\"not tested\")","v":0},2,0,1,0,null,1,"",2,"",0,1]
[133,"Page 133","URL 133","Please select",{"$f":"SUM(COUNTIF(INDIRECT(\"'Success Criteria'!\" & ADDRESS(10,A147+4)):INDIRECT(\"'Success Criteria'!\" & ADDRESS(75,A147+4)),\"PASS\"),COUNTIF(INDIRECT(\"'Success Criteria'!\" & ADDRESS(10,A147+4)):INDIRECT(\"'Success Criteria'!\" & ADDRESS(75,A147+4)),\"PASS with comments\"))","v":0},{"$f":"COUNTIF(INDIRECT(\"'Success Criteria'!\" & ADDRESS(10,A147+4)):INDIRECT(\"'Success Criteria'!\" & ADDRESS(75,A147+4)),\"NON conformant\")","v":0},{"$f":"COUNTIF(INDIRECT(\"'Success Criteria'!\" & ADDRESS(10,A147+4)):INDIRECT(\"'Success Criteria'!\" & ADDRESS(75,A147+4)),\"N/A\")","v":1},{"$f":"COUNTIF(INDIRECT(\"'Success Criteria'!\" & ADDRESS(10,A147+4)):INDIRECT(\"'Success Criteria'!\" & ADDRESS(75,A147+4)),\"not tested\")","v":0},{"$f":"SUM(COUNTIF(INDIRECT(\"'Success Criteria'!\" & ADDRESS(80,A147+4)):INDIRECT(\"'Success Criteria'!\" & ADDRESS(131,A147+4)),\"PASS\"),COUNTIF(INDIRECT(\"'Success Criteria'!\" & ADDRESS(80,A147+4)):INDIRECT(\"'Success Criteria'!\" & ADDRESS(131,A147+4)),\"PASS with comments\"))","v":2},{"$f":"COUNTIF(INDIRECT(\"'Success Criteria'!\" & ADDRESS(80,A147+4)):INDIRECT(\"'Success Criteria'!\" & ADDRESS(131,A147+4)),\"NON conformant\")","v":0},{"$f":"COUNTIF(INDIRECT(\"'Success Criteria'!\" & ADDRESS(80,A147+4)):INDIRECT(\"'Success Criteria'!\" & ADDRESS(131,A147+4)),\"N/A\")","v":0},{"$f":"COUNTIF(INDIRECT(\"'Success Criteria'!\" & ADDRESS(80,A147+4)):INDIRECT(\"'Success Criteria'!\" & ADDRESS(131,A147+4)),\"not tested\")","v":0},{"$f":"SUM(COUNTIF(INDIRECT(\"'Success Criteria'!\" & ADDRESS(136,A147+4)):INDIRECT(\"'Success Criteria'!\" & ADDRESS(196,A147+4)),\"PASS\"),COUNTIF(INDIRECT(\"'Success Criteria'!\" & ADDRESS(136,A147+4)):INDIRECT(\"'Success Criteria'!\" & ADDRESS(196,A147+4)),\"PASS with comments\"))","v":0},{"$f":"COUNTIF(INDIRECT(\"'Success Criteria'!\" & ADDRESS(136,A147+4)):INDIRECT(\"'Success Criteria'!\" & ADDRESS(196,A147+4)),\"NON conformant\")","v":0},{"$f":"COUNTIF(INDIRECT(\"'Success Criteria'!\" & ADDRESS(136,A147+4)):INDIRECT(\"'Success Criteria'!\" & ADDRESS(196,A147+4)),\"N/A\")","v":0},{"$f":"COUNTIF(INDIRECT(\"'Success Criteria'!\" & ADDRESS(136,A147+4)):INDIRECT(\"'Success Criteria'!\" & ADDRESS(196,A147+4)),\"not tested\")","v":0},2,0,1,0,null,1,"",2,"",0,1]
[134,"Page 134","URL 134","Please select",{"$f":"SUM(COUNTIF(INDIRECT(\"'Success Criteria'!\" & ADDRESS(10,A148+4)):INDIRECT(\"'Success Criteria'!\" & ADDRESS(75,A148+4)),\"PASS\"),COUNTIF(INDIRECT(\"'Success Criteria'!\" & ADDRESS(10,A148+4)):INDIRECT(\"'Success Criteria'!\" & ADDRESS(75,A148+4)),\"PASS with comments\"))","v":0},{"$f":"COUNTIF(INDIRECT(\"'Success Criteria'!\" & ADDRESS(10,A148+4)):INDIRECT(\"'Success Criteria'!\" & ADDRESS(75,A148+4)),\"NON conformant\")","v":0},{"$f":"COUNTIF(INDIRECT(\"'Success Criteria'!\" & ADDRESS(10,A148+4)):INDIRECT(\"'Success Criteria'!\" & ADDRESS(75,A148+4)),\"N/A\")","v":1},{"$f":"COUNTIF(INDIRECT(\"'Success Criteria'!\" & ADDRESS(10,A148+4)):INDIRECT(\"'Success Criteria'!\" & ADDRESS(75,A148+4)),\"not tested\")","v":0},{"$f":"SUM(COUNTIF(INDIRECT(\"'Success Criteria'!\" & ADDRESS(80,A148+4)):INDIRECT(\"'Success Criteria'!\" & ADDRESS(131,A148+4)),\"PASS\"),COUNTIF(INDIRECT(\"'Success Criteria'!\" & ADDRESS(80,A148+4)):INDIRECT(\"'Success Criteria'!\" & ADDRESS(131,A148+4)),\"PASS with comments\"))","v":2},{"$f":"COUNTIF(INDIRECT(\"'Success Criteria'!\" & ADDRESS(80,A148+4)):INDIRECT(\"'Success Criteria'!\" & ADDRESS(131,A148+4)),\"NON conformant\")","v":0},{"$f":"COUNTIF(INDIRECT(\"'Success Criteria'!\" & ADDRESS(80,A148+4)):INDIRECT(\"'Success Criteria'!\" & ADDRESS(131,A148+4)),\"N/A\")","v":0},{"$f":"COUNTIF(INDIRECT(\"'Success Criteria'!\" & ADDRESS(80,A148+4)):INDIRECT(\"'Success Criteria'!\" & ADDRESS(131,A148+4)),\"not tested\")","v":0},{"$f":"SUM(COUNTIF(INDIRECT(\"'Success Criteria'!\" & ADDRESS(136,A148+4)):INDIRECT(\"'Success Criteria'!\" & ADDRESS(196,A148+4)),\"PASS\"),COUNTIF(INDIRECT(\"'Success Criteria'!\" & ADDRESS(136,A148+4)):INDIRECT(\"'Success Criteria'!\" & ADDRESS(196,A148+4)),\"PASS with comments\"))","v":0},{"$f":"COUNTIF(INDIRECT(\"'Success Criteria'!\" & ADDRESS(136,A148+4)):INDIRECT(\"'Success Criteria'!\" & ADDRESS(196,A148+4)),\"NON conformant\")","v":0},{"$f":"COUNTIF(INDIRECT(\"'Success Criteria'!\" & ADDRESS(136,A148+4)):INDIRECT(\"'Success Criteria'!\" & ADDRESS(196,A148+4)),\"N/A\")","v":0},{"$f":"COUNTIF(INDIRECT(\"'Success Criteria'!\" & ADDRESS(136,A148+4)):INDIRECT(\"'Success Criteria'!\" & ADDRESS(196,A148+4)),\"not tested\")","v":0},2,0,1,0,null,1,"",2,"",0,1]
[135,"Page 135","URL 135","Please select",{"$f":"SUM(COUNTIF(INDIRECT(\"'Success Criteria'!\" & ADDRESS(10,A149+4)):INDIRECT(\"'Success Criteria'!\" & ADDRESS(75,A149+4)),\"PASS\"),COUNTIF(INDIRECT(\"'Success Criteria'!\" & ADDRESS(10,A149+4)):INDIRECT(\"'Success Criteria'!\" & ADDRESS(75,A149+4)),\"PASS with comments\"))","v":0},{"$f":"COUNTIF(INDIRECT(\"'Success Criteria'!\" & ADDRESS(10,A149+4)):INDIRECT(\"'Success Criteria'!\" & ADDRESS(75,A149+4)),\"NON conformant\")","v":0},{"$f":"COUNTIF(INDIRECT(\"'Success Criteria'!\" & ADDRESS(10,A149+4)):INDIRECT(\"'Success Criteria'!\" & ADDRESS(75,A149+4)),\"N/A\")","v":1},{"$f":"COUNTIF(INDIRECT(\"'Success Criteria'!\" & ADDRESS(10,A149+4)):INDIRECT(\"'Success Criteria'!\" & ADDRESS(75,A149+4)),\"not tested\")","v":0},{"$f":"SUM(COUNTIF(INDIRECT(\"'Success Criteria'!\" & ADDRESS(80,A149+4)):INDIRECT(\"'Success Criteria'!\" & ADDRESS(131,A149+4)),\"PASS\"),COUNTIF(INDIRECT(\"'Success Criteria'!\" & ADDRESS(80,A149+4)):INDIRECT(\"'Success Criteria'!\" & ADDRESS(131,A149+4)),\"PASS with comments\"))","v":2},{"$f":"COUNTIF(INDIRECT(\"'Success Criteria'!\" & ADDRESS(80,A149+4)):INDIRECT(\"'Success Criteria'!\" & ADDRESS(131,A149+4)),\"NON conformant\")","v":0},{"$f":"COUNTIF(INDIRECT(\"'Success Criteria'!\" & ADDRESS(80,A149+4)):INDIRECT(\"'Success Criteria'!\" & ADDRESS(131,A149+4)),\"N/A\")","v":0},{"$f":"COUNTIF(INDIRECT(\"'Success Criteria'!\" & ADDRESS(80,A149+4)):INDIRECT(\"'Success Criteria'!\" & ADDRESS(131,A149+4)),\"not tested\")","v":0},{"$f":"SUM(COUNTIF(INDIRECT(\"'Success Criteria'!\" & ADDRESS(136,A149+4)):INDIRECT(\"'Success Criteria'!\" & ADDRESS(196,A149+4)),\"PASS\"),COUNTIF(INDIRECT(\"'Success Criteria'!\" & ADDRESS(136,A149+4)):INDIRECT(\"'Success Criteria'!\" & ADDRESS(196,A149+4)),\"PASS with comments\"))","v":0},{"$f":"COUNTIF(INDIRECT(\"'Success Criteria'!\" & ADDRESS(136,A149+4)):INDIRECT(\"'Success Criteria'!\" & ADDRESS(196,A149+4)),\"NON conformant\")","v":0},{"$f":"COUNTIF(INDIRECT(\"'Success Criteria'!\" & ADDRESS(136,A149+4)):INDIRECT(\"'Success Criteria'!\" & ADDRESS(196,A149+4)),\"N/A\")","v":0},{"$f":"COUNTIF(INDIRECT(\"'Success Criteria'!\" & ADDRESS(136,A149+4)):INDIRECT(\"'Success Criteria'!\" & ADDRESS(196,A149+4)),\"not tested\")","v":0},2,0,1,0,null,1,"",2,"",0,1]
[136,"Page 136","URL 136","Please select",{"$f":"SUM(COUNTIF(INDIRECT(\"'Success Criteria'!\" & ADDRESS(10,A150+4)):INDIRECT(\"'Success Criteria'!\" & ADDRESS(75,A150+4)),\"PASS\"),COUNTIF(INDIRECT(\"'Success Criteria'!\" & ADDRESS(10,A150+4)):INDIRECT(\"'Success Criteria'!\" & ADDRESS(75,A150+4)),\"PASS with comments\"))","v":0},{"$f":"COUNTIF(INDIRECT(\"'Success Criteria'!\" & ADDRESS(10,A150+4)):INDIRECT(\"'Success Criteria'!\" & ADDRESS(75,A150+4)),\"NON conformant\")","v":0},{"$f":"COUNTIF(INDIRECT(\"'Success Criteria'!\" & ADDRESS(10,A150+4)):INDIRECT(\"'Success Criteria'!\" & ADDRESS(75,A150+4)),\"N/A\")","v":1},{"$f":"COUNTIF(INDIRECT(\"'Success Criteria'!\" & ADDRESS(10,A150+4)):INDIRECT(\"'Success Criteria'!\" & ADDRESS(75,A150+4)),\"not tested\")","v":0},{"$f":"SUM(COUNTIF(INDIRECT(\"'Success Criteria'!\" & ADDRESS(80,A150+4)):INDIRECT(\"'Success Criteria'!\" & ADDRESS(131,A150+4)),\"PASS\"),COUNTIF(INDIRECT(\"'Success Criteria'!\" & ADDRESS(80,A150+4)):INDIRECT(\"'Success Criteria'!\" & ADDRESS(131,A150+4)),\"PASS with comments\"))","v":2},{"$f":"COUNTIF(INDIRECT(\"'Success Criteria'!\" & ADDRESS(80,A150+4)):INDIRECT(\"'Success Criteria'!\" & ADDRESS(131,A150+4)),\"NON conformant\")","v":0},{"$f":"COUNTIF(INDIRECT(\"'Success Criteria'!\" & ADDRESS(80,A150+4)):INDIRECT(\"'Success Criteria'!\" & ADDRESS(131,A150+4)),\"N/A\")","v":0},{"$f":"COUNTIF(INDIRECT(\"'Success Criteria'!\" & ADDRESS(80,A150+4)):INDIRECT(\"'Success Criteria'!\" & ADDRESS(131,A150+4)),\"not tested\")","v":0},{"$f":"SUM(COUNTIF(INDIRECT(\"'Success Criteria'!\" & ADDRESS(136,A150+4)):INDIRECT(\"'Success Criteria'!\" & ADDRESS(196,A150+4)),\"PASS\"),COUNTIF(INDIRECT(\"'Success Criteria'!\" & ADDRESS(136,A150+4)):INDIRECT(\"'Success Criteria'!\" & ADDRESS(196,A150+4)),\"PASS with comments\"))","v":0},{"$f":"COUNTIF(INDIRECT(\"'Success Criteria'!\" & ADDRESS(136,A150+4)):INDIRECT(\"'Success Criteria'!\" & ADDRESS(196,A150+4)),\"NON conformant\")","v":0},{"$f":"COUNTIF(INDIRECT(\"'Success Criteria'!\" & ADDRESS(136,A150+4)):INDIRECT(\"'Success Criteria'!\" & ADDRESS(196,A150+4)),\"N/A\")","v":0},{"$f":"COUNTIF(INDIRECT(\"'Success Criteria'!\" & ADDRESS(136,A150+4)):INDIRECT(\"'Success Criteria'!\" & ADDRESS(196,A150+4)),\"not tested\")","v":0},2,0,1,0,null,1,"",2,"",0,1]
[137,"Page 137","URL 137","Please select",{"$f":"SUM(COUNTIF(INDIRECT(\"'Success Criteria'!\" & ADDRESS(10,A151+4)):INDIRECT(\"'Success Criteria'!\" & ADDRESS(75,A151+4)),\"PASS\"),COUNTIF(INDIRECT(\"'Success Criteria'!\" & ADDRESS(10,A151+4)):INDIRECT(\"'Success Criteria'!\" & ADDRESS(75,A151+4)),\"PASS with comments\"))","v":0},{"$f":"COUNTIF(INDIRECT(\"'Success Criteria'!\" & ADDRESS(10,A151+4)):INDIRECT(\"'Success Criteria'!\" & ADDRESS(75,A151+4)),\"NON conformant\")","v":0},{"$f":"COUNTIF(INDIRECT(\"'Success Criteria'!\" & ADDRESS(10,A151+4)):INDIRECT(\"'Success Criteria'!\" & ADDRESS(75,A151+4)),\"N/A\")","v":1},{"$f":"COUNTIF(INDIRECT(\"'Success Criteria'!\" & ADDRESS(10,A151+4)):INDIRECT(\"'Success Criteria'!\" & ADDRESS(75,A151+4)),\"not tested\")","v":0},{"$f":"SUM(COUNTIF(INDIRECT(\"'Success Criteria'!\" & ADDRESS(80,A151+4)):INDIRECT(\"'Success Criteria'!\" & ADDRESS(131,A151+4)),\"PASS\"),COUNTIF(INDIRECT(\"'Success Criteria'!\" & ADDRESS(80,A151+4)):INDIRECT(\"'Success Criteria'!\" & ADDRESS(131,A151+4)),\"PASS with comments\"))","v":2},{"$f":"COUNTIF(INDIRECT(\"'Success Criteria'!\" & ADDRESS(80,A151+4)):INDIRECT(\"'Success Criteria'!\" & ADDRESS(131,A151+4)),\"NON conformant\")","v":0},{"$f":"COUNTIF(INDIRECT(\"'Success Criteria'!\" & ADDRESS(80,A151+4)):INDIRECT(\"'Success Criteria'!\" & ADDRESS(131,A151+4)),\"N/A\")","v":0},{"$f":"COUNTIF(INDIRECT(\"'Success Criteria'!\" & ADDRESS(80,A151+4)):INDIRECT(\"'Success Criteria'!\" & ADDRESS(131,A151+4)),\"not tested\")","v":0},{"$f":"SUM(COUNTIF(INDIRECT(\"'Success Criteria'!\" & ADDRESS(136,A151+4)):INDIRECT(\"'Success Criteria'!\" & ADDRESS(196,A151+4)),\"PASS\"),COUNTIF(INDIRECT(\"'Success Criteria'!\" & ADDRESS(136,A151+4)):INDIRECT(\"'Success Criteria'!\" & ADDRESS(196,A151+4)),\"PASS with comments\"))","v":0},{"$f":"COUNTIF(INDIRECT(\"'Success Criteria'!\" & ADDRESS(136,A151+4)):INDIRECT(\"'Success Criteria'!\" & ADDRESS(196,A151+4)),\"NON conformant\")","v":0},{"$f":"COUNTIF(INDIRECT(\"'Success Criteria'!\" & ADDRESS(136,A151+4)):INDIRECT(\"'Success Criteria'!\" & ADDRESS(196,A151+4)),\"N/A\")","v":0},{"$f":"COUNTIF(INDIRECT(\"'Success Criteria'!\" & ADDRESS(136,A151+4)):INDIRECT(\"'Success Criteria'!\" & ADDRESS(196,A151+4)),\"not tested\")","v":0},2,0,1,0,null,1,"",2,"",0,1]
[138,"Page 138","URL 138","Please select",{"$f":"SUM(COUNTIF(INDIRECT(\"'Success Criteria'!\" & ADDRESS(10,A152+4)):INDIRECT(\"'Success Criteria'!\" & ADDRESS(75,A152+4)),\"PASS\"),COUNTIF(INDIRECT(\"'Success Criteria'!\" & ADDRESS(10,A152+4)):INDIRECT(\"'Success Criteria'!\" & ADDRESS(75,A152+4)),\"PASS with comments\"))","v":0},{"$f":"COUNTIF(INDIRECT(\"'Success Criteria'!\" & ADDRESS(10,A152+4)):INDIRECT(\"'Success Criteria'!\" & ADDRESS(75,A152+4)),\"NON conformant\")","v":0},{"$f":"COUNTIF(INDIRECT(\"'Success Criteria'!\" & ADDRESS(10,A152+4)):INDIRECT(\"'Success Criteria'!\" & ADDRESS(75,A152+4)),\"N/A\")","v":1},{"$f":"COUNTIF(INDIRECT(\"'Success Criteria'!\" & ADDRESS(10,A152+4)):INDIRECT(\"'Success Criteria'!\" & ADDRESS(75,A152+4)),\"not tested\")","v":0},{"$f":"SUM(COUNTIF(INDIRECT(\"'Success Criteria'!\" & ADDRESS(80,A152+4)):INDIRECT(\"'Success Criteria'!\" & ADDRESS(131,A152+4)),\"PASS\"),COUNTIF(INDIRECT(\"'Success Criteria'!\" & ADDRESS(80,A152+4)):INDIRECT(\"'Success Criteria'!\" & ADDRESS(131,A152+4)),\"PASS with comments\"))","v":2},{"$f":"COUNTIF(INDIRECT(\"'Success Criteria'!\" & ADDRESS(80,A152+4)):INDIRECT(\"'Success Criteria'!\" & ADDRESS(131,A152+4)),\"NON conformant\")","v":0},{"$f":"COUNTIF(INDIRECT(\"'Success Criteria'!\" & ADDRESS(80,A152+4)):INDIRECT(\"'Success Criteria'!\" & ADDRESS(131,A152+4)),\"N/A\")","v":0},{"$f":"COUNTIF(INDIRECT(\"'Success Criteria'!\" & ADDRESS(80,A152+4)):INDIRECT(\"'Success Criteria'!\" & ADDRESS(131,A152+4)),\"not tested\")","v":0},{"$f":"SUM(COUNTIF(INDIRECT(\"'Success Criteria'!\" & ADDRESS(136,A152+4)):INDIRECT(\"'Success Criteria'!\" & ADDRESS(196,A152+4)),\"PASS\"),COUNTIF(INDIRECT(\"'Success Criteria'!\" & ADDRESS(136,A152+4)):INDIRECT(\"'Success Criteria'!\" & ADDRESS(196,A152+4)),\"PASS with comments\"))","v":0},{"$f":"COUNTIF(INDIRECT(\"'Success Criteria'!\" & ADDRESS(136,A152+4)):INDIRECT(\"'Success Criteria'!\" & ADDRESS(196,A152+4)),\"NON conformant\")","v":0},{"$f":"COUNTIF(INDIRECT(\"'Success Criteria'!\" & ADDRESS(136,A152+4)):INDIRECT(\"'Success Criteria'!\" & ADDRESS(196,A152+4)),\"N/A\")","v":0},{"$f":"COUNTIF(INDIRECT(\"'Success Criteria'!\" & ADDRESS(136,A152+4)):INDIRECT(\"'Success Criteria'!\" & ADDRESS(196,A152+4)),\"not tested\")","v":0},2,0,1,0,null,1,"",2,"",0,1]
[139,"Page 139","URL 139","Please select",{"$f":"SUM(COUNTIF(INDIRECT(\"'Success Criteria'!\" & ADDRESS(10,A153+4)):INDIRECT(\"'Success Criteria'!\" & ADDRESS(75,A153+4)),\"PASS\"),COUNTIF(INDIRECT(\"'Success Criteria'!\" & ADDRESS(10,A153+4)):INDIRECT(\"'Success Criteria'!\" & ADDRESS(75,A153+4)),\"PASS with comments\"))","v":0},{"$f":"COUNTIF(INDIRECT(\"'Success Criteria'!\" & ADDRESS(10,A153+4)):INDIRECT(\"'Success Criteria'!\" & ADDRESS(75,A153+4)),\"NON conformant\")","v":0},{"$f":"COUNTIF(INDIRECT(\"'Success Criteria'!\" & ADDRESS(10,A153+4)):INDIRECT(\"'Success Criteria'!\" & ADDRESS(75,A153+4)),\"N/A\")","v":1},{"$f":"COUNTIF(INDIRECT(\"'Success Criteria'!\" & ADDRESS(10,A153+4)):INDIRECT(\"'Success Criteria'!\" & ADDRESS(75,A153+4)),\"not tested\")","v":0},{"$f":"SUM(COUNTIF(INDIRECT(\"'Success Criteria'!\" & ADDRESS(80,A153+4)):INDIRECT(\"'Success Criteria'!\" & ADDRESS(131,A153+4)),\"PASS\"),COUNTIF(INDIRECT(\"'Success Criteria'!\" & ADDRESS(80,A153+4)):INDIRECT(\"'Success Criteria'!\" & ADDRESS(131,A153+4)),\"PASS with comments\"))","v":2},{"$f":"COUNTIF(INDIRECT(\"'Success Criteria'!\" & ADDRESS(80,A153+4)):INDIRECT(\"'Success Criteria'!\" & ADDRESS(131,A153+4)),\"NON conformant\")","v":0},{"$f":"COUNTIF(INDIRECT(\"'Success Criteria'!\" & ADDRESS(80,A153+4)):INDIRECT(\"'Success Criteria'!\" & ADDRESS(131,A153+4)),\"N/A\")","v":0},{"$f":"COUNTIF(INDIRECT(\"'Success Criteria'!\" & ADDRESS(80,A153+4)):INDIRECT(\"'Success Criteria'!\" & ADDRESS(131,A153+4)),\"not tested\")","v":0},{"$f":"SUM(COUNTIF(INDIRECT(\"'Success Criteria'!\" & ADDRESS(136,A153+4)):INDIRECT(\"'Success Criteria'!\" & ADDRESS(196,A153+4)),\"PASS\"),COUNTIF(INDIRECT(\"'Success Criteria'!\" & ADDRESS(136,A153+4)):INDIRECT(\"'Success Criteria'!\" & ADDRESS(196,A153+4)),\"PASS with comments\"))","v":0},{"$f":"COUNTIF(INDIRECT(\"'Success Criteria'!\" & ADDRESS(136,A153+4)):INDIRECT(\"'Success Criteria'!\" & ADDRESS(196,A153+4)),\"NON conformant\")","v":0},{"$f":"COUNTIF(INDIRECT(\"'Success Criteria'!\" & ADDRESS(136,A153+4)):INDIRECT(\"'Success Criteria'!\" & ADDRESS(196,A153+4)),\"N/A\")","v":0},{"$f":"COUNTIF(INDIRECT(\"'Success Criteria'!\" & ADDRESS(136,A153+4)):INDIRECT(\"'Success Criteria'!\" & ADDRESS(196,A153+4)),\"not tested\")","v":0},2,0,1,0,null,1,"",2,"",0,1]
[140,"Page 140","URL 140","Please select",{"$f":"SUM(COUNTIF(INDIRECT(\"'Success Criteria'!\" & ADDRESS(10,A154+4)):INDIRECT(\"'Success Criteria'!\" & ADDRESS(75,A154+4)),\"PASS\"),COUNTIF(INDIRECT(\"'Success Criteria'!\" & ADDRESS(10,A154+4)):INDIRECT(\"'Success Criteria'!\" & ADDRESS(75,A154+4)),\"PASS with comments\"))","v":0},{"$f":"COUNTIF(INDIRECT(\"'Success Criteria'!\" & ADDRESS(10,A154+4)):INDIRECT(\"'Success Criteria'!\" & ADDRESS(75,A154+4)),\"NON conformant\")","v":0},{"$f":"COUNTIF(INDIRECT(\"'Success Criteria'!\" & ADDRESS(10,A154+4)):INDIRECT(\"'Success Criteria'!\" & ADDRESS(75,A154+4)),\"N/A\")","v":1},{"$f":"COUNTIF(INDIRECT(\"'Success Criteria'!\" & ADDRESS(10,A154+4)):INDIRECT(\"'Success Criteria'!\" & ADDRESS(75,A154+4)),\"not tested\")","v":0},{"$f":"SUM(COUNTIF(INDIRECT(\"'Success Criteria'!\" & ADDRESS(80,A154+4)):INDIRECT(\"'Success Criteria'!\" & ADDRESS(131,A154+4)),\"PASS\"),COUNTIF(INDIRECT(\"'Success Criteria'!\" & ADDRESS(80,A154+4)):INDIRECT(\"'Success Criteria'!\" & ADDRESS(131,A154+4)),\"PASS with comments\"))","v":2},{"$f":"COUNTIF(INDIRECT(\"'Success Criteria'!\" & ADDRESS(80,A154+4)):INDIRECT(\"'Success Criteria'!\" & ADDRESS(131,A154+4)),\"NON conformant\")","v":0},{"$f":"COUNTIF(INDIRECT(\"'Success Criteria'!\" & ADDRESS(80,A154+4)):INDIRECT(\"'Success Criteria'!\" & ADDRESS(131,A154+4)),\"N/A\")","v":0},{"$f":"COUNTIF(INDIRECT(\"'Success Criteria'!\" & ADDRESS(80,A154+4)):INDIRECT(\"'Success Criteria'!\" & ADDRESS(131,A154+4)),\"not tested\")","v":0},{"$f":"SUM(COUNTIF(INDIRECT(\"'Success Criteria'!\" & ADDRESS(136,A154+4)):INDIRECT(\"'Success Criteria'!\" & ADDRESS(196,A154+4)),\"PASS\"),COUNTIF(INDIRECT(\"'Success Criteria'!\" & ADDRESS(136,A154+4)):INDIRECT(\"'Success Criteria'!\" & ADDRESS(196,A154+4)),\"PASS with comments\"))","v":0},{"$f":"COUNTIF(INDIRECT(\"'Success Criteria'!\" & ADDRESS(136,A154+4)):INDIRECT(\"'Success Criteria'!\" & ADDRESS(196,A154+4)),\"NON conformant\")","v":0},{"$f":"COUNTIF(INDIRECT(\"'Success Criteria'!\" & ADDRESS(136,A154+4)):INDIRECT(\"'Success Criteria'!\" & ADDRESS(196,A154+4)),\"N/A\")","v":0},{"$f":"COUNTIF(INDIRECT(\"'Success Criteria'!\" & ADDRESS(136,A154+4)):INDIRECT(\"'Success Criteria'!\" & ADDRESS(196,A154+4)),\"not tested\")","v":0},2,0,1,0,null,1,"",2,"",0,1]
[141,"Page 141","URL 141","Please select",{"$f":"SUM(COUNTIF(INDIRECT(\"'Success Criteria'!\" & ADDRESS(10,A155+4)):INDIRECT(\"'Success Criteria'!\" & ADDRESS(75,A155+4)),\"PASS\"),COUNTIF(INDIRECT(\"'Success Criteria'!\" & ADDRESS(10,A155+4)):INDIRECT(\"'Success Criteria'!\" & ADDRESS(75,A155+4)),\"PASS with comments\"))","v":0},{"$f":"COUNTIF(INDIRECT(\"'Success Criteria'!\" & ADDRESS(10,A155+4)):INDIRECT(\"'Success Criteria'!\" & ADDRESS(75,A155+4)),\"NON conformant\")","v":0},{"$f":"COUNTIF(INDIRECT(\"'Success Criteria'!\" & ADDRESS(10,A155+4)):INDIRECT(\"'Success Criteria'!\" & ADDRESS(75,A155+4)),\"N/A\")","v":1},{"$f":"COUNTIF(INDIRECT(\"'Success Criteria'!\" & ADDRESS(10,A155+4)):INDIRECT(\"'Success Criteria'!\" & ADDRESS(75,A155+4)),\"not tested\")","v":0},{"$f":"SUM(COUNTIF(INDIRECT(\"'Success Criteria'!\" & ADDRESS(80,A155+4)):INDIRECT(\"'Success Criteria'!\" & ADDRESS(131,A155+4)),\"PASS\"),COUNTIF(INDIRECT(\"'Success Criteria'!\" & ADDRESS(80,A155+4)):INDIRECT(\"'Success Criteria'!\" & ADDRESS(131,A155+4)),\"PASS with comments\"))","v":2},{"$f":"COUNTIF(INDIRECT(\"'Success Criteria'!\" & ADDRESS(80,A155+4)):INDIRECT(\"'Success Criteria'!\" & ADDRESS(131,A155+4)),\"NON conformant\")","v":0},{"$f":"COUNTIF(INDIRECT(\"'Success Criteria'!\" & ADDRESS(80,A155+4)):INDIRECT(\"'Success Criteria'!\" & ADDRESS(131,A155+4)),\"N/A\")","v":0},{"$f":"COUNTIF(INDIRECT(\"'Success Criteria'!\" & ADDRESS(80,A155+4)):INDIRECT(\"'Success Criteria'!\" & ADDRESS(131,A155+4)),\"not tested\")","v":0},{"$f":"SUM(COUNTIF(INDIRECT(\"'Success Criteria'!\" & ADDRESS(136,A155+4)):INDIRECT(\"'Success Criteria'!\" & ADDRESS(196,A155+4)),\"PASS\"),COUNTIF(INDIRECT(\"'Success Criteria'!\" & ADDRESS(136,A155+4)):INDIRECT(\"'Success Criteria'!\" & ADDRESS(196,A155+4)),\"PASS with comments\"))","v":0},{"$f":"COUNTIF(INDIRECT(\"'Success Criteria'!\" & ADDRESS(136,A155+4)):INDIRECT(\"'Success Criteria'!\" & ADDRESS(196,A155+4)),\"NON conformant\")","v":0},{"$f":"COUNTIF(INDIRECT(\"'Success Criteria'!\" & ADDRESS(136,A155+4)):INDIRECT(\"'Success Criteria'!\" & ADDRESS(196,A155+4)),\"N/A\")","v":0},{"$f":"COUNTIF(INDIRECT(\"'Success Criteria'!\" & ADDRESS(136,A155+4)):INDIRECT(\"'Success Criteria'!\" & ADDRESS(196,A155+4)),\"not tested\")","v":0},2,0,1,0,null,1,"",2,"",0,1]
[142,"Page 142","URL 142","Please select",{"$f":"SUM(COUNTIF(INDIRECT(\"'Success Criteria'!\" & ADDRESS(10,A156+4)):INDIRECT(\"'Success Criteria'!\" & ADDRESS(75,A156+4)),\"PASS\"),COUNTIF(INDIRECT(\"'Success Criteria'!\" & ADDRESS(10,A156+4)):INDIRECT(\"'Success Criteria'!\" & ADDRESS(75,A156+4)),\"PASS with comments\"))","v":0},{"$f":"COUNTIF(INDIRECT(\"'Success Criteria'!\" & ADDRESS(10,A156+4)):INDIRECT(\"'Success Criteria'!\" & ADDRESS(75,A156+4)),\"NON conformant\")","v":0},{"$f":"COUNTIF(INDIRECT(\"'Success Criteria'!\" & ADDRESS(10,A156+4)):INDIRECT(\"'Success Criteria'!\" & ADDRESS(75,A156+4)),\"N/A\")","v":1},{"$f":"COUNTIF(INDIRECT(\"'Success Criteria'!\" & ADDRESS(10,A156+4)):INDIRECT(\"'Success Criteria'!\" & ADDRESS(75,A156+4)),\"not tested\")","v":0},{"$f":"SUM(COUNTIF(INDIRECT(\"'Success Criteria'!\" & ADDRESS(80,A156+4)):INDIRECT(\"'Success Criteria'!\" & ADDRESS(131,A156+4)),\"PASS\"),COUNTIF(INDIRECT(\"'Success Criteria'!\" & ADDRESS(80,A156+4)):INDIRECT(\"'Success Criteria'!\" & ADDRESS(131,A156+4)),\"PASS with comments\"))","v":2},{"$f":"COUNTIF(INDIRECT(\"'Success Criteria'!\" & ADDRESS(80,A156+4)):INDIRECT(\"'Success Criteria'!\" & ADDRESS(131,A156+4)),\"NON conformant\")","v":0},{"$f":"COUNTIF(INDIRECT(\"'Success Criteria'!\" & ADDRESS(80,A156+4)):INDIRECT(\"'Success Criteria'!\" & ADDRESS(131,A156+4)),\"N/A\")","v":0},{"$f":"COUNTIF(INDIRECT(\"'Success Criteria'!\" & ADDRESS(80,A156+4)):INDIRECT(\"'Success Criteria'!\" & ADDRESS(131,A156+4)),\"not tested\")","v":0},{"$f":"SUM(COUNTIF(INDIRECT(\"'Success Criteria'!\" & ADDRESS(136,A156+4)):INDIRECT(\"'Success Criteria'!\" & ADDRESS(196,A156+4)),\"PASS\"),COUNTIF(INDIRECT(\"'Success Criteria'!\" & ADDRESS(136,A156+4)):INDIRECT(\"'Success Criteria'!\" & ADDRESS(196,A156+4)),\"PASS with comments\"))","v":0},{"$f":"COUNTIF(INDIRECT(\"'Success Criteria'!\" & ADDRESS(136,A156+4)):INDIRECT(\"'Success Criteria'!\" & ADDRESS(196,A156+4)),\"NON conformant\")","v":0},{"$f":"COUNTIF(INDIRECT(\"'Success Criteria'!\" & ADDRESS(136,A156+4)):INDIRECT(\"'Success Criteria'!\" & ADDRESS(196,A156+4)),\"N/A\")","v":0},{"$f":"COUNTIF(INDIRECT(\"'Success Criteria'!\" & ADDRESS(136,A156+4)):INDIRECT(\"'Success Criteria'!\" & ADDRESS(196,A156+4)),\"not tested\")","v":0},2,0,1,0,null,1,"",2,"",0,1]
[143,"Page 143","URL 143","Please select",{"$f":"SUM(COUNTIF(INDIRECT(\"'Success Criteria'!\" & ADDRESS(10,A157+4)):INDIRECT(\"'Success Criteria'!\" & ADDRESS(75,A157+4)),\"PASS\"),COUNTIF(INDIRECT(\"'Success Criteria'!\" & ADDRESS(10,A157+4)):INDIRECT(\"'Success Criteria'!\" & ADDRESS(75,A157+4)),\"PASS with comments\"))","v":0},{"$f":"COUNTIF(INDIRECT(\"'Success Criteria'!\" & ADDRESS(10,A157+4)):INDIRECT(\"'Success Criteria'!\" & ADDRESS(75,A157+4)),\"NON conformant\")","v":0},{"$f":"COUNTIF(INDIRECT(\"'Success Criteria'!\" & ADDRESS(10,A157+4)):INDIRECT(\"'Success Criteria'!\" & ADDRESS(75,A157+4)),\"N/A\")","v":1},{"$f":"COUNTIF(INDIRECT(\"'Success Criteria'!\" & ADDRESS(10,A157+4)):INDIRECT(\"'Success Criteria'!\" & ADDRESS(75,A157+4)),\"not tested\")","v":0},{"$f":"SUM(COUNTIF(INDIRECT(\"'Success Criteria'!\" & ADDRESS(80,A157+4)):INDIRECT(\"'Success Criteria'!\" & ADDRESS(131,A157+4)),\"PASS\"),COUNTIF(INDIRECT(\"'Success Criteria'!\" & ADDRESS(80,A157+4)):INDIRECT(\"'Success Criteria'!\" & ADDRESS(131,A157+4)),\"PASS with comments\"))","v":2},{"$f":"COUNTIF(INDIRECT(\"'Success Criteria'!\" & ADDRESS(80,A157+4)):INDIRECT(\"'Success Criteria'!\" & ADDRESS(131,A157+4)),\"NON conformant\")","v":0},{"$f":"COUNTIF(INDIRECT(\"'Success Criteria'!\" & ADDRESS(80,A157+4)):INDIRECT(\"'Success Criteria'!\" & ADDRESS(131,A157+4)),\"N/A\")","v":0},{"$f":"COUNTIF(INDIRECT(\"'Success Criteria'!\" & ADDRESS(80,A157+4)):INDIRECT(\"'Success Criteria'!\" & ADDRESS(131,A157+4)),\"not tested\")","v":0},{"$f":"SUM(COUNTIF(INDIRECT(\"'Success Criteria'!\" & ADDRESS(136,A157+4)):INDIRECT(\"'Success Criteria'!\" & ADDRESS(196,A157+4)),\"PASS\"),COUNTIF(INDIRECT(\"'Success Criteria'!\" & ADDRESS(136,A157+4)):INDIRECT(\"'Success Criteria'!\" & ADDRESS(196,A157+4)),\"PASS with comments\"))","v":0},{"$f":"COUNTIF(INDIRECT(\"'Success Criteria'!\" & ADDRESS(136,A157+4)):INDIRECT(\"'Success Criteria'!\" & ADDRESS(196,A157+4)),\"NON conformant\")","v":0},{"$f":"COUNTIF(INDIRECT(\"'Success Criteria'!\" & ADDRESS(136,A157+4)):INDIRECT(\"'Success Criteria'!\" & ADDRESS(196,A157+4)),\"N/A\")","v":0},{"$f":"COUNTIF(INDIRECT(\"'Success Criteria'!\" & ADDRESS(136,A157+4)):INDIRECT(\"'Success Criteria'!\" & ADDRESS(196,A157+4)),\"not tested\")","v":0},2,0,1,0,null,1,"",2,"",0,1]
[144,"Page 144","URL 144","Please select",{"$f":"SUM(COUNTIF(INDIRECT(\"'Success Criteria'!\" & ADDRESS(10,A158+4)):INDIRECT(\"'Success Criteria'!\" & ADDRESS(75,A158+4)),\"PASS\"),COUNTIF(INDIRECT(\"'Success Criteria'!\" & ADDRESS(10,A158+4)):INDIRECT(\"'Success Criteria'!\" & ADDRESS(75,A158+4)),\"PASS with comments\"))","v":0},{"$f":"COUNTIF(INDIRECT(\"'Success Criteria'!\" & ADDRESS(10,A158+4)):INDIRECT(\"'Success Criteria'!\" & ADDRESS(75,A158+4)),\"NON conformant\")","v":0},{"$f":"COUNTIF(INDIRECT(\"'Success Criteria'!\" & ADDRESS(10,A158+4)):INDIRECT(\"'Success Criteria'!\" & ADDRESS(75,A158+4)),\"N/A\")","v":1},{"$f":"COUNTIF(INDIRECT(\"'Success Criteria'!\" & ADDRESS(10,A158+4)):INDIRECT(\"'Success Criteria'!\" & ADDRESS(75,A158+4)),\"not tested\")","v":0},{"$f":"SUM(COUNTIF(INDIRECT(\"'Success Criteria'!\" & ADDRESS(80,A158+4)):INDIRECT(\"'Success Criteria'!\" & ADDRESS(131,A158+4)),\"PASS\"),COUNTIF(INDIRECT(\"'Success Criteria'!\" & ADDRESS(80,A158+4)):INDIRECT(\"'Success Criteria'!\" & ADDRESS(131,A158+4)),\"PASS with comments\"))","v":2},{"$f":"COUNTIF(INDIRECT(\"'Success Criteria'!\" & ADDRESS(80,A158+4)):INDIRECT(\"'Success Criteria'!\" & ADDRESS(131,A158+4)),\"NON conformant\")","v":0},{"$f":"COUNTIF(INDIRECT(\"'Success Criteria'!\" & ADDRESS(80,A158+4)):INDIRECT(\"'Success Criteria'!\" & ADDRESS(131,A158+4)),\"N/A\")","v":0},{"$f":"COUNTIF(INDIRECT(\"'Success Criteria'!\" & ADDRESS(80,A158+4)):INDIRECT(\"'Success Criteria'!\" & ADDRESS(131,A158+4)),\"not tested\")","v":0},{"$f":"SUM(COUNTIF(INDIRECT(\"'Success Criteria'!\" & ADDRESS(136,A158+4)):INDIRECT(\"'Success Criteria'!\" & ADDRESS(196,A158+4)),\"PASS\"),COUNTIF(INDIRECT(\"'Success Criteria'!\" & ADDRESS(136,A158+4)):INDIRECT(\"'Success Criteria'!\" & ADDRESS(196,A158+4)),\"PASS with comments\"))","v":0},{"$f":"COUNTIF(INDIRECT(\"'Success Criteria'!\" & ADDRESS(136,A158+4)):INDIRECT(\"'Success Criteria'!\" & ADDRESS(196,A158+4)),\"NON conformant\")","v":0},{"$f":"COUNTIF(INDIRECT(\"'Success Criteria'!\" & ADDRESS(136,A158+4)):INDIRECT(\"'Success Criteria'!\" & ADDRESS(196,A158+4)),\"N/A\")","v":0},{"$f":"COUNTIF(INDIRECT(\"'Success Criteria'!\" & ADDRESS(136,A158+4)):INDIRECT(\"'Success Criteria'!\" & ADDRESS(196,A158+4)),\"not tested\")","v":0},2,0,1,0,null,1,"",2,"",0,1]
[145,"Page 145","URL 145","Please select",{"$f":"SUM(COUNTIF(INDIRECT(\"'Success Criteria'!\" & ADDRESS(10,A159+4)):INDIRECT(\"'Success Criteria'!\" & ADDRESS(75,A159+4)),\"PASS\"),COUNTIF(INDIRECT(\"'Success Criteria'!\" & ADDRESS(10,A159+4)):INDIRECT(\"'Success Criteria'!\" & ADDRESS(75,A159+4)),\"PASS with comments\"))","v":0},{"$f":"COUNTIF(INDIRECT(\"'Success Criteria'!\" & ADDRESS(10,A159+4)):INDIRECT(\"'Success Criteria'!\" & ADDRESS(75,A159+4)),\"NON conformant\")","v":0},{"$f":"COUNTIF(INDIRECT(\"'Success Criteria'!\" & ADDRESS(10,A159+4)):INDIRECT(\"'Success Criteria'!\" & ADDRESS(75,A159+4)),\"N/A\")","v":1},{"$f":"COUNTIF(INDIRECT(\"'Success Criteria'!\" & ADDRESS(10,A159+4)):INDIRECT(\"'Success Criteria'!\" & ADDRESS(75,A159+4)),\"not tested\")","v":0},{"$f":"SUM(COUNTIF(INDIRECT(\"'Success Criteria'!\" & ADDRESS(80,A159+4)):INDIRECT(\"'Success Criteria'!\" & ADDRESS(131,A159+4)),\"PASS\"),COUNTIF(INDIRECT(\"'Success Criteria'!\" & ADDRESS(80,A159+4)):INDIRECT(\"'Success Criteria'!\" & ADDRESS(131,A159+4)),\"PASS with comments\"))","v":2},{"$f":"COUNTIF(INDIRECT(\"'Success Criteria'!\" & ADDRESS(80,A159+4)):INDIRECT(\"'Success Criteria'!\" & ADDRESS(131,A159+4)),\"NON conformant\")","v":0},{"$f":"COUNTIF(INDIRECT(\"'Success Criteria'!\" & ADDRESS(80,A159+4)):INDIRECT(\"'Success Criteria'!\" & ADDRESS(131,A159+4)),\"N/A\")","v":0},{"$f":"COUNTIF(INDIRECT(\"'Success Criteria'!\" & ADDRESS(80,A159+4)):INDIRECT(\"'Success Criteria'!\" & ADDRESS(131,A159+4)),\"not tested\")","v":0},{"$f":"SUM(COUNTIF(INDIRECT(\"'Success Criteria'!\" & ADDRESS(136,A159+4)):INDIRECT(\"'Success Criteria'!\" & ADDRESS(196,A159+4)),\"PASS\"),COUNTIF(INDIRECT(\"'Success Criteria'!\" & ADDRESS(136,A159+4)):INDIRECT(\"'Success Criteria'!\" & ADDRESS(196,A159+4)),\"PASS with comments\"))","v":0},{"$f":"COUNTIF(INDIRECT(\"'Success Criteria'!\" & ADDRESS(136,A159+4)):INDIRECT(\"'Success Criteria'!\" & ADDRESS(196,A159+4)),\"NON conformant\")","v":0},{"$f":"COUNTIF(INDIRECT(\"'Success Criteria'!\" & ADDRESS(136,A159+4)):INDIRECT(\"'Success Criteria'!\" & ADDRESS(196,A159+4)),\"N/A\")","v":0},{"$f":"COUNTIF(INDIRECT(\"'Success Criteria'!\" & ADDRESS(136,A159+4)):INDIRECT(\"'Success Criteria'!\" & ADDRESS(196,A159+4)),\"not tested\")","v":0},2,0,1,0,null,1,"",2,"",0,1]
[146,"Page 146","URL 146","Please select",{"$f":"SUM(COUNTIF(INDIRECT(\"'Success Criteria'!\" & ADDRESS(10,A160+4)):INDIRECT(\"'Success Criteria'!\" & ADDRESS(75,A160+4)),\"PASS\"),COUNTIF(INDIRECT(\"'Success Criteria'!\" & ADDRESS(10,A160+4)):INDIRECT(\"'Success Criteria'!\" & ADDRESS(75,A160+4)),\"PASS with comments\"))","v":0},{"$f":"COUNTIF(INDIRECT(\"'Success Criteria'!\" & ADDRESS(10,A160+4)):INDIRECT(\"'Success Criteria'!\" & ADDRESS(75,A160+4)),\"NON conformant\")","v":0},{"$f":"COUNTIF(INDIRECT(\"'Success Criteria'!\" & ADDRESS(10,A160+4)):INDIRECT(\"'Success Criteria'!\" & ADDRESS(75,A160+4)),\"N/A\")","v":1},{"$f":"COUNTIF(INDIRECT(\"'Success Criteria'!\" & ADDRESS(10,A160+4)):INDIRECT(\"'Success Criteria'!\" & ADDRESS(75,A160+4)),\"not tested\")","v":0},{"$f":"SUM(COUNTIF(INDIRECT(\"'Success Criteria'!\" & ADDRESS(80,A160+4)):INDIRECT(\"'Success Criteria'!\" & ADDRESS(131,A160+4)),\"PASS\"),COUNTIF(INDIRECT(\"'Success Criteria'!\" & ADDRESS(80,A160+4)):INDIRECT(\"'Success Criteria'!\" & ADDRESS(131,A160+4)),\"PASS with comments\"))","v":2},{"$f":"COUNTIF(INDIRECT(\"'Success Criteria'!\" & ADDRESS(80,A160+4)):INDIRECT(\"'Success Criteria'!\" & ADDRESS(131,A160+4)),\"NON conformant\")","v":0},{"$f":"COUNTIF(INDIRECT(\"'Success Criteria'!\" & ADDRESS(80,A160+4)):INDIRECT(\"'Success Criteria'!\" & ADDRESS(131,A160+4)),\"N/A\")","v":0},{"$f":"COUNTIF(INDIRECT(\"'Success Criteria'!\" & ADDRESS(80,A160+4)):INDIRECT(\"'Success Criteria'!\" & ADDRESS(131,A160+4)),\"not tested\")","v":0},{"$f":"SUM(COUNTIF(INDIRECT(\"'Success Criteria'!\" & ADDRESS(136,A160+4)):INDIRECT(\"'Success Criteria'!\" & ADDRESS(196,A160+4)),\"PASS\"),COUNTIF(INDIRECT(\"'Success Criteria'!\" & ADDRESS(136,A160+4)):INDIRECT(\"'Success Criteria'!\" & ADDRESS(196,A160+4)),\"PASS with comments\"))","v":0},{"$f":"COUNTIF(INDIRECT(\"'Success Criteria'!\" & ADDRESS(136,A160+4)):INDIRECT(\"'Success Criteria'!\" & ADDRESS(196,A160+4)),\"NON conformant\")","v":0},{"$f":"COUNTIF(INDIRECT(\"'Success Criteria'!\" & ADDRESS(136,A160+4)):INDIRECT(\"'Success Criteria'!\" & ADDRESS(196,A160+4)),\"N/A\")","v":0},{"$f":"COUNTIF(INDIRECT(\"'Success Criteria'!\" & ADDRESS(136,A160+4)):INDIRECT(\"'Success Criteria'!\" & ADDRESS(196,A160+4)),\"not tested\")","v":0},2,0,1,0,null,1,"",2,"",0,1]
[147,"Page 147","URL 147","Please select",{"$f":"SUM(COUNTIF(INDIRECT(\"'Success Criteria'!\" & ADDRESS(10,A161+4)):INDIRECT(\"'Success Criteria'!\" & ADDRESS(75,A161+4)),\"PASS\"),COUNTIF(INDIRECT(\"'Success Criteria'!\" & ADDRESS(10,A161+4)):INDIRECT(\"'Success Criteria'!\" & ADDRESS(75,A161+4)),\"PASS with comments\"))","v":0},{"$f":"COUNTIF(INDIRECT(\"'Success Criteria'!\" & ADDRESS(10,A161+4)):INDIRECT(\"'Success Criteria'!\" & ADDRESS(75,A161+4)),\"NON conformant\")","v":0},{"$f":"COUNTIF(INDIRECT(\"'Success Criteria'!\" & ADDRESS(10,A161+4)):INDIRECT(\"'Success Criteria'!\" & ADDRESS(75,A161+4)),\"N/A\")","v":1},{"$f":"COUNTIF(INDIRECT(\"'Success Criteria'!\" & ADDRESS(10,A161+4)):INDIRECT(\"'Success Criteria'!\" & ADDRESS(75,A161+4)),\"not tested\")","v":0},{"$f":"SUM(COUNTIF(INDIRECT(\"'Success Criteria'!\" & ADDRESS(80,A161+4)):INDIRECT(\"'Success Criteria'!\" & ADDRESS(131,A161+4)),\"PASS\"),COUNTIF(INDIRECT(\"'Success Criteria'!\" & ADDRESS(80,A161+4)):INDIRECT(\"'Success Criteria'!\" & ADDRESS(131,A161+4)),\"PASS with comments\"))","v":2},{"$f":"COUNTIF(INDIRECT(\"'Success Criteria'!\" & ADDRESS(80,A161+4)):INDIRECT(\"'Success Criteria'!\" & ADDRESS(131,A161+4)),\"NON conformant\")","v":0},{"$f":"COUNTIF(INDIRECT(\"'Success Criteria'!\" & ADDRESS(80,A161+4)):INDIRECT(\"'Success Criteria'!\" & ADDRESS(131,A161+4)),\"N/A\")","v":0},{"$f":"COUNTIF(INDIRECT(\"'Success Criteria'!\" & ADDRESS(80,A161+4)):INDIRECT(\"'Success Criteria'!\" & ADDRESS(131,A161+4)),\"not tested\")","v":0},{"$f":"SUM(COUNTIF(INDIRECT(\"'Success Criteria'!\" & ADDRESS(136,A161+4)):INDIRECT(\"'Success Criteria'!\" & ADDRESS(196,A161+4)),\"PASS\"),COUNTIF(INDIRECT(\"'Success Criteria'!\" & ADDRESS(136,A161+4)):INDIRECT(\"'Success Criteria'!\" & ADDRESS(196,A161+4)),\"PASS with comments\"))","v":0},{"$f":"COUNTIF(INDIRECT(\"'Success Criteria'!\" & ADDRESS(136,A161+4)):INDIRECT(\"'Success Criteria'!\" & ADDRESS(196,A161+4)),\"NON conformant\")","v":0},{"$f":"COUNTIF(INDIRECT(\"'Success Criteria'!\" & ADDRESS(136,A161+4)):INDIRECT(\"'Success Criteria'!\" & ADDRESS(196,A161+4)),\"N/A\")","v":0},{"$f":"COUNTIF(INDIRECT(\"'Success Criteria'!\" & ADDRESS(136,A161+4)):INDIRECT(\"'Success Criteria'!\" & ADDRESS(196,A161+4)),\"not tested\")","v":0},2,0,1,0,null,1,"",2,"",0,1]
[148,"Page 148","URL 148","Please select",{"$f":"SUM(COUNTIF(INDIRECT(\"'Success Criteria'!\" & ADDRESS(10,A162+4)):INDIRECT(\"'Success Criteria'!\" & ADDRESS(75,A162+4)),\"PASS\"),COUNTIF(INDIRECT(\"'Success Criteria'!\" & ADDRESS(10,A162+4)):INDIRECT(\"'Success Criteria'!\" & ADDRESS(75,A162+4)),\"PASS with comments\"))","v":0},{"$f":"COUNTIF(INDIRECT(\"'Success Criteria'!\" & ADDRESS(10,A162+4)):INDIRECT(\"'Success Criteria'!\" & ADDRESS(75,A162+4)),\"NON conformant\")","v":0},{"$f":"COUNTIF(INDIRECT(\"'Success Criteria'!\" & ADDRESS(10,A162+4)):INDIRECT(\"'Success Criteria'!\" & ADDRESS(75,A162+4)),\"N/A\")","v":1},{"$f":"COUNTIF(INDIRECT(\"'Success Criteria'!\" & ADDRESS(10,A162+4)):INDIRECT(\"'Success Criteria'!\" & ADDRESS(75,A162+4)),\"not tested\")","v":0},{"$f":"SUM(COUNTIF(INDIRECT(\"'Success Criteria'!\" & ADDRESS(80,A162+4)):INDIRECT(\"'Success Criteria'!\" & ADDRESS(131,A162+4)),\"PASS\"),COUNTIF(INDIRECT(\"'Success Criteria'!\" & ADDRESS(80,A162+4)):INDIRECT(\"'Success Criteria'!\" & ADDRESS(131,A162+4)),\"PASS with comments\"))","v":2},{"$f":"COUNTIF(INDIRECT(\"'Success Criteria'!\" & ADDRESS(80,A162+4)):INDIRECT(\"'Success Criteria'!\" & ADDRESS(131,A162+4)),\"NON conformant\")","v":0},{"$f":"COUNTIF(INDIRECT(\"'Success Criteria'!\" & ADDRESS(80,A162+4)):INDIRECT(\"'Success Criteria'!\" & ADDRESS(131,A162+4)),\"N/A\")","v":0},{"$f":"COUNTIF(INDIRECT(\"'Success Criteria'!\" & ADDRESS(80,A162+4)):INDIRECT(\"'Success Criteria'!\" & ADDRESS(131,A162+4)),\"not tested\")","v":0},{"$f":"SUM(COUNTIF(INDIRECT(\"'Success Criteria'!\" & ADDRESS(136,A162+4)):INDIRECT(\"'Success Criteria'!\" & ADDRESS(196,A162+4)),\"PASS\"),COUNTIF(INDIRECT(\"'Success Criteria'!\" & ADDRESS(136,A162+4)):INDIRECT(\"'Success Criteria'!\" & ADDRESS(196,A162+4)),\"PASS with comments\"))","v":0},{"$f":"COUNTIF(INDIRECT(\"'Success Criteria'!\" & ADDRESS(136,A162+4)):INDIRECT(\"'Success Criteria'!\" & ADDRESS(196,A162+4)),\"NON conformant\")","v":0},{"$f":"COUNTIF(INDIRECT(\"'Success Criteria'!\" & ADDRESS(136,A162+4)):INDIRECT(\"'Success Criteria'!\" & ADDRESS(196,A162+4)),\"N/A\")","v":0},{"$f":"COUNTIF(INDIRECT(\"'Success Criteria'!\" & ADDRESS(136,A162+4)):INDIRECT(\"'Success Criteria'!\" & ADDRESS(196,A162+4)),\"not tested\")","v":0},2,0,1,0,null,1,"",2,"",0,1]
[149,"Page 149","URL 149","Please select",{"$f":"SUM(COUNTIF(INDIRECT(\"'Success Criteria'!\" & ADDRESS(10,A163+4)):INDIRECT(\"'Success Criteria'!\" & ADDRESS(75,A163+4)),\"PASS\"),COUNTIF(INDIRECT(\"'Success Criteria'!\" & ADDRESS(10,A163+4)):INDIRECT(\"'Success Criteria'!\" & ADDRESS(75,A163+4)),\"PASS with comments\"))","v":0},{"$f":"COUNTIF(INDIRECT(\"'Success Criteria'!\" & ADDRESS(10,A163+4)):INDIRECT(\"'Success Criteria'!\" & ADDRESS(75,A163+4)),\"NON conformant\")","v":0},{"$f":"COUNTIF(INDIRECT(\"'Success Criteria'!\" & ADDRESS(10,A163+4)):INDIRECT(\"'Success Criteria'!\" & ADDRESS(75,A163+4)),\"N/A\")","v":1},{"$f":"COUNTIF(INDIRECT(\"'Success Criteria'!\" & ADDRESS(10,A163+4)):INDIRECT(\"'Success Criteria'!\" & ADDRESS(75,A163+4)),\"not tested\")","v":0},{"$f":"SUM(COUNTIF(INDIRECT(\"'Success Criteria'!\" & ADDRESS(80,A163+4)):INDIRECT(\"'Success Criteria'!\" & ADDRESS(131,A163+4)),\"PASS\"),COUNTIF(INDIRECT(\"'Success Criteria'!\" & ADDRESS(80,A163+4)):INDIRECT(\"'Success Criteria'!\" & ADDRESS(131,A163+4)),\"PASS with comments\"))","v":2},{"$f":"COUNTIF(INDIRECT(\"'Success Criteria'!\" & ADDRESS(80,A163+4)):INDIRECT(\"'Success Criteria'!\" & ADDRESS(131,A163+4)),\"NON conformant\")","v":0},{"$f":"COUNTIF(INDIRECT(\"'Success Criteria'!\" & ADDRESS(80,A163+4)):INDIRECT(\"'Success Criteria'!\" & ADDRESS(131,A163+4)),\"N/A\")","v":0},{"$f":"COUNTIF(INDIRECT(\"'Success Criteria'!\" & ADDRESS(80,A163+4)):INDIRECT(\"'Success Criteria'!\" & ADDRESS(131,A163+4)),\"not tested\")","v":0},{"$f":"SUM(COUNTIF(INDIRECT(\"'Success Criteria'!\" & ADDRESS(136,A163+4)):INDIRECT(\"'Success Criteria'!\" & ADDRESS(196,A163+4)),\"PASS\"),COUNTIF(INDIRECT(\"'Success Criteria'!\" & ADDRESS(136,A163+4)):INDIRECT(\"'Success Criteria'!\" & ADDRESS(196,A163+4)),\"PASS with comments\"))","v":0},{"$f":"COUNTIF(INDIRECT(\"'Success Criteria'!\" & ADDRESS(136,A163+4)):INDIRECT(\"'Success Criteria'!\" & ADDRESS(196,A163+4)),\"NON conformant\")","v":0},{"$f":"COUNTIF(INDIRECT(\"'Success Criteria'!\" & ADDRESS(136,A163+4)):INDIRECT(\"'Success Criteria'!\" & ADDRESS(196,A163+4)),\"N/A\")","v":0},{"$f":"COUNTIF(INDIRECT(\"'Success Criteria'!\" & ADDRESS(136,A163+4)):INDIRECT(\"'Success Criteria'!\" & ADDRESS(196,A163+4)),\"not tested\")","v":0},2,0,1,0,null,1,"",2,"",0,1]
[150,"Page 150","URL 150","Please select",{"$f":"SUM(COUNTIF(INDIRECT(\"'Success Criteria'!\" & ADDRESS(10,A164+4)):INDIRECT(\"'Success Criteria'!\" & ADDRESS(75,A164+4)),\"PASS\"),COUNTIF(INDIRECT(\"'Success Criteria'!\" & ADDRESS(10,A164+4)):INDIRECT(\"'Success Criteria'!\" & ADDRESS(75,A164+4)),\"PASS with comments\"))","v":0},{"$f":"COUNTIF(INDIRECT(\"'Success Criteria'!\" & ADDRESS(10,A164+4)):INDIRECT(\"'Success Criteria'!\" & ADDRESS(75,A164+4)),\"NON conformant\")","v":0},{"$f":"COUNTIF(INDIRECT(\"'Success Criteria'!\" & ADDRESS(10,A164+4)):INDIRECT(\"'Success Criteria'!\" & ADDRESS(75,A164+4)),\"N/A\")","v":1},{"$f":"COUNTIF(INDIRECT(\"'Success Criteria'!\" & ADDRESS(10,A164+4)):INDIRECT(\"'Success Criteria'!\" & ADDRESS(75,A164+4)),\"not tested\")","v":0},{"$f":"SUM(COUNTIF(INDIRECT(\"'Success Criteria'!\" & ADDRESS(80,A164+4)):INDIRECT(\"'Success Criteria'!\" & ADDRESS(131,A164+4)),\"PASS\"),COUNTIF(INDIRECT(\"'Success Criteria'!\" & ADDRESS(80,A164+4)):INDIRECT(\"'Success Criteria'!\" & ADDRESS(131,A164+4)),\"PASS with comments\"))","v":2},{"$f":"COUNTIF(INDIRECT(\"'Success Criteria'!\" & ADDRESS(80,A164+4)):INDIRECT(\"'Success Criteria'!\" & ADDRESS(131,A164+4)),\"NON conformant\")","v":0},{"$f":"COUNTIF(INDIRECT(\"'Success Criteria'!\" & ADDRESS(80,A164+4)):INDIRECT(\"'Success Criteria'!\" & ADDRESS(131,A164+4)),\"N/A\")","v":0},{"$f":"COUNTIF(INDIRECT(\"'Success Criteria'!\" & ADDRESS(80,A164+4)):INDIRECT(\"'Success Criteria'!\" & ADDRESS(131,A164+4)),\"not tested\")","v":0},{"$f":"SUM(COUNTIF(INDIRECT(\"'Success Criteria'!\" & ADDRESS(136,A164+4)):INDIRECT(\"'Success Criteria'!\" & ADDRESS(196,A164+4)),\"PASS\"),COUNTIF(INDIRECT(\"'Success Criteria'!\" & ADDRESS(136,A164+4)):INDIRECT(\"'Success Criteria'!\" & ADDRESS(196,A164+4)),\"PASS with comments\"))","v":0},{"$f":"COUNTIF(INDIRECT(\"'Success Criteria'!\" & ADDRESS(136,A164+4)):INDIRECT(\"'Success Criteria'!\" & ADDRESS(196,A164+4)),\"NON conformant\")","v":0},{"$f":"COUNTIF(INDIRECT(\"'Success Criteria'!\" & ADDRESS(136,A164+4)):INDIRECT(\"'Success Criteria'!\" & ADDRESS(196,A164+4)),\"N/A\")","v":0},{"$f":"COUNTIF(INDIRECT(\"'Success Criteria'!\" & ADDRESS(136,A164+4)):INDIRECT(\"'Success Criteria'!\" & ADDRESS(196,A164+4)),\"not tested\")","v":0},2,0,1,0,null,1,"",2,"",0,1]
[null,null,null,null,null,null,null,null,null,null,null,null,null,null,null,null,null,null,null,null,null,null,"Total",null,"Total",null,"Total"]
[null,null,null,null,"Level A",null,null,null,"Level AA",null,null,null,"Level AAA",null,null,null,"Total",null,null,null,null,null,{"$f":"SUM(W15:W165)","v":40},null,{"$f":"SUM(Y15:Y165)","v":40},null,{"$f":"SUM(AA15:AA165)","v":150}]
[null,null,null,null,"Pass","Fail","N/A","Not tested","Pass","Fail","N/A ","Not tested","Pass","Fail","N/A ","Not tested","Pass","Fail","N/A ","Not tested"]
["Total",null,null,null,{"$f":"SUM(E15:E164)","v":301},7,502,580,553,13,254,360,0,0,0,0,854,20,756,940]
["End of content"]

{"sheet":"Conformance Statement","index":4,"n_rows":35,"n_cols":3,"rows_kept":35,"cut":false,"hidden":true,"merged":[]}
["Accessibility Conformance Statement",null,"To create a conformance statement PDF:\n1. Copy cells A3 and below, then paste them as text into a template I have not created yet.\n2. Set the headings, delete empty rows, turn the list of technologies into a list and save as PDF.\n3. Remediate in Acrobat until it is fully PDF/UA and WCAG 2.1 conformant."]
[]
["Organisation Name"]
[{"$f":"IF(Statistics!C2=\"\",\"Populated automatically from the Statistics worksheet\",Statistics!C2)","v":"Probrand"}]
[]
["Website or Mobile App Name"]
[{"$f":"IF(Statistics!C3=\"\",\"Populated automatically from the Statistics worksheet\",Statistics!C3)","v":"LGOV"}]
[]
["Scope"]
["Describe what was in and out of scope, including subdomains and content types. This ought to be specified in the proposal."]
[]
["Accessibility standards applied"]
[{"$f":"\"WCAG 2.1 level \" & IF(Statistics!S4=\"Yes\",\"A\",\"\") & IF(Statistics!S5=\"Yes\",\"A\",\"\") & IF(Statistics!S6=\"Yes\",\"A\",\"\")","v":"WCAG 2.1 level AA"}]
[]
["Conformance status"]
["Please select"]
[]
["Additional accessibility considerations"]
["Provide details of any accessibility features beyond  those specified in the accessibility standard stated above, such as the provision of sign language videos or context-sensitive help for functionality."]
[]
["Date of publication"]
[{"$f":"IF(Statistics!C10<>\"\",Statistics!C10,IF(Statistics!C8<>\"\",Statistics!C8,\"Populated automatically from the Statistics worksheet\"))","v":"2024-10-10"}]
[]
["Accessibility limitations"]
["Provide a high level list of accessibility limitations from a user's perspective including whether there are any workarounds.\n\nIf there are a lot of non-conformances, this can be quite generic. If there are not many, it can be more specific."]
[]
["Compatibility with user environment"]
["Describe the environments (combinations of web browsers, assistive technologies, and operating systems) that the content is known or not expected to work with."]
[]
["Technologies used"]
["The following technologies are relied upon for conformance. The content would not conform if that technology is turned off or is not supported."]
["HTML\nCSS\nJavaScript\nGIF\nJPG\nPNG\nSVG\nWAI-ARIA\nPDF\nAdd or delete as appropriate and convert to a list in Word."]
[]
["Assessment approach"]
["Manual and automated evaluation of a representative subset of pages and components by Test Partners Ltd"]

{"sheet":"Success Criteria","index":5,"n_rows":198,"n_cols":155,"rows_kept":198,"cut":false,"hidden":false,"merged":[[2,0,5,0],[2,2,5,2],[0,0,1,3]]}
["WCAG 2.2 website accessibility audit\r\nSuccess Criteria",null,null,null,{"$f":"IF(INDIRECT(\"'Statistics'!\" & ADDRESS(COLUMN()+10,2))=\"\",\"\",INDIRECT(\"'Statistics'!\" & ADDRESS(COLUMN()+10,2)))","v":"Header"},"Footer","Cookie banner","Cookie dialog","Search","Share this page","Home page","Search results","Contact City Hall or the Mayor","Contact us","Priorities for London","FOI - London Living Rent [Jan 2024]","GLA Economics publications","Case study: Skills and resource sharing with organisations","Oru Sutton (London Borough of Sutton)","Early years childcare in London report","Find adult learning opportunities near you","Public Meetings","Agenda and minutes","Meetings OPDC Board","Accessibility (WCAG 2.2 criteria only)","City Hall Blog (WCAG 2.2 criteria only)","Working at City Hall (WCAG 2.2 criteria only)","Take part (WCAG 2.2 criteria only)","Events landing page (WCAG 2.2 criteria only)","Event (WCAG 2.2 criteria only)","London Unseen: self-guided walks (WCAG 2.2 criteria only)","You've seen on the screen, now love the locations (WCAG 2.2 criteria only)","DD1482 GLA Records Management Policy (WCAG 2.2 criteria only)","Mayor's annual report (WCAG 2.2 criteria only)","Mayor’s Equality Report 2020/22 (WCAG 2.2 criteria only)","Press release (WCAG 2.2 criteria only)",{"$f":"IF(INDIRECT(\"'Statistics'!\" & ADDRESS(COLUMN()+10,2))=\"\",\"\",INDIRECT(\"'Statistics'!\" & ADDRESS(COLUMN()+10,2)))","v":"Let's do London (WCAG 2.2 criteria only)"},"Infrastructure Mapping Application (WCAG 2.2 criteria only)","Sign up to a termly newsletter for schools (WCAG 2.2 criteria only)","User login (WCAG 2.2 criteria only)","Current vacancies (WCAG 2.2 criteria only)","Profile - Zoe Oliver - Watts (WCAG 2.2 criteria only)","View cookies (WCAG 2.2 criteria only)","Terms and conditions for the use of our website and Talk London website (WCAG 2.2 criteria only)","Page 41","Page 42","Page 43","Page 44","Page 45","Page 46","Page 47","Page 48","Page 49","Page 50","Page 51","Page 52","Page 53","Page 54","Page 55","Page 56","Page 57","Page 58","Page 59","Page 60","Page 61","Page 62","Page 63","Page 64",{"$f":"IF(INDIRECT(\"'Statistics'!\" & ADDRESS(COLUMN()+10,2))=\"\",\"\",INDIRECT(\"'Statistics'!\" & ADDRESS(COLUMN()+10,2)))","v":"Page 65"},"Page 66","Page 67","Page 68","Page 69","Page 70","Page 71","Page 72","Page 73","Page 74","Page 75","Page 76","Page 77","Page 78","Page 79","Page 80","Page 81","Page 82","Page 83","Page 84","Page 85","Page 86","Page 87","Page 88","Page 89","Page 90","Page 91","Page 92","Page 93","Page 94","Page 95","Page 96",{"$f":"IF(INDIRECT(\"'Statistics'!\" & ADDRESS(COLUMN()+10,2))=\"\",\"\",INDIRECT(\"'Statistics'!\" & ADDRESS(COLUMN()+10,2)))","v":"Page 97"},"Page 98","Page 99","Page 100","Page 101","Page 102","Page 103","Page 104","Page 105","Page 106","Page 107","Page 108","Page 109","Page 110","Page 111","Page 112","Page 113","Page 114","Page 115","Page 116","Page 117","Page 118","Page 119","Page 120","Page 121","Page 122","Page 123","Page 124","Page 125","Page 126","Page 127","Page 128",{"$f":"IF(INDIRECT(\"'Statistics'!\" & ADDRESS(COLUMN()+10,2))=\"\",\"\",INDIRECT(\"'Statistics'!\" & ADDRESS(COLUMN()+10,2)))","v":"Page 129"},"Page 130","Page 131","Page 132","Page 133","Page 134","Page 135","Page 136","Page 137","Page 138","Page 139","Page 140","Page 141","Page 142","Page 143","Page 144","Page 145","Page 146","Page 147","Page 148","Page 149","Page 150","End of content."]
[null,null,null,null,{"$f":"IF(INDIRECT(\"'Statistics'!\" & ADDRESS(COLUMN()+10,3))=\"\",\"\",INDIRECT(\"'Statistics'!\" & ADDRESS(COLUMN()+10,3)))","v":"https://www.london.gov.uk/"},"https://www.london.gov.uk/","https://www.london.gov.uk/","https://www.london.gov.uk/","https://www.london.gov.uk/","https://www.london.gov.uk/","https://www.london.gov.uk/","https://www.london.gov.uk/search?query=london","https://www.london.gov.uk/who-we-are/what-mayor-does/contact-city-hall-or-mayor","https://www.london.gov.uk/contact-us-form","https://www.london.gov.uk/who-we-are/what-mayor-does/priorities-london","https://www.london.gov.uk/who-we-are/governance-and-spending/sharing-our-information/foi-disclosure-log/foi-london-living-rent-jan-2024","https://www.london.gov.uk/programmes-strategies/research-and-analysis/gla-economics-publications","https://www.london.gov.uk/programmes-strategies/arts-and-culture/space-culture/cultural-infrastructure-plan-and-toolbox/support-culture-and-community-spaces-risk/case-study-skills-and-resource-sharing-organisations","https://www.london.gov.uk/programmes-strategies/shaping-local-spaces/regeneration-projects/oru-sutton-london-borough-sutton","https://www.london.gov.uk/who-we-are/what-london-assembly-does/london-assembly-work/london-assembly-publications/early-years-childcare-london-report","https://www.london.gov.uk/programmes-strategies/jobs-and-skills/find-adult-learning-providers-near-me","https://www.london.gov.uk/about-us/londonassembly/meetings/mgCalendarMonthView.aspx?GL=1&bcr=1","https://www.london.gov.uk/about-us/londonassembly/meetings/ieListDocuments.aspx?CId=305&MId=7434","https://www.london.gov.uk/moderngovopdc/ieListMeetings.aspx?CommitteeId=378","https://www.london.gov.uk/programmes-strategies/accessibility","https://www.london.gov.uk/who-we-are/city-hall-blog","https://www.london.gov.uk/take-part/working-city-hall","https://www.london.gov.uk/take-part","https://www.london.gov.uk/events","https://www.london.gov.uk/events/st-patricks-day-2025","https://www.london.gov.uk/programmes-strategies/arts-and-culture/diversity-public-realm/london-unseen-amplifying-community-histories-public-realm/london-unseen-self-guided-walks","https://www.london.gov.uk/programmes-strategies/arts-and-culture/make-date-london-0/london-music-video-locations-love","https://www.london.gov.uk/decisions/dd1482-gla-records-management-policy","https://www.london.gov.uk/publications/mayor-londons-annual-report-2020-2021","https://www.london.gov.uk/programmes-strategies/communities-and-social-justice/mayors-strategy-equality-diversity-and-inclusion/mayors-annual-equality-report-2020-22","https://www.london.gov.uk/cross-party-statement-london-assembly-planned-protests-capital","https://www.london.gov.uk/programmes-strategies/arts-and-culture/lets-do-london","https://www.london.gov.uk/programmes-strategies/better-infrastructure/data-and-innovation-tools/infrastructure-mapping-application","https://www.london.gov.uk/programmes-strategies/education-and-youth/improving-standards-schools-and-teaching/sign-termly-newsletter-schools","https://www.london.gov.uk/user/login?destination=/programmes-strategies/communities-and-social-justice/get-help-cost-living#guest-login","https://www.london.gov.uk/take-part/working-city-hall/current-vacancies","https://www.london.gov.uk/who-we-are/governance-and-spending/promoting-good-governance/senior-staff/zoe-oliver-watts","https://www.london.gov.uk/","https://www.london.gov.uk/terms-and-conditions/terms-and-conditions-use-our-website-and-talk-london-website","URL 41","URL 42","URL 43","URL 44","URL 45","URL 46","URL 47","URL 48","URL 49","URL 50","URL 51","URL 52","URL 53","URL 54","URL 55","URL 56","URL 57","URL 58","URL 59","URL 60","URL 61","URL 62","URL 63","URL 64",{"$f":"IF(INDIRECT(\"'Statistics'!\" & ADDRESS(COLUMN()+10,3))=\"\",\"\",INDIRECT(\"'Statistics'!\" & ADDRESS(COLUMN()+10,3)))","v":"URL 65"},"URL 66","URL 67","URL 68","URL 69","URL 70","URL 71","URL 72","URL 73","URL 74","URL 75","URL 76","URL 77","URL 78","URL 79","URL 80","URL 81","URL 82","URL 83","URL 84","URL 85","URL 86","URL 87","URL 88","URL 89","URL 90","URL 91","URL 92","URL 93","URL 94","URL 95","URL 96","URL 97","URL 98","URL 99","URL 100","URL 101","URL 102","URL 103","URL 104","URL 105","URL 106","URL 107","URL 108","URL 109","URL 110","URL 111","URL 112","URL 113","URL 114","URL 115","URL 116","URL 117","URL 118","URL 119","URL 120","URL 121","URL 122","URL 123","URL 124","URL 125","URL 126","URL 127","URL 128",{"$f":"IF(INDIRECT(\"'Statistics'!\" & ADDRESS(COLUMN()+10,3))=\"\",\"\",INDIRECT(\"'Statistics'!\" & ADDRESS(COLUMN()+10,3)))","v":"URL 129"},"URL 130","URL 131","URL 132","URL 133","URL 134","URL 135","URL 136","URL 137","URL 138","URL 139","URL 140","URL 141","URL 142","URL 143","URL 144","URL 145","URL 146","URL 147","URL 148","URL 149","URL 150"]
[null,null,null,"Key",{"$f":"IF(INDIRECT(\"'Statistics'!\" & ADDRESS(COLUMN()+10,4))=\"\",\"\",INDIRECT(\"'Statistics'!\" & ADDRESS(COLUMN()+10,4)))","v":"HTML Component"},{"$f":"IF(INDIRECT(\"'Statistics'!\" & ADDRESS(COLUMN()+10,4))=\"\",\"\",INDIRECT(\"'Statistics'!\" & ADDRESS(COLUMN()+10,4)))","v":"HTML Component"},{"$f":"IF(INDIRECT(\"'Statistics'!\" & ADDRESS(COLUMN()+10,4))=\"\",\"\",INDIRECT(\"'Statistics'!\" & ADDRESS(COLUMN()+10,4)))","v":"HTML Component"},"HTML Component","HTML Component","HTML Component","HTML Page (excluding components)","HTML Page (excluding components)","HTML Page (excluding components)","HTML Page (excluding components)","HTML Page (excluding components)","HTML Page (excluding components)","HTML Page (excluding components)","HTML Page (excluding components)","HTML Page (excluding components)","HTML Page (excluding components)","HTML Page (excluding components)","HTML Page (excluding components)","HTML Page (excluding components)","HTML Page (excluding components)","HTML Page (full, excluding components)","HTML Page (full, excluding components)","HTML Page (full, excluding components)","HTML Page (full, excluding components)","HTML Page (full, excluding components)","HTML Page (full, excluding components)","HTML Page (full, excluding components)","HTML Page (full, excluding components)","HTML Page (full, excluding components)","HTML Page (full, excluding components)","HTML Page (full, excluding components)","HTML Page (full, excluding components)","HTML Page (full, excluding components)","HTML Page (full, excluding components)","HTML Page (full, excluding components)","HTML Page (full, excluding components)","HTML Page (full, excluding components)","HTML Page (full, excluding components)","HTML Page (full, excluding components)","HTML Page (full, excluding components)","Please select","Please select","Please select","Please select","Please select","Please select","Please select","Please select","Please select","Please select","Please select","Please select","Please select","Please select","Please select","Please select","Please select","Please select","Please select","Please select","Please select","Please select","Please select","Please select","Please select","Please select",{"$f":"IF(INDIRECT(\"'Statistics'!\" & ADDRESS(COLUMN()+10,4))=\"\",\"\",INDIRECT(\"'Statistics'!\" & ADDRESS(COLUMN()+10,4)))","v":"Please select"},"Please select","Please select","Please select","Please select","Please select","Please select","Please select","Please select","Please select","Please select","Please select","Please select","Please select","Please select","Please select","Please select","Please select","Please select","Please select","Please select","Please select","Please select","Please select","Please select","Please select","Please select","Please select","Please select","Please select","Please select","Please select","Please select","Please select","Please select","Please select","Please select","Please select","Please select","Please select","Please select","Please select","Please select","Please select","Please select","Please select","Please select","Please select","Please select","Please select","Please select","Please select","Please select","Please select","Please select","Please select","Please select","Please select","Please select","Please select","Please select","Please select","Please select","Please select",{"$f":"IF(INDIRECT(\"'Statistics'!\" & ADDRESS(COLUMN()+10,4))=\"\",\"\",INDIRECT(\"'Statistics'!\" & ADDRESS(COLUMN()+10,4)))","v":"Please select"},"Please select","Please select","Please select","Please select","Please select","Please select","Please select","Please select","Please select","Please select","Please select","Please select","Please select","Please select","Please select","Please select","Please select","Please select","Please select"]
[null,null,null,"Cells highlighted in pink indicate non-conformances.",{"$f":"HYPERLINK(\"#Screenshots!\"&ADDRESS(1,COLUMN()-4,4),\"View screenshot\")","v":"View screenshot"},{"$f":"HYPERLINK(\"#Screenshots!\"&ADDRESS(1,COLUMN()-4,4),\"View screenshot\")","v":"View screenshot"},"View screenshot","View screenshot","View screenshot","View screenshot","View screenshot","View screenshot","View screenshot","View screenshot","View screenshot","View screenshot","View screenshot","View screenshot","View screenshot","View screenshot","View screenshot","View screenshot","View screenshot","View screenshot","View screenshot","View screenshot","View screenshot","View screenshot","View screenshot","View screenshot","View screenshot","View screenshot","View screenshot","View screenshot","View screenshot","View screenshot","View screenshot","View screenshot","View screenshot","View screenshot","View screenshot","View screenshot","View screenshot","View screenshot","View screenshot","View screenshot","View screenshot","View screenshot","View screenshot","View screenshot","View screenshot","View screenshot","View screenshot","View screenshot","View screenshot","View screenshot","View screenshot","View screenshot","View screenshot","View screenshot","View screenshot","View screenshot","View screenshot","View screenshot","View screenshot","View screenshot","View screenshot","View screenshot","View screenshot",{"$f":"HYPERLINK(\"#Screenshots!\"&ADDRESS(1,COLUMN()-4,4),\"View screenshot\")","v":"View screenshot"},"View screenshot","View screenshot","View screenshot","View screenshot","View screenshot","View screenshot","View screenshot","View screenshot","View screenshot","View screenshot","View screenshot","View screenshot","View screenshot","View screenshot","View screenshot","View screenshot","View screenshot","View screenshot","View screenshot","View screenshot","View screenshot","View screenshot","View screenshot","View screenshot","View screenshot","View screenshot","View screenshot","View screenshot","View screenshot","View screenshot","View screenshot","View screenshot","View screenshot","View screenshot","View screenshot","View screenshot","View screenshot","View screenshot","View screenshot","View screenshot","View screenshot","View screenshot","View screenshot","View screenshot","View screenshot","View screenshot","View screenshot","View screenshot","View screenshot","View screenshot","View screenshot","View screenshot","View screenshot","View screenshot","View screenshot","View screenshot","View screenshot","View screenshot","View screenshot","View screenshot","View screenshot","View screenshot","View screenshot",{"$f":"HYPERLINK(\"#Screenshots!\"&ADDRESS(1,COLUMN()-4,4),\"View screenshot\")","v":"View screenshot"},"View screenshot","View screenshot","View screenshot","View screenshot","View screenshot","View screenshot","View screenshot","View screenshot","View screenshot","View screenshot","View screenshot","View screenshot","View screenshot","View screenshot","View screenshot","View screenshot","View screenshot","View screenshot","View screenshot","View screenshot"]
[null,null,null,"Cells highlighted in tan indicate that the criteria are technically met with caveats or recommendations.","Page #1\nInitially tested on","Page #2\nInitially tested on","Page #3\nInitially tested on","Page #4\nInitially tested on","Page #5\nInitially tested on","Page #6\nInitially tested on","Page #7\nInitially tested on","Page #8\nInitially tested on","Page #9\nInitially tested on","Page #10\nInitially tested on","Page #11\nInitially tested on","Page #12\nInitially tested on","Page #13\nInitially tested on","Page #14\nInitially tested on","Page #15\nInitially tested on","Page #16\nInitially tested on","Page #17\nInitially tested on","Page #18\nInitially tested on","Page #19\nInitially tested on","Page #20\nInitially tested on","Page #21\nInitially tested on","Page #22\nInitially tested on","Page #23\nInitially tested on","Page #24\nInitially tested on","Page #25\nInitially tested on","Page #26\nInitially tested on","Page #27\nInitially tested on","Page #28\nInitially tested on","Page #29\nInitially tested on","Page #30\nInitially tested on","Page #31\nInitially tested on","Page #32\nInitially tested on","Page #33\nInitially tested on","Page #34\nInitially tested on","Page #35\nInitially tested on","Page #36\nInitially tested on","Page #37\nInitially tested on","Page #38\nInitially tested on","Page #39\nInitially tested on","Page #40\nInitially tested on","Page #41\nInitially tested on","Page #42\nInitially tested on","Page #43\nInitially tested on","Page #44\nInitially tested on","Page #45\nInitially tested on","Page #46\nInitially tested on","Page #47\nInitially tested on","Page #48\nInitially tested on","Page #49\nInitially tested on","Page #50\nInitially tested on","Page #51\nInitially tested on","Page #52\nInitially tested on","Page #53\nInitially tested on","Page #54\nInitially tested on","Page #55\nInitially tested on","Page #56\nInitially tested on","Page #57\nInitially tested on","Page #58\nInitially tested on","Page #59\nInitially tested on","Page #60\nInitially tested on","Page #61\nInitially tested on","Page #62\nInitially tested on","Page #63\nInitially tested on","Page #64\nInitially tested on","Page #65\nInitially tested on","Page #66\nInitially tested on","Page #67\nInitially tested on","Page #68\nInitially tested on","Page #69\nInitially tested on","Page #70\nInitially tested on","Page #71\nInitially tested on","Page #72\nInitially tested on","Page #73\nInitially tested on","Page #74\nInitially tested on","Page #75\nInitially tested on","Page #76\nInitially tested on","Page #77\nInitially tested on","Page #78\nInitially tested on","Page #79\nInitially tested on","Page #80\nInitially tested on","Page #81\nInitially tested on","Page #82\nInitially tested on","Page #83\nInitially tested on","Page #84\nInitially tested on","Page #85\nInitially tested on","Page #86\nInitially tested on","Page #87\nInitially tested on","Page #88\nInitially tested on","Page #89\nInitially tested on","Page #90\nInitially tested on","Page #91\nInitially tested on","Page #92\nInitially tested on","Page #93\nInitially tested on","Page #94\nInitially tested on","Page #95\nInitially tested on","Page #96\nInitially tested on","Page #97\nInitially tested on","Page #98\nInitially tested on","Page #99\nInitially tested on","Page #100\nInitially tested on","Page #101\nInitially tested on","Page #102\nInitially tested on","Page #103\nInitially tested on","Page #104\nInitially tested on","Page #105\nInitially tested on","Page #106\nInitially tested on","Page #107\nInitially tested on","Page #108\nInitially tested on","Page #109\nInitially tested on","Page #110\nInitially tested on","Page #111\nInitially tested on","Page #112\nInitially tested on","Page #113\nInitially tested on","Page #114\nInitially tested on","Page #115\nInitially tested on","Page #116\nInitially tested on","Page #117\nInitially tested on","Page #118\nInitially tested on","Page #119\nInitially tested on","Page #120\nInitially tested on","Page #121\nInitially tested on","Page #122\nInitially tested on","Page #123\nInitially tested on","Page #124\nInitially tested on","Page #125\nInitially tested on","Page #126\nInitially tested on","Page #127\nInitially tested on","Page #128\nInitially tested on","Page #129\nInitially tested on","Page #130\nInitially tested on","Page #131\nInitially tested on","Page #132\nInitially tested on","Page #133\nInitially tested on","Page #134\nInitially tested on","Page #135\nInitially tested on","Page #136\nInitially tested on","Page #137\nInitially tested on","Page #138\nInitially tested on","Page #139\nInitially tested on","Page #140\nInitially tested on","Page #141\nInitially tested on","Page #142\nInitially tested on","Page #143\nInitially tested on","Page #144\nInitially tested on","Page #145\nInitially tested on","Page #146\nInitially tested on","Page #147\nInitially tested on","Page #148\nInitially tested on","Page #149\nInitially tested on","Page #150\nInitially tested on"]
[null,null,null,null,"2024-08-02","2024-08-02","2024-08-02","2024-08-03","2024-08-03","2024-08-05","2024-08-03","2024-08-05","2024-08-05","2024-08-05","2024-08-06","2024-08-06","2024-08-06","2024-08-06","2024-08-06","2024-08-06","2024-08-06","2024-08-07","2024-08-07","2024-08-07","2024-08-08","2024-08-08","2024-08-08","2024-08-08","2024-08-08","2024-08-08","2024-08-08","2024-08-08","2024-08-08","2024-08-08","2024-08-08","2024-08-08","2024-08-08","2024-08-08","2024-08-08","2024-08-08","2024-08-08","2024-08-08","2024-08-08","2024-08-08","Press Ctrl+Colon to enter today's date","Press Ctrl+Colon to enter today's date","Press Ctrl+Colon to enter today's date","Press Ctrl+Colon to enter today's date","Press Ctrl+Colon to enter today's date","Press Ctrl+Colon to enter today's date","Press Ctrl+Colon to enter today's date","Press Ctrl+Colon to enter today's date","Press Ctrl+Colon to enter today's date","Press Ctrl+Colon to enter today's date","Press Ctrl+Colon to enter today's date","Press Ctrl+Colon to enter today's date","Press Ctrl+Colon to enter today's date","Press Ctrl+Colon to enter today's date","Press Ctrl+Colon to enter today's date","Press Ctrl+Colon to enter today's date","Press Ctrl+Colon to enter today's date","Press Ctrl+Colon to enter today's date","Press Ctrl+Colon to enter today's date","Press Ctrl+Colon to enter today's date","Press Ctrl+Colon to enter today's date","Press Ctrl+Colon to enter today's date","Press Ctrl+Colon to enter today's date","Press Ctrl+Colon to enter today's date","Press Ctrl+Colon to enter today's date","Press Ctrl+Colon to enter today's date","Press Ctrl+Colon to enter today's date","Press Ctrl+Colon to enter today's date","Press Ctrl+Colon to enter today's date","Press Ctrl+Colon to enter today's date","Press Ctrl+Colon to enter today's date","Press Ctrl+Colon to enter today's date","Press Ctrl+Colon to enter today's date","Press Ctrl+Colon to enter today's date","Press Ctrl+Colon to enter today's date","Press Ctrl+Colon to enter today's date","Press Ctrl+Colon to enter today's date","Press Ctrl+Colon to enter today's date","Press Ctrl+Colon to enter today's date","Press Ctrl+Colon to enter today's date","Press Ctrl+Colon to enter today's date","Press Ctrl+Colon to enter today's date","Press Ctrl+Colon to enter today's date","Press Ctrl+Colon to enter today's date","Press Ctrl+Colon to enter today's date","Press Ctrl+Colon to enter today's date","Press Ctrl+Colon to enter today's date","Press Ctrl+Colon to enter today's date","Press Ctrl+Colon to enter today's date","Press Ctrl+Colon to enter today's date","Press Ctrl+Colon to enter today's date","Press Ctrl+Colon to enter today's date","Press Ctrl+Colon to enter today's date","Press Ctrl+Colon to enter today's date","Press Ctrl+Colon to enter today's date","Press Ctrl+Colon to enter today's date","Press Ctrl+Colon to enter today's date","Press Ctrl+Colon to enter today's date","Press Ctrl+Colon to enter today's date","Press Ctrl+Colon to enter today's date","Press Ctrl+Colon to enter today's date","Press Ctrl+Colon to enter today's date","Press Ctrl+Colon to enter today's date","Press Ctrl+Colon to enter today's date","Press Ctrl+Colon to enter today's date","Press Ctrl+Colon to enter today's date","Press Ctrl+Colon to enter today's date","Press Ctrl+Colon to enter today's date","Press Ctrl+Colon to enter today's date","Press Ctrl+Colon to enter today's date","Press Ctrl+Colon to enter today's date","Press Ctrl+Colon to enter today's date","Press Ctrl+Colon to enter today's date","Press Ctrl+Colon to enter today's date","Press Ctrl+Colon to enter today's date","Press Ctrl+Colon to enter today's date","Press Ctrl+Colon to enter today's date","Press Ctrl+Colon to enter today's date","Press Ctrl+Colon to enter today's date","Press Ctrl+Colon to enter today's date","Press Ctrl+Colon to enter today's date","Press Ctrl+Colon to enter today's date","Press Ctrl+Colon to enter today's date","Press Ctrl+Colon to enter today's date","Press Ctrl+Colon to enter today's date","Press Ctrl+Colon to enter today's date","Press Ctrl+Colon to enter today's date","Press Ctrl+Colon to enter today's date","Press Ctrl+Colon to enter today's date","Press Ctrl+Colon to enter today's date","Press Ctrl+Colon to enter today's date","Press Ctrl+Colon to enter today's date","Press Ctrl+Colon to enter today's date","Press Ctrl+Colon to enter today's date","Press Ctrl+Colon to enter today's date","Press Ctrl+Colon to enter today's date","Press Ctrl+Colon to enter today's date","Press Ctrl+Colon to enter today's date","Press Ctrl+Colon to enter today's date","Press Ctrl+Colon to enter today's date","Press Ctrl+Colon to enter today's date","Press Ctrl+Colon to enter today's date","Press Ctrl+Colon to enter today's date","Press Ctrl+Colon to enter today's date","Press Ctrl+Colon to enter today's date","Press Ctrl+Colon to enter today's date","Press Ctrl+Colon to enter today's date","Press Ctrl+Colon to enter today's date","Press Ctrl+Colon to enter today's date","Press Ctrl+Colon to enter today's date"]
[null,null,null,null,{"$f":"IF(Statistics!$S4=\"Yes\",COUNTIF(E10:E75,\"NON CONFORMANT\") & \" Level A Non-conformance\" & IF(COUNTIF(E10:E75,\"NON CONFORMANT\")=1,\"\",\"s\"),\"\") & IF(Statistics!$S5=\"Yes\",\"\n\" & COUNTIF(E80:E131,\"NON CONFORMANT\") & \" Level AA Non-conformance\" & IF(COUNTIF(E80:E131,\"NON CONFORMANT\")=1,\"\",\"s\"),\"\") & IF(Statistics!$S6=\"Yes\",\"\n\" & COUNTIF(E136:E196,\"NON CONFORMANT\") & \" Level AAA Non-conformance\" & IF(COUNTIF(E136:E196,\"NON CONFORMANT\")=1,\"\",\"s\"),\"\")","v":"1 Level A Non-conformance\n0 Level AA Non-conformances"},{"$f":"IF(Statistics!$S4=\"Yes\",COUNTIF(F10:F75,\"NON CONFORMANT\") & \" Level A Non-conformance\" & IF(COUNTIF(F10:F75,\"NON CONFORMANT\")=1,\"\",\"s\"),\"\") & IF(Statistics!$S5=\"Yes\",\"\n\" & COUNTIF(F80:F131,\"NON CONFORMANT\") & \" Level AA Non-conformance\" & IF(COUNTIF(F80:F131,\"NON CONFORMANT\")=1,\"\",\"s\"),\"\") & IF(Statistics!$S6=\"Yes\",\"\n\" & COUNTIF(F136:F196,\"NON CONFORMANT\") & \" Level AAA Non-conformance\" & IF(COUNTIF(F136:F196,\"NON CONFORMANT\")=1,\"\",\"s\"),\"\")","v":"0 Level A Non-conformances\n1 Level AA Non-conformance"},{"$f":"IF(Statistics!$S4=\"Yes\",COUNTIF(G10:G75,\"NON CONFORMANT\") & \" Level A Non-conformance\" & IF(COUNTIF(G10:G75,\"NON CONFORMANT\")=1,\"\",\"s\"),\"\") & IF(Statistics!$S5=\"Yes\",\"\n\" & COUNTIF(G80:G131,\"NON CONFORMANT\") & \" Level AA Non-conformance\" & IF(COUNTIF(G80:G131,\"NON CONFORMANT\")=1,\"\",\"s\"),\"\") & IF(Statistics!$S6=\"Yes\",\"\n\" & COUNTIF(G136:G196,\"NON CONFORMANT\") & \" Level AAA Non-conformance\" & IF(COUNTIF(G136:G196,\"NON CONFORMANT\")=1,\"\",\"s\"),\"\")","v":"0 Level A Non-conformances\n0 Level AA Non-conformances"},{"$f":"IF(Statistics!$S4=\"Yes\",COUNTIF(H10:H75,\"NON CONFORMANT\") & \" Level A Non-conformance\" & IF(COUNTIF(H10:H75,\"NON CONFORMANT\")=1,\"\",\"s\"),\"\") & IF(Statistics!$S5=\"Yes\",\"\n\" & COUNTIF(H80:H131,\"NON CONFORMANT\") & \" Level AA Non-conformance\" & IF(COUNTIF(H80:H131,\"NON CONFORMANT\")=1,\"\",\"s\"),\"\") & IF(Statistics!$S6=\"Yes\",\"\n\" & COUNTIF(H136:H196,\"NON CONFORMANT\") & \" Level AAA Non-conformance\" & IF(COUNTIF(H136:H196,\"NON CONFORMANT\")=1,\"\",\"s\"),\"\")","v":"0 Level A Non-conformances\n1 Level AA Non-conformance"},{"$f":"IF(Statistics!$S4=\"Yes\",COUNTIF(I10:I75,\"NON CONFORMANT\") & \" Level A Non-conformance\" & IF(COUNTIF(I10:I75,\"NON CONFORMANT\")=1,\"\",\"s\"),\"\") & IF(Statistics!$S5=\"Yes\",\"\n\" & COUNTIF(I80:I131,\"NON CONFORMANT\") & \" Level AA Non-conformance\" & IF(COUNTIF(I80:I131,\"NON CONFORMANT\")=1,\"\",\"s\"),\"\") & IF(Statistics!$S6=\"Yes\",\"\n\" & COUNTIF(I136:I196,\"NON CONFORMANT\") & \" Level AAA Non-conformance\" & IF(COUNTIF(I136:I196,\"NON CONFORMANT\")=1,\"\",\"s\"),\"\")","v":"1 Level A Non-conformance\n0 Level AA Non-conformances"},{"$f":"IF(Statistics!$S4=\"Yes\",COUNTIF(J10:J75,\"NON CONFORMANT\") & \" Level A Non-conformance\" & IF(COUNTIF(J10:J75,\"NON CONFORMANT\")=1,\"\",\"s\"),\"\") & IF(Statistics!$S5=\"Yes\",\"\n\" & COUNTIF(J80:J131,\"NON CONFORMANT\") & \" Level AA Non-conformance\" & IF(COUNTIF(J80:J131,\"NON CONFORMANT\")=1,\"\",\"s\"),\"\") & IF(Statistics!$S6=\"Yes\",\"\n\" & COUNTIF(J136:J196,\"NON CONFORMANT\") & \" Level AAA Non-conformance\" & IF(COUNTIF(J136:J196,\"NON CONFORMANT\")=1,\"\",\"s\"),\"\")","v":"0 Level A Non-conformances\n0 Level AA Non-conformances"},{"$f":"IF(Statistics!$S4=\"Yes\",COUNTIF(K10:K75,\"NON CONFORMANT\") & \" Level A Non-conformance\" & IF(COUNTIF(K10:K75,\"NON CONFORMANT\")=1,\"\",\"s\"),\"\") & IF(Statistics!$S5=\"Yes\",\"\n\" & COUNTIF(K80:K131,\"NON CONFORMANT\") & \" Level AA Non-conformance\" & IF(COUNTIF(K80:K131,\"NON CONFORMANT\")=1,\"\",\"s\"),\"\") & IF(Statistics!$S6=\"Yes\",\"\n\" & COUNTIF(K136:K196,\"NON CONFORMANT\") & \" Level AAA Non-conformance\" & IF(COUNTIF(K136:K196,\"NON CONFORMANT\")=1,\"\",\"s\"),\"\")","v":"0 Level A Non-conformances\n3 Level AA Non-conformances"},{"$f":"IF(Statistics!$S4=\"Yes\",COUNTIF(L10:L75,\"NON CONFORMANT\") & \" Level A Non-conformance\" & IF(COUNTIF(L10:L75,\"NON CONFORMANT\")=1,\"\",\"s\"),\"\") & IF(Statistics!$S5=\"Yes\",\"\n\" & COUNTIF(L80:L131,\"NON CONFORMANT\") & \" Level AA Non-conformance\" & IF(COUNTIF(L80:L131,\"NON CONFORMANT\")=1,\"\",\"s\"),\"\") & IF(Statistics!$S6=\"Yes\",\"\n\" & COUNTIF(L136:L196,\"NON CONFORMANT\") & \" Level AAA Non-conformance\" & IF(COUNTIF(L136:L196,\"NON CONFORMANT\")=1,\"\",\"s\"),\"\")","v":"0 Level A Non-conformances\n1 Level AA Non-conformance"},{"$f":"IF(Statistics!$S4=\"Yes\",COUNTIF(M10:M75,\"NON CONFORMANT\") & \" Level A Non-conformance\" & IF(COUNTIF(M10:M75,\"NON CONFORMANT\")=1,\"\",\"s\"),\"\") & IF(Statistics!$S5=\"Yes\",\"\n\" & COUNTIF(M80:M131,\"NON CONFORMANT\") & \" Level AA Non-conformance\" & IF(COUNTIF(M80:M131,\"NON CONFORMANT\")=1,\"\",\"s\"),\"\") & IF(Statistics!$S6=\"Yes\",\"\n\" & COUNTIF(M136:M196,\"NON CONFORMANT\") & \" Level AAA Non-conformance\" & IF(COUNTIF(M136:M196,\"NON CONFORMANT\")=1,\"\",\"s\"),\"\")","v":"0 Level A Non-conformances\n0 Level AA Non-conformances"},{"$f":"IF(Statistics!$S4=\"Yes\",COUNTIF(N10:N75,\"NON CONFORMANT\") & \" Level A Non-conformance\" & IF(COUNTIF(N10:N75,\"NON CONFORMANT\")=1,\"\",\"s\"),\"\") & IF(Statistics!$S5=\"Yes\",\"\n\" & COUNTIF(N80:N131,\"NON CONFORMANT\") & \" Level AA Non-conformance\" & IF(COUNTIF(N80:N131,\"NON CONFORMANT\")=1,\"\",\"s\"),\"\") & IF(Statistics!$S6=\"Yes\",\"\n\" & COUNTIF(N136:N196,\"NON CONFORMANT\") & \" Level AAA Non-conformance\" & IF(COUNTIF(N136:N196,\"NON CONFORMANT\")=1,\"\",\"s\"),\"\")","v":"0 Level A Non-conformances\n1 Level AA Non-conformance"},{"$f":"IF(Statistics!$S4=\"Yes\",COUNTIF(O10:O75,\"NON CONFORMANT\") & \" Level A Non-conformance\" & IF(COUNTIF(O10:O75,\"NON CONFORMANT\")=1,\"\",\"s\"),\"\") & IF(Statistics!$S5=\"Yes\",\"\n\" & COUNTIF(O80:O131,\"NON CONFORMANT\") & \" Level AA Non-conformance\" & IF(COUNTIF(O80:O131,\"NON CONFORMANT\")=1,\"\",\"s\"),\"\") & IF(Statistics!$S6=\"Yes\",\"\n\" & COUNTIF(O136:O196,\"NON CONFORMANT\") & \" Level AAA Non-conformance\" & IF(COUNTIF(O136:O196,\"NON CONFORMANT\")=1,\"\",\"s\"),\"\")","v":"0 Level A Non-conformances\n0 Level AA Non-conformances"},{"$f":"IF(Statistics!$S4=\"Yes\",COUNTIF(P10:P75,\"NON CONFORMANT\") & \" Level A Non-conformance\" & IF(COUNTIF(P10:P75,\"NON CONFORMANT\")=1,\"\",\"s\"),\"\") & IF(Statistics!$S5=\"Yes\",\"\n\" & COUNTIF(P80:P131,\"NON CONFORMANT\") & \" Level AA Non-conformance\" & IF(COUNTIF(P80:P131,\"NON CONFORMANT\")=1,\"\",\"s\"),\"\") & IF(Statistics!$S6=\"Yes\",\"\n\" & COUNTIF(P136:P196,\"NON CONFORMANT\") & \" Level AAA Non-conformance\" & IF(COUNTIF(P136:P196,\"NON CONFORMANT\")=1,\"\",\"s\"),\"\")","v":"1 Level A Non-conformance\n0 Level AA Non-conformances"},{"$f":"IF(Statistics!$S4=\"Yes\",COUNTIF(Q10:Q75,\"NON CONFORMANT\") & \" Level A Non-conformance\" & IF(COUNTIF(Q10:Q75,\"NON CONFORMANT\")=1,\"\",\"s\"),\"\") & IF(Statistics!$S5=\"Yes\",\"\n\" & COUNTIF(Q80:Q131,\"NON CONFORMANT\") & \" Level AA Non-conformance\" & IF(COUNTIF(Q80:Q131,\"NON CONFORMANT\")=1,\"\",\"s\"),\"\") & IF(Statistics!$S6=\"Yes\",\"\n\" & COUNTIF(Q136:Q196,\"NON CONFORMANT\") & \" Level AAA Non-conformance\" & IF(COUNTIF(Q136:Q196,\"NON CONFORMANT\")=1,\"\",\"s\"),\"\")","v":"0 Level A Non-conformances\n0 Level AA Non-conformances"},{"$f":"IF(Statistics!$S4=\"Yes\",COUNTIF(R10:R75,\"NON CONFORMANT\") & \" Level A Non-conformance\" & IF(COUNTIF(R10:R75,\"NON CONFORMANT\")=1,\"\",\"s\"),\"\") & IF(Statistics!$S5=\"Yes\",\"\n\" & COUNTIF(R80:R131,\"NON CONFORMANT\") & \" Level AA Non-conformance\" & IF(COUNTIF(R80:R131,\"NON CONFORMANT\")=1,\"\",\"s\"),\"\") & IF(Statistics!$S6=\"Yes\",\"\n\" & COUNTIF(R136:R196,\"NON CONFORMANT\") & \" Level AAA Non-conformance\" & IF(COUNTIF(R136:R196,\"NON CONFORMANT\")=1,\"\",\"s\"),\"\")","v":"0 Level A Non-conformances\n0 Level AA Non-conformances"},{"$f":"IF(Statistics!$S4=\"Yes\",COUNTIF(S10:S75,\"NON CONFORMANT\") & \" Level A Non-conformance\" & IF(COUNTIF(S10:S75,\"NON CONFORMANT\")=1,\"\",\"s\"),\"\") & IF(Statistics!$S5=\"Yes\",\"\n\" & COUNTIF(S80:S131,\"NON CONFORMANT\") & \" Level AA Non-conformance\" & IF(COUNTIF(S80:S131,\"NON CONFORMANT\")=1,\"\",\"s\"),\"\") & IF(Statistics!$S6=\"Yes\",\"\n\" & COUNTIF(S136:S196,\"NON CONFORMANT\") & \" Level AAA Non-conformance\" & IF(COUNTIF(S136:S196,\"NON CONFORMANT\")=1,\"\",\"s\"),\"\")","v":"0 Level A Non-conformances\n2 Level AA Non-conformances"},{"$f":"IF(Statistics!$S4=\"Yes\",COUNTIF(T10:T75,\"NON CONFORMANT\") & \" Level A Non-conformance\" & IF(COUNTIF(T10:T75,\"NON CONFORMANT\")=1,\"\",\"s\"),\"\") & IF(Statistics!$S5=\"Yes\",\"\n\" & COUNTIF(T80:T131,\"NON CONFORMANT\") & \" Level AA Non-conformance\" & IF(COUNTIF(T80:T131,\"NON CONFORMANT\")=1,\"\",\"s\"),\"\") & IF(Statistics!$S6=\"Yes\",\"\n\" & COUNTIF(T136:T196,\"NON CONFORMANT\") & \" Level AAA Non-conformance\" & IF(COUNTIF(T136:T196,\"NON CONFORMANT\")=1,\"\",\"s\"),\"\")","v":"0 Level A Non-conformances\n0 Level AA Non-conformances"},{"$f":"IF(Statistics!$S4=\"Yes\",COUNTIF(U10:U75,\"NON CONFORMANT\") & \" Level A Non-conformance\" & IF(COUNTIF(U10:U75,\"NON CONFORMANT\")=1,\"\",\"s\"),\"\") & IF(Statistics!$S5=\"Yes\",\"\n\" & COUNTIF(U80:U131,\"NON CONFORMANT\") & \" Level AA Non-conformance\" & IF(COUNTIF(U80:U131,\"NON CONFORMANT\")=1,\"\",\"s\"),\"\") & IF(Statistics!$S6=\"Yes\",\"\n\" & COUNTIF(U136:U196,\"NON CONFORMANT\") & \" Level AAA Non-conformance\" & IF(COUNTIF(U136:U196,\"NON CONFORMANT\")=1,\"\",\"s\"),\"\")","v":"2 Level A Non-conformances\n3 Level AA Non-conformances"},{"$f":"IF(Statistics!$S4=\"Yes\",COUNTIF(V10:V75,\"NON CONFORMANT\") & \" Level A Non-conformance\" & IF(COUNTIF(V10:V75,\"NON CONFORMANT\")=1,\"\",\"s\"),\"\") & IF(Statistics!$S5=\"Yes\",\"\n\" & COUNTIF(V80:V131,\"NON CONFORMANT\") & \" Level AA Non-conformance\" & IF(COUNTIF(V80:V131,\"NON CONFORMANT\")=1,\"\",\"s\"),\"\") & IF(Statistics!$S6=\"Yes\",\"\n\" & COUNTIF(V136:V196,\"NON CONFORMANT\") & \" Level AAA Non-conformance\" & IF(COUNTIF(V136:V196,\"NON CONFORMANT\")=1,\"\",\"s\"),\"\")","v":"0 Level A Non-conformances\n0 Level AA Non-conformances"},{"$f":"IF(Statistics!$S4=\"Yes\",COUNTIF(W10:W75,\"NON CONFORMANT\") & \" Level A Non-conformance\" & IF(COUNTIF(W10:W75,\"NON CONFORMANT\")=1,\"\",\"s\"),\"\") & IF(Statistics!$S5=\"Yes\",\"\n\" & COUNTIF(W80:W131,\"NON CONFORMANT\") & \" Level AA Non-conformance\" & IF(COUNTIF(W80:W131,\"NON CONFORMANT\")=1,\"\",\"s\"),\"\") & IF(Statistics!$S6=\"Yes\",\"\n\" & COUNTIF(W136:W196,\"NON CONFORMANT\") & \" Level AAA Non-conformance\" & IF(COUNTIF(W136:W196,\"NON CONFORMANT\")=1,\"\",\"s\"),\"\")","v":"1 Level A Non-conformance\n0 Level AA Non-conformances"},{"$f":"IF(Statistics!$S4=\"Yes\",COUNTIF(X10:X75,\"NON CONFORMANT\") & \" Level A Non-conformance\" & IF(COUNTIF(X10:X75,\"NON CONFORMANT\")=1,\"\",\"s\"),\"\") & IF(Statistics!$S5=\"Yes\",\"\n\" & COUNTIF(X80:X131,\"NON CONFORMANT\") & \" Level AA Non-conformance\" & IF(COUNTIF(X80:X131,\"NON CONFORMANT\")=1,\"\",\"s\"),\"\") & IF(Statistics!$S6=\"Yes\",\"\n\" & COUNTIF(X136:X196,\"NON CONFORMANT\") & \" Level AAA Non-conformance\" & IF(COUNTIF(X136:X196,\"NON CONFORMANT\")=1,\"\",\"s\"),\"\")","v":"1 Level A Non-conformance\n1 Level AA Non-conformance"},{"$f":"IF(Statistics!$S4=\"Yes\",COUNTIF(Y10:Y75,\"NON CONFORMANT\") & \" Level A Non-conformance\" & IF(COUNTIF(Y10:Y75,\"NON CONFORMANT\")=1,\"\",\"s\"),\"\") & IF(Statistics!$S5=\"Yes\",\"\n\" & COUNTIF(Y80:Y131,\"NON CONFORMANT\") & \" Level AA Non-conformance\" & IF(COUNTIF(Y80:Y131,\"NON CONFORMANT\")=1,\"\",\"s\"),\"\") & IF(Statistics!$S6=\"Yes\",\"\n\" & COUNTIF(Y136:Y196,\"NON CONFORMANT\") & \" Level AAA Non-conformance\" & IF(COUNTIF(Y136:Y196,\"NON CONFORMANT\")=1,\"\",\"s\"),\"\")","v":"0 Level A Non-conformances\n0 Level AA Non-conformances"},{"$f":"IF(Statistics!$S4=\"Yes\",COUNTIF(Z10:Z75,\"NON CONFORMANT\") & \" Level A Non-conformance\" & IF(COUNTIF(Z10:Z75,\"NON CONFORMANT\")=1,\"\",\"s\"),\"\") & IF(Statistics!$S5=\"Yes\",\"\n\" & COUNTIF(Z80:Z131,\"NON CONFORMANT\") & \" Level AA Non-conformance\" & IF(COUNTIF(Z80:Z131,\"NON CONFORMANT\")=1,\"\",\"s\"),\"\") & IF(Statistics!$S6=\"Yes\",\"\n\" & COUNTIF(Z136:Z196,\"NON CONFORMANT\") & \" Level AAA Non-conformance\" & IF(COUNTIF(Z136:Z196,\"NON CONFORMANT\")=1,\"\",\"s\"),\"\")","v":"0 Level A Non-conformances\n0 Level AA Non-conformances"},{"$f":"IF(Statistics!$S4=\"Yes\",COUNTIF(AA10:AA75,\"NON CONFORMANT\") & \" Level A Non-conformance\" & IF(COUNTIF(AA10:AA75,\"NON CONFORMANT\")=1,\"\",\"s\"),\"\") & IF(Statistics!$S5=\"Yes\",\"\n\" & COUNTIF(AA80:AA131,\"NON CONFORMANT\") & \" Level AA Non-conformance\" & IF(COUNTIF(AA80:AA131,\"NON CONFORMANT\")=1,\"\",\"s\"),\"\") & IF(Statistics!$S6=\"Yes\",\"\n\" & COUNTIF(AA136:AA196,\"NON CONFORMANT\") & \" Level AAA Non-conformance\" & IF(COUNTIF(AA136:AA196,\"NON CONFORMANT\")=1,\"\",\"s\"),\"\")","v":"0 Level A Non-conformances\n0 Level AA Non-conformances"},{"$f":"IF(Statistics!$S4=\"Yes\",COUNTIF(AB10:AB75,\"NON CONFORMANT\") & \" Level A Non-conformance\" & IF(COUNTIF(AB10:AB75,\"NON CONFORMANT\")=1,\"\",\"s\"),\"\") & IF(Statistics!$S5=\"Yes\",\"\n\" & COUNTIF(AB80:AB131,\"NON CONFORMANT\") & \" Level AA Non-conformance\" & IF(COUNTIF(AB80:AB131,\"NON CONFORMANT\")=1,\"\",\"s\"),\"\") & IF(Statistics!$S6=\"Yes\",\"\n\" & COUNTIF(AB136:AB196,\"NON CONFORMANT\") & \" Level AAA Non-conformance\" & IF(COUNTIF(AB136:AB196,\"NON CONFORMANT\")=1,\"\",\"s\"),\"\")","v":"0 Level A Non-conformances\n0 Level AA Non-conformances"},{"$f":"IF(Statistics!$S4=\"Yes\",COUNTIF(AC10:AC75,\"NON CONFORMANT\") & \" Level A Non-conformance\" & IF(COUNTIF(AC10:AC75,\"NON CONFORMANT\")=1,\"\",\"s\"),\"\") & IF(Statistics!$S5=\"Yes\",\"\n\" & COUNTIF(AC80:AC131,\"NON CONFORMANT\") & \" Level AA Non-conformance\" & IF(COUNTIF(AC80:AC131,\"NON CONFORMANT\")=1,\"\",\"s\"),\"\") & IF(Statistics!$S6=\"Yes\",\"\n\" & COUNTIF(AC136:AC196,\"NON CONFORMANT\") & \" Level AAA Non-conformance\" & IF(COUNTIF(AC136:AC196,\"NON CONFORMANT\")=1,\"\",\"s\"),\"\")","v":"0 Level A Non-conformances\n0 Level AA Non-conformances"},{"$f":"IF(Statistics!$S4=\"Yes\",COUNTIF(AD10:AD75,\"NON CONFORMANT\") & \" Level A Non-conformance\" & IF(COUNTIF(AD10:AD75,\"NON CONFORMANT\")=1,\"\",\"s\"),\"\") & IF(Statistics!$S5=\"Yes\",\"\n\" & COUNTIF(AD80:AD131,\"NON CONFORMANT\") & \" Level AA Non-conformance\" & IF(COUNTIF(AD80:AD131,\"NON CONFORMANT\")=1,\"\",\"s\"),\"\") & IF(Statistics!$S6=\"Yes\",\"\n\" & COUNTIF(AD136:AD196,\"NON CONFORMANT\") & \" Level AAA Non-conformance\" & IF(COUNTIF(AD136:AD196,\"NON CONFORMANT\")=1,\"\",\"s\"),\"\")","v":"0 Level A Non-conformances\n0 Level AA Non-conformances"},{"$f":"IF(Statistics!$S4=\"Yes\",COUNTIF(AE10:AE75,\"NON CONFORMANT\") & \" Level A Non-conformance\" & IF(COUNTIF(AE10:AE75,\"NON CONFORMANT\")=1,\"\",\"s\"),\"\") & IF(Statistics!$S5=\"Yes\",\"\n\" & COUNTIF(AE80:AE131,\"NON CONFORMANT\") & \" Level AA Non-conformance\" & IF(COUNTIF(AE80:AE131,\"NON CONFORMANT\")=1,\"\",\"s\"),\"\") & IF(Statistics!$S6=\"Yes\",\"\n\" & COUNTIF(AE136:AE196,\"NON CONFORMANT\") & \" Level AAA Non-conformance\" & IF(COUNTIF(AE136:AE196,\"NON CONFORMANT\")=1,\"\",\"s\"),\"\")","v":"0 Level A Non-conformances\n0 Level AA Non-conformances"},{"$f":"IF(Statistics!$S4=\"Yes\",COUNTIF(AF10:AF75,\"NON CONFORMANT\") & \" Level A Non-conformance\" & IF(COUNTIF(AF10:AF75,\"NON CONFORMANT\")=1,\"\",\"s\"),\"\") & IF(Statistics!$S5=\"Yes\",\"\n\" & COUNTIF(AF80:AF131,\"NON CONFORMANT\") & \" Level AA Non-conformance\" & IF(COUNTIF(AF80:AF131,\"NON CONFORMANT\")=1,\"\",\"s\"),\"\") & IF(Statistics!$S6=\"Yes\",\"\n\" & COUNTIF(AF136:AF196,\"NON CONFORMANT\") & \" Level AAA Non-conformance\" & IF(COUNTIF(AF136:AF196,\"NON CONFORMANT\")=1,\"\",\"s\"),\"\")","v":"0 Level A Non-conformances\n0 Level AA Non-conformances"},{"$f":"IF(Statistics!$S4=\"Yes\",COUNTIF(AG10:AG75,\"NON CONFORMANT\") & \" Level A Non-conformance\" & IF(COUNTIF(AG10:AG75,\"NON CONFORMANT\")=1,\"\",\"s\"),\"\") & IF(Statistics!$S5=\"Yes\",\"\n\" & COUNTIF(AG80:AG131,\"NON CONFORMANT\") & \" Level AA Non-conformance\" & IF(COUNTIF(AG80:AG131,\"NON CONFORMANT\")=1,\"\",\"s\"),\"\") & IF(Statistics!$S6=\"Yes\",\"\n\" & COUNTIF(AG136:AG196,\"NON CONFORMANT\") & \" Level AAA Non-conformance\" & IF(COUNTIF(AG136:AG196,\"NON CONFORMANT\")=1,\"\",\"s\"),\"\")","v":"0 Level A Non-conformances\n0 Level AA Non-conformances"},{"$f":"IF(Statistics!$S4=\"Yes\",COUNTIF(AH10:AH75,\"NON CONFORMANT\") & \" Level A Non-conformance\" & IF(COUNTIF(AH10:AH75,\"NON CONFORMANT\")=1,\"\",\"s\"),\"\") & IF(Statistics!$S5=\"Yes\",\"\n\" & COUNTIF(AH80:AH131,\"NON CONFORMANT\") & \" Level AA Non-conformance\" & IF(COUNTIF(AH80:AH131,\"NON CONFORMANT\")=1,\"\",\"s\"),\"\") & IF(Statistics!$S6=\"Yes\",\"\n\" & COUNTIF(AH136:AH196,\"NON CONFORMANT\") & \" Level AAA Non-conformance\" & IF(COUNTIF(AH136:AH196,\"NON CONFORMANT\")=1,\"\",\"s\"),\"\")","v":"0 Level A Non-conformances\n0 Level AA Non-conformances"},{"$f":"IF(Statistics!$S4=\"Yes\",COUNTIF(AI10:AI75,\"NON CONFORMANT\") & \" Level A Non-conformance\" & IF(COUNTIF(AI10:AI75,\"NON CONFORMANT\")=1,\"\",\"s\"),\"\") & IF(Statistics!$S5=\"Yes\",\"\n\" & COUNTIF(AI80:AI131,\"NON CONFORMANT\") & \" Level AA Non-conformance\" & IF(COUNTIF(AI80:AI131,\"NON CONFORMANT\")=1,\"\",\"s\"),\"\") & IF(Statistics!$S6=\"Yes\",\"\n\" & COUNTIF(AI136:AI196,\"NON CONFORMANT\") & \" Level AAA Non-conformance\" & IF(COUNTIF(AI136:AI196,\"NON CONFORMANT\")=1,\"\",\"s\"),\"\")","v":"0 Level A Non-conformances\n0 Level AA Non-conformances"},{"$f":"IF(Statistics!$S4=\"Yes\",COUNTIF(AJ10:AJ75,\"NON CONFORMANT\") & \" Level A Non-conformance\" & IF(COUNTIF(AJ10:AJ75,\"NON CONFORMANT\")=1,\"\",\"s\"),\"\") & IF(Statistics!$S5=\"Yes\",\"\n\" & COUNTIF(AJ80:AJ131,\"NON CONFORMANT\") & \" Level AA Non-conformance\" & IF(COUNTIF(AJ80:AJ131,\"NON CONFORMANT\")=1,\"\",\"s\"),\"\") & IF(Statistics!$S6=\"Yes\",\"\n\" & COUNTIF(AJ136:AJ196,\"NON CONFORMANT\") & \" Level AAA Non-conformance\" & IF(COUNTIF(AJ136:AJ196,\"NON CONFORMANT\")=1,\"\",\"s\"),\"\")","v":"0 Level A Non-conformances\n0 Level AA Non-conformances"},{"$f":"IF(Statistics!$S4=\"Yes\",COUNTIF(AK10:AK75,\"NON CONFORMANT\") & \" Level A Non-conformance\" & IF(COUNTIF(AK10:AK75,\"NON CONFORMANT\")=1,\"\",\"s\"),\"\") & IF(Statistics!$S5=\"Yes\",\"\n\" & COUNTIF(AK80:AK131,\"NON CONFORMANT\") & \" Level AA Non-conformance\" & IF(COUNTIF(AK80:AK131,\"NON CONFORMANT\")=1,\"\",\"s\"),\"\") & IF(Statistics!$S6=\"Yes\",\"\n\" & COUNTIF(AK136:AK196,\"NON CONFORMANT\") & \" Level AAA Non-conformance\" & IF(COUNTIF(AK136:AK196,\"NON CONFORMANT\")=1,\"\",\"s\"),\"\")","v":"0 Level A Non-conformances\n0 Level AA Non-conformances"},{"$f":"IF(Statistics!$S4=\"Yes\",COUNTIF(AL10:AL75,\"NON CONFORMANT\") & \" Level A Non-conformance\" & IF(COUNTIF(AL10:AL75,\"NON CONFORMANT\")=1,\"\",\"s\"),\"\") & IF(Statistics!$S5=\"Yes\",\"\n\" & COUNTIF(AL80:AL131,\"NON CONFORMANT\") & \" Level AA Non-conformance\" & IF(COUNTIF(AL80:AL131,\"NON CONFORMANT\")=1,\"\",\"s\"),\"\") & IF(Statistics!$S6=\"Yes\",\"\n\" & COUNTIF(AL136:AL196,\"NON CONFORMANT\") & \" Level AAA Non-conformance\" & IF(COUNTIF(AL136:AL196,\"NON CONFORMANT\")=1,\"\",\"s\"),\"\")","v":"0 Level A Non-conformances\n0 Level AA Non-conformances"},{"$f":"IF(Statistics!$S4=\"Yes\",COUNTIF(AM10:AM75,\"NON CONFORMANT\") & \" Level A Non-conformance\" & IF(COUNTIF(AM10:AM75,\"NON CONFORMANT\")=1,\"\",\"s\"),\"\") & IF(Statistics!$S5=\"Yes\",\"\n\" & COUNTIF(AM80:AM131,\"NON CONFORMANT\") & \" Level AA Non-conformance\" & IF(COUNTIF(AM80:AM131,\"NON CONFORMANT\")=1,\"\",\"s\"),\"\") & IF(Statistics!$S6=\"Yes\",\"\n\" & COUNTIF(AM136:AM196,\"NON CONFORMANT\") & \" Level AAA Non-conformance\" & IF(COUNTIF(AM136:AM196,\"NON CONFORMANT\")=1,\"\",\"s\"),\"\")","v":"0 Level A Non-conformances\n0 Level AA Non-conformances"},{"$f":"IF(Statistics!$S4=\"Yes\",COUNTIF(AN10:AN75,\"NON CONFORMANT\") & \" Level A Non-conformance\" & IF(COUNTIF(AN10:AN75,\"NON CONFORMANT\")=1,\"\",\"s\"),\"\") & IF(Statistics!$S5=\"Yes\",\"\n\" & COUNTIF(AN80:AN131,\"NON CONFORMANT\") & \" Level AA Non-conformance\" & IF(COUNTIF(AN80:AN131,\"NON CONFORMANT\")=1,\"\",\"s\"),\"\") & IF(Statistics!$S6=\"Yes\",\"\n\" & COUNTIF(AN136:AN196,\"NON CONFORMANT\") & \" Level AAA Non-conformance\" & IF(COUNTIF(AN136:AN196,\"NON CONFORMANT\")=1,\"\",\"s\"),\"\")","v":"0 Level A Non-conformances\n0 Level AA Non-conformances"},{"$f":"IF(Statistics!$S4=\"Yes\",COUNTIF(AO10:AO75,\"NON CONFORMANT\") & \" Level A Non-conformance\" & IF(COUNTIF(AO10:AO75,\"NON CONFORMANT\")=1,\"\",\"s\"),\"\") & IF(Statistics!$S5=\"Yes\",\"\n\" & COUNTIF(AO80:AO131,\"NON CONFORMANT\") & \" Level AA Non-conformance\" & IF(COUNTIF(AO80:AO131,\"NON CONFORMANT\")=1,\"\",\"s\"),\"\") & IF(Statistics!$S6=\"Yes\",\"\n\" & COUNTIF(AO136:AO196,\"NON CONFORMANT\") & \" Level AAA Non-conformance\" & IF(COUNTIF(AO136:AO196,\"NON CONFORMANT\")=1,\"\",\"s\"),\"\")","v":"0 Level A Non-conformances\n0 Level AA Non-conformances"},{"$f":"IF(Statistics!$S4=\"Yes\",COUNTIF(AP10:AP75,\"NON CONFORMANT\") & \" Level A Non-conformance\" & IF(COUNTIF(AP10:AP75,\"NON CONFORMANT\")=1,\"\",\"s\"),\"\") & IF(Statistics!$S5=\"Yes\",\"\n\" & COUNTIF(AP80:AP131,\"NON CONFORMANT\") & \" Level AA Non-conformance\" & IF(COUNTIF(AP80:AP131,\"NON CONFORMANT\")=1,\"\",\"s\"),\"\") & IF(Statistics!$S6=\"Yes\",\"\n\" & COUNTIF(AP136:AP196,\"NON CONFORMANT\") & \" Level AAA Non-conformance\" & IF(COUNTIF(AP136:AP196,\"NON CONFORMANT\")=1,\"\",\"s\"),\"\")","v":"0 Level A Non-conformances\n0 Level AA Non-conformances"},{"$f":"IF(Statistics!$S4=\"Yes\",COUNTIF(AQ10:AQ75,\"NON CONFORMANT\") & \" Level A Non-conformance\" & IF(COUNTIF(AQ10:AQ75,\"NON CONFORMANT\")=1,\"\",\"s\"),\"\") & IF(Statistics!$S5=\"Yes\",\"\n\" & COUNTIF(AQ80:AQ131,\"NON CONFORMANT\") & \" Level AA Non-conformance\" & IF(COUNTIF(AQ80:AQ131,\"NON CONFORMANT\")=1,\"\",\"s\"),\"\") & IF(Statistics!$S6=\"Yes\",\"\n\" & COUNTIF(AQ136:AQ196,\"NON CONFORMANT\") & \" Level AAA Non-conformance\" & IF(COUNTIF(AQ136:AQ196,\"NON CONFORMANT\")=1,\"\",\"s\"),\"\")","v":"0 Level A Non-conformances\n0 Level AA Non-conformances"},{"$f":"IF(Statistics!$S4=\"Yes\",COUNTIF(AR10:AR75,\"NON CONFORMANT\") & \" Level A Non-conformance\" & IF(COUNTIF(AR10:AR75,\"NON CONFORMANT\")=1,\"\",\"s\"),\"\") & IF(Statistics!$S5=\"Yes\",\"\n\" & COUNTIF(AR80:AR131,\"NON CONFORMANT\") & \" Level AA Non-conformance\" & IF(COUNTIF(AR80:AR131,\"NON CONFORMANT\")=1,\"\",\"s\"),\"\") & IF(Statistics!$S6=\"Yes\",\"\n\" & COUNTIF(AR136:AR196,\"NON CONFORMANT\") & \" Level AAA Non-conformance\" & IF(COUNTIF(AR136:AR196,\"NON CONFORMANT\")=1,\"\",\"s\"),\"\")","v":"0 Level A Non-conformances\n0 Level AA Non-conformances"},{"$f":"IF(Statistics!$S4=\"Yes\",COUNTIF(AS10:AS75,\"NON CONFORMANT\") & \" Level A Non-conformance\" & IF(COUNTIF(AS10:AS75,\"NON CONFORMANT\")=1,\"\",\"s\"),\"\") & IF(Statistics!$S5=\"Yes\",\"\n\" & COUNTIF(AS80:AS131,\"NON CONFORMANT\") & \" Level AA Non-conformance\" & IF(COUNTIF(AS80:AS131,\"NON CONFORMANT\")=1,\"\",\"s\"),\"\") & IF(Statistics!$S6=\"Yes\",\"\n\" & COUNTIF(AS136:AS196,\"NON CONFORMANT\") & \" Level AAA Non-conformance\" & IF(COUNTIF(AS136:AS196,\"NON CONFORMANT\")=1,\"\",\"s\"),\"\")","v":"0 Level A Non-conformances\n0 Level AA Non-conformances"},{"$f":"IF(Statistics!$S4=\"Yes\",COUNTIF(AT10:AT75,\"NON CONFORMANT\") & \" Level A Non-conformance\" & IF(COUNTIF(AT10:AT75,\"NON CONFORMANT\")=1,\"\",\"s\"),\"\") & IF(Statistics!$S5=\"Yes\",\"\n\" & COUNTIF(AT80:AT131,\"NON CONFORMANT\") & \" Level AA Non-conformance\" & IF(COUNTIF(AT80:AT131,\"NON CONFORMANT\")=1,\"\",\"s\"),\"\") & IF(Statistics!$S6=\"Yes\",\"\n\" & COUNTIF(AT136:AT196,\"NON CONFORMANT\") & \" Level AAA Non-conformance\" & IF(COUNTIF(AT136:AT196,\"NON CONFORMANT\")=1,\"\",\"s\"),\"\")","v":"0 Level A Non-conformances\n0 Level AA Non-conformances"},{"$f":"IF(Statistics!$S4=\"Yes\",COUNTIF(AU10:AU75,\"NON CONFORMANT\") & \" Level A Non-conformance\" & IF(COUNTIF(AU10:AU75,\"NON CONFORMANT\")=1,\"\",\"s\"),\"\") & IF(Statistics!$S5=\"Yes\",\"\n\" & COUNTIF(AU80:AU131,\"NON CONFORMANT\") & \" Level AA Non-conformance\" & IF(COUNTIF(AU80:AU131,\"NON CONFORMANT\")=1,\"\",\"s\"),\"\") & IF(Statistics!$S6=\"Yes\",\"\n\" & COUNTIF(AU136:AU196,\"NON CONFORMANT\") & \" Level AAA Non-conformance\" & IF(COUNTIF(AU136:AU196,\"NON CONFORMANT\")=1,\"\",\"s\"),\"\")","v":"0 Level A Non-conformances\n0 Level AA Non-conformances"},{"$f":"IF(Statistics!$S4=\"Yes\",COUNTIF(AV10:AV75,\"NON CONFORMANT\") & \" Level A Non-conformance\" & IF(COUNTIF(AV10:AV75,\"NON CONFORMANT\")=1,\"\",\"s\"),\"\") & IF(Statistics!$S5=\"Yes\",\"\n\" & COUNTIF(AV80:AV131,\"NON CONFORMANT\") & \" Level AA Non-conformance\" & IF(COUNTIF(AV80:AV131,\"NON CONFORMANT\")=1,\"\",\"s\"),\"\") & IF(Statistics!$S6=\"Yes\",\"\n\" & COUNTIF(AV136:AV196,\"NON CONFORMANT\") & \" Level AAA Non-conformance\" & IF(COUNTIF(AV136:AV196,\"NON CONFORMANT\")=1,\"\",\"s\"),\"\")","v":"0 Level A Non-conformances\n0 Level AA Non-conformances"},{"$f":"IF(Statistics!$S4=\"Yes\",COUNTIF(AW10:AW75,\"NON CONFORMANT\") & \" Level A Non-conformance\" & IF(COUNTIF(AW10:AW75,\"NON CONFORMANT\")=1,\"\",\"s\"),\"\") & IF(Statistics!$S5=\"Yes\",\"\n\" & COUNTIF(AW80:AW131,\"NON CONFORMANT\") & \" Level AA Non-conformance\" & IF(COUNTIF(AW80:AW131,\"NON CONFORMANT\")=1,\"\",\"s\"),\"\") & IF(Statistics!$S6=\"Yes\",\"\n\" & COUNTIF(AW136:AW196,\"NON CONFORMANT\") & \" Level AAA Non-conformance\" & IF(COUNTIF(AW136:AW196,\"NON CONFORMANT\")=1,\"\",\"s\"),\"\")","v":"0 Level A Non-conformances\n0 Level AA Non-conformances"},{"$f":"IF(Statistics!$S4=\"Yes\",COUNTIF(AX10:AX75,\"NON CONFORMANT\") & \" Level A Non-conformance\" & IF(COUNTIF(AX10:AX75,\"NON CONFORMANT\")=1,\"\",\"s\"),\"\") & IF(Statistics!$S5=\"Yes\",\"\n\" & COUNTIF(AX80:AX131,\"NON CONFORMANT\") & \" Level AA Non-conformance\" & IF(COUNTIF(AX80:AX131,\"NON CONFORMANT\")=1,\"\",\"s\"),\"\") & IF(Statistics!$S6=\"Yes\",\"\n\" & COUNTIF(AX136:AX196,\"NON CONFORMANT\") & \" Level AAA Non-conformance\" & IF(COUNTIF(AX136:AX196,\"NON CONFORMANT\")=1,\"\",\"s\"),\"\")","v":"0 Level A Non-conformances\n0 Level AA Non-conformances"},{"$f":"IF(Statistics!$S4=\"Yes\",COUNTIF(AY10:AY75,\"NON CONFORMANT\") & \" Level A Non-conformance\" & IF(COUNTIF(AY10:AY75,\"NON CONFORMANT\")=1,\"\",\"s\"),\"\") & IF(Statistics!$S5=\"Yes\",\"\n\" & COUNTIF(AY80:AY131,\"NON CONFORMANT\") & \" Level AA Non-conformance\" & IF(COUNTIF(AY80:AY131,\"NON CONFORMANT\")=1,\"\",\"s\"),\"\") & IF(Statistics!$S6=\"Yes\",\"\n\" & COUNTIF(AY136:AY196,\"NON CONFORMANT\") & \" Level AAA Non-conformance\" & IF(COUNTIF(AY136:AY196,\"NON CONFORMANT\")=1,\"\",\"s\"),\"\")","v":"0 Level A Non-conformances\n0 Level AA Non-conformances"},{"$f":"IF(Statistics!$S4=\"Yes\",COUNTIF(AZ10:AZ75,\"NON CONFORMANT\") & \" Level A Non-conformance\" & IF(COUNTIF(AZ10:AZ75,\"NON CONFORMANT\")=1,\"\",\"s\"),\"\") & IF(Statistics!$S5=\"Yes\",\"\n\" & COUNTIF(AZ80:AZ131,\"NON CONFORMANT\") & \" Level AA Non-conformance\" & IF(COUNTIF(AZ80:AZ131,\"NON CONFORMANT\")=1,\"\",\"s\"),\"\") & IF(Statistics!$S6=\"Yes\",\"\n\" & COUNTIF(AZ136:AZ196,\"NON CONFORMANT\") & \" Level AAA Non-conformance\" & IF(COUNTIF(AZ136:AZ196,\"NON CONFORMANT\")=1,\"\",\"s\"),\"\")","v":"0 Level A Non-conformances\n0 Level AA Non-conformances"},{"$f":"IF(Statistics!$S4=\"Yes\",COUNTIF(BA10:BA75,\"NON CONFORMANT\") & \" Level A Non-conformance\" & IF(COUNTIF(BA10:BA75,\"NON CONFORMANT\")=1,\"\",\"s\"),\"\") & IF(Statistics!$S5=\"Yes\",\"\n\" & COUNTIF(BA80:BA131,\"NON CONFORMANT\") & \" Level AA Non-conformance\" & IF(COUNTIF(BA80:BA131,\"NON CONFORMANT\")=1,\"\",\"s\"),\"\") & IF(Statistics!$S6=\"Yes\",\"\n\" & COUNTIF(BA136:BA196,\"NON CONFORMANT\") & \" Level AAA Non-conformance\" & IF(COUNTIF(BA136:BA196,\"NON CONFORMANT\")=1,\"\",\"s\"),\"\")","v":"0 Level A Non-conformances\n0 Level AA Non-conformances"},{"$f":"IF(Statistics!$S4=\"Yes\",COUNTIF(BB10:BB75,\"NON CONFORMANT\") & \" Level A Non-conformance\" & IF(COUNTIF(BB10:BB75,\"NON CONFORMANT\")=1,\"\",\"s\"),\"\") & IF(Statistics!$S5=\"Yes\",\"\n\" & COUNTIF(BB80:BB131,\"NON CONFORMANT\") & \" Level AA Non-conformance\" & IF(COUNTIF(BB80:BB131,\"NON CONFORMANT\")=1,\"\",\"s\"),\"\") & IF(Statistics!$S6=\"Yes\",\"\n\" & COUNTIF(BB136:BB196,\"NON CONFORMANT\") & \" Level AAA Non-conformance\" & IF(COUNTIF(BB136:BB196,\"NON CONFORMANT\")=1,\"\",\"s\"),\"\")","v":"0 Level A Non-conformances\n0 Level AA Non-conformances"},{"$f":"IF(Statistics!$S4=\"Yes\",COUNTIF(BC10:BC75,\"NON CONFORMANT\") & \" Level A Non-conformance\" & IF(COUNTIF(BC10:BC75,\"NON CONFORMANT\")=1,\"\",\"s\"),\"\") & IF(Statistics!$S5=\"Yes\",\"\n\" & COUNTIF(BC80:BC131,\"NON CONFORMANT\") & \" Level AA Non-conformance\" & IF(COUNTIF(BC80:BC131,\"NON CONFORMANT\")=1,\"\",\"s\"),\"\") & IF(Statistics!$S6=\"Yes\",\"\n\" & COUNTIF(BC136:BC196,\"NON CONFORMANT\") & \" Level AAA Non-conformance\" & IF(COUNTIF(BC136:BC196,\"NON CONFORMANT\")=1,\"\",\"s\"),\"\")","v":"0 Level A Non-conformances\n0 Level AA Non-conformances"},{"$f":"IF(Statistics!$S4=\"Yes\",COUNTIF(BD10:BD75,\"NON CONFORMANT\") & \" Level A Non-conformance\" & IF(COUNTIF(BD10:BD75,\"NON CONFORMANT\")=1,\"\",\"s\"),\"\") & IF(Statistics!$S5=\"Yes\",\"\n\" & COUNTIF(BD80:BD131,\"NON CONFORMANT\") & \" Level AA Non-conformance\" & IF(COUNTIF(BD80:BD131,\"NON CONFORMANT\")=1,\"\",\"s\"),\"\") & IF(Statistics!$S6=\"Yes\",\"\n\" & COUNTIF(BD136:BD196,\"NON CONFORMANT\") & \" Level AAA Non-conformance\" & IF(COUNTIF(BD136:BD196,\"NON CONFORMANT\")=1,\"\",\"s\"),\"\")","v":"0 Level A Non-conformances\n0 Level AA Non-conformances"},{"$f":"IF(Statistics!$S4=\"Yes\",COUNTIF(BE10:BE75,\"NON CONFORMANT\") & \" Level A Non-conformance\" & IF(COUNTIF(BE10:BE75,\"NON CONFORMANT\")=1,\"\",\"s\"),\"\") & IF(Statistics!$S5=\"Yes\",\"\n\" & COUNTIF(BE80:BE131,\"NON CONFORMANT\") & \" Level AA Non-conformance\" & IF(COUNTIF(BE80:BE131,\"NON CONFORMANT\")=1,\"\",\"s\"),\"\") & IF(Statistics!$S6=\"Yes\",\"\n\" & COUNTIF(BE136:BE196,\"NON CONFORMANT\") & \" Level AAA Non-conformance\" & IF(COUNTIF(BE136:BE196,\"NON CONFORMANT\")=1,\"\",\"s\"),\"\")","v":"0 Level A Non-conformances\n0 Level AA Non-conformances"},{"$f":"IF(Statistics!$S4=\"Yes\",COUNTIF(BF10:BF75,\"NON CONFORMANT\") & \" Level A Non-conformance\" & IF(COUNTIF(BF10:BF75,\"NON CONFORMANT\")=1,\"\",\"s\"),\"\") & IF(Statistics!$S5=\"Yes\",\"\n\" & COUNTIF(BF80:BF131,\"NON CONFORMANT\") & \" Level AA Non-conformance\" & IF(COUNTIF(BF80:BF131,\"NON CONFORMANT\")=1,\"\",\"s\"),\"\") & IF(Statistics!$S6=\"Yes\",\"\n\" & COUNTIF(BF136:BF196,\"NON CONFORMANT\") & \" Level AAA Non-conformance\" & IF(COUNTIF(BF136:BF196,\"NON CONFORMANT\")=1,\"\",\"s\"),\"\")","v":"0 Level A Non-conformances\n0 Level AA Non-conformances"},{"$f":"IF(Statistics!$S4=\"Yes\",COUNTIF(BG10:BG75,\"NON CONFORMANT\") & \" Level A Non-conformance\" & IF(COUNTIF(BG10:BG75,\"NON CONFORMANT\")=1,\"\",\"s\"),\"\") & IF(Statistics!$S5=\"Yes\",\"\n\" & COUNTIF(BG80:BG131,\"NON CONFORMANT\") & \" Level AA Non-conformance\" & IF(COUNTIF(BG80:BG131,\"NON CONFORMANT\")=1,\"\",\"s\"),\"\") & IF(Statistics!$S6=\"Yes\",\"\n\" & COUNTIF(BG136:BG196,\"NON CONFORMANT\") & \" Level AAA Non-conformance\" & IF(COUNTIF(BG136:BG196,\"NON CONFORMANT\")=1,\"\",\"s\"),\"\")","v":"0 Level A Non-conformances\n0 Level AA Non-conformances"},{"$f":"IF(Statistics!$S4=\"Yes\",COUNTIF(BH10:BH75,\"NON CONFORMANT\") & \" Level A Non-conformance\" & IF(COUNTIF(BH10:BH75,\"NON CONFORMANT\")=1,\"\",\"s\"),\"\") & IF(Statistics!$S5=\"Yes\",\"\n\" & COUNTIF(BH80:BH131,\"NON CONFORMANT\") & \" Level AA Non-conformance\" & IF(COUNTIF(BH80:BH131,\"NON CONFORMANT\")=1,\"\",\"s\"),\"\") & IF(Statistics!$S6=\"Yes\",\"\n\" & COUNTIF(BH136:BH196,\"NON CONFORMANT\") & \" Level AAA Non-conformance\" & IF(COUNTIF(BH136:BH196,\"NON CONFORMANT\")=1,\"\",\"s\"),\"\")","v":"0 Level A Non-conformances\n0 Level AA Non-conformances"},{"$f":"IF(Statistics!$S4=\"Yes\",COUNTIF(BI10:BI75,\"NON CONFORMANT\") & \" Level A Non-conformance\" & IF(COUNTIF(BI10:BI75,\"NON CONFORMANT\")=1,\"\",\"s\"),\"\") & IF(Statistics!$S5=\"Yes\",\"\n\" & COUNTIF(BI80:BI131,\"NON CONFORMANT\") & \" Level AA Non-conformance\" & IF(COUNTIF(BI80:BI131,\"NON CONFORMANT\")=1,\"\",\"s\"),\"\") & IF(Statistics!$S6=\"Yes\",\"\n\" & COUNTIF(BI136:BI196,\"NON CONFORMANT\") & \" Level AAA Non-conformance\" & IF(COUNTIF(BI136:BI196,\"NON CONFORMANT\")=1,\"\",\"s\"),\"\")","v":"0 Level A Non-conformances\n0 Level AA Non-conformances"},{"$f":"IF(Statistics!$S4=\"Yes\",COUNTIF(BJ10:BJ75,\"NON CONFORMANT\") & \" Level A Non-conformance\" & IF(COUNTIF(BJ10:BJ75,\"NON CONFORMANT\")=1,\"\",\"s\"),\"\") & IF(Statistics!$S5=\"Yes\",\"\n\" & COUNTIF(BJ80:BJ131,\"NON CONFORMANT\") & \" Level AA Non-conformance\" & IF(COUNTIF(BJ80:BJ131,\"NON CONFORMANT\")=1,\"\",\"s\"),\"\") & IF(Statistics!$S6=\"Yes\",\"\n\" & COUNTIF(BJ136:BJ196,\"NON CONFORMANT\") & \" Level AAA Non-conformance\" & IF(COUNTIF(BJ136:BJ196,\"NON CONFORMANT\")=1,\"\",\"s\"),\"\")","v":"0 Level A Non-conformances\n0 Level AA Non-conformances"},{"$f":"IF(Statistics!$S4=\"Yes\",COUNTIF(BK10:BK75,\"NON CONFORMANT\") & \" Level A Non-conformance\" & IF(COUNTIF(BK10:BK75,\"NON CONFORMANT\")=1,\"\",\"s\"),\"\") & IF(Statistics!$S5=\"Yes\",\"\n\" & COUNTIF(BK80:BK131,\"NON CONFORMANT\") & \" Level AA Non-conformance\" & IF(COUNTIF(BK80:BK131,\"NON CONFORMANT\")=1,\"\",\"s\"),\"\") & IF(Statistics!$S6=\"Yes\",\"\n\" & COUNTIF(BK136:BK196,\"NON CONFORMANT\") & \" Level AAA Non-conformance\" & IF(COUNTIF(BK136:BK196,\"NON CONFORMANT\")=1,\"\",\"s\"),\"\")","v":"0 Level A Non-conformances\n0 Level AA Non-conformances"},{"$f":"IF(Statistics!$S4=\"Yes\",COUNTIF(BL10:BL75,\"NON CONFORMANT\") & \" Level A Non-conformance\" & IF(COUNTIF(BL10:BL75,\"NON CONFORMANT\")=1,\"\",\"s\"),\"\") & IF(Statistics!$S5=\"Yes\",\"\n\" & COUNTIF(BL80:BL131,\"NON CONFORMANT\") & \" Level AA Non-conformance\" & IF(COUNTIF(BL80:BL131,\"NON CONFORMANT\")=1,\"\",\"s\"),\"\") & IF(Statistics!$S6=\"Yes\",\"\n\" & COUNTIF(BL136:BL196,\"NON CONFORMANT\") & \" Level AAA Non-conformance\" & IF(COUNTIF(BL136:BL196,\"NON CONFORMANT\")=1,\"\",\"s\"),\"\")","v":"0 Level A Non-conformances\n0 Level AA Non-conformances"},{"$f":"IF(Statistics!$S4=\"Yes\",COUNTIF(BM10:BM75,\"NON CONFORMANT\") & \" Level A Non-conformance\" & IF(COUNTIF(BM10:BM75,\"NON CONFORMANT\")=1,\"\",\"s\"),\"\") & IF(Statistics!$S5=\"Yes\",\"\n\" & COUNTIF(BM80:BM131,\"NON CONFORMANT\") & \" Level AA Non-conformance\" & IF(COUNTIF(BM80:BM131,\"NON CONFORMANT\")=1,\"\",\"s\"),\"\") & IF(Statistics!$S6=\"Yes\",\"\n\" & COUNTIF(BM136:BM196,\"NON CONFORMANT\") & \" Level AAA Non-conformance\" & IF(COUNTIF(BM136:BM196,\"NON CONFORMANT\")=1,\"\",\"s\"),\"\")","v":"0 Level A Non-conformances\n0 Level AA Non-conformances"},{"$f":"IF(Statistics!$S4=\"Yes\",COUNTIF(BN10:BN75,\"NON CONFORMANT\") & \" Level A Non-conformance\" & IF(COUNTIF(BN10:BN75,\"NON CONFORMANT\")=1,\"\",\"s\"),\"\") & IF(Statistics!$S5=\"Yes\",\"\n\" & COUNTIF(BN80:BN131,\"NON CONFORMANT\") & \" Level AA Non-conformance\" & IF(COUNTIF(BN80:BN131,\"NON CONFORMANT\")=1,\"\",\"s\"),\"\") & IF(Statistics!$S6=\"Yes\",\"\n\" & COUNTIF(BN136:BN196,\"NON CONFORMANT\") & \" Level AAA Non-conformance\" & IF(COUNTIF(BN136:BN196,\"NON CONFORMANT\")=1,\"\",\"s\"),\"\")","v":"0 Level A Non-conformances\n0 Level AA Non-conformances"},{"$f":"IF(Statistics!$S4=\"Yes\",COUNTIF(BO10:BO75,\"NON CONFORMANT\") & \" Level A Non-conformance\" & IF(COUNTIF(BO10:BO75,\"NON CONFORMANT\")=1,\"\",\"s\"),\"\") & IF(Statistics!$S5=\"Yes\",\"\n\" & COUNTIF(BO80:BO131,\"NON CONFORMANT\") & \" Level AA Non-conformance\" & IF(COUNTIF(BO80:BO131,\"NON CONFORMANT\")=1,\"\",\"s\"),\"\") & IF(Statistics!$S6=\"Yes\",\"\n\" & COUNTIF(BO136:BO196,\"NON CONFORMANT\") & \" Level AAA Non-conformance\" & IF(COUNTIF(BO136:BO196,\"NON CONFORMANT\")=1,\"\",\"s\"),\"\")","v":"0 Level A Non-conformances\n0 Level AA Non-conformances"},{"$f":"IF(Statistics!$S4=\"Yes\",COUNTIF(BP10:BP75,\"NON CONFORMANT\") & \" Level A Non-conformance\" & IF(COUNTIF(BP10:BP75,\"NON CONFORMANT\")=1,\"\",\"s\"),\"\") & IF(Statistics!$S5=\"Yes\",\"\n\" & COUNTIF(BP80:BP131,\"NON CONFORMANT\") & \" Level AA Non-conformance\" & IF(COUNTIF(BP80:BP131,\"NON CONFORMANT\")=1,\"\",\"s\"),\"\") & IF(Statistics!$S6=\"Yes\",\"\n\" & COUNTIF(BP136:BP196,\"NON CONFORMANT\") & \" Level AAA Non-conformance\" & IF(COUNTIF(BP136:BP196,\"NON CONFORMANT\")=1,\"\",\"s\"),\"\")","v":"0 Level A Non-conformances\n0 Level AA Non-conformances"},{"$f":"IF(Statistics!$S4=\"Yes\",COUNTIF(BQ10:BQ75,\"NON CONFORMANT\") & \" Level A Non-conformance\" & IF(COUNTIF(BQ10:BQ75,\"NON CONFORMANT\")=1,\"\",\"s\"),\"\") & IF(Statistics!$S5=\"Yes\",\"\n\" & COUNTIF(BQ80:BQ131,\"NON CONFORMANT\") & \" Level AA Non-conformance\" & IF(COUNTIF(BQ80:BQ131,\"NON CONFORMANT\")=1,\"\",\"s\"),\"\") & IF(Statistics!$S6=\"Yes\",\"\n\" & COUNTIF(BQ136:BQ196,\"NON CONFORMANT\") & \" Level AAA Non-conformance\" & IF(COUNTIF(BQ136:BQ196,\"NON CONFORMANT\")=1,\"\",\"s\"),\"\")","v":"0 Level A Non-conformances\n0 Level AA Non-conformances"},{"$f":"IF(Statistics!$S4=\"Yes\",COUNTIF(BR10:BR75,\"NON CONFORMANT\") & \" Level A Non-conformance\" & IF(COUNTIF(BR10:BR75,\"NON CONFORMANT\")=1,\"\",\"s\"),\"\") & IF(Statistics!$S5=\"Yes\",\"\n\" & COUNTIF(BR80:BR131,\"NON CONFORMANT\") & \" Level AA Non-conformance\" & IF(COUNTIF(BR80:BR131,\"NON CONFORMANT\")=1,\"\",\"s\"),\"\") & IF(Statistics!$S6=\"Yes\",\"\n\" & COUNTIF(BR136:BR196,\"NON CONFORMANT\") & \" Level AAA Non-conformance\" & IF(COUNTIF(BR136:BR196,\"NON CONFORMANT\")=1,\"\",\"s\"),\"\")","v":"0 Level A Non-conformances\n0 Level AA Non-conformances"},{"$f":"IF(Statistics!$S4=\"Yes\",COUNTIF(BS10:BS75,\"NON CONFORMANT\") & \" Level A Non-conformance\" & IF(COUNTIF(BS10:BS75,\"NON CONFORMANT\")=1,\"\",\"s\"),\"\") & IF(Statistics!$S5=\"Yes\",\"\n\" & COUNTIF(BS80:BS131,\"NON CONFORMANT\") & \" Level AA Non-conformance\" & IF(COUNTIF(BS80:BS131,\"NON CONFORMANT\")=1,\"\",\"s\"),\"\") & IF(Statistics!$S6=\"Yes\",\"\n\" & COUNTIF(BS136:BS196,\"NON CONFORMANT\") & \" Level AAA Non-conformance\" & IF(COUNTIF(BS136:BS196,\"NON CONFORMANT\")=1,\"\",\"s\"),\"\")","v":"0 Level A Non-conformances\n0 Level AA Non-conformances"},{"$f":"IF(Statistics!$S4=\"Yes\",COUNTIF(BT10:BT75,\"NON CONFORMANT\") & \" Level A Non-conformance\" & IF(COUNTIF(BT10:BT75,\"NON CONFORMANT\")=1,\"\",\"s\"),\"\") & IF(Statistics!$S5=\"Yes\",\"\n\" & COUNTIF(BT80:BT131,\"NON CONFORMANT\") & \" Level AA Non-conformance\" & IF(COUNTIF(BT80:BT131,\"NON CONFORMANT\")=1,\"\",\"s\"),\"\") & IF(Statistics!$S6=\"Yes\",\"\n\" & COUNTIF(BT136:BT196,\"NON CONFORMANT\") & \" Level AAA Non-conformance\" & IF(COUNTIF(BT136:BT196,\"NON CONFORMANT\")=1,\"\",\"s\"),\"\")","v":"0 Level A Non-conformances\n0 Level AA Non-conformances"},{"$f":"IF(Statistics!$S4=\"Yes\",COUNTIF(BU10:BU75,\"NON CONFORMANT\") & \" Level A Non-conformance\" & IF(COUNTIF(BU10:BU75,\"NON CONFORMANT\")=1,\"\",\"s\"),\"\") & IF(Statistics!$S5=\"Yes\",\"\n\" & COUNTIF(BU80:BU131,\"NON CONFORMANT\") & \" Level AA Non-conformance\" & IF(COUNTIF(BU80:BU131,\"NON CONFORMANT\")=1,\"\",\"s\"),\"\") & IF(Statistics!$S6=\"Yes\",\"\n\" & COUNTIF(BU136:BU196,\"NON CONFORMANT\") & \" Level AAA Non-conformance\" & IF(COUNTIF(BU136:BU196,\"NON CONFORMANT\")=1,\"\",\"s\"),\"\")","v":"0 Level A Non-conformances\n0 Level AA Non-conformances"},{"$f":"IF(Statistics!$S4=\"Yes\",COUNTIF(BV10:BV75,\"NON CONFORMANT\") & \" Level A Non-conformance\" & IF(COUNTIF(BV10:BV75,\"NON CONFORMANT\")=1,\"\",\"s\"),\"\") & IF(Statistics!$S5=\"Yes\",\"\n\" & COUNTIF(BV80:BV131,\"NON CONFORMANT\") & \" Level AA Non-conformance\" & IF(COUNTIF(BV80:BV131,\"NON CONFORMANT\")=1,\"\",\"s\"),\"\") & IF(Statistics!$S6=\"Yes\",\"\n\" & COUNTIF(BV136:BV196,\"NON CONFORMANT\") & \" Level AAA Non-conformance\" & IF(COUNTIF(BV136:BV196,\"NON CONFORMANT\")=1,\"\",\"s\"),\"\")","v":"0 Level A Non-conformances\n0 Level AA Non-conformances"},{"$f":"IF(Statistics!$S4=\"Yes\",COUNTIF(BW10:BW75,\"NON CONFORMANT\") & \" Level A Non-conformance\" & IF(COUNTIF(BW10:BW75,\"NON CONFORMANT\")=1,\"\",\"s\"),\"\") & IF(Statistics!$S5=\"Yes\",\"\n\" & COUNTIF(BW80:BW131,\"NON CONFORMANT\") & \" Level AA Non-conformance\" & IF(COUNTIF(BW80:BW131,\"NON CONFORMANT\")=1,\"\",\"s\"),\"\") & IF(Statistics!$S6=\"Yes\",\"\n\" & COUNTIF(BW136:BW196,\"NON CONFORMANT\") & \" Level AAA Non-conformance\" & IF(COUNTIF(BW136:BW196,\"NON CONFORMANT\")=1,\"\",\"s\"),\"\")","v":"0 Level A Non-conformances\n0 Level AA Non-conformances"},{"$f":"IF(Statistics!$S4=\"Yes\",COUNTIF(BX10:BX75,\"NON CONFORMANT\") & \" Level A Non-conformance\" & IF(COUNTIF(BX10:BX75,\"NON CONFORMANT\")=1,\"\",\"s\"),\"\") & IF(Statistics!$S5=\"Yes\",\"\n\" & COUNTIF(BX80:BX131,\"NON CONFORMANT\") & \" Level AA Non-conformance\" & IF(COUNTIF(BX80:BX131,\"NON CONFORMANT\")=1,\"\",\"s\"),\"\") & IF(Statistics!$S6=\"Yes\",\"\n\" & COUNTIF(BX136:BX196,\"NON CONFORMANT\") & \" Level AAA Non-conformance\" & IF(COUNTIF(BX136:BX196,\"NON CONFORMANT\")=1,\"\",\"s\"),\"\")","v":"0 Level A Non-conformances\n0 Level AA Non-conformances"},{"$f":"IF(Statistics!$S4=\"Yes\",COUNTIF(BY10:BY75,\"NON CONFORMANT\") & \" Level A Non-conformance\" & IF(COUNTIF(BY10:BY75,\"NON CONFORMANT\")=1,\"\",\"s\"),\"\") & IF(Statistics!$S5=\"Yes\",\"\n\" & COUNTIF(BY80:BY131,\"NON CONFORMANT\") & \" Level AA Non-conformance\" & IF(COUNTIF(BY80:BY131,\"NON CONFORMANT\")=1,\"\",\"s\"),\"\") & IF(Statistics!$S6=\"Yes\",\"\n\" & COUNTIF(BY136:BY196,\"NON CONFORMANT\") & \" Level AAA Non-conformance\" & IF(COUNTIF(BY136:BY196,\"NON CONFORMANT\")=1,\"\",\"s\"),\"\")","v":"0 Level A Non-conformances\n0 Level AA Non-conformances"},{"$f":"IF(Statistics!$S4=\"Yes\",COUNTIF(BZ10:BZ75,\"NON CONFORMANT\") & \" Level A Non-conformance\" & IF(COUNTIF(BZ10:BZ75,\"NON CONFORMANT\")=1,\"\",\"s\"),\"\") & IF(Statistics!$S5=\"Yes\",\"\n\" & COUNTIF(BZ80:BZ131,\"NON CONFORMANT\") & \" Level AA Non-conformance\" & IF(COUNTIF(BZ80:BZ131,\"NON CONFORMANT\")=1,\"\",\"s\"),\"\") & IF(Statistics!$S6=\"Yes\",\"\n\" & COUNTIF(BZ136:BZ196,\"NON CONFORMANT\") & \" Level AAA Non-conformance\" & IF(COUNTIF(BZ136:BZ196,\"NON CONFORMANT\")=1,\"\",\"s\"),\"\")","v":"0 Level A Non-conformances\n0 Level AA Non-conformances"},{"$f":"IF(Statistics!$S4=\"Yes\",COUNTIF(CA10:CA75,\"NON CONFORMANT\") & \" Level A Non-conformance\" & IF(COUNTIF(CA10:CA75,\"NON CONFORMANT\")=1,\"\",\"s\"),\"\") & IF(Statistics!$S5=\"Yes\",\"\n\" & COUNTIF(CA80:CA131,\"NON CONFORMANT\") & \" Level AA Non-conformance\" & IF(COUNTIF(CA80:CA131,\"NON CONFORMANT\")=1,\"\",\"s\"),\"\") & IF(Statistics!$S6=\"Yes\",\"\n\" & COUNTIF(CA136:CA196,\"NON CONFORMANT\") & \" Level AAA Non-conformance\" & IF(COUNTIF(CA136:CA196,\"NON CONFORMANT\")=1,\"\",\"s\"),\"\")","v":"0 Level A Non-conformances\n0 Level AA Non-conformances"},{"$f":"IF(Statistics!$S4=\"Yes\",COUNTIF(CB10:CB75,\"NON CONFORMANT\") & \" Level A Non-conformance\" & IF(COUNTIF(CB10:CB75,\"NON CONFORMANT\")=1,\"\",\"s\"),\"\") & IF(Statistics!$S5=\"Yes\",\"\n\" & COUNTIF(CB80:CB131,\"NON CONFORMANT\") & \" Level AA Non-conformance\" & IF(COUNTIF(CB80:CB131,\"NON CONFORMANT\")=1,\"\",\"s\"),\"\") & IF(Statistics!$S6=\"Yes\",\"\n\" & COUNTIF(CB136:CB196,\"NON CONFORMANT\") & \" Level AAA Non-conformance\" & IF(COUNTIF(CB136:CB196,\"NON CONFORMANT\")=1,\"\",\"s\"),\"\")","v":"0 Level A Non-conformances\n0 Level AA Non-conformances"},{"$f":"IF(Statistics!$S4=\"Yes\",COUNTIF(CC10:CC75,\"NON CONFORMANT\") & \" Level A Non-conformance\" & IF(COUNTIF(CC10:CC75,\"NON CONFORMANT\")=1,\"\",\"s\"),\"\") & IF(Statistics!$S5=\"Yes\",\"\n\" & COUNTIF(CC80:CC131,\"NON CONFORMANT\") & \" Level AA Non-conformance\" & IF(COUNTIF(CC80:CC131,\"NON CONFORMANT\")=1,\"\",\"s\"),\"\") & IF(Statistics!$S6=\"Yes\",\"\n\" & COUNTIF(CC136:CC196,\"NON CONFORMANT\") & \" Level AAA Non-conformance\" & IF(COUNTIF(CC136:CC196,\"NON CONFORMANT\")=1,\"\",\"s\"),\"\")","v":"0 Level A Non-conformances\n0 Level AA Non-conformances"},{"$f":"IF(Statistics!$S4=\"Yes\",COUNTIF(CD10:CD75,\"NON CONFORMANT\") & \" Level A Non-conformance\" & IF(COUNTIF(CD10:CD75,\"NON CONFORMANT\")=1,\"\",\"s\"),\"\") & IF(Statistics!$S5=\"Yes\",\"\n\" & COUNTIF(CD80:CD131,\"NON CONFORMANT\") & \" Level AA Non-conformance\" & IF(COUNTIF(CD80:CD131,\"NON CONFORMANT\")=1,\"\",\"s\"),\"\") & IF(Statistics!$S6=\"Yes\",\"\n\" & COUNTIF(CD136:CD196,\"NON CONFORMANT\") & \" Level AAA Non-conformance\" & IF(COUNTIF(CD136:CD196,\"NON CONFORMANT\")=1,\"\",\"s\"),\"\")","v":"0 Level A Non-conformances\n0 Level AA Non-conformances"},{"$f":"IF(Statistics!$S4=\"Yes\",COUNTIF(CE10:CE75,\"NON CONFORMANT\") & \" Level A Non-conformance\" & IF(COUNTIF(CE10:CE75,\"NON CONFORMANT\")=1,\"\",\"s\"),\"\") & IF(Statistics!$S5=\"Yes\",\"\n\" & COUNTIF(CE80:CE131,\"NON CONFORMANT\") & \" Level AA Non-conformance\" & IF(COUNTIF(CE80:CE131,\"NON CONFORMANT\")=1,\"\",\"s\"),\"\") & IF(Statistics!$S6=\"Yes\",\"\n\" & COUNTIF(CE136:CE196,\"NON CONFORMANT\") & \" Level AAA Non-conformance\" & IF(COUNTIF(CE136:CE196,\"NON CONFORMANT\")=1,\"\",\"s\"),\"\")","v":"0 Level A Non-conformances\n0 Level AA Non-conformances"},{"$f":"IF(Statistics!$S4=\"Yes\",COUNTIF(CF10:CF75,\"NON CONFORMANT\") & \" Level A Non-conformance\" & IF(COUNTIF(CF10:CF75,\"NON CONFORMANT\")=1,\"\",\"s\"),\"\") & IF(Statistics!$S5=\"Yes\",\"\n\" & COUNTIF(CF80:CF131,\"NON CONFORMANT\") & \" Level AA Non-conformance\" & IF(COUNTIF(CF80:CF131,\"NON CONFORMANT\")=1,\"\",\"s\"),\"\") & IF(Statistics!$S6=\"Yes\",\"\n\" & COUNTIF(CF136:CF196,\"NON CONFORMANT\") & \" Level AAA Non-conformance\" & IF(COUNTIF(CF136:CF196,\"NON CONFORMANT\")=1,\"\",\"s\"),\"\")","v":"0 Level A Non-conformances\n0 Level AA Non-conformances"},{"$f":"IF(Statistics!$S4=\"Yes\",COUNTIF(CG10:CG75,\"NON CONFORMANT\") & \" Level A Non-conformance\" & IF(COUNTIF(CG10:CG75,\"NON CONFORMANT\")=1,\"\",\"s\"),\"\") & IF(Statistics!$S5=\"Yes\",\"\n\" & COUNTIF(CG80:CG131,\"NON CONFORMANT\") & \" Level AA Non-conformance\" & IF(COUNTIF(CG80:CG131,\"NON CONFORMANT\")=1,\"\",\"s\"),\"\") & IF(Statistics!$S6=\"Yes\",\"\n\" & COUNTIF(CG136:CG196,\"NON CONFORMANT\") & \" Level AAA Non-conformance\" & IF(COUNTIF(CG136:CG196,\"NON CONFORMANT\")=1,\"\",\"s\"),\"\")","v":"0 Level A Non-conformances\n0 Level AA Non-conformances"},{"$f":"IF(Statistics!$S4=\"Yes\",COUNTIF(CH10:CH75,\"NON CONFORMANT\") & \" Level A Non-conformance\" & IF(COUNTIF(CH10:CH75,\"NON CONFORMANT\")=1,\"\",\"s\"),\"\") & IF(Statistics!$S5=\"Yes\",\"\n\" & COUNTIF(CH80:CH131,\"NON CONFORMANT\") & \" Level AA Non-conformance\" & IF(COUNTIF(CH80:CH131,\"NON CONFORMANT\")=1,\"\",\"s\"),\"\") & IF(Statistics!$S6=\"Yes\",\"\n\" & COUNTIF(CH136:CH196,\"NON CONFORMANT\") & \" Level AAA Non-conformance\" & IF(COUNTIF(CH136:CH196,\"NON CONFORMANT\")=1,\"\",\"s\"),\"\")","v":"0 Level A Non-conformances\n0 Level AA Non-conformances"},{"$f":"IF(Statistics!$S4=\"Yes\",COUNTIF(CI10:CI75,\"NON CONFORMANT\") & \" Level A Non-conformance\" & IF(COUNTIF(CI10:CI75,\"NON CONFORMANT\")=1,\"\",\"s\"),\"\") & IF(Statistics!$S5=\"Yes\",\"\n\" & COUNTIF(CI80:CI131,\"NON CONFORMANT\") & \" Level AA Non-conformance\" & IF(COUNTIF(CI80:CI131,\"NON CONFORMANT\")=1,\"\",\"s\"),\"\") & IF(Statistics!$S6=\"Yes\",\"\n\" & COUNTIF(CI136:CI196,\"NON CONFORMANT\") & \" Level AAA Non-conformance\" & IF(COUNTIF(CI136:CI196,\"NON CONFORMANT\")=1,\"\",\"s\"),\"\")","v":"0 Level A Non-conformances\n0 Level AA Non-conformances"},{"$f":"IF(Statistics!$S4=\"Yes\",COUNTIF(CJ10:CJ75,\"NON CONFORMANT\") & \" Level A Non-conformance\" & IF(COUNTIF(CJ10:CJ75,\"NON CONFORMANT\")=1,\"\",\"s\"),\"\") & IF(Statistics!$S5=\"Yes\",\"\n\" & COUNTIF(CJ80:CJ131,\"NON CONFORMANT\") & \" Level AA Non-conformance\" & IF(COUNTIF(CJ80:CJ131,\"NON CONFORMANT\")=1,\"\",\"s\"),\"\") & IF(Statistics!$S6=\"Yes\",\"\n\" & COUNTIF(CJ136:CJ196,\"NON CONFORMANT\") & \" Level AAA Non-conformance\" & IF(COUNTIF(CJ136:CJ196,\"NON CONFORMANT\")=1,\"\",\"s\"),\"\")","v":"0 Level A Non-conformances\n0 Level AA Non-conformances"},{"$f":"IF(Statistics!$S4=\"Yes\",COUNTIF(CK10:CK75,\"NON CONFORMANT\") & \" Level A Non-conformance\" & IF(COUNTIF(CK10:CK75,\"NON CONFORMANT\")=1,\"\",\"s\"),\"\") & IF(Statistics!$S5=\"Yes\",\"\n\" & COUNTIF(CK80:CK131,\"NON CONFORMANT\") & \" Level AA Non-conformance\" & IF(COUNTIF(CK80:CK131,\"NON CONFORMANT\")=1,\"\",\"s\"),\"\") & IF(Statistics!$S6=\"Yes\",\"\n\" & COUNTIF(CK136:CK196,\"NON CONFORMANT\") & \" Level AAA Non-conformance\" & IF(COUNTIF(CK136:CK196,\"NON CONFORMANT\")=1,\"\",\"s\"),\"\")","v":"0 Level A Non-conformances\n0 Level AA Non-conformances"},{"$f":"IF(Statistics!$S4=\"Yes\",COUNTIF(CL10:CL75,\"NON CONFORMANT\") & \" Level A Non-conformance\" & IF(COUNTIF(CL10:CL75,\"NON CONFORMANT\")=1,\"\",\"s\"),\"\") & IF(Statistics!$S5=\"Yes\",\"\n\" & COUNTIF(CL80:CL131,\"NON CONFORMANT\") & \" Level AA Non-conformance\" & IF(COUNTIF(CL80:CL131,\"NON CONFORMANT\")=1,\"\",\"s\"),\"\") & IF(Statistics!$S6=\"Yes\",\"\n\" & COUNTIF(CL136:CL196,\"NON CONFORMANT\") & \" Level AAA Non-conformance\" & IF(COUNTIF(CL136:CL196,\"NON CONFORMANT\")=1,\"\",\"s\"),\"\")","v":"0 Level A Non-conformances\n0 Level AA Non-conformances"},{"$f":"IF(Statistics!$S4=\"Yes\",COUNTIF(CM10:CM75,\"NON CONFORMANT\") & \" Level A Non-conformance\" & IF(COUNTIF(CM10:CM75,\"NON CONFORMANT\")=1,\"\",\"s\"),\"\") & IF(Statistics!$S5=\"Yes\",\"\n\" & COUNTIF(CM80:CM131,\"NON CONFORMANT\") & \" Level AA Non-conformance\" & IF(COUNTIF(CM80:CM131,\"NON CONFORMANT\")=1,\"\",\"s\"),\"\") & IF(Statistics!$S6=\"Yes\",\"\n\" & COUNTIF(CM136:CM196,\"NON CONFORMANT\") & \" Level AAA Non-conformance\" & IF(COUNTIF(CM136:CM196,\"NON CONFORMANT\")=1,\"\",\"s\"),\"\")","v":"0 Level A Non-conformances\n0 Level AA Non-conformances"},{"$f":"IF(Statistics!$S4=\"Yes\",COUNTIF(CN10:CN75,\"NON CONFORMANT\") & \" Level A Non-conformance\" & IF(COUNTIF(CN10:CN75,\"NON CONFORMANT\")=1,\"\",\"s\"),\"\") & IF(Statistics!$S5=\"Yes\",\"\n\" & COUNTIF(CN80:CN131,\"NON CONFORMANT\") & \" Level AA Non-conformance\" & IF(COUNTIF(CN80:CN131,\"NON CONFORMANT\")=1,\"\",\"s\"),\"\") & IF(Statistics!$S6=\"Yes\",\"\n\" & COUNTIF(CN136:CN196,\"NON CONFORMANT\") & \" Level AAA Non-conformance\" & IF(COUNTIF(CN136:CN196,\"NON CONFORMANT\")=1,\"\",\"s\"),\"\")","v":"0 Level A Non-conformances\n0 Level AA Non-conformances"},{"$f":"IF(Statistics!$S4=\"Yes\",COUNTIF(CO10:CO75,\"NON CONFORMANT\") & \" Level A Non-conformance\" & IF(COUNTIF(CO10:CO75,\"NON CONFORMANT\")=1,\"\",\"s\"),\"\") & IF(Statistics!$S5=\"Yes\",\"\n\" & COUNTIF(CO80:CO131,\"NON CONFORMANT\") & \" Level AA Non-conformance\" & IF(COUNTIF(CO80:CO131,\"NON CONFORMANT\")=1,\"\",\"s\"),\"\") & IF(Statistics!$S6=\"Yes\",\"\n\" & COUNTIF(CO136:CO196,\"NON CONFORMANT\") & \" Level AAA Non-conformance\" & IF(COUNTIF(CO136:CO196,\"NON CONFORMANT\")=1,\"\",\"s\"),\"\")","v":"0 Level A Non-conformances\n0 Level AA Non-conformances"},{"$f":"IF(Statistics!$S4=\"Yes\",COUNTIF(CP10:CP75,\"NON CONFORMANT\") & \" Level A Non-conformance\" & IF(COUNTIF(CP10:CP75,\"NON CONFORMANT\")=1,\"\",\"s\"),\"\") & IF(Statistics!$S5=\"Yes\",\"\n\" & COUNTIF(CP80:CP131,\"NON CONFORMANT\") & \" Level AA Non-conformance\" & IF(COUNTIF(CP80:CP131,\"NON CONFORMANT\")=1,\"\",\"s\"),\"\") & IF(Statistics!$S6=\"Yes\",\"\n\" & COUNTIF(CP136:CP196,\"NON CONFORMANT\") & \" Level AAA Non-conformance\" & IF(COUNTIF(CP136:CP196,\"NON CONFORMANT\")=1,\"\",\"s\"),\"\")","v":"0 Level A Non-conformances\n0 Level AA Non-conformances"},{"$f":"IF(Statistics!$S4=\"Yes\",COUNTIF(CQ10:CQ75,\"NON CONFORMANT\") & \" Level A Non-conformance\" & IF(COUNTIF(CQ10:CQ75,\"NON CONFORMANT\")=1,\"\",\"s\"),\"\") & IF(Statistics!$S5=\"Yes\",\"\n\" & COUNTIF(CQ80:CQ131,\"NON CONFORMANT\") & \" Level AA Non-conformance\" & IF(COUNTIF(CQ80:CQ131,\"NON CONFORMANT\")=1,\"\",\"s\"),\"\") & IF(Statistics!$S6=\"Yes\",\"\n\" & COUNTIF(CQ136:CQ196,\"NON CONFORMANT\") & \" Level AAA Non-conformance\" & IF(COUNTIF(CQ136:CQ196,\"NON CONFORMANT\")=1,\"\",\"s\"),\"\")","v":"0 Level A Non-conformances\n0 Level AA Non-conformances"},{"$f":"IF(Statistics!$S4=\"Yes\",COUNTIF(CR10:CR75,\"NON CONFORMANT\") & \" Level A Non-conformance\" & IF(COUNTIF(CR10:CR75,\"NON CONFORMANT\")=1,\"\",\"s\"),\"\") & IF(Statistics!$S5=\"Yes\",\"\n\" & COUNTIF(CR80:CR131,\"NON CONFORMANT\") & \" Level AA Non-conformance\" & IF(COUNTIF(CR80:CR131,\"NON CONFORMANT\")=1,\"\",\"s\"),\"\") & IF(Statistics!$S6=\"Yes\",\"\n\" & COUNTIF(CR136:CR196,\"NON CONFORMANT\") & \" Level AAA Non-conformance\" & IF(COUNTIF(CR136:CR196,\"NON CONFORMANT\")=1,\"\",\"s\"),\"\")","v":"0 Level A Non-conformances\n0 Level AA Non-conformances"},{"$f":"IF(Statistics!$S4=\"Yes\",COUNTIF(CS10:CS75,\"NON CONFORMANT\") & \" Level A Non-conformance\" & IF(COUNTIF(CS10:CS75,\"NON CONFORMANT\")=1,\"\",\"s\"),\"\") & IF(Statistics!$S5=\"Yes\",\"\n\" & COUNTIF(CS80:CS131,\"NON CONFORMANT\") & \" Level AA Non-conformance\" & IF(COUNTIF(CS80:CS131,\"NON CONFORMANT\")=1,\"\",\"s\"),\"\") & IF(Statistics!$S6=\"Yes\",\"\n\" & COUNTIF(CS136:CS196,\"NON CONFORMANT\") & \" Level AAA Non-conformance\" & IF(COUNTIF(CS136:CS196,\"NON CONFORMANT\")=1,\"\",\"s\"),\"\")","v":"0 Level A Non-conformances\n0 Level AA Non-conformances"},{"$f":"IF(Statistics!$S4=\"Yes\",COUNTIF(CT10:CT75,\"NON CONFORMANT\") & \" Level A Non-conformance\" & IF(COUNTIF(CT10:CT75,\"NON CONFORMANT\")=1,\"\",\"s\"),\"\") & IF(Statistics!$S5=\"Yes\",\"\n\" & COUNTIF(CT80:CT131,\"NON CONFORMANT\") & \" Level AA Non-conformance\" & IF(COUNTIF(CT80:CT131,\"NON CONFORMANT\")=1,\"\",\"s\"),\"\") & IF(Statistics!$S6=\"Yes\",\"\n\" & COUNTIF(CT136:CT196,\"NON CONFORMANT\") & \" Level AAA Non-conformance\" & IF(COUNTIF(CT136:CT196,\"NON CONFORMANT\")=1,\"\",\"s\"),\"\")","v":"0 Level A Non-conformances\n0 Level AA Non-conformances"},{"$f":"IF(Statistics!$S4=\"Yes\",COUNTIF(CU10:CU75,\"NON CONFORMANT\") & \" Level A Non-conformance\" & IF(COUNTIF(CU10:CU75,\"NON CONFORMANT\")=1,\"\",\"s\"),\"\") & IF(Statistics!$S5=\"Yes\",\"\n\" & COUNTIF(CU80:CU131,\"NON CONFORMANT\") & \" Level AA Non-conformance\" & IF(COUNTIF(CU80:CU131,\"NON CONFORMANT\")=1,\"\",\"s\"),\"\") & IF(Statistics!$S6=\"Yes\",\"\n\" & COUNTIF(CU136:CU196,\"NON CONFORMANT\") & \" Level AAA Non-conformance\" & IF(COUNTIF(CU136:CU196,\"NON CONFORMANT\")=1,\"\",\"s\"),\"\")","v":"0 Level A Non-conformances\n0 Level AA Non-conformances"},{"$f":"IF(Statistics!$S4=\"Yes\",COUNTIF(CV10:CV75,\"NON CONFORMANT\") & \" Level A Non-conformance\" & IF(COUNTIF(CV10:CV75,\"NON CONFORMANT\")=1,\"\",\"s\"),\"\") & IF(Statistics!$S5=\"Yes\",\"\n\" & COUNTIF(CV80:CV131,\"NON CONFORMANT\") & \" Level AA Non-conformance\" & IF(COUNTIF(CV80:CV131,\"NON CONFORMANT\")=1,\"\",\"s\"),\"\") & IF(Statistics!$S6=\"Yes\",\"\n\" & COUNTIF(CV136:CV196,\"NON CONFORMANT\") & \" Level AAA Non-conformance\" & IF(COUNTIF(CV136:CV196,\"NON CONFORMANT\")=1,\"\",\"s\"),\"\")","v":"0 Level A Non-conformances\n0 Level AA Non-conformances"},{"$f":"IF(Statistics!$S4=\"Yes\",COUNTIF(CW10:CW75,\"NON CONFORMANT\") & \" Level A Non-conformance\" & IF(COUNTIF(CW10:CW75,\"NON CONFORMANT\")=1,\"\",\"s\"),\"\") & IF(Statistics!$S5=\"Yes\",\"\n\" & COUNTIF(CW80:CW131,\"NON CONFORMANT\") & \" Level AA Non-conformance\" & IF(COUNTIF(CW80:CW131,\"NON CONFORMANT\")=1,\"\",\"s\"),\"\") & IF(Statistics!$S6=\"Yes\",\"\n\" & COUNTIF(CW136:CW196,\"NON CONFORMANT\") & \" Level AAA Non-conformance\" & IF(COUNTIF(CW136:CW196,\"NON CONFORMANT\")=1,\"\",\"s\"),\"\")","v":"0 Level A Non-conformances\n0 Level AA Non-conformances"},{"$f":"IF(Statistics!$S4=\"Yes\",COUNTIF(CX10:CX75,\"NON CONFORMANT\") & \" Level A Non-conformance\" & IF(COUNTIF(CX10:CX75,\"NON CONFORMANT\")=1,\"\",\"s\"),\"\") & IF(Statistics!$S5=\"Yes\",\"\n\" & COUNTIF(CX80:CX131,\"NON CONFORMANT\") & \" Level AA Non-conformance\" & IF(COUNTIF(CX80:CX131,\"NON CONFORMANT\")=1,\"\",\"s\"),\"\") & IF(Statistics!$S6=\"Yes\",\"\n\" & COUNTIF(CX136:CX196,\"NON CONFORMANT\") & \" Level AAA Non-conformance\" & IF(COUNTIF(CX136:CX196,\"NON CONFORMANT\")=1,\"\",\"s\"),\"\")","v":"0 Level A Non-conformances\n0 Level AA Non-conformances"},{"$f":"IF(Statistics!$S4=\"Yes\",COUNTIF(CY10:CY75,\"NON CONFORMANT\") & \" Level A Non-conformance\" & IF(COUNTIF(CY10:CY75,\"NON CONFORMANT\")=1,\"\",\"s\"),\"\") & IF(Statistics!$S5=\"Yes\",\"\n\" & COUNTIF(CY80:CY131,\"NON CONFORMANT\") & \" Level AA Non-conformance\" & IF(COUNTIF(CY80:CY131,\"NON CONFORMANT\")=1,\"\",\"s\"),\"\") & IF(Statistics!$S6=\"Yes\",\"\n\" & COUNTIF(CY136:CY196,\"NON CONFORMANT\") & \" Level AAA Non-conformance\" & IF(COUNTIF(CY136:CY196,\"NON CONFORMANT\")=1,\"\",\"s\"),\"\")","v":"0 Level A Non-conformances\n0 Level AA Non-conformances"},{"$f":"IF(Statistics!$S4=\"Yes\",COUNTIF(CZ10:CZ75,\"NON CONFORMANT\") & \" Level A Non-conformance\" & IF(COUNTIF(CZ10:CZ75,\"NON CONFORMANT\")=1,\"\",\"s\"),\"\") & IF(Statistics!$S5=\"Yes\",\"\n\" & COUNTIF(CZ80:CZ131,\"NON CONFORMANT\") & \" Level AA Non-conformance\" & IF(COUNTIF(CZ80:CZ131,\"NON CONFORMANT\")=1,\"\",\"s\"),\"\") & IF(Statistics!$S6=\"Yes\",\"\n\" & COUNTIF(CZ136:CZ196,\"NON CONFORMANT\") & \" Level AAA Non-conformance\" & IF(COUNTIF(CZ136:CZ196,\"NON CONFORMANT\")=1,\"\",\"s\"),\"\")","v":"0 Level A Non-conformances\n0 Level AA Non-conformances"},{"$f":"IF(Statistics!$S4=\"Yes\",COUNTIF(DA10:DA75,\"NON CONFORMANT\") & \" Level A Non-conformance\" & IF(COUNTIF(DA10:DA75,\"NON CONFORMANT\")=1,\"\",\"s\"),\"\") & IF(Statistics!$S5=\"Yes\",\"\n\" & COUNTIF(DA80:DA131,\"NON CONFORMANT\") & \" Level AA Non-conformance\" & IF(COUNTIF(DA80:DA131,\"NON CONFORMANT\")=1,\"\",\"s\"),\"\") & IF(Statistics!$S6=\"Yes\",\"\n\" & COUNTIF(DA136:DA196,\"NON CONFORMANT\") & \" Level AAA Non-conformance\" & IF(COUNTIF(DA136:DA196,\"NON CONFORMANT\")=1,\"\",\"s\"),\"\")","v":"0 Level A Non-conformances\n0 Level AA Non-conformances"},{"$f":"IF(Statistics!$S4=\"Yes\",COUNTIF(DB10:DB75,\"NON CONFORMANT\") & \" Level A Non-conformance\" & IF(COUNTIF(DB10:DB75,\"NON CONFORMANT\")=1,\"\",\"s\"),\"\") & IF(Statistics!$S5=\"Yes\",\"\n\" & COUNTIF(DB80:DB131,\"NON CONFORMANT\") & \" Level AA Non-conformance\" & IF(COUNTIF(DB80:DB131,\"NON CONFORMANT\")=1,\"\",\"s\"),\"\") & IF(Statistics!$S6=\"Yes\",\"\n\" & COUNTIF(DB136:DB196,\"NON CONFORMANT\") & \" Level AAA Non-conformance\" & IF(COUNTIF(DB136:DB196,\"NON CONFORMANT\")=1,\"\",\"s\"),\"\")","v":"0 Level A Non-conformances\n0 Level AA Non-conformances"},{"$f":"IF(Statistics!$S4=\"Yes\",COUNTIF(DC10:DC75,\"NON CONFORMANT\") & \" Level A Non-conformance\" & IF(COUNTIF(DC10:DC75,\"NON CONFORMANT\")=1,\"\",\"s\"),\"\") & IF(Statistics!$S5=\"Yes\",\"\n\" & COUNTIF(DC80:DC131,\"NON CONFORMANT\") & \" Level AA Non-conformance\" & IF(COUNTIF(DC80:DC131,\"NON CONFORMANT\")=1,\"\",\"s\"),\"\") & IF(Statistics!$S6=\"Yes\",\"\n\" & COUNTIF(DC136:DC196,\"NON CONFORMANT\") & \" Level AAA Non-conformance\" & IF(COUNTIF(DC136:DC196,\"NON CONFORMANT\")=1,\"\",\"s\"),\"\")","v":"0 Level A Non-conformances\n0 Level AA Non-conformances"},{"$f":"IF(Statistics!$S4=\"Yes\",COUNTIF(DD10:DD75,\"NON CONFORMANT\") & \" Level A Non-conformance\" & IF(COUNTIF(DD10:DD75,\"NON CONFORMANT\")=1,\"\",\"s\"),\"\") & IF(Statistics!$S5=\"Yes\",\"\n\" & COUNTIF(DD80:DD131,\"NON CONFORMANT\") & \" Level AA Non-conformance\" & IF(COUNTIF(DD80:DD131,\"NON CONFORMANT\")=1,\"\",\"s\"),\"\") & IF(Statistics!$S6=\"Yes\",\"\n\" & COUNTIF(DD136:DD196,\"NON CONFORMANT\") & \" Level AAA Non-conformance\" & IF(COUNTIF(DD136:DD196,\"NON CONFORMANT\")=1,\"\",\"s\"),\"\")","v":"0 Level A Non-conformances\n0 Level AA Non-conformances"},{"$f":"IF(Statistics!$S4=\"Yes\",COUNTIF(DE10:DE75,\"NON CONFORMANT\") & \" Level A Non-conformance\" & IF(COUNTIF(DE10:DE75,\"NON CONFORMANT\")=1,\"\",\"s\"),\"\") & IF(Statistics!$S5=\"Yes\",\"\n\" & COUNTIF(DE80:DE131,\"NON CONFORMANT\") & \" Level AA Non-conformance\" & IF(COUNTIF(DE80:DE131,\"NON CONFORMANT\")=1,\"\",\"s\"),\"\") & IF(Statistics!$S6=\"Yes\",\"\n\" & COUNTIF(DE136:DE196,\"NON CONFORMANT\") & \" Level AAA Non-conformance\" & IF(COUNTIF(DE136:DE196,\"NON CONFORMANT\")=1,\"\",\"s\"),\"\")","v":"0 Level A Non-conformances\n0 Level AA Non-conformances"},{"$f":"IF(Statistics!$S4=\"Yes\",COUNTIF(DF10:DF75,\"NON CONFORMANT\") & \" Level A Non-conformance\" & IF(COUNTIF(DF10:DF75,\"NON CONFORMANT\")=1,\"\",\"s\"),\"\") & IF(Statistics!$S5=\"Yes\",\"\n\" & COUNTIF(DF80:DF131,\"NON CONFORMANT\") & \" Level AA Non-conformance\" & IF(COUNTIF(DF80:DF131,\"NON CONFORMANT\")=1,\"\",\"s\"),\"\") & IF(Statistics!$S6=\"Yes\",\"\n\" & COUNTIF(DF136:DF196,\"NON CONFORMANT\") & \" Level AAA Non-conformance\" & IF(COUNTIF(DF136:DF196,\"NON CONFORMANT\")=1,\"\",\"s\"),\"\")","v":"0 Level A Non-conformances\n0 Level AA Non-conformances"},{"$f":"IF(Statistics!$S4=\"Yes\",COUNTIF(DG10:DG75,\"NON CONFORMANT\") & \" Level A Non-conformance\" & IF(COUNTIF(DG10:DG75,\"NON CONFORMANT\")=1,\"\",\"s\"),\"\") & IF(Statistics!$S5=\"Yes\",\"\n\" & COUNTIF(DG80:DG131,\"NON CONFORMANT\") & \" Level AA Non-conformance\" & IF(COUNTIF(DG80:DG131,\"NON CONFORMANT\")=1,\"\",\"s\"),\"\") & IF(Statistics!$S6=\"Yes\",\"\n\" & COUNTIF(DG136:DG196,\"NON CONFORMANT\") & \" Level AAA Non-conformance\" & IF(COUNTIF(DG136:DG196,\"NON CONFORMANT\")=1,\"\",\"s\"),\"\")","v":"0 Level A Non-conformances\n0 Level AA Non-conformances"},{"$f":"IF(Statistics!$S4=\"Yes\",COUNTIF(DH10:DH75,\"NON CONFORMANT\") & \" Level A Non-conformance\" & IF(COUNTIF(DH10:DH75,\"NON CONFORMANT\")=1,\"\",\"s\"),\"\") & IF(Statistics!$S5=\"Yes\",\"\n\" & COUNTIF(DH80:DH131,\"NON CONFORMANT\") & \" Level AA Non-conformance\" & IF(COUNTIF(DH80:DH131,\"NON CONFORMANT\")=1,\"\",\"s\"),\"\") & IF(Statistics!$S6=\"Yes\",\"\n\" & COUNTIF(DH136:DH196,\"NON CONFORMANT\") & \" Level AAA Non-conformance\" & IF(COUNTIF(DH136:DH196,\"NON CONFORMANT\")=1,\"\",\"s\"),\"\")","v":"0 Level A Non-conformances\n0 Level AA Non-conformances"},{"$f":"IF(Statistics!$S4=\"Yes\",COUNTIF(DI10:DI75,\"NON CONFORMANT\") & \" Level A Non-conformance\" & IF(COUNTIF(DI10:DI75,\"NON CONFORMANT\")=1,\"\",\"s\"),\"\") & IF(Statistics!$S5=\"Yes\",\"\n\" & COUNTIF(DI80:DI131,\"NON CONFORMANT\") & \" Level AA Non-conformance\" & IF(COUNTIF(DI80:DI131,\"NON CONFORMANT\")=1,\"\",\"s\"),\"\") & IF(Statistics!$S6=\"Yes\",\"\n\" & COUNTIF(DI136:DI196,\"NON CONFORMANT\") & \" Level AAA Non-conformance\" & IF(COUNTIF(DI136:DI196,\"NON CONFORMANT\")=1,\"\",\"s\"),\"\")","v":"0 Level A Non-conformances\n0 Level AA Non-conformances"},{"$f":"IF(Statistics!$S4=\"Yes\",COUNTIF(DJ10:DJ75,\"NON CONFORMANT\") & \" Level A Non-conformance\" & IF(COUNTIF(DJ10:DJ75,\"NON CONFORMANT\")=1,\"\",\"s\"),\"\") & IF(Statistics!$S5=\"Yes\",\"\n\" & COUNTIF(DJ80:DJ131,\"NON CONFORMANT\") & \" Level AA Non-conformance\" & IF(COUNTIF(DJ80:DJ131,\"NON CONFORMANT\")=1,\"\",\"s\"),\"\") & IF(Statistics!$S6=\"Yes\",\"\n\" & COUNTIF(DJ136:DJ196,\"NON CONFORMANT\") & \" Level AAA Non-conformance\" & IF(COUNTIF(DJ136:DJ196,\"NON CONFORMANT\")=1,\"\",\"s\"),\"\")","v":"0 Level A Non-conformances\n0 Level AA Non-conformances"},{"$f":"IF(Statistics!$S4=\"Yes\",COUNTIF(DK10:DK75,\"NON CONFORMANT\") & \" Level A Non-conformance\" & IF(COUNTIF(DK10:DK75,\"NON CONFORMANT\")=1,\"\",\"s\"),\"\") & IF(Statistics!$S5=\"Yes\",\"\n\" & COUNTIF(DK80:DK131,\"NON CONFORMANT\") & \" Level AA Non-conformance\" & IF(COUNTIF(DK80:DK131,\"NON CONFORMANT\")=1,\"\",\"s\"),\"\") & IF(Statistics!$S6=\"Yes\",\"\n\" & COUNTIF(DK136:DK196,\"NON CONFORMANT\") & \" Level AAA Non-conformance\" & IF(COUNTIF(DK136:DK196,\"NON CONFORMANT\")=1,\"\",\"s\"),\"\")","v":"0 Level A Non-conformances\n0 Level AA Non-conformances"},{"$f":"IF(Statistics!$S4=\"Yes\",COUNTIF(DL10:DL75,\"NON CONFORMANT\") & \" Level A Non-conformance\" & IF(COUNTIF(DL10:DL75,\"NON CONFORMANT\")=1,\"\",\"s\"),\"\") & IF(Statistics!$S5=\"Yes\",\"\n\" & COUNTIF(DL80:DL131,\"NON CONFORMANT\") & \" Level AA Non-conformance\" & IF(COUNTIF(DL80:DL131,\"NON CONFORMANT\")=1,\"\",\"s\"),\"\") & IF(Statistics!$S6=\"Yes\",\"\n\" & COUNTIF(DL136:DL196,\"NON CONFORMANT\") & \" Level AAA Non-conformance\" & IF(COUNTIF(DL136:DL196,\"NON CONFORMANT\")=1,\"\",\"s\"),\"\")","v":"0 Level A Non-conformances\n0 Level AA Non-conformances"},{"$f":"IF(Statistics!$S4=\"Yes\",COUNTIF(DM10:DM75,\"NON CONFORMANT\") & \" Level A Non-conformance\" & IF(COUNTIF(DM10:DM75,\"NON CONFORMANT\")=1,\"\",\"s\"),\"\") & IF(Statistics!$S5=\"Yes\",\"\n\" & COUNTIF(DM80:DM131,\"NON CONFORMANT\") & \" Level AA Non-conformance\" & IF(COUNTIF(DM80:DM131,\"NON CONFORMANT\")=1,\"\",\"s\"),\"\") & IF(Statistics!$S6=\"Yes\",\"\n\" & COUNTIF(DM136:DM196,\"NON CONFORMANT\") & \" Level AAA Non-conformance\" & IF(COUNTIF(DM136:DM196,\"NON CONFORMANT\")=1,\"\",\"s\"),\"\")","v":"0 Level A Non-conformances\n0 Level AA Non-conformances"},{"$f":"IF(Statistics!$S4=\"Yes\",COUNTIF(DN10:DN75,\"NON CONFORMANT\") & \" Level A Non-conformance\" & IF(COUNTIF(DN10:DN75,\"NON CONFORMANT\")=1,\"\",\"s\"),\"\") & IF(Statistics!$S5=\"Yes\",\"\n\" & COUNTIF(DN80:DN131,\"NON CONFORMANT\") & \" Level AA Non-conformance\" & IF(COUNTIF(DN80:DN131,\"NON CONFORMANT\")=1,\"\",\"s\"),\"\") & IF(Statistics!$S6=\"Yes\",\"\n\" & COUNTIF(DN136:DN196,\"NON CONFORMANT\") & \" Level AAA Non-conformance\" & IF(COUNTIF(DN136:DN196,\"NON CONFORMANT\")=1,\"\",\"s\"),\"\")","v":"0 Level A Non-conformances\n0 Level AA Non-conformances"},{"$f":"IF(Statistics!$S4=\"Yes\",COUNTIF(DO10:DO75,\"NON CONFORMANT\") & \" Level A Non-conformance\" & IF(COUNTIF(DO10:DO75,\"NON CONFORMANT\")=1,\"\",\"s\"),\"\") & IF(Statistics!$S5=\"Yes\",\"\n\" & COUNTIF(DO80:DO131,\"NON CONFORMANT\") & \" Level AA Non-conformance\" & IF(COUNTIF(DO80:DO131,\"NON CONFORMANT\")=1,\"\",\"s\"),\"\") & IF(Statistics!$S6=\"Yes\",\"\n\" & COUNTIF(DO136:DO196,\"NON CONFORMANT\") & \" Level AAA Non-conformance\" & IF(COUNTIF(DO136:DO196,\"NON CONFORMANT\")=1,\"\",\"s\"),\"\")","v":"0 Level A Non-conformances\n0 Level AA Non-conformances"},{"$f":"IF(Statistics!$S4=\"Yes\",COUNTIF(DP10:DP75,\"NON CONFORMANT\") & \" Level A Non-conformance\" & IF(COUNTIF(DP10:DP75,\"NON CONFORMANT\")=1,\"\",\"s\"),\"\") & IF(Statistics!$S5=\"Yes\",\"\n\" & COUNTIF(DP80:DP131,\"NON CONFORMANT\") & \" Level AA Non-conformance\" & IF(COUNTIF(DP80:DP131,\"NON CONFORMANT\")=1,\"\",\"s\"),\"\") & IF(Statistics!$S6=\"Yes\",\"\n\" & COUNTIF(DP136:DP196,\"NON CONFORMANT\") & \" Level AAA Non-conformance\" & IF(COUNTIF(DP136:DP196,\"NON CONFORMANT\")=1,\"\",\"s\"),\"\")","v":"0 Level A Non-conformances\n0 Level AA Non-conformances"},{"$f":"IF(Statistics!$S4=\"Yes\",COUNTIF(DQ10:DQ75,\"NON CONFORMANT\") & \" Level A Non-conformance\" & IF(COUNTIF(DQ10:DQ75,\"NON CONFORMANT\")=1,\"\",\"s\"),\"\") & IF(Statistics!$S5=\"Yes\",\"\n\" & COUNTIF(DQ80:DQ131,\"NON CONFORMANT\") & \" Level AA Non-conformance\" & IF(COUNTIF(DQ80:DQ131,\"NON CONFORMANT\")=1,\"\",\"s\"),\"\") & IF(Statistics!$S6=\"Yes\",\"\n\" & COUNTIF(DQ136:DQ196,\"NON CONFORMANT\") & \" Level AAA Non-conformance\" & IF(COUNTIF(DQ136:DQ196,\"NON CONFORMANT\")=1,\"\",\"s\"),\"\")","v":"0 Level A Non-conformances\n0 Level AA Non-conformances"},{"$f":"IF(Statistics!$S4=\"Yes\",COUNTIF(DR10:DR75,\"NON CONFORMANT\") & \" Level A Non-conformance\" & IF(COUNTIF(DR10:DR75,\"NON CONFORMANT\")=1,\"\",\"s\"),\"\") & IF(Statistics!$S5=\"Yes\",\"\n\" & COUNTIF(DR80:DR131,\"NON CONFORMANT\") & \" Level AA Non-conformance\" & IF(COUNTIF(DR80:DR131,\"NON CONFORMANT\")=1,\"\",\"s\"),\"\") & IF(Statistics!$S6=\"Yes\",\"\n\" & COUNTIF(DR136:DR196,\"NON CONFORMANT\") & \" Level AAA Non-conformance\" & IF(COUNTIF(DR136:DR196,\"NON CONFORMANT\")=1,\"\",\"s\"),\"\")","v":"0 Level A Non-conformances\n0 Level AA Non-conformances"},{"$f":"IF(Statistics!$S4=\"Yes\",COUNTIF(DS10:DS75,\"NON CONFORMANT\") & \" Level A Non-conformance\" & IF(COUNTIF(DS10:DS75,\"NON CONFORMANT\")=1,\"\",\"s\"),\"\") & IF(Statistics!$S5=\"Yes\",\"\n\" & COUNTIF(DS80:DS131,\"NON CONFORMANT\") & \" Level AA Non-conformance\" & IF(COUNTIF(DS80:DS131,\"NON CONFORMANT\")=1,\"\",\"s\"),\"\") & IF(Statistics!$S6=\"Yes\",\"\n\" & COUNTIF(DS136:DS196,\"NON CONFORMANT\") & \" Level AAA Non-conformance\" & IF(COUNTIF(DS136:DS196,\"NON CONFORMANT\")=1,\"\",\"s\"),\"\")","v":"0 Level A Non-conformances\n0 Level AA Non-conformances"},{"$f":"IF(Statistics!$S4=\"Yes\",COUNTIF(DT10:DT75,\"NON CONFORMANT\") & \" Level A Non-conformance\" & IF(COUNTIF(DT10:DT75,\"NON CONFORMANT\")=1,\"\",\"s\"),\"\") & IF(Statistics!$S5=\"Yes\",\"\n\" & COUNTIF(DT80:DT131,\"NON CONFORMANT\") & \" Level AA Non-conformance\" & IF(COUNTIF(DT80:DT131,\"NON CONFORMANT\")=1,\"\",\"s\"),\"\") & IF(Statistics!$S6=\"Yes\",\"\n\" & COUNTIF(DT136:DT196,\"NON CONFORMANT\") & \" Level AAA Non-conformance\" & IF(COUNTIF(DT136:DT196,\"NON CONFORMANT\")=1,\"\",\"s\"),\"\")","v":"0 Level A Non-conformances\n0 Level AA Non-conformances"},{"$f":"IF(Statistics!$S4=\"Yes\",COUNTIF(DU10:DU75,\"NON CONFORMANT\") & \" Level A Non-conformance\" & IF(COUNTIF(DU10:DU75,\"NON CONFORMANT\")=1,\"\",\"s\"),\"\") & IF(Statistics!$S5=\"Yes\",\"\n\" & COUNTIF(DU80:DU131,\"NON CONFORMANT\") & \" Level AA Non-conformance\" & IF(COUNTIF(DU80:DU131,\"NON CONFORMANT\")=1,\"\",\"s\"),\"\") & IF(Statistics!$S6=\"Yes\",\"\n\" & COUNTIF(DU136:DU196,\"NON CONFORMANT\") & \" Level AAA Non-conformance\" & IF(COUNTIF(DU136:DU196,\"NON CONFORMANT\")=1,\"\",\"s\"),\"\")","v":"0 Level A Non-conformances\n0 Level AA Non-conformances"},{"$f":"IF(Statistics!$S4=\"Yes\",COUNTIF(DV10:DV75,\"NON CONFORMANT\") & \" Level A Non-conformance\" & IF(COUNTIF(DV10:DV75,\"NON CONFORMANT\")=1,\"\",\"s\"),\"\") & IF(Statistics!$S5=\"Yes\",\"\n\" & COUNTIF(DV80:DV131,\"NON CONFORMANT\") & \" Level AA Non-conformance\" & IF(COUNTIF(DV80:DV131,\"NON CONFORMANT\")=1,\"\",\"s\"),\"\") & IF(Statistics!$S6=\"Yes\",\"\n\" & COUNTIF(DV136:DV196,\"NON CONFORMANT\") & \" Level AAA Non-conformance\" & IF(COUNTIF(DV136:DV196,\"NON CONFORMANT\")=1,\"\",\"s\"),\"\")","v":"0 Level A Non-conformances\n0 Level AA Non-conformances"},{"$f":"IF(Statistics!$S4=\"Yes\",COUNTIF(DW10:DW75,\"NON CONFORMANT\") & \" Level A Non-conformance\" & IF(COUNTIF(DW10:DW75,\"NON CONFORMANT\")=1,\"\",\"s\"),\"\") & IF(Statistics!$S5=\"Yes\",\"\n\" & COUNTIF(DW80:DW131,\"NON CONFORMANT\") & \" Level AA Non-conformance\" & IF(COUNTIF(DW80:DW131,\"NON CONFORMANT\")=1,\"\",\"s\"),\"\") & IF(Statistics!$S6=\"Yes\",\"\n\" & COUNTIF(DW136:DW196,\"NON CONFORMANT\") & \" Level AAA Non-conformance\" & IF(COUNTIF(DW136:DW196,\"NON CONFORMANT\")=1,\"\",\"s\"),\"\")","v":"0 Level A Non-conformances\n0 Level AA Non-conformances"},{"$f":"IF(Statistics!$S4=\"Yes\",COUNTIF(DX10:DX75,\"NON CONFORMANT\") & \" Level A Non-conformance\" & IF(COUNTIF(DX10:DX75,\"NON CONFORMANT\")=1,\"\",\"s\"),\"\") & IF(Statistics!$S5=\"Yes\",\"\n\" & COUNTIF(DX80:DX131,\"NON CONFORMANT\") & \" Level AA Non-conformance\" & IF(COUNTIF(DX80:DX131,\"NON CONFORMANT\")=1,\"\",\"s\"),\"\") & IF(Statistics!$S6=\"Yes\",\"\n\" & COUNTIF(DX136:DX196,\"NON CONFORMANT\") & \" Level AAA Non-conformance\" & IF(COUNTIF(DX136:DX196,\"NON CONFORMANT\")=1,\"\",\"s\"),\"\")","v":"0 Level A Non-conformances\n0 Level AA Non-conformances"},{"$f":"IF(Statistics!$S4=\"Yes\",COUNTIF(DY10:DY75,\"NON CONFORMANT\") & \" Level A Non-conformance\" & IF(COUNTIF(DY10:DY75,\"NON CONFORMANT\")=1,\"\",\"s\"),\"\") & IF(Statistics!$S5=\"Yes\",\"\n\" & COUNTIF(DY80:DY131,\"NON CONFORMANT\") & \" Level AA Non-conformance\" & IF(COUNTIF(DY80:DY131,\"NON CONFORMANT\")=1,\"\",\"s\"),\"\") & IF(Statistics!$S6=\"Yes\",\"\n\" & COUNTIF(DY136:DY196,\"NON CONFORMANT\") & \" Level AAA Non-conformance\" & IF(COUNTIF(DY136:DY196,\"NON CONFORMANT\")=1,\"\",\"s\"),\"\")","v":"0 Level A Non-conformances\n0 Level AA Non-conformances"},{"$f":"IF(Statistics!$S4=\"Yes\",COUNTIF(DZ10:DZ75,\"NON CONFORMANT\") & \" Level A Non-conformance\" & IF(COUNTIF(DZ10:DZ75,\"NON CONFORMANT\")=1,\"\",\"s\"),\"\") & IF(Statistics!$S5=\"Yes\",\"\n\" & COUNTIF(DZ80:DZ131,\"NON CONFORMANT\") & \" Level AA Non-conformance\" & IF(COUNTIF(DZ80:DZ131,\"NON CONFORMANT\")=1,\"\",\"s\"),\"\") & IF(Statistics!$S6=\"Yes\",\"\n\" & COUNTIF(DZ136:DZ196,\"NON CONFORMANT\") & \" Level AAA Non-conformance\" & IF(COUNTIF(DZ136:DZ196,\"NON CONFORMANT\")=1,\"\",\"s\"),\"\")","v":"0 Level A Non-conformances\n0 Level AA Non-conformances"},{"$f":"IF(Statistics!$S4=\"Yes\",COUNTIF(EA10:EA75,\"NON CONFORMANT\") & \" Level A Non-conformance\" & IF(COUNTIF(EA10:EA75,\"NON CONFORMANT\")=1,\"\",\"s\"),\"\") & IF(Statistics!$S5=\"Yes\",\"\n\" & COUNTIF(EA80:EA131,\"NON CONFORMANT\") & \" Level AA Non-conformance\" & IF(COUNTIF(EA80:EA131,\"NON CONFORMANT\")=1,\"\",\"s\"),\"\") & IF(Statistics!$S6=\"Yes\",\"\n\" & COUNTIF(EA136:EA196,\"NON CONFORMANT\") & \" Level AAA Non-conformance\" & IF(COUNTIF(EA136:EA196,\"NON CONFORMANT\")=1,\"\",\"s\"),\"\")","v":"0 Level A Non-conformances\n0 Level AA Non-conformances"},{"$f":"IF(Statistics!$S4=\"Yes\",COUNTIF(EB10:EB75,\"NON CONFORMANT\") & \" Level A Non-conformance\" & IF(COUNTIF(EB10:EB75,\"NON CONFORMANT\")=1,\"\",\"s\"),\"\") & IF(Statistics!$S5=\"Yes\",\"\n\" & COUNTIF(EB80:EB131,\"NON CONFORMANT\") & \" Level AA Non-conformance\" & IF(COUNTIF(EB80:EB131,\"NON CONFORMANT\")=1,\"\",\"s\"),\"\") & IF(Statistics!$S6=\"Yes\",\"\n\" & COUNTIF(EB136:EB196,\"NON CONFORMANT\") & \" Level AAA Non-conformance\" & IF(COUNTIF(EB136:EB196,\"NON CONFORMANT\")=1,\"\",\"s\"),\"\")","v":"0 Level A Non-conformances\n0 Level AA Non-conformances"},{"$f":"IF(Statistics!$S4=\"Yes\",COUNTIF(EC10:EC75,\"NON CONFORMANT\") & \" Level A Non-conformance\" & IF(COUNTIF(EC10:EC75,\"NON CONFORMANT\")=1,\"\",\"s\"),\"\") & IF(Statistics!$S5=\"Yes\",\"\n\" & COUNTIF(EC80:EC131,\"NON CONFORMANT\") & \" Level AA Non-conformance\" & IF(COUNTIF(EC80:EC131,\"NON CONFORMANT\")=1,\"\",\"s\"),\"\") & IF(Statistics!$S6=\"Yes\",\"\n\" & COUNTIF(EC136:EC196,\"NON CONFORMANT\") & \" Level AAA Non-conformance\" & IF(COUNTIF(EC136:EC196,\"NON CONFORMANT\")=1,\"\",\"s\"),\"\")","v":"0 Level A Non-conformances\n0 Level AA Non-conformances"},{"$f":"IF(Statistics!$S4=\"Yes\",COUNTIF(ED10:ED75,\"NON CONFORMANT\") & \" Level A Non-conformance\" & IF(COUNTIF(ED10:ED75,\"NON CONFORMANT\")=1,\"\",\"s\"),\"\") & IF(Statistics!$S5=\"Yes\",\"\n\" & COUNTIF(ED80:ED131,\"NON CONFORMANT\") & \" Level AA Non-conformance\" & IF(COUNTIF(ED80:ED131,\"NON CONFORMANT\")=1,\"\",\"s\"),\"\") & IF(Statistics!$S6=\"Yes\",\"\n\" & COUNTIF(ED136:ED196,\"NON CONFORMANT\") & \" Level AAA Non-conformance\" & IF(COUNTIF(ED136:ED196,\"NON CONFORMANT\")=1,\"\",\"s\"),\"\")","v":"0 Level A Non-conformances\n0 Level AA Non-conformances"},{"$f":"IF(Statistics!$S4=\"Yes\",COUNTIF(EE10:EE75,\"NON CONFORMANT\") & \" Level A Non-conformance\" & IF(COUNTIF(EE10:EE75,\"NON CONFORMANT\")=1,\"\",\"s\"),\"\") & IF(Statistics!$S5=\"Yes\",\"\n\" & COUNTIF(EE80:EE131,\"NON CONFORMANT\") & \" Level AA Non-conformance\" & IF(COUNTIF(EE80:EE131,\"NON CONFORMANT\")=1,\"\",\"s\"),\"\") & IF(Statistics!$S6=\"Yes\",\"\n\" & COUNTIF(EE136:EE196,\"NON CONFORMANT\") & \" Level AAA Non-conformance\" & IF(COUNTIF(EE136:EE196,\"NON CONFORMANT\")=1,\"\",\"s\"),\"\")","v":"0 Level A Non-conformances\n0 Level AA Non-conformances"},{"$f":"IF(Statistics!$S4=\"Yes\",COUNTIF(EF10:EF75,\"NON CONFORMANT\") & \" Level A Non-conformance\" & IF(COUNTIF(EF10:EF75,\"NON CONFORMANT\")=1,\"\",\"s\"),\"\") & IF(Statistics!$S5=\"Yes\",\"\n\" & COUNTIF(EF80:EF131,\"NON CONFORMANT\") & \" Level AA Non-conformance\" & IF(COUNTIF(EF80:EF131,\"NON CONFORMANT\")=1,\"\",\"s\"),\"\") & IF(Statistics!$S6=\"Yes\",\"\n\" & COUNTIF(EF136:EF196,\"NON CONFORMANT\") & \" Level AAA Non-conformance\" & IF(COUNTIF(EF136:EF196,\"NON CONFORMANT\")=1,\"\",\"s\"),\"\")","v":"0 Level A Non-conformances\n0 Level AA Non-conformances"},{"$f":"IF(Statistics!$S4=\"Yes\",COUNTIF(EG10:EG75,\"NON CONFORMANT\") & \" Level A Non-conformance\" & IF(COUNTIF(EG10:EG75,\"NON CONFORMANT\")=1,\"\",\"s\"),\"\") & IF(Statistics!$S5=\"Yes\",\"\n\" & COUNTIF(EG80:EG131,\"NON CONFORMANT\") & \" Level AA Non-conformance\" & IF(COUNTIF(EG80:EG131,\"NON CONFORMANT\")=1,\"\",\"s\"),\"\") & IF(Statistics!$S6=\"Yes\",\"\n\" & COUNTIF(EG136:EG196,\"NON CONFORMANT\") & \" Level AAA Non-conformance\" & IF(COUNTIF(EG136:EG196,\"NON CONFORMANT\")=1,\"\",\"s\"),\"\")","v":"0 Level A Non-conformances\n0 Level AA Non-conformances"},{"$f":"IF(Statistics!$S4=\"Yes\",COUNTIF(EH10:EH75,\"NON CONFORMANT\") & \" Level A Non-conformance\" & IF(COUNTIF(EH10:EH75,\"NON CONFORMANT\")=1,\"\",\"s\"),\"\") & IF(Statistics!$S5=\"Yes\",\"\n\" & COUNTIF(EH80:EH131,\"NON CONFORMANT\") & \" Level AA Non-conformance\" & IF(COUNTIF(EH80:EH131,\"NON CONFORMANT\")=1,\"\",\"s\"),\"\") & IF(Statistics!$S6=\"Yes\",\"\n\" & COUNTIF(EH136:EH196,\"NON CONFORMANT\") & \" Level AAA Non-conformance\" & IF(COUNTIF(EH136:EH196,\"NON CONFORMANT\")=1,\"\",\"s\"),\"\")","v":"0 Level A Non-conformances\n0 Level AA Non-conformances"},{"$f":"IF(Statistics!$S4=\"Yes\",COUNTIF(EI10:EI75,\"NON CONFORMANT\") & \" Level A Non-conformance\" & IF(COUNTIF(EI10:EI75,\"NON CONFORMANT\")=1,\"\",\"s\"),\"\") & IF(Statistics!$S5=\"Yes\",\"\n\" & COUNTIF(EI80:EI131,\"NON CONFORMANT\") & \" Level AA Non-conformance\" & IF(COUNTIF(EI80:EI131,\"NON CONFORMANT\")=1,\"\",\"s\"),\"\") & IF(Statistics!$S6=\"Yes\",\"\n\" & COUNTIF(EI136:EI196,\"NON CONFORMANT\") & \" Level AAA Non-conformance\" & IF(COUNTIF(EI136:EI196,\"NON CONFORMANT\")=1,\"\",\"s\"),\"\")","v":"0 Level A Non-conformances\n0 Level AA Non-conformances"},{"$f":"IF(Statistics!$S4=\"Yes\",COUNTIF(EJ10:EJ75,\"NON CONFORMANT\") & \" Level A Non-conformance\" & IF(COUNTIF(EJ10:EJ75,\"NON CONFORMANT\")=1,\"\",\"s\"),\"\") & IF(Statistics!$S5=\"Yes\",\"\n\" & COUNTIF(EJ80:EJ131,\"NON CONFORMANT\") & \" Level AA Non-conformance\" & IF(COUNTIF(EJ80:EJ131,\"NON CONFORMANT\")=1,\"\",\"s\"),\"\") & IF(Statistics!$S6=\"Yes\",\"\n\" & COUNTIF(EJ136:EJ196,\"NON CONFORMANT\") & \" Level AAA Non-conformance\" & IF(COUNTIF(EJ136:EJ196,\"NON CONFORMANT\")=1,\"\",\"s\"),\"\")","v":"0 Level A Non-conformances\n0 Level AA Non-conformances"},{"$f":"IF(Statistics!$S4=\"Yes\",COUNTIF(EK10:EK75,\"NON CONFORMANT\") & \" Level A Non-conformance\" & IF(COUNTIF(EK10:EK75,\"NON CONFORMANT\")=1,\"\",\"s\"),\"\") & IF(Statistics!$S5=\"Yes\",\"\n\" & COUNTIF(EK80:EK131,\"NON CONFORMANT\") & \" Level AA Non-conformance\" & IF(COUNTIF(EK80:EK131,\"NON CONFORMANT\")=1,\"\",\"s\"),\"\") & IF(Statistics!$S6=\"Yes\",\"\n\" & COUNTIF(EK136:EK196,\"NON CONFORMANT\") & \" Level AAA Non-conformance\" & IF(COUNTIF(EK136:EK196,\"NON CONFORMANT\")=1,\"\",\"s\"),\"\")","v":"0 Level A Non-conformances\n0 Level AA Non-conformances"},{"$f":"IF(Statistics!$S4=\"Yes\",COUNTIF(EL10:EL75,\"NON CONFORMANT\") & \" Level A Non-conformance\" & IF(COUNTIF(EL10:EL75,\"NON CONFORMANT\")=1,\"\",\"s\"),\"\") & IF(Statistics!$S5=\"Yes\",\"\n\" & COUNTIF(EL80:EL131,\"NON CONFORMANT\") & \" Level AA Non-conformance\" & IF(COUNTIF(EL80:EL131,\"NON CONFORMANT\")=1,\"\",\"s\"),\"\") & IF(Statistics!$S6=\"Yes\",\"\n\" & COUNTIF(EL136:EL196,\"NON CONFORMANT\") & \" Level AAA Non-conformance\" & IF(COUNTIF(EL136:EL196,\"NON CONFORMANT\")=1,\"\",\"s\"),\"\")","v":"0 Level A Non-conformances\n0 Level AA Non-conformances"},{"$f":"IF(Statistics!$S4=\"Yes\",COUNTIF(EM10:EM75,\"NON CONFORMANT\") & \" Level A Non-conformance\" & IF(COUNTIF(EM10:EM75,\"NON CONFORMANT\")=1,\"\",\"s\"),\"\") & IF(Statistics!$S5=\"Yes\",\"\n\" & COUNTIF(EM80:EM131,\"NON CONFORMANT\") & \" Level AA Non-conformance\" & IF(COUNTIF(EM80:EM131,\"NON CONFORMANT\")=1,\"\",\"s\"),\"\") & IF(Statistics!$S6=\"Yes\",\"\n\" & COUNTIF(EM136:EM196,\"NON CONFORMANT\") & \" Level AAA Non-conformance\" & IF(COUNTIF(EM136:EM196,\"NON CONFORMANT\")=1,\"\",\"s\"),\"\")","v":"0 Level A Non-conformances\n0 Level AA Non-conformances"},{"$f":"IF(Statistics!$S4=\"Yes\",COUNTIF(EN10:EN75,\"NON CONFORMANT\") & \" Level A Non-conformance\" & IF(COUNTIF(EN10:EN75,\"NON CONFORMANT\")=1,\"\",\"s\"),\"\") & IF(Statistics!$S5=\"Yes\",\"\n\" & COUNTIF(EN80:EN131,\"NON CONFORMANT\") & \" Level AA Non-conformance\" & IF(COUNTIF(EN80:EN131,\"NON CONFORMANT\")=1,\"\",\"s\"),\"\") & IF(Statistics!$S6=\"Yes\",\"\n\" & COUNTIF(EN136:EN196,\"NON CONFORMANT\") & \" Level AAA Non-conformance\" & IF(COUNTIF(EN136:EN196,\"NON CONFORMANT\")=1,\"\",\"s\"),\"\")","v":"0 Level A Non-conformances\n0 Level AA Non-conformances"},{"$f":"IF(Statistics!$S4=\"Yes\",COUNTIF(EO10:EO75,\"NON CONFORMANT\") & \" Level A Non-conformance\" & IF(COUNTIF(EO10:EO75,\"NON CONFORMANT\")=1,\"\",\"s\"),\"\") & IF(Statistics!$S5=\"Yes\",\"\n\" & COUNTIF(EO80:EO131,\"NON CONFORMANT\") & \" Level AA Non-conformance\" & IF(COUNTIF(EO80:EO131,\"NON CONFORMANT\")=1,\"\",\"s\"),\"\") & IF(Statistics!$S6=\"Yes\",\"\n\" & COUNTIF(EO136:EO196,\"NON CONFORMANT\") & \" Level AAA Non-conformance\" & IF(COUNTIF(EO136:EO196,\"NON CONFORMANT\")=1,\"\",\"s\"),\"\")","v":"0 Level A Non-conformances\n0 Level AA Non-conformances"},{"$f":"IF(Statistics!$S4=\"Yes\",COUNTIF(EP10:EP75,\"NON CONFORMANT\") & \" Level A Non-conformance\" & IF(COUNTIF(EP10:EP75,\"NON CONFORMANT\")=1,\"\",\"s\"),\"\") & IF(Statistics!$S5=\"Yes\",\"\n\" & COUNTIF(EP80:EP131,\"NON CONFORMANT\") & \" Level AA Non-conformance\" & IF(COUNTIF(EP80:EP131,\"NON CONFORMANT\")=1,\"\",\"s\"),\"\") & IF(Statistics!$S6=\"Yes\",\"\n\" & COUNTIF(EP136:EP196,\"NON CONFORMANT\") & \" Level AAA Non-conformance\" & IF(COUNTIF(EP136:EP196,\"NON CONFORMANT\")=1,\"\",\"s\"),\"\")","v":"0 Level A Non-conformances\n0 Level AA Non-conformances"},{"$f":"IF(Statistics!$S4=\"Yes\",COUNTIF(EQ10:EQ75,\"NON CONFORMANT\") & \" Level A Non-conformance\" & IF(COUNTIF(EQ10:EQ75,\"NON CONFORMANT\")=1,\"\",\"s\"),\"\") & IF(Statistics!$S5=\"Yes\",\"\n\" & COUNTIF(EQ80:EQ131,\"NON CONFORMANT\") & \" Level AA Non-conformance\" & IF(COUNTIF(EQ80:EQ131,\"NON CONFORMANT\")=1,\"\",\"s\"),\"\") & IF(Statistics!$S6=\"Yes\",\"\n\" & COUNTIF(EQ136:EQ196,\"NON CONFORMANT\") & \" Level AAA Non-conformance\" & IF(COUNTIF(EQ136:EQ196,\"NON CONFORMANT\")=1,\"\",\"s\"),\"\")","v":"0 Level A Non-conformances\n0 Level AA Non-conformances"},{"$f":"IF(Statistics!$S4=\"Yes\",COUNTIF(ER10:ER75,\"NON CONFORMANT\") & \" Level A Non-conformance\" & IF(COUNTIF(ER10:ER75,\"NON CONFORMANT\")=1,\"\",\"s\"),\"\") & IF(Statistics!$S5=\"Yes\",\"\n\" & COUNTIF(ER80:ER131,\"NON CONFORMANT\") & \" Level AA Non-conformance\" & IF(COUNTIF(ER80:ER131,\"NON CONFORMANT\")=1,\"\",\"s\"),\"\") & IF(Statistics!$S6=\"Yes\",\"\n\" & COUNTIF(ER136:ER196,\"NON CONFORMANT\") & \" Level AAA Non-conformance\" & IF(COUNTIF(ER136:ER196,\"NON CONFORMANT\")=1,\"\",\"s\"),\"\")","v":"0 Level A Non-conformances\n0 Level AA Non-conformances"},{"$f":"IF(Statistics!$S4=\"Yes\",COUNTIF(ES10:ES75,\"NON CONFORMANT\") & \" Level A Non-conformance\" & IF(COUNTIF(ES10:ES75,\"NON CONFORMANT\")=1,\"\",\"s\"),\"\") & IF(Statistics!$S5=\"Yes\",\"\n\" & COUNTIF(ES80:ES131,\"NON CONFORMANT\") & \" Level AA Non-conformance\" & IF(COUNTIF(ES80:ES131,\"NON CONFORMANT\")=1,\"\",\"s\"),\"\") & IF(Statistics!$S6=\"Yes\",\"\n\" & COUNTIF(ES136:ES196,\"NON CONFORMANT\") & \" Level AAA Non-conformance\" & IF(COUNTIF(ES136:ES196,\"NON CONFORMANT\")=1,\"\",\"s\"),\"\")","v":"0 Level A Non-conformances\n0 Level AA Non-conformances"},{"$f":"IF(Statistics!$S4=\"Yes\",COUNTIF(ET10:ET75,\"NON CONFORMANT\") & \" Level A Non-conformance\" & IF(COUNTIF(ET10:ET75,\"NON CONFORMANT\")=1,\"\",\"s\"),\"\") & IF(Statistics!$S5=\"Yes\",\"\n\" & COUNTIF(ET80:ET131,\"NON CONFORMANT\") & \" Level AA Non-conformance\" & IF(COUNTIF(ET80:ET131,\"NON CONFORMANT\")=1,\"\",\"s\"),\"\") & IF(Statistics!$S6=\"Yes\",\"\n\" & COUNTIF(ET136:ET196,\"NON CONFORMANT\") & \" Level AAA Non-conformance\" & IF(COUNTIF(ET136:ET196,\"NON CONFORMANT\")=1,\"\",\"s\"),\"\")","v":"0 Level A Non-conformances\n0 Level AA Non-conformances"},{"$f":"IF(Statistics!$S4=\"Yes\",COUNTIF(EU10:EU75,\"NON CONFORMANT\") & \" Level A Non-conformance\" & IF(COUNTIF(EU10:EU75,\"NON CONFORMANT\")=1,\"\",\"s\"),\"\") & IF(Statistics!$S5=\"Yes\",\"\n\" & COUNTIF(EU80:EU131,\"NON CONFORMANT\") & \" Level AA Non-conformance\" & IF(COUNTIF(EU80:EU131,\"NON CONFORMANT\")=1,\"\",\"s\"),\"\") & IF(Statistics!$S6=\"Yes\",\"\n\" & COUNTIF(EU136:EU196,\"NON CONFORMANT\") & \" Level AAA Non-conformance\" & IF(COUNTIF(EU136:EU196,\"NON CONFORMANT\")=1,\"\",\"s\"),\"\")","v":"0 Level A Non-conformances\n0 Level AA Non-conformances"},{"$f":"IF(Statistics!$S4=\"Yes\",COUNTIF(EV10:EV75,\"NON CONFORMANT\") & \" Level A Non-conformance\" & IF(COUNTIF(EV10:EV75,\"NON CONFORMANT\")=1,\"\",\"s\"),\"\") & IF(Statistics!$S5=\"Yes\",\"\n\" & COUNTIF(EV80:EV131,\"NON CONFORMANT\") & \" Level AA Non-conformance\" & IF(COUNTIF(EV80:EV131,\"NON CONFORMANT\")=1,\"\",\"s\"),\"\") & IF(Statistics!$S6=\"Yes\",\"\n\" & COUNTIF(EV136:EV196,\"NON CONFORMANT\") & \" Level AAA Non-conformance\" & IF(COUNTIF(EV136:EV196,\"NON CONFORMANT\")=1,\"\",\"s\"),\"\")","v":"0 Level A Non-conformances\n0 Level AA Non-conformances"},{"$f":"IF(Statistics!$S4=\"Yes\",COUNTIF(EW10:EW75,\"NON CONFORMANT\") & \" Level A Non-conformance\" & IF(COUNTIF(EW10:EW75,\"NON CONFORMANT\")=1,\"\",\"s\"),\"\") & IF(Statistics!$S5=\"Yes\",\"\n\" & COUNTIF(EW80:EW131,\"NON CONFORMANT\") & \" Level AA Non-conformance\" & IF(COUNTIF(EW80:EW131,\"NON CONFORMANT\")=1,\"\",\"s\"),\"\") & IF(Statistics!$S6=\"Yes\",\"\n\" & COUNTIF(EW136:EW196,\"NON CONFORMANT\") & \" Level AAA Non-conformance\" & IF(COUNTIF(EW136:EW196,\"NON CONFORMANT\")=1,\"\",\"s\"),\"\")","v":"0 Level A Non-conformances\n0 Level AA Non-conformances"},{"$f":"IF(Statistics!$S4=\"Yes\",COUNTIF(EX10:EX75,\"NON CONFORMANT\") & \" Level A Non-conformance\" & IF(COUNTIF(EX10:EX75,\"NON CONFORMANT\")=1,\"\",\"s\"),\"\") & IF(Statistics!$S5=\"Yes\",\"\n\" & COUNTIF(EX80:EX131,\"NON CONFORMANT\") & \" Level AA Non-conformance\" & IF(COUNTIF(EX80:EX131,\"NON CONFORMANT\")=1,\"\",\"s\"),\"\") & IF(Statistics!$S6=\"Yes\",\"\n\" & COUNTIF(EX136:EX196,\"NON CONFORMANT\") & \" Level AAA Non-conformance\" & IF(COUNTIF(EX136:EX196,\"NON CONFORMANT\")=1,\"\",\"s\"),\"\")","v":"0 Level A Non-conformances\n0 Level AA Non-conformances"}]
["Level A Success Criteria"]
["W3C Ref.","Level","Name","Principle 1: Perceivable - Information and user interface components must be presentable to users in ways they can perceive."]
["1.1.1","A","Non-text Content","All non-text content that is presented to the user has a text alternative that serves the equivalent purpose.","PASS","PASS","PASS","N/A","PASS","PASS","PASS","PASS","PASS","PASS with comments","PASS","N/A","PASS","PASS","PASS","PASS","PASS","PASS","PASS","PASS","NOT TESTED","NOT TESTED","NOT TESTED","NOT TESTED","NOT TESTED","NOT TESTED","NOT TESTED","NOT TESTED","NOT TESTED","NOT TESTED","NOT TESTED","NOT TESTED","NOT TESTED","NOT TESTED","NOT TESTED","NOT TESTED","NOT TESTED","NOT TESTED","NOT TESTED","NOT TESTED"]
[null,null,null,null,null,null,null,"There is no non-text content.",null,null,null,null,null,"Comment: The asterisks that are used to denote a mandatory field should be hidden from screen reader software. Add an aria-hidden=\"true\" attribute to the <span> containing the asterisk.",null,"There is no non-text content."]
["1.2.1","A","Audio-only and Video-only (Pre-recorded)","For pre-recorded audio-only and pre-recorded video-only media, an alternative for time-based media or an audio track is provided that presents equivalent information. ","N/A","N/A","N/A","N/A","N/A","N/A","N/A","N/A","N/A","N/A","N/A","N/A","N/A","N/A","N/A","N/A","N/A","N/A","N/A","N/A","NOT TESTED","NOT TESTED","NOT TESTED","NOT TESTED","NOT TESTED","NOT TESTED","NOT TESTED","NOT TESTED","NOT TESTED","NOT TESTED","NOT TESTED","NOT TESTED","NOT TESTED","NOT TESTED","NOT TESTED","NOT TESTED","NOT TESTED","NOT TESTED","NOT TESTED","NOT TESTED"]
[null,null,null,null,"There is no pre-recorded audio-only or pre-recorded video-only media.","There is no pre-recorded audio-only or pre-recorded video-only media.","There is no pre-recorded audio-only or pre-recorded video-only media.","There is no pre-recorded audio-only or pre-recorded video-only media.","There is no pre-recorded audio-only or pre-recorded video-only media.","There is no pre-recorded audio-only or pre-recorded video-only media.","There is no pre-recorded audio-only or pre-recorded video-only media.","There is no pre-recorded audio-only or pre-recorded video-only media.","There is no pre-recorded audio-only or pre-recorded video-only media.","There is no pre-recorded audio-only or pre-recorded video-only media.","There is no pre-recorded audio-only or pre-recorded video-only media.","There is no pre-recorded audio-only or pre-recorded video-only media.","There is no pre-recorded audio-only or pre-recorded video-only media.","There is no pre-recorded audio-only or pre-recorded video-only media.","There is no pre-recorded audio-only or pre-recorded video-only media.","There is no pre-recorded audio-only or pre-recorded video-only media.","There is no pre-recorded audio-only or pre-recorded video-only media.","There is no pre-recorded audio-only or pre-recorded video-only media.","There is no pre-recorded audio-only or pre-recorded video-only media.","There is no pre-recorded audio-only or pre-recorded video-only media."]
["1.2.2","A","Captions (Pre-recorded)","Captions are provided for all pre-recorded audio content in synchronized media, except when the media is a media alternative for text and is clearly labelled as such. ","N/A","N/A","N/A","N/A","N/A","N/A","N/A","N/A","N/A","N/A","N/A","N/A","N/A","N/A","N/A","N/A","N/A","N/A","N/A","N/A","NOT TESTED","NOT TESTED","NOT TESTED","NOT TESTED","NOT TESTED","NOT TESTED","NOT TESTED","NOT TESTED","NOT TESTED","NOT TESTED","NOT TESTED","NOT TESTED","NOT TESTED","NOT TESTED","NOT TESTED","NOT TESTED","NOT TESTED","NOT TESTED","NOT TESTED","NOT TESTED"]
[null,null,null,null,"There is no synchronised media.","There is no synchronised media.","There is no synchronised media.","There is no synchronised media.","There is no synchronised media.","There is no synchronised media.","There is no synchronised media.","There is no synchronised media.","There is no synchronised media.","There is no synchronised media.","There is no synchronised media.","There is no synchronised media.","There is no synchronised media.","There is no synchronised media.","There is no synchronised media.","There is no synchronised media.","There is no synchronised media.","There is no synchronised media.","There is no synchronised media.","There is no synchronised media."]
["1.2.3","A","Audio Description or Media Alternative (Pre-recorded)","An alternative for time-based media or audio description of the pre-recorded video content is provided for synchronized media, except when the media is a media alternative for text and is clearly labelled as such.","N/A","N/A","N/A","N/A","N/A","N/A","N/A","N/A","N/A","N/A","N/A","N/A","N/A","N/A","N/A","N/A","N/A","N/A","N/A","N/A","NOT TESTED","NOT TESTED","NOT TESTED","NOT TESTED","NOT TESTED","NOT TESTED","NOT TESTED","NOT TESTED","NOT TESTED","NOT TESTED","NOT TESTED","NOT TESTED","NOT TESTED","NOT TESTED","NOT TESTED","NOT TESTED","NOT TESTED","NOT TESTED","NOT TESTED","NOT TESTED"]
[null,null,null,null,"There is no time-based media or synchronized media.","There is no time-based media or synchronized media.","There is no time-based media or synchronized media.","There is no time-based media or synchronized media.","There is no time-based media or synchronized media.","There is no time-based media or synchronized media.","There is no time-based media or synchronized media.","There is no time-based media or synchronized media.","There is no time-based media or synchronized media.","There is no time-based media or synchronized media.","There is no time-based media or synchronized media.","There is no time-based media or synchronized media.","There is no time-based media or synchronized media.","There is no time-based media or synchronized media.","There is no time-based media or synchronized media.","There is no time-based media or synchronized media.","There is no time-based media or synchronized media.","There is no time-based media or synchronized media.","There is no time-based media or synchronized media.","There is no time-based media or synchronized media."]
["1.3.1","A","Info and Relationships","Information, structure, and relationships conveyed through presentation can be programmatically determined or are available in text.","PASS","PASS","PASS","PASS","PASS","PASS","PASS","PASS","PASS","PASS","PASS","NON CONFORMANT","PASS","PASS","PASS","PASS","PASS","PASS with comments","NON CONFORMANT","NON CONFORMANT","NOT TESTED","NOT TESTED","NOT TESTED","NOT TESTED","NOT TESTED","NOT TESTED","NOT TESTED","NOT TESTED","NOT TESTED","NOT TESTED","NOT TESTED","NOT TESTED","NOT TESTED","NOT TESTED","NOT TESTED","NOT TESTED","NOT TESTED","NOT TESTED","NOT TESTED","NOT TESTED"]
[null,null,null,null,null,null,null,null,null,null,null,null,null,null,null,"The following <h6> headings should be <h3> headings instead:\n1) Your request.\n2) Our response.",null,null,null,null,null,"The table headers (Monday, Tuesday, Wednesday, Thursday, Friday) are not visible. Disable color:#FFFFFF !important; property from the TH CSS selector.","There is text below the paragraph text \"Minutes:\", in the \"Greening Infrastructure\" item table cell, that appear visually as bullet text but is not coded as such. Use list markup for that text instead of paragraph text.","The text \"Meetings\" below the \"Earlier meetings\" text link appears visually as a heading but is not coded as such. Use a <h2> heading for that text."]
["1.3.2","A","Meaningful Sequence","When the sequence in which content is presented affects its meaning, a correct reading sequence can be programmatically determined.","PASS","PASS","PASS","PASS","PASS","PASS","PASS","PASS","PASS","PASS","PASS","PASS","PASS","PASS","PASS","PASS","PASS","PASS","PASS","PASS","NOT TESTED","NOT TESTED","NOT TESTED","NOT TESTED","NOT TESTED","NOT TESTED","NOT TESTED","NOT TESTED","NOT TESTED","NOT TESTED","NOT TESTED","NOT TESTED","NOT TESTED","NOT TESTED","NOT TESTED","NOT TESTED","NOT TESTED","NOT TESTED","NOT TESTED","NOT TESTED"]
[]
["1.3.3","A","Sensory Characteristics","Instructions provided for understanding and operating content do not rely solely on sensory characteristics of components such as shape, size, visual location, orientation, or sound. ","N/A","N/A","N/A","N/A","N/A","N/A","N/A","N/A","N/A","N/A","N/A","N/A","N/A","N/A","N/A","N/A","N/A","N/A","N/A","N/A","NOT TESTED","NOT TESTED","NOT TESTED","NOT TESTED","NOT TESTED","NOT TESTED","NOT TESTED","NOT TESTED","NOT TESTED","NOT TESTED","NOT TESTED","NOT TESTED","NOT TESTED","NOT TESTED","NOT TESTED","NOT TESTED","NOT TESTED","NOT TESTED","NOT TESTED","NOT TESTED"]
[null,null,null,null,"No instructions are provided for understanding and operating content.","No instructions are provided for understanding and operating content.","No instructions are provided for understanding and operating content.","No instructions are provided for understanding and operating content.","No instructions are provided for understanding and operating content.","No instructions are provided for understanding and operating content.","No instructions are provided for understanding and operating content.","No instructions are provided for understanding and operating content.","No instructions are provided for understanding and operating content.","No instructions are provided for understanding and operating content.","No instructions are provided for understanding and operating content.","No instructions are provided for understanding and operating content.","No instructions are provided for understanding and operating content.","No instructions are provided for understanding and operating content.","No instructions are provided for understanding and operating content.","No instructions are provided for understanding and operating content.","No instructions are provided for understanding and operating content.","No instructions are provided for understanding and operating content.","No instructions are provided for understanding and operating content.","No instructions are provided for understanding and operating content."]
["1.4.1","A","Use of Colour","Colour is not used as the only visual means of conveying information, indicating an action, prompting a response, or distinguishing a visual element.","PASS","PASS","PASS","PASS","PASS","PASS","PASS","PASS","PASS","PASS","PASS","PASS","PASS","PASS","PASS","PASS","PASS","PASS","PASS","PASS","NOT TESTED","NOT TESTED","NOT TESTED","NOT TESTED","NOT TESTED","NOT TESTED","NOT TESTED","NOT TESTED","NOT TESTED","NOT TESTED","NOT TESTED","NOT TESTED","NOT TESTED","NOT TESTED","NOT TESTED","NOT TESTED","NOT TESTED","NOT TESTED","NOT TESTED","NOT TESTED"]
[]
["1.4.2","A","Audio Control","If any audio on a Web page plays automatically for more than 3 seconds, either a mechanism is available to pause or stop the audio, or a mechanism is available to control audio volume independently from the overall system volume level. ","N/A","N/A","N/A","N/A","N/A","N/A","N/A","N/A","N/A","N/A","N/A","N/A","N/A","N/A","N/A","N/A","N/A","N/A","N/A","N/A","NOT TESTED","NOT TESTED","NOT TESTED","NOT TESTED","NOT TESTED","NOT TESTED","NOT TESTED","NOT TESTED","NOT TESTED","NOT TESTED","NOT TESTED","NOT TESTED","NOT TESTED","NOT TESTED","NOT TESTED","NOT TESTED","NOT TESTED","NOT TESTED","NOT TESTED","NOT TESTED"]
[null,null,null,null,"There is no audio that plays automatically for more than 3 seconds.","There is no audio that plays automatically for more than 3 seconds.","There is no audio that plays automatically for more than 3 seconds.","There is no audio that plays automatically for more than 3 seconds.","There is no audio that plays automatically for more than 3 seconds.","There is no audio that plays automatically for more than 3 seconds.","There is no audio that plays automatically for more than 3 seconds.","There is no audio that plays automatically for more than 3 seconds.","There is no audio that plays automatically for more than 3 seconds.","There is no audio that plays automatically for more than 3 seconds.","There is no audio that plays automatically for more than 3 seconds.","There is no audio that plays automatically for more than 3 seconds.","There is no audio that plays automatically for more than 3 seconds.","There is no audio that plays automatically for more than 3 seconds.","There is no audio that plays automatically for more than 3 seconds.","There is no audio that plays automatically for more than 3 seconds.","There is no audio that plays automatically for more than 3 seconds.","There is no audio that plays automatically for more than 3 seconds.","There is no audio that plays automatically for more than 3 seconds.","There is no audio that plays automatically for more than 3 seconds."]
["W3C Ref.","Level","Name","Principle 2: Operable - User interface components and navigation must be operable."]
["2.1.1","A","Keyboard Navigation","All functionality of the content is operable through a keyboard interface without requiring specific timings for individual keystrokes, except where the underlying function requires input that depends on the path of the user's movement and not just the endpoints.","PASS","PASS","PASS","PASS","PASS","PASS","PASS","PASS","PASS","PASS","PASS","PASS","PASS","PASS","PASS","PASS","PASS","PASS","PASS","PASS","NOT TESTED","NOT TESTED","NOT TESTED","NOT TESTED","NOT TESTED","NOT TESTED","NOT TESTED","NOT TESTED","NOT TESTED","NOT TESTED","NOT TESTED","NOT TESTED","NOT TESTED","NOT TESTED","NOT TESTED","NOT TESTED","NOT TESTED","NOT TESTED","NOT TESTED","NOT TESTED"]
[]
["2.1.2","A","No Keyboard Trap","If keyboard focus can be moved to a component of the page using a keyboard interface, then focus can be moved away from that component using only a keyboard interface, and, if it requires more than unmodified arrow or tab keys or other standard exit methods, the user is advised of the method for moving focus away.","PASS","PASS","PASS","PASS","PASS","PASS","PASS","PASS","PASS","PASS","PASS","PASS","PASS","PASS","PASS","PASS","PASS","PASS","PASS","PASS","NOT TESTED","NOT TESTED","NOT TESTED","NOT TESTED","NOT TESTED","NOT TESTED","NOT TESTED","NOT TESTED","NOT TESTED","NOT TESTED","NOT TESTED","NOT TESTED","NOT TESTED","NOT TESTED","NOT TESTED","NOT TESTED","NOT TESTED","NOT TESTED","NOT TESTED","NOT TESTED"]
[]
["2.1.4","A","Character Key Shortcuts","If a keyboard shortcut is implemented in content using only letter (including upper- and lower-case letters), punctuation, number, or symbol characters, then at least one of the following is true:","N/A","N/A","N/A","N/A","N/A","N/A","N/A","N/A","N/A","N/A","N/A","N/A","N/A","N/A","N/A","N/A","N/A","N/A","N/A","N/A","NOT TESTED","NOT TESTED","NOT TESTED","NOT TESTED","NOT TESTED","NOT TESTED","NOT TESTED","NOT TESTED","NOT TESTED","NOT TESTED","NOT TESTED","NOT TESTED","NOT TESTED","NOT TESTED","NOT TESTED","NOT TESTED","NOT TESTED","NOT TESTED","NOT TESTED","NOT TESTED"]
[null,null,null,"\nTurn off: A mechanism is available to turn the shortcut off;\nRemap: A mechanism is available to remap the shortcut to use one or more non-printable keyboard characters (e.g. Ctrl, Alt, etc);\nActive only on focus: The keyboard shortcut for a user interface component is only active when that component has focus.","No keyboard shortcuts have been implemented in content using only a single letter, punctuation, number, or symbol character.","No keyboard shortcuts have been implemented in content using only a single letter, punctuation, number, or symbol character.","No keyboard shortcuts have been implemented in content using only a single letter, punctuation, number, or symbol character.","No keyboard shortcuts have been implemented in content using only a single letter, punctuation, number, or symbol character.","No keyboard shortcuts have been implemented in content using only a single letter, punctuation, number, or symbol character.","No keyboard shortcuts have been implemented in content using only a single letter, punctuation, number, or symbol character.","No keyboard shortcuts have been implemented in content using only a single letter, punctuation, number, or symbol character.","No keyboard shortcuts have been implemented in content using only a single letter, punctuation, number, or symbol character.","No keyboard shortcuts have been implemented in content using only a single letter, punctuation, number, or symbol character.","No keyboard shortcuts have been implemented in content using only a single letter, punctuation, number, or symbol character.","No keyboard shortcuts have been implemented in content using only a single letter, punctuation, number, or symbol character.","No keyboard shortcuts have been implemented in content using only a single letter, punctuation, number, or symbol character.","No keyboard shortcuts have been implemented in content using only a single letter, punctuation, number, or symbol character.","No keyboard shortcuts have been implemented in content using only a single letter, punctuation, number, or symbol character.","No keyboard shortcuts have been implemented in content using only a single letter, punctuation, number, or symbol character.","No keyboard shortcuts have been implemented in content using only a single letter, punctuation, number, or symbol character.","No keyboard shortcuts have been implemented in content using only a single letter, punctuation, number, or symbol character.","No keyboard shortcuts have been implemented in content using only a single letter, punctuation, number, or symbol character.","No keyboard shortcuts have been implemented in content using only a single letter, punctuation, number, or symbol character.","No keyboard shortcuts have been implemented in content using only a single letter, punctuation, number, or symbol character."]
["2.2.1","A","Timing Adjustable","For each time limit that is set by the content, at least one of the following is true:","N/A","N/A","N/A","N/A","N/A","N/A","N/A","N/A","N/A","N/A","N/A","N/A","N/A","N/A","N/A","N/A","N/A","N/A","N/A","N/A","NOT TESTED","NOT TESTED","NOT TESTED","NOT TESTED","NOT TESTED","NOT TESTED","NOT TESTED","NOT TESTED","NOT TESTED","NOT TESTED","NOT TESTED","NOT TESTED","NOT TESTED","NOT TESTED","NOT TESTED","NOT TESTED","NOT TESTED","NOT TESTED","NOT TESTED","NOT TESTED"]
[null,null,null,"\nTurn off: The user is allowed to turn off the time limit before encountering it; or\n\nAdjust: The user is allowed to adjust the time limit before encountering it over a wide range that is at least ten times the length of the default setting; or\n\nExtend: The user is warned before time expires and given at least 20 seconds to extend the time limit with a simple action (for example, \"press the space bar\"), and the user is allowed to extend the time limit at least ten times; or\n\nReal-time Exception: The time limit is a required part of a real-time event (for example, an auction), and no alternative to the time limit is possible; or\n\nEssential Exception: The time limit is essential and extending it would invalidate the activity; or\n\n20 Hour Exception: The time limit is longer than 20 hours.","There are no time limits.","There are no time limits.","There are no time limits.","There are no time limits.","There are no time limits.","There are no time limits.","There are no time limits.","There are no time limits.","There are no time limits.","There are no time limits.","There are no time limits.","There are no time limits.","There are no time limits.","There are no time limits.","There are no time limits.","There are no time limits.","There are no time limits.","There are no time limits.","There are no time limits.","There are no time limits."]
["2.2.2","A","Pause, Stop, Hide","For moving, blinking, scrolling, or auto-updating information, all of the following are true:\n","N/A","N/A","N/A","N/A","N/A","N/A","N/A","N/A","N/A","N/A","N/A","N/A","N/A","N/A","N/A","N/A","N/A","N/A","N/A","N/A","NOT TESTED","NOT TESTED","NOT TESTED","NOT TESTED","NOT TESTED","NOT TESTED","NOT TESTED","NOT TESTED","NOT TESTED","NOT TESTED","NOT TESTED","NOT TESTED","NOT TESTED","NOT TESTED","NOT TESTED","NOT TESTED","NOT TESTED","NOT TESTED","NOT TESTED","NOT TESTED"]
[null,null,null,"Moving, blinking, scrolling\nFor any moving, blinking or scrolling information that (1) starts automatically, (2) lasts more than five seconds, and (3) is presented in parallel with other content, there is a mechanism for the user to pause, stop, or hide it unless the movement, blinking, or scrolling is part of an activity where it is essential; and\n\nAuto-updating\nFor any auto-updating information that (1) starts automatically and (2) is presented in parallel with other content, there is a mechanism for the user to pause, stop, or hide it or to control the frequency of the update unless the auto-updating is part of an activity where it is essential.","There is no moving, blinking, scrolling or auto updating information.","There is no moving, blinking, scrolling or auto updating information.","There is no moving, blinking, scrolling or auto updating information.","There is no moving, blinking, scrolling or auto updating information.","There is no moving, blinking, scrolling or auto updating information.","There is no moving, blinking, scrolling or auto updating information.","There is no moving, blinking, scrolling or auto updating information.","There is no moving, blinking, scrolling or auto updating information.","There is no moving, blinking, scrolling or auto updating information.","There is no moving, blinking, scrolling or auto updating information.","There is no moving, blinking, scrolling or auto updating information.","There is no moving, blinking, scrolling or auto updating information.","There is no moving, blinking, scrolling or auto updating information.","There is no moving, blinking, scrolling or auto updating information.","There is no moving, blinking, scrolling or auto updating information.","There is no moving, blinking, scrolling or auto updating information.","There is no moving, blinking, scrolling or auto updating information.","There is no moving, blinking, scrolling or auto updating information.","There is no moving, blinking, scrolling or auto updating information.","There is no moving, blinking, scrolling or auto updating information."]
["2.3.1","A","Three Flashes or Below Threshold","Web pages do not contain anything that flashes more than three times in any one second period, or the flash is below the general flash and red flash thresholds.","N/A","N/A","N/A","N/A","N/A","N/A","N/A","N/A","N/A","N/A","N/A","N/A","N/A","N/A","N/A","N/A","N/A","N/A","N/A","N/A","NOT TESTED","NOT TESTED","NOT TESTED","NOT TESTED","NOT TESTED","NOT TESTED","NOT TESTED","NOT TESTED","NOT TESTED","NOT TESTED","NOT TESTED","NOT TESTED","NOT TESTED","NOT TESTED","NOT TESTED","NOT TESTED","NOT TESTED","NOT TESTED","NOT TESTED","NOT TESTED"]
[null,null,null,null,"Component does not contain anything that flashes more than three times in any one second period.","Component does not contain anything that flashes more than three times in any one second period.","Component does not contain anything that flashes more than three times in any one second period.","Component does not contain anything that flashes more than three times in any one second period.","Component does not contain anything that flashes more than three times in any one second period.","Component does not contain anything that flashes more than three times in any one second period.","Component does not contain anything that flashes more than three times in any one second period.","Component does not contain anything that flashes more than three times in any one second period.","Component does not contain anything that flashes more than three times in any one second period.","Component does not contain anything that flashes more than three times in any one second period.","Component does not contain anything that flashes more than three times in any one second period.","Component does not contain anything that flashes more than three times in any one second period.","Component does not contain anything that flashes more than three times in any one second period.","Component does not contain anything that flashes more than three times in any one second period.","Component does not contain anything that flashes more than three times in any one second period.","Component does not contain anything that flashes more than three times in any one second period.","Component does not contain anything that flashes more than three times in any one second period.","Component does not contain anything that flashes more than three times in any one second period.","Component does not contain anything that flashes more than three times in any one second period.","Component does not contain anything that flashes more than three times in any one second period."]
["2.4.1","A","Bypass Blocks","A mechanism is available to bypass blocks of content that are repeated on multiple Web pages.","PASS","N/A","N/A","N/A","N/A","N/A","N/A","N/A","N/A","N/A","N/A","N/A","N/A","N/A","N/A","N/A","N/A","N/A","N/A","N/A","NOT TESTED","NOT TESTED","NOT TESTED","NOT TESTED","NOT TESTED","NOT TESTED","NOT TESTED","NOT TESTED","NOT TESTED","NOT TESTED","NOT TESTED","NOT TESTED","NOT TESTED","NOT TESTED","NOT TESTED","NOT TESTED","NOT TESTED","NOT TESTED","NOT TESTED","NOT TESTED"]
[null,null,null,null,null,"Although the footer contains blocks of content that are repeated on multiple Web pages, there is no benefit in being able to bypass them.","There are no blocks of content that are repeated on multiple Web pages.","There are no blocks of content that are repeated on multiple Web pages.","There are no blocks of content that are repeated on multiple Web pages.","There are no blocks of content that are repeated on multiple Web pages.","There are no blocks of content that are repeated on multiple Web pages.","There are no blocks of content that are repeated on multiple Web pages.","There are no blocks of content that are repeated on multiple Web pages.","There are no blocks of content that are repeated on multiple Web pages.","There are no blocks of content that are repeated on multiple Web pages.","There are no blocks of content that are repeated on multiple Web pages.","There are no blocks of content that are repeated on multiple Web pages.","There are no blocks of content that are repeated on multiple Web pages.","There are no blocks of content that are repeated on multiple Web pages.","There are no blocks of content that are repeated on multiple Web pages.","There are no blocks of content that are repeated on multiple Web pages.","There are no blocks of content that are repeated on multiple Web pages.","There are no blocks of content that are repeated on multiple Web pages.","There are no blocks of content that are repeated on multiple Web pages."]
["2.4.2","A","Page Titled","Web pages have titles that describe topic or purpose.","N/A","N/A","N/A","N/A","N/A","N/A","PASS","PASS","PASS","PASS","PASS","PASS","PASS","PASS","PASS","PASS","PASS","PASS","PASS","PASS","NOT TESTED","NOT TESTED","NOT TESTED","NOT TESTED","NOT TESTED","NOT TESTED","NOT TESTED","NOT TESTED","NOT TESTED","NOT TESTED","NOT TESTED","NOT TESTED","NOT TESTED","NOT TESTED","NOT TESTED","NOT TESTED","NOT TESTED","NOT TESTED","NOT TESTED","NOT TESTED"]
[null,null,null,null,"Does not apply to components.","Does not apply to components.","Does not apply to components.","Does not apply to components.","Does not apply to components.","Does not apply to components."]
["2.4.3","A","Focus Order","If a Web page can be navigated sequentially and the navigation sequences affect meaning or operation, focusable components receive focus in an order that preserves meaning and operability.","PASS","PASS","PASS","PASS","PASS","PASS","PASS","PASS","PASS","PASS","PASS","PASS","PASS","PASS","PASS","PASS","PASS","PASS","PASS","PASS","NOT TESTED","NOT TESTED","NOT TESTED","NOT TESTED","NOT TESTED","NOT TESTED","NOT TESTED","NOT TESTED","NOT TESTED","NOT TESTED","NOT TESTED","NOT TESTED","NOT TESTED","NOT TESTED","NOT TESTED","NOT TESTED","NOT TESTED","NOT TESTED","NOT TESTED","NOT TESTED"]
[]
["2.4.4","A","Link Purpose (In Context)","The purpose of each link can be determined from the link text alone or from the link text together with its programmatically determined link context, except where the purpose of the link would be ambiguous to users in general.","PASS","PASS","PASS","N/A","N/A","PASS","PASS","PASS","PASS","PASS","PASS","PASS","PASS","PASS","PASS","PASS","PASS","PASS","PASS","PASS","NOT TESTED","NOT TESTED","NOT TESTED","NOT TESTED","NOT TESTED","NOT TESTED","NOT TESTED","NOT TESTED","NOT TESTED","NOT TESTED","NOT TESTED","NOT TESTED","NOT TESTED","NOT TESTED","NOT TESTED","NOT TESTED","NOT TESTED","NOT TESTED","NOT TESTED","NOT TESTED"]
[null,null,null,null,null,null,null,"There are no links.","There are no links."]
["2.5.1","A","Pointer Gestures","All functionality that uses multipoint or path-based gestures for operation can be operated with a single pointer without a path-based gesture, unless a multipoint or path-based gesture is essential.","N/A","N/A","N/A","N/A","N/A","N/A","N/A","N/A","N/A","N/A","N/A","N/A","N/A","N/A","N/A","N/A","N/A","N/A","N/A","N/A","NOT TESTED","NOT TESTED","NOT TESTED","NOT TESTED","NOT TESTED","NOT TESTED","NOT TESTED","NOT TESTED","NOT TESTED","NOT TESTED","NOT TESTED","NOT TESTED","NOT TESTED","NOT TESTED","NOT TESTED","NOT TESTED","NOT TESTED","NOT TESTED","NOT TESTED","NOT TESTED"]
[null,null,null,null,"There is no functionality that uses multipoint or path-based gestures for operation.","There is no functionality that uses multipoint or path-based gestures for operation.","There is no functionality that uses multipoint or path-based gestures for operation.","There is no functionality that uses multipoint or path-based gestures for operation.","There is no functionality that uses multipoint or path-based gestures for operation.","There is no functionality that uses multipoint or path-based gestures for operation.","There is no functionality that uses multipoint or path-based gestures for operation.","There is no functionality that uses multipoint or path-based gestures for operation.","There is no functionality that uses multipoint or path-based gestures for operation.","There is no functionality that uses multipoint or path-based gestures for operation.","There is no functionality that uses multipoint or path-based gestures for operation.","There is no functionality that uses multipoint or path-based gestures for operation.","There is no functionality that uses multipoint or path-based gestures for operation.","There is no functionality that uses multipoint or path-based gestures for operation.","There is no functionality that uses multipoint or path-based gestures for operation.","There is no functionality that uses multipoint or path-based gestures for operation.","There is no functionality that uses multipoint or path-based gestures for operation.","There is no functionality that uses multipoint or path-based gestures for operation.","There is no functionality that uses multipoint or path-based gestures for operation.","There is no functionality that uses multipoint or path-based gestures for operation."]
["2.5.2","A","Pointer Cancellation","For functionality that can be operated using a single pointer, at least one of the following is true:","PASS","PASS","PASS","PASS","PASS","PASS","PASS","PASS","PASS","PASS","PASS","PASS","PASS","PASS","PASS","PASS","PASS","PASS","PASS","PASS","NOT TESTED","NOT TESTED","NOT TESTED","NOT TESTED","NOT TESTED","NOT TESTED","NOT TESTED","NOT TESTED","NOT TESTED","NOT TESTED","NOT TESTED","NOT TESTED","NOT TESTED","NOT TESTED","NOT TESTED","NOT TESTED","NOT TESTED","NOT TESTED","NOT TESTED","NOT TESTED"]
[null,null,null,"\nNo Down-Event: The down-event of the pointer is not used to execute any part of the function;\nAbort or Undo: Completion of the function is on the up-event, and a mechanism is available to abort the function before completion or to undo the function after completion;\nUp Reversal: The up-event reverses any outcome of the preceding down-event;\nEssential: Completing the function on the down-event is essential.\n"]
["2.5.3","A","Label in Name","For user interface components with labels that include text or images of text, the name contains the text that is presented visually.","PASS","PASS","PASS","PASS","PASS","N/A","PASS","PASS","PASS","PASS","PASS","PASS","PASS","PASS","PASS","PASS","NON CONFORMANT","PASS","PASS","PASS","NOT TESTED","NOT TESTED","NOT TESTED","NOT TESTED","NOT TESTED","NOT TESTED","NOT TESTED","NOT TESTED","NOT TESTED","NOT TESTED","NOT TESTED","NOT TESTED","NOT TESTED","NOT TESTED","NOT TESTED","NOT TESTED","NOT TESTED","NOT TESTED","NOT TESTED","NOT TESTED"]
[null,null,null,null,null,null,null,null,null,"There are no user interface components with labels that include text or images of text.",null,null,null,null,null,null,null,null,null,null,"The accessible name of the <select> input element below the \"Borough\" label  is \"Facet Borough\", because of the aria-labelledby attribute. The accessible name must match the visible name.\n\nRemove the aria-labelledby attribute. Explicitly associate the <label> with the input element using the \"for\" and \"id\" attributes. Remove the word \"Facet\" from the <label> element.  This applies to the Borough, Type of institution, Essential skills and Other courses <select> input elements. \n"]
["2.5.4","A","Motion Actuation","Functionality that can be operated by device motion or user motion can also be operated by user interface components and responding to the motion can be disabled to prevent accidental actuation, except when:","N/A","N/A","N/A","N/A","N/A","N/A","N/A","N/A","N/A","N/A","N/A","N/A","N/A","N/A","N/A","N/A","N/A","N/A","N/A","N/A","NOT TESTED","NOT TESTED","NOT TESTED","NOT TESTED","NOT TESTED","NOT TESTED","NOT TESTED","NOT TESTED","NOT TESTED","NOT TESTED","NOT TESTED","NOT TESTED","NOT TESTED","NOT TESTED","NOT TESTED","NOT TESTED","NOT TESTED","NOT TESTED","NOT TESTED","NOT TESTED"]
[null,null,null,"Supported Interface: The motion is used to operate functionality through an accessibility supported interface;\nEssential: The motion is essential for the function and doing so would invalidate the activity.\n","There is no functionality that can be operated by device motion or user motion.","There is no functionality that can be operated by device motion or user motion.","There is no functionality that can be operated by device motion or user motion.","There is no functionality that can be operated by device motion or user motion.","There is no functionality that can be operated by device motion or user motion.","There is no functionality that can be operated by device motion or user motion.","There is no functionality that can be operated by device motion or user motion.","There is no functionality that can be operated by device motion or user motion.","There is no functionality that can be operated by device motion or user motion.","There is no functionality that can be operated by device motion or user motion.","There is no functionality that can be operated by device motion or user motion.","There is no functionality that can be operated by device motion or user motion.","There is no functionality that can be operated by device motion or user motion.","There is no functionality that can be operated by device motion or user motion.","There is no functionality that can be operated by device motion or user motion.","There is no functionality that can be operated by device motion or user motion.","There is no functionality that can be operated by device motion or user motion.","There is no functionality that can be operated by device motion or user motion.","There is no functionality that can be operated by device motion or user motion.","There is no functionality that can be operated by device motion or user motion."]
["W3C Ref.","Level","Name","Principle 3: Understandable - Information and the operation of user interface must be understandable."]
["3.1.1","A","Language of Page","The default human language of each Web page can be programmatically determined. ","N/A","N/A","N/A","N/A","N/A","N/A","PASS","PASS","PASS","PASS","PASS","PASS","PASS","PASS","PASS","PASS","PASS","PASS","PASS","PASS","NOT TESTED","NOT TESTED","NOT TESTED","NOT TESTED","NOT TESTED","NOT TESTED","NOT TESTED","NOT TESTED","NOT TESTED","NOT TESTED","NOT TESTED","NOT TESTED","NOT TESTED","NOT TESTED","NOT TESTED","NOT TESTED","NOT TESTED","NOT TESTED","NOT TESTED","NOT TESTED"]
[null,null,null,null,"Does not apply to components.","Does not apply to components.","Does not apply to components.","Does not apply to components.","Does not apply to components.","Does not apply to components."]
["3.2.1","A","On Focus","When any component receives focus, it does not initiate a change of context.","PASS","PASS","PASS","PASS","PASS","PASS","PASS","PASS","PASS","PASS","PASS","PASS","PASS","PASS","PASS","PASS","PASS","PASS","PASS","PASS","NOT TESTED","NOT TESTED","NOT TESTED","NOT TESTED","NOT TESTED","NOT TESTED","NOT TESTED","NOT TESTED","NOT TESTED","NOT TESTED","NOT TESTED","NOT TESTED","NOT TESTED","NOT TESTED","NOT TESTED","NOT TESTED","NOT TESTED","NOT TESTED","NOT TESTED","NOT TESTED"]
[]
["3.2.2","A","On Input","Changing the setting of any user interface component does not automatically cause a change of context unless the user has been advised of the behaviour before using the component","PASS","PASS","PASS","PASS","PASS","PASS","PASS","PASS","PASS","PASS","PASS","PASS","PASS","PASS","PASS","PASS","PASS","PASS","PASS","PASS","NOT TESTED","NOT TESTED","NOT TESTED","NOT TESTED","NOT TESTED","NOT TESTED","NOT TESTED","NOT TESTED","NOT TESTED","NOT TESTED","NOT TESTED","NOT TESTED","NOT TESTED","NOT TESTED","NOT TESTED","NOT TESTED","NOT TESTED","NOT TESTED","NOT TESTED","NOT TESTED"]
[null,null,null,null,null,null,null,null,null,null,null,null,null,null,null,null,null,null,null,null,"There is a change of context when the filters are applied, but there are visible text instructions to warn the user of the behaviour."]
["3.2.6","A","Consistent Help","If a Web page contains any of the following help mechanisms, and those mechanisms are repeated on multiple Web pages within a set of Web pages, they occur in the same order relative to other page content, unless a change is initiated by the user:","N/A","PASS","N/A","N/A","N/A","N/A","N/A","N/A","N/A","N/A","N/A","N/A","N/A","N/A","N/A","N/A","N/A","N/A","N/A","N/A","N/A","N/A","N/A","N/A","N/A","N/A","N/A","N/A","N/A","N/A","N/A","N/A","N/A","N/A","N/A","N/A","N/A","N/A","N/A","N/A"]
[null,null,null,"\n • Human contact details\n • Human contact mechanism\n • Self-help option\n • A fully automated contact mechanism","No help mechanisms are repeated on multiple web pages.",null,"No help mechanisms are repeated on multiple web pages.","No help mechanisms are repeated on multiple web pages.","No help mechanisms are repeated on multiple web pages.","No help mechanisms are repeated on multiple web pages.","No help mechanisms are repeated on multiple web pages.","No help mechanisms are repeated on multiple web pages.","No help mechanisms are repeated on multiple web pages.","No help mechanisms are repeated on multiple web pages.","No help mechanisms are repeated on multiple web pages.","No help mechanisms are repeated on multiple web pages.","No help mechanisms are repeated on multiple web pages.","No help mechanisms are repeated on multiple web pages.","No help mechanisms are repeated on multiple web pages.","No help mechanisms are repeated on multiple web pages.","No help mechanisms are repeated on multiple web pages.","No help mechanisms are repeated on multiple web pages.","No help mechanisms are repeated on multiple web pages.","No help mechanisms are repeated on multiple web pages.","No help mechanisms are repeated on multiple web pages.","No help mechanisms are repeated on multiple web pages.","No help mechanisms are repeated on multiple web pages.","No help mechanisms are repeated on multiple web pages.","No help mechanisms are repeated on multiple web pages.","No help mechanisms are repeated on multiple web pages.","No help mechanisms are repeated on multiple web pages.","No help mechanisms are repeated on multiple web pages.","No help mechanisms are repeated on multiple web pages.","No help mechanisms are repeated on multiple web pages.","No help mechanisms are repeated on multiple web pages.","No help mechanisms are repeated on multiple web pages.","No help mechanisms are repeated on multiple web pages.","No help mechanisms are repeated on multiple web pages.","No help mechanisms are repeated on multiple web pages.","No help mechanisms are repeated on multiple web pages.","No help mechanisms are repeated on multiple web pages.","No help mechanisms are repeated on multiple web pages.","No help mechanisms are repeated on multiple web pages.","No help mechanisms are repeated on multiple web pages."]
["3.3.1","A","Error Identification","If an input error is automatically detected, the item that is in error is identified and the error is described to the user in text.","N/A","N/A","N/A","N/A","N/A","N/A","PASS","N/A","N/A","PASS","PASS","N/A","N/A","N/A","N/A","N/A","N/A","N/A","N/A","N/A","NOT TESTED","NOT TESTED","NOT TESTED","NOT TESTED","NOT TESTED","NOT TESTED","NOT TESTED","NOT TESTED","NOT TESTED","NOT TESTED","NOT TESTED","NOT TESTED","NOT TESTED","NOT TESTED","NOT TESTED","NOT TESTED","NOT TESTED","NOT TESTED","NOT TESTED","NOT TESTED"]
[null,null,null,null,"No input errors can occur.","No input errors can occur.","No input errors can occur.","No input errors can occur.","No input errors can occur.","No input errors can occur.",null,"No input errors can occur.","No input errors can occur.",null,null,"No input errors can occur.","No input errors can occur.","No input errors can occur.","No input errors can occur.","No input errors can occur.","No input errors can occur.","No input errors can occur.","No input errors can occur.","No input errors can occur."]
["3.3.2","A","Labels or Instructions","Labels or instructions are provided when content requires user input.","PASS","PASS","PASS","PASS","PASS","PASS","PASS","PASS","PASS","PASS with comments","PASS","PASS","PASS","PASS","PASS","PASS","PASS","PASS","PASS","PASS","NOT TESTED","NOT TESTED","NOT TESTED","NOT TESTED","NOT TESTED","NOT TESTED","NOT TESTED","NOT TESTED","NOT TESTED","NOT TESTED","NOT TESTED","NOT TESTED","NOT TESTED","NOT TESTED","NOT TESTED","NOT TESTED","NOT TESTED","NOT TESTED","NOT TESTED","NOT TESTED"]
[null,null,null,null,null,null,null,null,null,null,null,null,null,"Comment: To make the warning easier to find, move the text, \"* indicates required field\" to below the heading \"Your details.\" "]
["3.3.7","A","Redundant Entry","Information previously entered by or provided to the user that is required to be entered again in the same process is either:","N/A","N/A","N/A","N/A","N/A","N/A","N/A","N/A","N/A","N/A","N/A","N/A","N/A","N/A","N/A","N/A","N/A","N/A","N/A","N/A","N/A","N/A","N/A","N/A","N/A","N/A","N/A","N/A","N/A","N/A","N/A","N/A","N/A","N/A","N/A","N/A","N/A","N/A","N/A","N/A"]
[null,null,null,"\n • auto-populated, or\n • available for the user to select.\nExcept when:\n • re-entering the information is essential,\n • the information is required to ensure the security of the content, or\n • previously entered information is no longer valid.","The component does not require re-entry of data entered by or provided to the user previously in the same process","The component does not require re-entry of data entered by or provided to the user previously in the same process","The component does not require re-entry of data entered by or provided to the user previously in the same process","The component does not require re-entry of data entered by or provided to the user previously in the same process","The component does not require re-entry of data entered by or provided to the user previously in the same process","The component does not require re-entry of data entered by or provided to the user previously in the same process","The component does not require re-entry of data entered by or provided to the user previously in the same process","The component does not require re-entry of data entered by or provided to the user previously in the same process","The component does not require re-entry of data entered by or provided to the user previously in the same process","The component does not require re-entry of data entered by or provided to the user previously in the same process","The component does not require re-entry of data entered by or provided to the user previously in the same process","The component does not require re-entry of data entered by or provided to the user previously in the same process","The component does not require re-entry of data entered by or provided to the user previously in the same process","The component does not require re-entry of data entered by or provided to the user previously in the same process","The component does not require re-entry of data entered by or provided to the user previously in the same process","The component does not require re-entry of data entered by or provided to the user previously in the same process","The component does not require re-entry of data entered by or provided to the user previously in the same process","The component does not require re-entry of data entered by or provided to the user previously in the same process","The component does not require re-entry of data entered by or provided to the user previously in the same process","The component does not require re-entry of data entered by or provided to the user previously in the same process","The component does not require re-entry of data entered by or provided to the user previously in the same process","The component does not require re-entry of data entered by or provided to the user previously in the same process","The component does not require re-entry of data entered by or provided to the user previously in the same process","The component does not require re-entry of data entered by or provided to the user previously in the same process","The component does not require re-entry of data entered by or provided to the user previously in the same process","The component does not require re-entry of data entered by or provided to the user previously in the same process","The component does not require re-entry of data entered by or provided to the user previously in the same process","The component does not require re-entry of data entered by or provided to the user previously in the same process","The component does not require re-entry of data entered by or provided to the user previously in the same process","The component does not require re-entry of data entered by or provided to the user previously in the same process","The component does not require re-entry of data entered by or provided to the user previously in the same process","The component does not require re-entry of data entered by or provided to the user previously in the same process","The component does not require re-entry of data entered by or provided to the user previously in the same process","The component does not require re-entry of data entered by or provided to the user previously in the same process","The component does not require re-entry of data entered by or provided to the user previously in the same process","The component does not require re-entry of data entered by or provided to the user previously in the same process","The component does not require re-entry of data entered by or provided to the user previously in the same process","The component does not require re-entry of data entered by or provided to the user previously in the same process","No help mechanisms are repeated on multiple web pages.","No help mechanisms are repeated on multiple web pages."]
["W3C Ref.","Level","Name","Guideline 4.1 Compatible: Maximize compatibility with current and future user agents, including assistive technologies."]
["4.1.1","A","Parsing","In content implemented using mark-up languages, elements have complete start and end tags, elements are nested according to their specifications, elements do not contain duplicate attributes, and any IDs are unique, except where the specifications allow these features.","N/A","N/A","N/A","N/A","N/A","N/A","N/A","N/A","N/A","N/A","N/A","N/A","N/A","N/A","N/A","N/A","N/A","N/A","N/A","N/A","N/A","N/A","N/A","N/A","N/A","N/A","N/A","N/A","N/A","N/A","N/A","N/A","N/A","N/A","N/A","N/A","N/A","N/A","N/A","N/A","N/A","N/A","N/A","N/A","N/A","N/A","N/A","N/A","N/A","N/A","N/A","N/A","N/A","N/A","N/A","N/A","N/A","N/A","N/A","N/A","N/A","N/A","N/A","N/A","N/A","N/A","N/A","N/A","N/A","N/A","N/A","N/A","N/A","N/A","N/A","N/A","N/A","N/A","N/A","N/A","N/A","N/A","N/A","N/A","N/A","N/A","N/A","N/A","N/A","N/A","N/A","N/A","N/A","N/A","N/A","N/A","N/A","N/A","N/A","N/A","N/A","N/A","N/A","N/A","N/A","N/A","N/A","N/A","N/A","N/A","N/A","N/A","N/A","N/A","N/A","N/A","N/A","N/A","N/A","N/A","N/A","N/A","N/A","N/A","N/A","N/A","N/A","N/A","N/A","N/A","N/A","N/A","N/A","N/A","N/A","N/A","N/A","N/A","N/A","N/A","N/A","N/A","N/A","N/A","N/A","N/A","N/A","N/A","N/A","N/A"]
[null,null,null,"\nThis is tested using the Nu Html Checker at https://validator.w3.org/nu/. The results are then filtered using the bookmarklet at https://github.com/stevefaulkner/wcagparsing/","On 21 September 2023 the W3C published an explanatory note stating that all content created using XML or HTML automatically passes this success criterion. It was therefore removed from WCAG 2.2 prior to publication.","On 21 September 2023 the W3C published an explanatory note stating that all content created using XML or HTML automatically passes this success criterion. It was therefore removed from WCAG 2.2 prior to publication.","On 21 September 2023 the W3C published an explanatory note stating that all content created using XML or HTML automatically passes this success criterion. It was therefore removed from WCAG 2.2 prior to publication.","On 21 September 2023 the W3C published an explanatory note stating that all content created using XML or HTML automatically passes this success criterion. It was therefore removed from WCAG 2.2 prior to publication.","On 21 September 2023 the W3C published an explanatory note stating that all content created using XML or HTML automatically passes this success criterion. It was therefore removed from WCAG 2.2 prior to publication.","On 21 September 2023 the W3C published an explanatory note stating that all content created using XML or HTML automatically passes this success criterion. It was therefore removed from WCAG 2.2 prior to publication.","On 21 September 2023 the W3C published an explanatory note stating that all content created using XML or HTML automatically passes this success criterion. It was therefore removed from WCAG 2.2 prior to publication.","On 21 September 2023 the W3C published an explanatory note stating that all content created using XML or HTML automatically passes this success criterion. It was therefore removed from WCAG 2.2 prior to publication.","On 21 September 2023 the W3C published an explanatory note stating that all content created using XML or HTML automatically passes this success criterion. It was therefore removed from WCAG 2.2 prior to publication.","On 21 September 2023 the W3C published an explanatory note stating that all content created using XML or HTML automatically passes this success criterion. It was therefore removed from WCAG 2.2 prior to publication.","On 21 September 2023 the W3C published an explanatory note stating that all content created using XML or HTML automatically passes this success criterion. It was therefore removed from WCAG 2.2 prior to publication.","On 21 September 2023 the W3C published an explanatory note stating that all content created using XML or HTML automatically passes this success criterion. It was therefore removed from WCAG 2.2 prior to publication.","On 21 September 2023 the W3C published an explanatory note stating that all content created using XML or HTML automatically passes this success criterion. It was therefore removed from WCAG 2.2 prior to publication.","On 21 September 2023 the W3C published an explanatory note stating that all content created using XML or HTML automatically passes this success criterion. It was therefore removed from WCAG 2.2 prior to publication.","On 21 September 2023 the W3C published an explanatory note stating that all content created using XML or HTML automatically passes this success criterion. It was therefore removed from WCAG 2.2 prior to publication.","On 21 September 2023 the W3C published an explanatory note stating that all content created using XML or HTML automatically passes this success criterion. It was therefore removed from WCAG 2.2 prior to publication.","On 21 September 2023 the W3C published an explanatory note stating that all content created using XML or HTML automatically passes this success criterion. It was therefore removed from WCAG 2.2 prior to publication.","On 21 September 2023 the W3C published an explanatory note stating that all content created using XML or HTML automatically passes this success criterion. It was therefore removed from WCAG 2.2 prior to publication.","On 21 September 2023 the W3C published an explanatory note stating that all content created using XML or HTML automatically passes this success criterion. It was therefore removed from WCAG 2.2 prior to publication.","On 21 September 2023 the W3C published an explanatory note stating that all content created using XML or HTML automatically passes this success criterion. It was therefore removed from WCAG 2.2 prior to publication.","On 21 September 2023 the W3C published an explanatory note stating that all content created using XML or HTML automatically passes this success criterion. It was therefore removed from WCAG 2.2 prior to publication.","On 21 September 2023 the W3C published an explanatory note stating that all content created using XML or HTML automatically passes this success criterion. It was therefore removed from WCAG 2.2 prior to publication.","On 21 September 2023 the W3C published an explanatory note stating that all content created using XML or HTML automatically passes this success criterion. It was therefore removed from WCAG 2.2 prior to publication.","On 21 September 2023 the W3C published an explanatory note stating that all content created using XML or HTML automatically passes this success criterion. It was therefore removed from WCAG 2.2 prior to publication.","On 21 September 2023 the W3C published an explanatory note stating that all content created using XML or HTML automatically passes this success criterion. It was therefore removed from WCAG 2.2 prior to publication.","On 21 September 2023 the W3C published an explanatory note stating that all content created using XML or HTML automatically passes this success criterion. It was therefore removed from WCAG 2.2 prior to publication.","On 21 September 2023 the W3C published an explanatory note stating that all content created using XML or HTML automatically passes this success criterion. It was therefore removed from WCAG 2.2 prior to publication.","On 21 September 2023 the W3C published an explanatory note stating that all content created using XML or HTML automatically passes this success criterion. It was therefore removed from WCAG 2.2 prior to publication.","On 21 September 2023 the W3C published an explanatory note stating that all content created using XML or HTML automatically passes this success criterion. It was therefore removed from WCAG 2.2 prior to publication.","On 21 September 2023 the W3C published an explanatory note stating that all content created using XML or HTML automatically passes this success criterion. It was therefore removed from WCAG 2.2 prior to publication.","On 21 September 2023 the W3C published an explanatory note stating that all content created using XML or HTML automatically passes this success criterion. It was therefore removed from WCAG 2.2 prior to publication.","On 21 September 2023 the W3C published an explanatory note stating that all content created using XML or HTML automatically passes this success criterion. It was therefore removed from WCAG 2.2 prior to publication.","On 21 September 2023 the W3C published an explanatory note stating that all content created using XML or HTML automatically passes this success criterion. It was therefore removed from WCAG 2.2 prior to publication.","On 21 September 2023 the W3C published an explanatory note stating that all content created using XML or HTML automatically passes this success criterion. It was therefore removed from WCAG 2.2 prior to publication.","On 21 September 2023 the W3C published an explanatory note stating that all content created using XML or HTML automatically passes this success criterion. It was therefore removed from WCAG 2.2 prior to publication.","On 21 September 2023 the W3C published an explanatory note stating that all content created using XML or HTML automatically passes this success criterion. It was therefore removed from WCAG 2.2 prior to publication.","On 21 September 2023 the W3C published an explanatory note stating that all content created using XML or HTML automatically passes this success criterion. It was therefore removed from WCAG 2.2 prior to publication.","On 21 September 2023 the W3C published an explanatory note stating that all content created using XML or HTML automatically passes this success criterion. It was therefore removed from WCAG 2.2 prior to publication.","On 21 September 2023 the W3C published an explanatory note stating that all content created using XML or HTML automatically passes this success criterion. It was therefore removed from WCAG 2.2 prior to publication.","On 21 September 2023 the W3C published an explanatory note stating that all content created using XML or HTML automatically passes this success criterion. It was therefore removed from WCAG 2.2 prior to publication.","On 21 September 2023 the W3C published an explanatory note stating that all content created using XML or HTML automatically passes this success criterion. It was therefore removed from WCAG 2.2 prior to publication.","On 21 September 2023 the W3C published an explanatory note stating that all content created using XML or HTML automatically passes this success criterion. It was therefore removed from WCAG 2.2 prior to publication.","On 21 September 2023 the W3C published an explanatory note stating that all content created using XML or HTML automatically passes this success criterion. It was therefore removed from WCAG 2.2 prior to publication.","On 21 September 2023 the W3C published an explanatory note stating that all content created using XML or HTML automatically passes this success criterion. It was therefore removed from WCAG 2.2 prior to publication.","On 21 September 2023 the W3C published an explanatory note stating that all content created using XML or HTML automatically passes this success criterion. It was therefore removed from WCAG 2.2 prior to publication.","On 21 September 2023 the W3C published an explanatory note stating that all content created using XML or HTML automatically passes this success criterion. It was therefore removed from WCAG 2.2 prior to publication.","On 21 September 2023 the W3C published an explanatory note stating that all content created using XML or HTML automatically passes this success criterion. It was therefore removed from WCAG 2.2 prior to publication.","On 21 September 2023 the W3C published an explanatory note stating that all content created using XML or HTML automatically passes this success criterion. It was therefore removed from WCAG 2.2 prior to publication.","On 21 September 2023 the W3C published an explanatory note stating that all content created using XML or HTML automatically passes this success criterion. It was therefore removed from WCAG 2.2 prior to publication.","On 21 September 2023 the W3C published an explanatory note stating that all content created using XML or HTML automatically passes this success criterion. It was therefore removed from WCAG 2.2 prior to publication.","On 21 September 2023 the W3C published an explanatory note stating that all content created using XML or HTML automatically passes this success criterion. It was therefore removed from WCAG 2.2 prior to publication.","On 21 September 2023 the W3C published an explanatory note stating that all content created using XML or HTML automatically passes this success criterion. It was therefore removed from WCAG 2.2 prior to publication.","On 21 September 2023 the W3C published an explanatory note stating that all content created using XML or HTML automatically passes this success criterion. It was therefore removed from WCAG 2.2 prior to publication.","On 21 September 2023 the W3C published an explanatory note stating that all content created using XML or HTML automatically passes this success criterion. It was therefore removed from WCAG 2.2 prior to publication.","On 21 September 2023 the W3C published an explanatory note stating that all content created using XML or HTML automatically passes this success criterion. It was therefore removed from WCAG 2.2 prior to publication.","On 21 September 2023 the W3C published an explanatory note stating that all content created using XML or HTML automatically passes this success criterion. It was therefore removed from WCAG 2.2 prior to publication.","On 21 September 2023 the W3C published an explanatory note stating that all content created using XML or HTML automatically passes this success criterion. It was therefore removed from WCAG 2.2 prior to publication.","On 21 September 2023 the W3C published an explanatory note stating that all content created using XML or HTML automatically passes this success criterion. It was therefore removed from WCAG 2.2 prior to publication.","On 21 September 2023 the W3C published an explanatory note stating that all content created using XML or HTML automatically passes this success criterion. It was therefore removed from WCAG 2.2 prior to publication.","On 21 September 2023 the W3C published an explanatory note stating that all content created using XML or HTML automatically passes this success criterion. It was therefore removed from WCAG 2.2 prior to publication.","On 21 September 2023 the W3C published an explanatory note stating that all content created using XML or HTML automatically passes this success criterion. It was therefore removed from WCAG 2.2 prior to publication.","On 21 September 2023 the W3C published an explanatory note stating that all content created using XML or HTML automatically passes this success criterion. It was therefore removed from WCAG 2.2 prior to publication.","On 21 September 2023 the W3C published an explanatory note stating that all content created using XML or HTML automatically passes this success criterion. It was therefore removed from WCAG 2.2 prior to publication.","On 21 September 2023 the W3C published an explanatory note stating that all content created using XML or HTML automatically passes this success criterion. It was therefore removed from WCAG 2.2 prior to publication.","On 21 September 2023 the W3C published an explanatory note stating that all content created using XML or HTML automatically passes this success criterion. It was therefore removed from WCAG 2.2 prior to publication.","On 21 September 2023 the W3C published an explanatory note stating that all content created using XML or HTML automatically passes this success criterion. It was therefore removed from WCAG 2.2 prior to publication.","On 21 September 2023 the W3C published an explanatory note stating that all content created using XML or HTML automatically passes this success criterion. It was therefore removed from WCAG 2.2 prior to publication.","On 21 September 2023 the W3C published an explanatory note stating that all content created using XML or HTML automatically passes this success criterion. It was therefore removed from WCAG 2.2 prior to publication.","On 21 September 2023 the W3C published an explanatory note stating that all content created using XML or HTML automatically passes this success criterion. It was therefore removed from WCAG 2.2 prior to publication.","On 21 September 2023 the W3C published an explanatory note stating that all content created using XML or HTML automatically passes this success criterion. It was therefore removed from WCAG 2.2 prior to publication.","On 21 September 2023 the W3C published an explanatory note stating that all content created using XML or HTML automatically passes this success criterion. It was therefore removed from WCAG 2.2 prior to publication.","On 21 September 2023 the W3C published an explanatory note stating that all content created using XML or HTML automatically passes this success criterion. It was therefore removed from WCAG 2.2 prior to publication.","On 21 September 2023 the W3C published an explanatory note stating that all content created using XML or HTML automatically passes this success criterion. It was therefore removed from WCAG 2.2 prior to publication.","On 21 September 2023 the W3C published an explanatory note stating that all content created using XML or HTML automatically passes this success criterion. It was therefore removed from WCAG 2.2 prior to publication.","On 21 September 2023 the W3C published an explanatory note stating that all content created using XML or HTML automatically passes this success criterion. It was therefore removed from WCAG 2.2 prior to publication.","On 21 September 2023 the W3C published an explanatory note stating that all content created using XML or HTML automatically passes this success criterion. It was therefore removed from WCAG 2.2 prior to publication.","On 21 September 2023 the W3C published an explanatory note stating that all content created using XML or HTML automatically passes this success criterion. It was therefore removed from WCAG 2.2 prior to publication.","On 21 September 2023 the W3C published an explanatory note stating that all content created using XML or HTML automatically passes this success criterion. It was therefore removed from WCAG 2.2 prior to publication.","On 21 September 2023 the W3C published an explanatory note stating that all content created using XML or HTML automatically passes this success criterion. It was therefore removed from WCAG 2.2 prior to publication.","On 21 September 2023 the W3C published an explanatory note stating that all content created using XML or HTML automatically passes this success criterion. It was therefore removed from WCAG 2.2 prior to publication.","On 21 September 2023 the W3C published an explanatory note stating that all content created using XML or HTML automatically passes this success criterion. It was therefore removed from WCAG 2.2 prior to publication.","On 21 September 2023 the W3C published an explanatory note stating that all content created using XML or HTML automatically passes this success criterion. It was therefore removed from WCAG 2.2 prior to publication.","On 21 September 2023 the W3C published an explanatory note stating that all content created using XML or HTML automatically passes this success criterion. It was therefore removed from WCAG 2.2 prior to publication.","On 21 September 2023 the W3C published an explanatory note stating that all content created using XML or HTML automatically passes this success criterion. It was therefore removed from WCAG 2.2 prior to publication.","On 21 September 2023 the W3C published an explanatory note stating that all content created using XML or HTML automatically passes this success criterion. It was therefore removed from WCAG 2.2 prior to publication.","On 21 September 2023 the W3C published an explanatory note stating that all content created using XML or HTML automatically passes this success criterion. It was therefore removed from WCAG 2.2 prior to publication.","On 21 September 2023 the W3C published an explanatory note stating that all content created using XML or HTML automatically passes this success criterion. It was therefore removed from WCAG 2.2 prior to publication.","On 21 September 2023 the W3C published an explanatory note stating that all content created using XML or HTML automatically passes this success criterion. It was therefore removed from WCAG 2.2 prior to publication.","On 21 September 2023 the W3C published an explanatory note stating that all content created using XML or HTML automatically passes this success criterion. It was therefore removed from WCAG 2.2 prior to publication.","On 21 September 2023 the W3C published an explanatory note stating that all content created using XML or HTML automatically passes this success criterion. It was therefore removed from WCAG 2.2 prior to publication.","On 21 September 2023 the W3C published an explanatory note stating that all content created using XML or HTML automatically passes this success criterion. It was therefore removed from WCAG 2.2 prior to publication.","On 21 September 2023 the W3C published an explanatory note stating that all content created using XML or HTML automatically passes this success criterion. It was therefore removed from WCAG 2.2 prior to publication.","On 21 September 2023 the W3C published an explanatory note stating that all content created using XML or HTML automatically passes this success criterion. It was therefore removed from WCAG 2.2 prior to publication.","On 21 September 2023 the W3C published an explanatory note stating that all content created using XML or HTML automatically passes this success criterion. It was therefore removed from WCAG 2.2 prior to publication.","On 21 September 2023 the W3C published an explanatory note stating that all content created using XML or HTML automatically passes this success criterion. It was therefore removed from WCAG 2.2 prior to publication.","On 21 September 2023 the W3C published an explanatory note stating that all content created using XML or HTML automatically passes this success criterion. It was therefore removed from WCAG 2.2 prior to publication.","On 21 September 2023 the W3C published an explanatory note stating that all content created using XML or HTML automatically passes this success criterion. It was therefore removed from WCAG 2.2 prior to publication.","On 21 September 2023 the W3C published an explanatory note stating that all content created using XML or HTML automatically passes this success criterion. It was therefore removed from WCAG 2.2 prior to publication.","On 21 September 2023 the W3C published an explanatory note stating that all content created using XML or HTML automatically passes this success criterion. It was therefore removed from WCAG 2.2 prior to publication.","On 21 September 2023 the W3C published an explanatory note stating that all content created using XML or HTML automatically passes this success criterion. It was therefore removed from WCAG 2.2 prior to publication.","On 21 September 2023 the W3C published an explanatory note stating that all content created using XML or HTML automatically passes this success criterion. It was therefore removed from WCAG 2.2 prior to publication.","On 21 September 2023 the W3C published an explanatory note stating that all content created using XML or HTML automatically passes this success criterion. It was therefore removed from WCAG 2.2 prior to publication.","On 21 September 2023 the W3C published an explanatory note stating that all content created using XML or HTML automatically passes this success criterion. It was therefore removed from WCAG 2.2 prior to publication.","On 21 September 2023 the W3C published an explanatory note stating that all content created using XML or HTML automatically passes this success criterion. It was therefore removed from WCAG 2.2 prior to publication.","On 21 September 2023 the W3C published an explanatory note stating that all content created using XML or HTML automatically passes this success criterion. It was therefore removed from WCAG 2.2 prior to publication.","On 21 September 2023 the W3C published an explanatory note stating that all content created using XML or HTML automatically passes this success criterion. It was therefore removed from WCAG 2.2 prior to publication.","On 21 September 2023 the W3C published an explanatory note stating that all content created using XML or HTML automatically passes this success criterion. It was therefore removed from WCAG 2.2 prior to publication.","On 21 September 2023 the W3C published an explanatory note stating that all content created using XML or HTML automatically passes this success criterion. It was therefore removed from WCAG 2.2 prior to publication.","On 21 September 2023 the W3C published an explanatory note stating that all content created using XML or HTML automatically passes this success criterion. It was therefore removed from WCAG 2.2 prior to publication.","On 21 September 2023 the W3C published an explanatory note stating that all content created using XML or HTML automatically passes this success criterion. It was therefore removed from WCAG 2.2 prior to publication.","On 21 September 2023 the W3C published an explanatory note stating that all content created using XML or HTML automatically passes this success criterion. It was therefore removed from WCAG 2.2 prior to publication.","On 21 September 2023 the W3C published an explanatory note stating that all content created using XML or HTML automatically passes this success criterion. It was therefore removed from WCAG 2.2 prior to publication.","On 21 September 2023 the W3C published an explanatory note stating that all content created using XML or HTML automatically passes this success criterion. It was therefore removed from WCAG 2.2 prior to publication.","On 21 September 2023 the W3C published an explanatory note stating that all content created using XML or HTML automatically passes this success criterion. It was therefore removed from WCAG 2.2 prior to publication.","On 21 September 2023 the W3C published an explanatory note stating that all content created using XML or HTML automatically passes this success criterion. It was therefore removed from WCAG 2.2 prior to publication.","On 21 September 2023 the W3C published an explanatory note stating that all content created using XML or HTML automatically passes this success criterion. It was therefore removed from WCAG 2.2 prior to publication.","On 21 September 2023 the W3C published an explanatory note stating that all content created using XML or HTML automatically passes this success criterion. It was therefore removed from WCAG 2.2 prior to publication.","On 21 September 2023 the W3C published an explanatory note stating that all content created using XML or HTML automatically passes this success criterion. It was therefore removed from WCAG 2.2 prior to publication.","On 21 September 2023 the W3C published an explanatory note stating that all content created using XML or HTML automatically passes this success criterion. It was therefore removed from WCAG 2.2 prior to publication.","On 21 September 2023 the W3C published an explanatory note stating that all content created using XML or HTML automatically passes this success criterion. It was therefore removed from WCAG 2.2 prior to publication.","On 21 September 2023 the W3C published an explanatory note stating that all content created using XML or HTML automatically passes this success criterion. It was therefore removed from WCAG 2.2 prior to publication.","On 21 September 2023 the W3C published an explanatory note stating that all content created using XML or HTML automatically passes this success criterion. It was therefore removed from WCAG 2.2 prior to publication.","On 21 September 2023 the W3C published an explanatory note stating that all content created using XML or HTML automatically passes this success criterion. It was therefore removed from WCAG 2.2 prior to publication.","On 21 September 2023 the W3C published an explanatory note stating that all content created using XML or HTML automatically passes this success criterion. It was therefore removed from WCAG 2.2 prior to publication.","On 21 September 2023 the W3C published an explanatory note stating that all content created using XML or HTML automatically passes this success criterion. It was therefore removed from WCAG 2.2 prior to publication.","On 21 September 2023 the W3C published an explanatory note stating that all content created using XML or HTML automatically passes this success criterion. It was therefore removed from WCAG 2.2 prior to publication.","On 21 September 2023 the W3C published an explanatory note stating that all content created using XML or HTML automatically passes this success criterion. It was therefore removed from WCAG 2.2 prior to publication.","On 21 September 2023 the W3C published an explanatory note stating that all content created using XML or HTML automatically passes this success criterion. It was therefore removed from WCAG 2.2 prior to publication.","On 21 September 2023 the W3C published an explanatory note stating that all content created using XML or HTML automatically passes this success criterion. It was therefore removed from WCAG 2.2 prior to publication.","On 21 September 2023 the W3C published an explanatory note stating that all content created using XML or HTML automatically passes this success criterion. It was therefore removed from WCAG 2.2 prior to publication.","On 21 September 2023 the W3C published an explanatory note stating that all content created using XML or HTML automatically passes this success criterion. It was therefore removed from WCAG 2.2 prior to publication.","On 21 September 2023 the W3C published an explanatory note stating that all content created using XML or HTML automatically passes this success criterion. It was therefore removed from WCAG 2.2 prior to publication.","On 21 September 2023 the W3C published an explanatory note stating that all content created using XML or HTML automatically passes this success criterion. It was therefore removed from WCAG 2.2 prior to publication.","On 21 September 2023 the W3C published an explanatory note stating that all content created using XML or HTML automatically passes this success criterion. It was therefore removed from WCAG 2.2 prior to publication.","On 21 September 2023 the W3C published an explanatory note stating that all content created using XML or HTML automatically passes this success criterion. It was therefore removed from WCAG 2.2 prior to publication.","On 21 September 2023 the W3C published an explanatory note stating that all content created using XML or HTML automatically passes this success criterion. It was therefore removed from WCAG 2.2 prior to publication.","On 21 September 2023 the W3C published an explanatory note stating that all content created using XML or HTML automatically passes this success criterion. It was therefore removed from WCAG 2.2 prior to publication.","On 21 September 2023 the W3C published an explanatory note stating that all content created using XML or HTML automatically passes this success criterion. It was therefore removed from WCAG 2.2 prior to publication.","On 21 September 2023 the W3C published an explanatory note stating that all content created using XML or HTML automatically passes this success criterion. It was therefore removed from WCAG 2.2 prior to publication.","On 21 September 2023 the W3C published an explanatory note stating that all content created using XML or HTML automatically passes this success criterion. It was therefore removed from WCAG 2.2 prior to publication.","On 21 September 2023 the W3C published an explanatory note stating that all content created using XML or HTML automatically passes this success criterion. It was therefore removed from WCAG 2.2 prior to publication.","On 21 September 2023 the W3C published an explanatory note stating that all content created using XML or HTML automatically passes this success criterion. It was therefore removed from WCAG 2.2 prior to publication.","On 21 September 2023 the W3C published an explanatory note stating that all content created using XML or HTML automatically passes this success criterion. It was therefore removed from WCAG 2.2 prior to publication.","On 21 September 2023 the W3C published an explanatory note stating that all content created using XML or HTML automatically passes this success criterion. It was therefore removed from WCAG 2.2 prior to publication.","On 21 September 2023 the W3C published an explanatory note stating that all content created using XML or HTML automatically passes this success criterion. It was therefore removed from WCAG 2.2 prior to publication.","On 21 September 2023 the W3C published an explanatory note stating that all content created using XML or HTML automatically passes this success criterion. It was therefore removed from WCAG 2.2 prior to publication.","On 21 September 2023 the W3C published an explanatory note stating that all content created using XML or HTML automatically passes this success criterion. It was therefore removed from WCAG 2.2 prior to publication.","On 21 September 2023 the W3C published an explanatory note stating that all content created using XML or HTML automatically passes this success criterion. It was therefore removed from WCAG 2.2 prior to publication.","On 21 September 2023 the W3C published an explanatory note stating that all content created using XML or HTML automatically passes this success criterion. It was therefore removed from WCAG 2.2 prior to publication.","On 21 September 2023 the W3C published an explanatory note stating that all content created using XML or HTML automatically passes this success criterion. It was therefore removed from WCAG 2.2 prior to publication."]
["4.1.2","A","Name, Role, Value","For all user interface components (including but not limited to: form elements, links and components generated by scripts), the name and role can be programmatically determined; states, properties, and values that can be set by the user can be programmatically set; and notification of changes to these items is available to user agents, including assistive technologies. ","NON CONFORMANT","PASS","PASS","PASS","NON CONFORMANT","PASS","PASS","PASS","PASS","PASS","PASS","PASS","PASS","PASS","PASS","PASS","NON CONFORMANT","PASS","PASS","PASS","NOT TESTED","NOT TESTED","NOT TESTED","NOT TESTED","NOT TESTED","NOT TESTED","NOT TESTED","NOT TESTED","NOT TESTED","NOT TESTED","NOT TESTED","NOT TESTED","NOT TESTED","NOT TESTED","NOT TESTED","NOT TESTED","NOT TESTED","NOT TESTED","NOT TESTED","NOT TESTED"]
[null,null,null,null,"When the \"Search\" button has been operated then the subsequent \"Close' button that is displayed does not have an accessible name.  Remove the aria-hidden=\"true\" attribute from the following code:\n<span class=\"u-border-b-2 u-border-transparent group-hocus:u-border-pink\" <span class=\"u-border-b-2 u-border-transparent group-hocus:u-border-pink\" aria-hidden=\"true\">Close</span>>Close</span>",null,null,null,"The accessible name for the \"Close\" button is not exposed to screen reader software. When the button is shown on the screen, toggle the aria-hidden=\"true\" attribute to \"false\".",null,null,null,null,null,null,null,null,null,null,null,"The text input element below the text \"Full postcode e.g. E16 1ZE\" does not have an accessible name. Change the following code <div class=\"u-font-bold u-text-sm u-mb-1\">Full postcode e.g. E16 1ZE</div> to <label class=\"u-font-bold u-text-sm u-mb-1\" for=\"edit-field-location-value--2\">Full postcode e.g. E16 1ZE</label>.\n\nThe <select> input element below the text \"Distance from location\" does not have an accessible name. Change the following code <div class=\"u-font-bold u-text-sm u-mb-1\">Distance from location</div> to <label class=\"u-font-bold u-text-sm u-mb-1\" for=\"edit-field-location-distance-from--2\">Distance from location</label>."]
[]
["Level AA Success Criteria"]
["W3C Ref.","Level","Name","Principle 1: Perceivable - Information and user interface components must be presentable to users in ways they can perceive."]
["1.2.4","AA","Captions","Captions are provided for all live audio content in synchronized media. ","N/A","N/A","N/A","N/A","N/A","N/A","N/A","N/A","N/A","N/A","N/A","N/A","N/A","N/A","N/A","N/A","N/A","N/A","N/A","N/A","NOT TESTED","NOT TESTED","NOT TESTED","NOT TESTED","NOT TESTED","NOT TESTED","NOT TESTED","NOT TESTED","NOT TESTED","NOT TESTED","NOT TESTED","NOT TESTED","NOT TESTED","NOT TESTED","NOT TESTED","NOT TESTED","NOT TESTED","NOT TESTED","NOT TESTED","NOT TESTED"]
[null,null,null,null,"There is no synchronised media.","There is no synchronised media.","There is no synchronised media.","There is no synchronised media.","There is no synchronised media.","There is no synchronised media.","There is no synchronised media.","There is no synchronised media.","There is no synchronised media.","There is no synchronised media.","There is no synchronised media.","There is no synchronised media.","There is no synchronised media.","There is no synchronised media.","There is no synchronised media.","There is no synchronised media.","There is no synchronised media.","There is no synchronised media.","There is no synchronised media.","There is no synchronised media."]
["1.2.5","AA","Audio Description (Pre-recorded)","Audio description is provided for all pre-recorded video content in synchronized media.","N/A","N/A","N/A","N/A","N/A","N/A","N/A","N/A","N/A","N/A","N/A","N/A","N/A","N/A","N/A","N/A","N/A","N/A","N/A","N/A","NOT TESTED","NOT TESTED","NOT TESTED","NOT TESTED","NOT TESTED","NOT TESTED","NOT TESTED","NOT TESTED","NOT TESTED","NOT TESTED","NOT TESTED","NOT TESTED","NOT TESTED","NOT TESTED","NOT TESTED","NOT TESTED","NOT TESTED","NOT TESTED","NOT TESTED","NOT TESTED"]
[null,null,null,null,"There is no synchronised media.","There is no synchronised media.","There is no synchronised media.","There is no synchronised media.","There is no synchronised media.","There is no synchronised media.","There is no synchronised media.","There is no synchronised media.","There is no synchronised media.","There is no synchronised media.","There is no synchronised media.","There is no synchronised media.","There is no synchronised media.","There is no synchronised media.","There is no synchronised media.","There is no synchronised media.","There is no synchronised media.","There is no synchronised media.","There is no synchronised media.","There is no synchronised media."]
["1.3.4","AA","Orientation","Content does not restrict its view and operation to a single display orientation, such as portrait or landscape, unless a specific display orientation is essential.","PASS","PASS","PASS","PASS","PASS","PASS","PASS","PASS","PASS","PASS","PASS","PASS","PASS","PASS","PASS","PASS","PASS","PASS","PASS","PASS","NOT TESTED","NOT TESTED","NOT TESTED","NOT TESTED","NOT TESTED","NOT TESTED","NOT TESTED","NOT TESTED","NOT TESTED","NOT TESTED","NOT TESTED","NOT TESTED","NOT TESTED","NOT TESTED","NOT TESTED","NOT TESTED","NOT TESTED","NOT TESTED","NOT TESTED","NOT TESTED"]
[]
["1.3.5","AA"," Identify Input Purpose","The purpose of each input field collecting information about the user can be programmatically determined when:","N/A","N/A","N/A","N/A","N/A","N/A","NON CONFORMANT","N/A","N/A","PASS","PASS with comments","N/A","N/A","N/A","N/A","N/A","NON CONFORMANT","PASS","N/A","N/A","NOT TESTED","NOT TESTED","NOT TESTED","NOT TESTED","NOT TESTED","NOT TESTED","NOT TESTED","NOT TESTED","NOT TESTED","NOT TESTED","NOT TESTED","NOT TESTED","NOT TESTED","NOT TESTED","NOT TESTED","NOT TESTED","NOT TESTED","NOT TESTED","NOT TESTED","NOT TESTED"]
[null,null,null,"\nThe input field serves a purpose identified in the Input Purposes for User Interface Components section; and\nThe content is implemented using technologies with support for identifying the expected meaning for form input data.","The input fields do not collect information about the user.","The input field does not collect information about the user.","The input field does not collect information about the user.","The input field does not collect information about the user.","The input field does not collect information about the user.","The input field does not collect information about the user.","The following <input> element require the correct \"autocomplete\" attributes to be included as determined by \nhttps://www.w3.org/TR/WCAG21/#input-purposes\n1) <input id=\"edit-first-name\" autocomplete=\"given-name\">\n\nComment:  Consider adding the autocomplete attribute to <select id=\"edit-borough\" autocomplete=\"address-level2\">","The input fields do not collect information about the user.","There is no provision for user input.",null,"The following <input> element should have the \"autocomplete\" attribute, as determined by https://www.w3.org/TR/WCAG21/#input-purposes\n3) <select id=\"edit-borough\" autocomplete=\"address-level2\">","There is no provision for user input.","There is no provision for user input.","There is no provision for user input.","There is no provision for user input.","There is no provision for user input.","The following <input> element require the correct \"autocomplete\" attributes to be included as determined by \nhttps://www.w3.org/TR/WCAG21/#input-purposes\n1) <input id=\"edit-field-location-value--2\" autocomplete=\"postcode\">",null,"There is no provision for user input.","There is no provision for user input."]
["1.4.3","AA","Colour Contrast","The visual presentation of text and images of text has a contrast ratio of at least 4.5:1",{"$f":"IFERROR(IF(FIND(\"0 Faults\",'Colour Contrast Analysis'!Z4)=1,IFERROR(IF(FIND(\"0 Should\",'Colour Contrast Analysis'!Z4)>1,\"PASS\",\"NO\"),\"Pass with comments\"),\"NON CONFORMANT\"),\"NON CONFORMANT\")","v":"PASS"},{"$f":"IFERROR(IF(FIND(\"0 Faults\",'Colour Contrast Analysis'!AA4)=1,IFERROR(IF(FIND(\"0 Should\",'Colour Contrast Analysis'!AA4)>1,\"PASS\",\"NO\"),\"Pass with comments\"),\"NON CONFORMANT\"),\"NON CONFORMANT\")","v":"PASS"},{"$f":"IFERROR(IF(FIND(\"0 Faults\",'Colour Contrast Analysis'!AB4)=1,IFERROR(IF(FIND(\"0 Should\",'Colour Contrast Analysis'!AB4)>1,\"PASS\",\"NO\"),\"Pass with comments\"),\"NON CONFORMANT\"),\"NON CONFORMANT\")","v":"PASS"},{"$f":"IFERROR(IF(FIND(\"0 Faults\",'Colour Contrast Analysis'!AC4)=1,IFERROR(IF(FIND(\"0 Should\",'Colour Contrast Analysis'!AC4)>1,\"PASS\",\"NO\"),\"Pass with comments\"),\"NON CONFORMANT\"),\"NON CONFORMANT\")","v":"NON CONFORMANT"},{"$f":"IFERROR(IF(FIND(\"0 Faults\",'Colour Contrast Analysis'!AD4)=1,IFERROR(IF(FIND(\"0 Should\",'Colour Contrast Analysis'!AD4)>1,\"PASS\",\"NO\"),\"Pass with comments\"),\"NON CONFORMANT\"),\"NON CONFORMANT\")","v":"PASS"},{"$f":"IFERROR(IF(FIND(\"0 Faults\",'Colour Contrast Analysis'!AE4)=1,IFERROR(IF(FIND(\"0 Should\",'Colour Contrast Analysis'!AE4)>1,\"PASS\",\"NO\"),\"Pass with comments\"),\"NON CONFORMANT\"),\"NON CONFORMANT\")","v":"PASS"},{"$f":"IFERROR(IF(FIND(\"0 Faults\",'Colour Contrast Analysis'!AF4)=1,IFERROR(IF(FIND(\"0 Should\",'Colour Contrast Analysis'!AF4)>1,\"PASS\",\"NO\"),\"Pass with comments\"),\"NON CONFORMANT\"),\"NON CONFORMANT\")","v":"NON CONFORMANT"},{"$f":"IFERROR(IF(FIND(\"0 Faults\",'Colour Contrast Analysis'!AG4)=1,IFERROR(IF(FIND(\"0 Should\",'Colour Contrast Analysis'!AG4)>1,\"PASS\",\"NO\"),\"Pass with comments\"),\"NON CONFORMANT\"),\"NON CONFORMANT\")","v":"PASS"},{"$f":"IFERROR(IF(FIND(\"0 Faults\",'Colour Contrast Analysis'!AH4)=1,IFERROR(IF(FIND(\"0 Should\",'Colour Contrast Analysis'!AH4)>1,\"PASS\",\"NO\"),\"Pass with comments\"),\"NON CONFORMANT\"),\"NON CONFORMANT\")","v":"PASS"},{"$f":"IFERROR(IF(FIND(\"0 Faults\",'Colour Contrast Analysis'!AI4)=1,IFERROR(IF(FIND(\"0 Should\",'Colour Contrast Analysis'!AI4)>1,\"PASS\",\"NO\"),\"Pass with comments\"),\"NON CONFORMANT\"),\"NON CONFORMANT\")","v":"NON CONFORMANT"},{"$f":"IFERROR(IF(FIND(\"0 Faults\",'Colour Contrast Analysis'!AJ4)=1,IFERROR(IF(FIND(\"0 Should\",'Colour Contrast Analysis'!AJ4)>1,\"PASS\",\"NO\"),\"Pass with comments\"),\"NON CONFORMANT\"),\"NON CONFORMANT\")","v":"PASS"},{"$f":"IFERROR(IF(FIND(\"0 Faults\",'Colour Contrast Analysis'!AK4)=1,IFERROR(IF(FIND(\"0 Should\",'Colour Contrast Analysis'!AK4)>1,\"PASS\",\"NO\"),\"Pass with comments\"),\"NON CONFORMANT\"),\"NON CONFORMANT\")","v":"PASS"},{"$f":"IFERROR(IF(FIND(\"0 Faults\",'Colour Contrast Analysis'!AL4)=1,IFERROR(IF(FIND(\"0 Should\",'Colour Contrast Analysis'!AL4)>1,\"PASS\",\"NO\"),\"Pass with comments\"),\"NON CONFORMANT\"),\"NON CONFORMANT\")","v":"PASS"},{"$f":"IFERROR(IF(FIND(\"0 Faults\",'Colour Contrast Analysis'!AM4)=1,IFERROR(IF(FIND(\"0 Should\",'Colour Contrast Analysis'!AM4)>1,\"PASS\",\"NO\"),\"Pass with comments\"),\"NON CONFORMANT\"),\"NON CONFORMANT\")","v":"PASS"},{"$f":"IFERROR(IF(FIND(\"0 Faults\",'Colour Contrast Analysis'!AN4)=1,IFERROR(IF(FIND(\"0 Should\",'Colour Contrast Analysis'!AN4)>1,\"PASS\",\"NO\"),\"Pass with comments\"),\"NON CONFORMANT\"),\"NON CONFORMANT\")","v":"NON CONFORMANT"},{"$f":"IFERROR(IF(FIND(\"0 Faults\",'Colour Contrast Analysis'!AO4)=1,IFERROR(IF(FIND(\"0 Should\",'Colour Contrast Analysis'!AO4)>1,\"PASS\",\"NO\"),\"Pass with comments\"),\"NON CONFORMANT\"),\"NON CONFORMANT\")","v":"PASS"},{"$f":"IFERROR(IF(FIND(\"0 Faults\",'Colour Contrast Analysis'!AP4)=1,IFERROR(IF(FIND(\"0 Should\",'Colour Contrast Analysis'!AP4)>1,\"PASS\",\"NO\"),\"Pass with comments\"),\"NON CONFORMANT\"),\"NON CONFORMANT\")","v":"NON CONFORMANT"},{"$f":"IFERROR(IF(FIND(\"0 Faults\",'Colour Contrast Analysis'!AQ4)=1,IFERROR(IF(FIND(\"0 Should\",'Colour Contrast Analysis'!AQ4)>1,\"PASS\",\"NO\"),\"Pass with comments\"),\"NON CONFORMANT\"),\"NON CONFORMANT\")","v":"PASS"},{"$f":"IFERROR(IF(FIND(\"0 Faults\",'Colour Contrast Analysis'!AR4)=1,IFERROR(IF(FIND(\"0 Should\",'Colour Contrast Analysis'!AR4)>1,\"PASS\",\"NO\"),\"Pass with comments\"),\"NON CONFORMANT\"),\"NON CONFORMANT\")","v":"PASS"},{"$f":"IFERROR(IF(FIND(\"0 Faults\",'Colour Contrast Analysis'!AS4)=1,IFERROR(IF(FIND(\"0 Should\",'Colour Contrast Analysis'!AS4)>1,\"PASS\",\"NO\"),\"Pass with comments\"),\"NON CONFORMANT\"),\"NON CONFORMANT\")","v":"PASS"},{"$f":"IFERROR(IF(FIND(\"0 Faults\",'Colour Contrast Analysis'!AT4)=1,IFERROR(IF(FIND(\"0 Should\",'Colour Contrast Analysis'!AT4)>1,\"PASS\",\"NO\"),\"Pass with comments\"),\"NON CONFORMANT\"),\"NON CONFORMANT\")","v":"PASS"},{"$f":"IFERROR(IF(FIND(\"0 Faults\",'Colour Contrast Analysis'!AU4)=1,IFERROR(IF(FIND(\"0 Should\",'Colour Contrast Analysis'!AU4)>1,\"PASS\",\"NO\"),\"Pass with comments\"),\"NON CONFORMANT\"),\"NON CONFORMANT\")","v":"PASS"},{"$f":"IFERROR(IF(FIND(\"0 Faults\",'Colour Contrast Analysis'!AV4)=1,IFERROR(IF(FIND(\"0 Should\",'Colour Contrast Analysis'!AV4)>1,\"PASS\",\"NO\"),\"Pass with comments\"),\"NON CONFORMANT\"),\"NON CONFORMANT\")","v":"PASS"},{"$f":"IFERROR(IF(FIND(\"0 Faults\",'Colour Contrast Analysis'!AW4)=1,IFERROR(IF(FIND(\"0 Should\",'Colour Contrast Analysis'!AW4)>1,\"PASS\",\"NO\"),\"Pass with comments\"),\"NON CONFORMANT\"),\"NON CONFORMANT\")","v":"PASS"},{"$f":"IFERROR(IF(FIND(\"0 Faults\",'Colour Contrast Analysis'!AX4)=1,IFERROR(IF(FIND(\"0 Should\",'Colour Contrast Analysis'!AX4)>1,\"PASS\",\"NO\"),\"Pass with comments\"),\"NON CONFORMANT\"),\"NON CONFORMANT\")","v":"PASS"},{"$f":"IFERROR(IF(FIND(\"0 Faults\",'Colour Contrast Analysis'!AY4)=1,IFERROR(IF(FIND(\"0 Should\",'Colour Contrast Analysis'!AY4)>1,\"PASS\",\"NO\"),\"Pass with comments\"),\"NON CONFORMANT\"),\"NON CONFORMANT\")","v":"PASS"},{"$f":"IFERROR(IF(FIND(\"0 Faults\",'Colour Contrast Analysis'!AZ4)=1,IFERROR(IF(FIND(\"0 Should\",'Colour Contrast Analysis'!AZ4)>1,\"PASS\",\"NO\"),\"Pass with comments\"),\"NON CONFORMANT\"),\"NON CONFORMANT\")","v":"PASS"},{"$f":"IFERROR(IF(FIND(\"0 Faults\",'Colour Contrast Analysis'!BA4)=1,IFERROR(IF(FIND(\"0 Should\",'Colour Contrast Analysis'!BA4)>1,\"PASS\",\"NO\"),\"Pass with comments\"),\"NON CONFORMANT\"),\"NON CONFORMANT\")","v":"PASS"},{"$f":"IFERROR(IF(FIND(\"0 Faults\",'Colour Contrast Analysis'!BB4)=1,IFERROR(IF(FIND(\"0 Should\",'Colour Contrast Analysis'!BB4)>1,\"PASS\",\"NO\"),\"Pass with comments\"),\"NON CONFORMANT\"),\"NON CONFORMANT\")","v":"PASS"},{"$f":"IFERROR(IF(FIND(\"0 Faults\",'Colour Contrast Analysis'!BC4)=1,IFERROR(IF(FIND(\"0 Should\",'Colour Contrast Analysis'!BC4)>1,\"PASS\",\"NO\"),\"Pass with comments\"),\"NON CONFORMANT\"),\"NON CONFORMANT\")","v":"PASS"},{"$f":"IFERROR(IF(FIND(\"0 Faults\",'Colour Contrast Analysis'!BD4)=1,IFERROR(IF(FIND(\"0 Should\",'Colour Contrast Analysis'!BD4)>1,\"PASS\",\"NO\"),\"Pass with comments\"),\"NON CONFORMANT\"),\"NON CONFORMANT\")","v":"PASS"},{"$f":"IFERROR(IF(FIND(\"0 Faults\",'Colour Contrast Analysis'!BE4)=1,IFERROR(IF(FIND(\"0 Should\",'Colour Contrast Analysis'!BE4)>1,\"PASS\",\"NO\"),\"Pass with comments\"),\"NON CONFORMANT\"),\"NON CONFORMANT\")","v":"PASS"},{"$f":"IFERROR(IF(FIND(\"0 Faults\",'Colour Contrast Analysis'!BF4)=1,IFERROR(IF(FIND(\"0 Should\",'Colour Contrast Analysis'!BF4)>1,\"PASS\",\"NO\"),\"Pass with comments\"),\"NON CONFORMANT\"),\"NON CONFORMANT\")","v":"PASS"},{"$f":"IFERROR(IF(FIND(\"0 Faults\",'Colour Contrast Analysis'!BG4)=1,IFERROR(IF(FIND(\"0 Should\",'Colour Contrast Analysis'!BG4)>1,\"PASS\",\"NO\"),\"Pass with comments\"),\"NON CONFORMANT\"),\"NON CONFORMANT\")","v":"PASS"},{"$f":"IFERROR(IF(FIND(\"0 Faults\",'Colour Contrast Analysis'!BH4)=1,IFERROR(IF(FIND(\"0 Should\",'Colour Contrast Analysis'!BH4)>1,\"PASS\",\"NO\"),\"Pass with comments\"),\"NON CONFORMANT\"),\"NON CONFORMANT\")","v":"PASS"},{"$f":"IFERROR(IF(FIND(\"0 Faults\",'Colour Contrast Analysis'!BI4)=1,IFERROR(IF(FIND(\"0 Should\",'Colour Contrast Analysis'!BI4)>1,\"PASS\",\"NO\"),\"Pass with comments\"),\"NON CONFORMANT\"),\"NON CONFORMANT\")","v":"PASS"},{"$f":"IFERROR(IF(FIND(\"0 Faults\",'Colour Contrast Analysis'!BJ4)=1,IFERROR(IF(FIND(\"0 Should\",'Colour Contrast Analysis'!BJ4)>1,\"PASS\",\"NO\"),\"Pass with comments\"),\"NON CONFORMANT\"),\"NON CONFORMANT\")","v":"PASS"},{"$f":"IFERROR(IF(FIND(\"0 Faults\",'Colour Contrast Analysis'!BK4)=1,IFERROR(IF(FIND(\"0 Should\",'Colour Contrast Analysis'!BK4)>1,\"PASS\",\"NO\"),\"Pass with comments\"),\"NON CONFORMANT\"),\"NON CONFORMANT\")","v":"PASS"},{"$f":"IFERROR(IF(FIND(\"0 Faults\",'Colour Contrast Analysis'!BL4)=1,IFERROR(IF(FIND(\"0 Should\",'Colour Contrast Analysis'!BL4)>1,\"PASS\",\"NO\"),\"Pass with comments\"),\"NON CONFORMANT\"),\"NON CONFORMANT\")","v":"PASS"},{"$f":"IFERROR(IF(FIND(\"0 Faults\",'Colour Contrast Analysis'!BM4)=1,IFERROR(IF(FIND(\"0 Should\",'Colour Contrast Analysis'!BM4)>1,\"PASS\",\"NO\"),\"Pass with comments\"),\"NON CONFORMANT\"),\"NON CONFORMANT\")","v":"PASS"},{"$f":"IFERROR(IF(FIND(\"0 Faults\",'Colour Contrast Analysis'!BN4)=1,IFERROR(IF(FIND(\"0 Should\",'Colour Contrast Analysis'!BN4)>1,\"PASS\",\"NO\"),\"Pass with comments\"),\"NON CONFORMANT\"),\"NON CONFORMANT\")","v":"PASS"},{"$f":"IFERROR(IF(FIND(\"0 Faults\",'Colour Contrast Analysis'!BO4)=1,IFERROR(IF(FIND(\"0 Should\",'Colour Contrast Analysis'!BO4)>1,\"PASS\",\"NO\"),\"Pass with comments\"),\"NON CONFORMANT\"),\"NON CONFORMANT\")","v":"PASS"},{"$f":"IFERROR(IF(FIND(\"0 Faults\",'Colour Contrast Analysis'!BP4)=1,IFERROR(IF(FIND(\"0 Should\",'Colour Contrast Analysis'!BP4)>1,\"PASS\",\"NO\"),\"Pass with comments\"),\"NON CONFORMANT\"),\"NON CONFORMANT\")","v":"PASS"},{"$f":"IFERROR(IF(FIND(\"0 Faults\",'Colour Contrast Analysis'!BQ4)=1,IFERROR(IF(FIND(\"0 Should\",'Colour Contrast Analysis'!BQ4)>1,\"PASS\",\"NO\"),\"Pass with comments\"),\"NON CONFORMANT\"),\"NON CONFORMANT\")","v":"PASS"},{"$f":"IFERROR(IF(FIND(\"0 Faults\",'Colour Contrast Analysis'!BR4)=1,IFERROR(IF(FIND(\"0 Should\",'Colour Contrast Analysis'!BR4)>1,\"PASS\",\"NO\"),\"Pass with comments\"),\"NON CONFORMANT\"),\"NON CONFORMANT\")","v":"PASS"},{"$f":"IFERROR(IF(FIND(\"0 Faults\",'Colour Contrast Analysis'!BS4)=1,IFERROR(IF(FIND(\"0 Should\",'Colour Contrast Analysis'!BS4)>1,\"PASS\",\"NO\"),\"Pass with comments\"),\"NON CONFORMANT\"),\"NON CONFORMANT\")","v":"PASS"},{"$f":"IFERROR(IF(FIND(\"0 Faults\",'Colour Contrast Analysis'!BT4)=1,IFERROR(IF(FIND(\"0 Should\",'Colour Contrast Analysis'!BT4)>1,\"PASS\",\"NO\"),\"Pass with comments\"),\"NON CONFORMANT\"),\"NON CONFORMANT\")","v":"PASS"},{"$f":"IFERROR(IF(FIND(\"0 Faults\",'Colour Contrast Analysis'!BU4)=1,IFERROR(IF(FIND(\"0 Should\",'Colour Contrast Analysis'!BU4)>1,\"PASS\",\"NO\"),\"Pass with comments\"),\"NON CONFORMANT\"),\"NON CONFORMANT\")","v":"PASS"},{"$f":"IFERROR(IF(FIND(\"0 Faults\",'Colour Contrast Analysis'!BV4)=1,IFERROR(IF(FIND(\"0 Should\",'Colour Contrast Analysis'!BV4)>1,\"PASS\",\"NO\"),\"Pass with comments\"),\"NON CONFORMANT\"),\"NON CONFORMANT\")","v":"PASS"},{"$f":"IFERROR(IF(FIND(\"0 Faults\",'Colour Contrast Analysis'!BW4)=1,IFERROR(IF(FIND(\"0 Should\",'Colour Contrast Analysis'!BW4)>1,\"PASS\",\"NO\"),\"Pass with comments\"),\"NON CONFORMANT\"),\"NON CONFORMANT\")","v":"PASS"},{"$f":"IFERROR(IF(FIND(\"0 Faults\",'Colour Contrast Analysis'!BX4)=1,IFERROR(IF(FIND(\"0 Should\",'Colour Contrast Analysis'!BX4)>1,\"PASS\",\"NO\"),\"Pass with comments\"),\"NON CONFORMANT\"),\"NON CONFORMANT\")","v":"PASS"},{"$f":"IFERROR(IF(FIND(\"0 Faults\",'Colour Contrast Analysis'!BY4)=1,IFERROR(IF(FIND(\"0 Should\",'Colour Contrast Analysis'!BY4)>1,\"PASS\",\"NO\"),\"Pass with comments\"),\"NON CONFORMANT\"),\"NON CONFORMANT\")","v":"PASS"},{"$f":"IFERROR(IF(FIND(\"0 Faults\",'Colour Contrast Analysis'!BZ4)=1,IFERROR(IF(FIND(\"0 Should\",'Colour Contrast Analysis'!BZ4)>1,\"PASS\",\"NO\"),\"Pass with comments\"),\"NON CONFORMANT\"),\"NON CONFORMANT\")","v":"PASS"},{"$f":"IFERROR(IF(FIND(\"0 Faults\",'Colour Contrast Analysis'!CA4)=1,IFERROR(IF(FIND(\"0 Should\",'Colour Contrast Analysis'!CA4)>1,\"PASS\",\"NO\"),\"Pass with comments\"),\"NON CONFORMANT\"),\"NON CONFORMANT\")","v":"PASS"},{"$f":"IFERROR(IF(FIND(\"0 Faults\",'Colour Contrast Analysis'!CB4)=1,IFERROR(IF(FIND(\"0 Should\",'Colour Contrast Analysis'!CB4)>1,\"PASS\",\"NO\"),\"Pass with comments\"),\"NON CONFORMANT\"),\"NON CONFORMANT\")","v":"PASS"},{"$f":"IFERROR(IF(FIND(\"0 Faults\",'Colour Contrast Analysis'!CC4)=1,IFERROR(IF(FIND(\"0 Should\",'Colour Contrast Analysis'!CC4)>1,\"PASS\",\"NO\"),\"Pass with comments\"),\"NON CONFORMANT\"),\"NON CONFORMANT\")","v":"PASS"},{"$f":"IFERROR(IF(FIND(\"0 Faults\",'Colour Contrast Analysis'!CD4)=1,IFERROR(IF(FIND(\"0 Should\",'Colour Contrast Analysis'!CD4)>1,\"PASS\",\"NO\"),\"Pass with comments\"),\"NON CONFORMANT\"),\"NON CONFORMANT\")","v":"PASS"},{"$f":"IFERROR(IF(FIND(\"0 Faults\",'Colour Contrast Analysis'!CE4)=1,IFERROR(IF(FIND(\"0 Should\",'Colour Contrast Analysis'!CE4)>1,\"PASS\",\"NO\"),\"Pass with comments\"),\"NON CONFORMANT\"),\"NON CONFORMANT\")","v":"PASS"},{"$f":"IFERROR(IF(FIND(\"0 Faults\",'Colour Contrast Analysis'!CF4)=1,IFERROR(IF(FIND(\"0 Should\",'Colour Contrast Analysis'!CF4)>1,\"PASS\",\"NO\"),\"Pass with comments\"),\"NON CONFORMANT\"),\"NON CONFORMANT\")","v":"PASS"},{"$f":"IFERROR(IF(FIND(\"0 Faults\",'Colour Contrast Analysis'!CG4)=1,IFERROR(IF(FIND(\"0 Should\",'Colour Contrast Analysis'!CG4)>1,\"PASS\",\"NO\"),\"Pass with comments\"),\"NON CONFORMANT\"),\"NON CONFORMANT\")","v":"PASS"},{"$f":"IFERROR(IF(FIND(\"0 Faults\",'Colour Contrast Analysis'!CH4)=1,IFERROR(IF(FIND(\"0 Should\",'Colour Contrast Analysis'!CH4)>1,\"PASS\",\"NO\"),\"Pass with comments\"),\"NON CONFORMANT\"),\"NON CONFORMANT\")","v":"PASS"},{"$f":"IFERROR(IF(FIND(\"0 Faults\",'Colour Contrast Analysis'!CI4)=1,IFERROR(IF(FIND(\"0 Should\",'Colour Contrast Analysis'!CI4)>1,\"PASS\",\"NO\"),\"Pass with comments\"),\"NON CONFORMANT\"),\"NON CONFORMANT\")","v":"PASS"},{"$f":"IFERROR(IF(FIND(\"0 Faults\",'Colour Contrast Analysis'!CJ4)=1,IFERROR(IF(FIND(\"0 Should\",'Colour Contrast Analysis'!CJ4)>1,\"PASS\",\"NO\"),\"Pass with comments\"),\"NON CONFORMANT\"),\"NON CONFORMANT\")","v":"PASS"},{"$f":"IFERROR(IF(FIND(\"0 Faults\",'Colour Contrast Analysis'!CK4)=1,IFERROR(IF(FIND(\"0 Should\",'Colour Contrast Analysis'!CK4)>1,\"PASS\",\"NO\"),\"Pass with comments\"),\"NON CONFORMANT\"),\"NON CONFORMANT\")","v":"PASS"},{"$f":"IFERROR(IF(FIND(\"0 Faults\",'Colour Contrast Analysis'!CL4)=1,IFERROR(IF(FIND(\"0 Should\",'Colour Contrast Analysis'!CL4)>1,\"PASS\",\"NO\"),\"Pass with comments\"),\"NON CONFORMANT\"),\"NON CONFORMANT\")","v":"PASS"},{"$f":"IFERROR(IF(FIND(\"0 Faults\",'Colour Contrast Analysis'!CM4)=1,IFERROR(IF(FIND(\"0 Should\",'Colour Contrast Analysis'!CM4)>1,\"PASS\",\"NO\"),\"Pass with comments\"),\"NON CONFORMANT\"),\"NON CONFORMANT\")","v":"PASS"},{"$f":"IFERROR(IF(FIND(\"0 Faults\",'Colour Contrast Analysis'!CN4)=1,IFERROR(IF(FIND(\"0 Should\",'Colour Contrast Analysis'!CN4)>1,\"PASS\",\"NO\"),\"Pass with comments\"),\"NON CONFORMANT\"),\"NON CONFORMANT\")","v":"PASS"},{"$f":"IFERROR(IF(FIND(\"0 Faults\",'Colour Contrast Analysis'!CO4)=1,IFERROR(IF(FIND(\"0 Should\",'Colour Contrast Analysis'!CO4)>1,\"PASS\",\"NO\"),\"Pass with comments\"),\"NON CONFORMANT\"),\"NON CONFORMANT\")","v":"PASS"},{"$f":"IFERROR(IF(FIND(\"0 Faults\",'Colour Contrast Analysis'!CP4)=1,IFERROR(IF(FIND(\"0 Should\",'Colour Contrast Analysis'!CP4)>1,\"PASS\",\"NO\"),\"Pass with comments\"),\"NON CONFORMANT\"),\"NON CONFORMANT\")","v":"PASS"},{"$f":"IFERROR(IF(FIND(\"0 Faults\",'Colour Contrast Analysis'!CQ4)=1,IFERROR(IF(FIND(\"0 Should\",'Colour Contrast Analysis'!CQ4)>1,\"PASS\",\"NO\"),\"Pass with comments\"),\"NON CONFORMANT\"),\"NON CONFORMANT\")","v":"PASS"},{"$f":"IFERROR(IF(FIND(\"0 Faults\",'Colour Contrast Analysis'!CR4)=1,IFERROR(IF(FIND(\"0 Should\",'Colour Contrast Analysis'!CR4)>1,\"PASS\",\"NO\"),\"Pass with comments\"),\"NON CONFORMANT\"),\"NON CONFORMANT\")","v":"PASS"},{"$f":"IFERROR(IF(FIND(\"0 Faults\",'Colour Contrast Analysis'!CS4)=1,IFERROR(IF(FIND(\"0 Should\",'Colour Contrast Analysis'!CS4)>1,\"PASS\",\"NO\"),\"Pass with comments\"),\"NON CONFORMANT\"),\"NON CONFORMANT\")","v":"PASS"},{"$f":"IFERROR(IF(FIND(\"0 Faults\",'Colour Contrast Analysis'!CT4)=1,IFERROR(IF(FIND(\"0 Should\",'Colour Contrast Analysis'!CT4)>1,\"PASS\",\"NO\"),\"Pass with comments\"),\"NON CONFORMANT\"),\"NON CONFORMANT\")","v":"PASS"},{"$f":"IFERROR(IF(FIND(\"0 Faults\",'Colour Contrast Analysis'!CU4)=1,IFERROR(IF(FIND(\"0 Should\",'Colour Contrast Analysis'!CU4)>1,\"PASS\",\"NO\"),\"Pass with comments\"),\"NON CONFORMANT\"),\"NON CONFORMANT\")","v":"PASS"},{"$f":"IFERROR(IF(FIND(\"0 Faults\",'Colour Contrast Analysis'!CV4)=1,IFERROR(IF(FIND(\"0 Should\",'Colour Contrast Analysis'!CV4)>1,\"PASS\",\"NO\"),\"Pass with comments\"),\"NON CONFORMANT\"),\"NON CONFORMANT\")","v":"PASS"},{"$f":"IFERROR(IF(FIND(\"0 Faults\",'Colour Contrast Analysis'!CW4)=1,IFERROR(IF(FIND(\"0 Should\",'Colour Contrast Analysis'!CW4)>1,\"PASS\",\"NO\"),\"Pass with comments\"),\"NON CONFORMANT\"),\"NON CONFORMANT\")","v":"PASS"},{"$f":"IFERROR(IF(FIND(\"0 Faults\",'Colour Contrast Analysis'!CX4)=1,IFERROR(IF(FIND(\"0 Should\",'Colour Contrast Analysis'!CX4)>1,\"PASS\",\"NO\"),\"Pass with comments\"),\"NON CONFORMANT\"),\"NON CONFORMANT\")","v":"PASS"},{"$f":"IFERROR(IF(FIND(\"0 Faults\",'Colour Contrast Analysis'!CY4)=1,IFERROR(IF(FIND(\"0 Should\",'Colour Contrast Analysis'!CY4)>1,\"PASS\",\"NO\"),\"Pass with comments\"),\"NON CONFORMANT\"),\"NON CONFORMANT\")","v":"PASS"},{"$f":"IFERROR(IF(FIND(\"0 Faults\",'Colour Contrast Analysis'!CZ4)=1,IFERROR(IF(FIND(\"0 Should\",'Colour Contrast Analysis'!CZ4)>1,\"PASS\",\"NO\"),\"Pass with comments\"),\"NON CONFORMANT\"),\"NON CONFORMANT\")","v":"PASS"},{"$f":"IFERROR(IF(FIND(\"0 Faults\",'Colour Contrast Analysis'!DA4)=1,IFERROR(IF(FIND(\"0 Should\",'Colour Contrast Analysis'!DA4)>1,\"PASS\",\"NO\"),\"Pass with comments\"),\"NON CONFORMANT\"),\"NON CONFORMANT\")","v":"PASS"},{"$f":"IFERROR(IF(FIND(\"0 Faults\",'Colour Contrast Analysis'!DB4)=1,IFERROR(IF(FIND(\"0 Should\",'Colour Contrast Analysis'!DB4)>1,\"PASS\",\"NO\"),\"Pass with comments\"),\"NON CONFORMANT\"),\"NON CONFORMANT\")","v":"PASS"},{"$f":"IFERROR(IF(FIND(\"0 Faults\",'Colour Contrast Analysis'!DC4)=1,IFERROR(IF(FIND(\"0 Should\",'Colour Contrast Analysis'!DC4)>1,\"PASS\",\"NO\"),\"Pass with comments\"),\"NON CONFORMANT\"),\"NON CONFORMANT\")","v":"PASS"},{"$f":"IFERROR(IF(FIND(\"0 Faults\",'Colour Contrast Analysis'!DD4)=1,IFERROR(IF(FIND(\"0 Should\",'Colour Contrast Analysis'!DD4)>1,\"PASS\",\"NO\"),\"Pass with comments\"),\"NON CONFORMANT\"),\"NON CONFORMANT\")","v":"PASS"},{"$f":"IFERROR(IF(FIND(\"0 Faults\",'Colour Contrast Analysis'!DE4)=1,IFERROR(IF(FIND(\"0 Should\",'Colour Contrast Analysis'!DE4)>1,\"PASS\",\"NO\"),\"Pass with comments\"),\"NON CONFORMANT\"),\"NON CONFORMANT\")","v":"PASS"},{"$f":"IFERROR(IF(FIND(\"0 Faults\",'Colour Contrast Analysis'!DF4)=1,IFERROR(IF(FIND(\"0 Should\",'Colour Contrast Analysis'!DF4)>1,\"PASS\",\"NO\"),\"Pass with comments\"),\"NON CONFORMANT\"),\"NON CONFORMANT\")","v":"PASS"},{"$f":"IFERROR(IF(FIND(\"0 Faults\",'Colour Contrast Analysis'!DG4)=1,IFERROR(IF(FIND(\"0 Should\",'Colour Contrast Analysis'!DG4)>1,\"PASS\",\"NO\"),\"Pass with comments\"),\"NON CONFORMANT\"),\"NON CONFORMANT\")","v":"PASS"},{"$f":"IFERROR(IF(FIND(\"0 Faults\",'Colour Contrast Analysis'!DH4)=1,IFERROR(IF(FIND(\"0 Should\",'Colour Contrast Analysis'!DH4)>1,\"PASS\",\"NO\"),\"Pass with comments\"),\"NON CONFORMANT\"),\"NON CONFORMANT\")","v":"PASS"},{"$f":"IFERROR(IF(FIND(\"0 Faults\",'Colour Contrast Analysis'!DI4)=1,IFERROR(IF(FIND(\"0 Should\",'Colour Contrast Analysis'!DI4)>1,\"PASS\",\"NO\"),\"Pass with comments\"),\"NON CONFORMANT\"),\"NON CONFORMANT\")","v":"PASS"},{"$f":"IFERROR(IF(FIND(\"0 Faults\",'Colour Contrast Analysis'!DJ4)=1,IFERROR(IF(FIND(\"0 Should\",'Colour Contrast Analysis'!DJ4)>1,\"PASS\",\"NO\"),\"Pass with comments\"),\"NON CONFORMANT\"),\"NON CONFORMANT\")","v":"PASS"},{"$f":"IFERROR(IF(FIND(\"0 Faults\",'Colour Contrast Analysis'!DK4)=1,IFERROR(IF(FIND(\"0 Should\",'Colour Contrast Analysis'!DK4)>1,\"PASS\",\"NO\"),\"Pass with comments\"),\"NON CONFORMANT\"),\"NON CONFORMANT\")","v":"PASS"},{"$f":"IFERROR(IF(FIND(\"0 Faults\",'Colour Contrast Analysis'!DL4)=1,IFERROR(IF(FIND(\"0 Should\",'Colour Contrast Analysis'!DL4)>1,\"PASS\",\"NO\"),\"Pass with comments\"),\"NON CONFORMANT\"),\"NON CONFORMANT\")","v":"PASS"},{"$f":"IFERROR(IF(FIND(\"0 Faults\",'Colour Contrast Analysis'!DM4)=1,IFERROR(IF(FIND(\"0 Should\",'Colour Contrast Analysis'!DM4)>1,\"PASS\",\"NO\"),\"Pass with comments\"),\"NON CONFORMANT\"),\"NON CONFORMANT\")","v":"PASS"},{"$f":"IFERROR(IF(FIND(\"0 Faults\",'Colour Contrast Analysis'!DN4)=1,IFERROR(IF(FIND(\"0 Should\",'Colour Contrast Analysis'!DN4)>1,\"PASS\",\"NO\"),\"Pass with comments\"),\"NON CONFORMANT\"),\"NON CONFORMANT\")","v":"PASS"},{"$f":"IFERROR(IF(FIND(\"0 Faults\",'Colour Contrast Analysis'!DO4)=1,IFERROR(IF(FIND(\"0 Should\",'Colour Contrast Analysis'!DO4)>1,\"PASS\",\"NO\"),\"Pass with comments\"),\"NON CONFORMANT\"),\"NON CONFORMANT\")","v":"PASS"},{"$f":"IFERROR(IF(FIND(\"0 Faults\",'Colour Contrast Analysis'!DP4)=1,IFERROR(IF(FIND(\"0 Should\",'Colour Contrast Analysis'!DP4)>1,\"PASS\",\"NO\"),\"Pass with comments\"),\"NON CONFORMANT\"),\"NON CONFORMANT\")","v":"PASS"},{"$f":"IFERROR(IF(FIND(\"0 Faults\",'Colour Contrast Analysis'!DQ4)=1,IFERROR(IF(FIND(\"0 Should\",'Colour Contrast Analysis'!DQ4)>1,\"PASS\",\"NO\"),\"Pass with comments\"),\"NON CONFORMANT\"),\"NON CONFORMANT\")","v":"PASS"},{"$f":"IFERROR(IF(FIND(\"0 Faults\",'Colour Contrast Analysis'!DR4)=1,IFERROR(IF(FIND(\"0 Should\",'Colour Contrast Analysis'!DR4)>1,\"PASS\",\"NO\"),\"Pass with comments\"),\"NON CONFORMANT\"),\"NON CONFORMANT\")","v":"PASS"},{"$f":"IFERROR(IF(FIND(\"0 Faults\",'Colour Contrast Analysis'!DS4)=1,IFERROR(IF(FIND(\"0 Should\",'Colour Contrast Analysis'!DS4)>1,\"PASS\",\"NO\"),\"Pass with comments\"),\"NON CONFORMANT\"),\"NON CONFORMANT\")","v":"PASS"},{"$f":"IFERROR(IF(FIND(\"0 Faults\",'Colour Contrast Analysis'!DT4)=1,IFERROR(IF(FIND(\"0 Should\",'Colour Contrast Analysis'!DT4)>1,\"PASS\",\"NO\"),\"Pass with comments\"),\"NON CONFORMANT\"),\"NON CONFORMANT\")","v":"PASS"},{"$f":"IFERROR(IF(FIND(\"0 Faults\",'Colour Contrast Analysis'!DU4)=1,IFERROR(IF(FIND(\"0 Should\",'Colour Contrast Analysis'!DU4)>1,\"PASS\",\"NO\"),\"Pass with comments\"),\"NON CONFORMANT\"),\"NON CONFORMANT\")","v":"PASS"},{"$f":"IFERROR(IF(FIND(\"0 Faults\",'Colour Contrast Analysis'!DV4)=1,IFERROR(IF(FIND(\"0 Should\",'Colour Contrast Analysis'!DV4)>1,\"PASS\",\"NO\"),\"Pass with comments\"),\"NON CONFORMANT\"),\"NON CONFORMANT\")","v":"PASS"},{"$f":"IFERROR(IF(FIND(\"0 Faults\",'Colour Contrast Analysis'!DW4)=1,IFERROR(IF(FIND(\"0 Should\",'Colour Contrast Analysis'!DW4)>1,\"PASS\",\"NO\"),\"Pass with comments\"),\"NON CONFORMANT\"),\"NON CONFORMANT\")","v":"PASS"},{"$f":"IFERROR(IF(FIND(\"0 Faults\",'Colour Contrast Analysis'!DX4)=1,IFERROR(IF(FIND(\"0 Should\",'Colour Contrast Analysis'!DX4)>1,\"PASS\",\"NO\"),\"Pass with comments\"),\"NON CONFORMANT\"),\"NON CONFORMANT\")","v":"PASS"},{"$f":"IFERROR(IF(FIND(\"0 Faults\",'Colour Contrast Analysis'!DY4)=1,IFERROR(IF(FIND(\"0 Should\",'Colour Contrast Analysis'!DY4)>1,\"PASS\",\"NO\"),\"Pass with comments\"),\"NON CONFORMANT\"),\"NON CONFORMANT\")","v":"PASS"},{"$f":"IFERROR(IF(FIND(\"0 Faults\",'Colour Contrast Analysis'!DZ4)=1,IFERROR(IF(FIND(\"0 Should\",'Colour Contrast Analysis'!DZ4)>1,\"PASS\",\"NO\"),\"Pass with comments\"),\"NON CONFORMANT\"),\"NON CONFORMANT\")","v":"PASS"},{"$f":"IFERROR(IF(FIND(\"0 Faults\",'Colour Contrast Analysis'!EA4)=1,IFERROR(IF(FIND(\"0 Should\",'Colour Contrast Analysis'!EA4)>1,\"PASS\",\"NO\"),\"Pass with comments\"),\"NON CONFORMANT\"),\"NON CONFORMANT\")","v":"PASS"},{"$f":"IFERROR(IF(FIND(\"0 Faults\",'Colour Contrast Analysis'!EB4)=1,IFERROR(IF(FIND(\"0 Should\",'Colour Contrast Analysis'!EB4)>1,\"PASS\",\"NO\"),\"Pass with comments\"),\"NON CONFORMANT\"),\"NON CONFORMANT\")","v":"PASS"},{"$f":"IFERROR(IF(FIND(\"0 Faults\",'Colour Contrast Analysis'!EC4)=1,IFERROR(IF(FIND(\"0 Should\",'Colour Contrast Analysis'!EC4)>1,\"PASS\",\"NO\"),\"Pass with comments\"),\"NON CONFORMANT\"),\"NON CONFORMANT\")","v":"PASS"},{"$f":"IFERROR(IF(FIND(\"0 Faults\",'Colour Contrast Analysis'!ED4)=1,IFERROR(IF(FIND(\"0 Should\",'Colour Contrast Analysis'!ED4)>1,\"PASS\",\"NO\"),\"Pass with comments\"),\"NON CONFORMANT\"),\"NON CONFORMANT\")","v":"PASS"},{"$f":"IFERROR(IF(FIND(\"0 Faults\",'Colour Contrast Analysis'!EE4)=1,IFERROR(IF(FIND(\"0 Should\",'Colour Contrast Analysis'!EE4)>1,\"PASS\",\"NO\"),\"Pass with comments\"),\"NON CONFORMANT\"),\"NON CONFORMANT\")","v":"PASS"},{"$f":"IFERROR(IF(FIND(\"0 Faults\",'Colour Contrast Analysis'!EF4)=1,IFERROR(IF(FIND(\"0 Should\",'Colour Contrast Analysis'!EF4)>1,\"PASS\",\"NO\"),\"Pass with comments\"),\"NON CONFORMANT\"),\"NON CONFORMANT\")","v":"PASS"},{"$f":"IFERROR(IF(FIND(\"0 Faults\",'Colour Contrast Analysis'!EG4)=1,IFERROR(IF(FIND(\"0 Should\",'Colour Contrast Analysis'!EG4)>1,\"PASS\",\"NO\"),\"Pass with comments\"),\"NON CONFORMANT\"),\"NON CONFORMANT\")","v":"PASS"},{"$f":"IFERROR(IF(FIND(\"0 Faults\",'Colour Contrast Analysis'!EH4)=1,IFERROR(IF(FIND(\"0 Should\",'Colour Contrast Analysis'!EH4)>1,\"PASS\",\"NO\"),\"Pass with comments\"),\"NON CONFORMANT\"),\"NON CONFORMANT\")","v":"PASS"},{"$f":"IFERROR(IF(FIND(\"0 Faults\",'Colour Contrast Analysis'!EI4)=1,IFERROR(IF(FIND(\"0 Should\",'Colour Contrast Analysis'!EI4)>1,\"PASS\",\"NO\"),\"Pass with comments\"),\"NON CONFORMANT\"),\"NON CONFORMANT\")","v":"PASS"},{"$f":"IFERROR(IF(FIND(\"0 Faults\",'Colour Contrast Analysis'!EJ4)=1,IFERROR(IF(FIND(\"0 Should\",'Colour Contrast Analysis'!EJ4)>1,\"PASS\",\"NO\"),\"Pass with comments\"),\"NON CONFORMANT\"),\"NON CONFORMANT\")","v":"PASS"},{"$f":"IFERROR(IF(FIND(\"0 Faults\",'Colour Contrast Analysis'!EK4)=1,IFERROR(IF(FIND(\"0 Should\",'Colour Contrast Analysis'!EK4)>1,\"PASS\",\"NO\"),\"Pass with comments\"),\"NON CONFORMANT\"),\"NON CONFORMANT\")","v":"PASS"},{"$f":"IFERROR(IF(FIND(\"0 Faults\",'Colour Contrast Analysis'!EL4)=1,IFERROR(IF(FIND(\"0 Should\",'Colour Contrast Analysis'!EL4)>1,\"PASS\",\"NO\"),\"Pass with comments\"),\"NON CONFORMANT\"),\"NON CONFORMANT\")","v":"PASS"},{"$f":"IFERROR(IF(FIND(\"0 Faults\",'Colour Contrast Analysis'!EM4)=1,IFERROR(IF(FIND(\"0 Should\",'Colour Contrast Analysis'!EM4)>1,\"PASS\",\"NO\"),\"Pass with comments\"),\"NON CONFORMANT\"),\"NON CONFORMANT\")","v":"PASS"},{"$f":"IFERROR(IF(FIND(\"0 Faults\",'Colour Contrast Analysis'!EN4)=1,IFERROR(IF(FIND(\"0 Should\",'Colour Contrast Analysis'!EN4)>1,\"PASS\",\"NO\"),\"Pass with comments\"),\"NON CONFORMANT\"),\"NON CONFORMANT\")","v":"PASS"},{"$f":"IFERROR(IF(FIND(\"0 Faults\",'Colour Contrast Analysis'!EO4)=1,IFERROR(IF(FIND(\"0 Should\",'Colour Contrast Analysis'!EO4)>1,\"PASS\",\"NO\"),\"Pass with comments\"),\"NON CONFORMANT\"),\"NON CONFORMANT\")","v":"PASS"},{"$f":"IFERROR(IF(FIND(\"0 Faults\",'Colour Contrast Analysis'!EP4)=1,IFERROR(IF(FIND(\"0 Should\",'Colour Contrast Analysis'!EP4)>1,\"PASS\",\"NO\"),\"Pass with comments\"),\"NON CONFORMANT\"),\"NON CONFORMANT\")","v":"PASS"},{"$f":"IFERROR(IF(FIND(\"0 Faults\",'Colour Contrast Analysis'!EQ4)=1,IFERROR(IF(FIND(\"0 Should\",'Colour Contrast Analysis'!EQ4)>1,\"PASS\",\"NO\"),\"Pass with comments\"),\"NON CONFORMANT\"),\"NON CONFORMANT\")","v":"PASS"},{"$f":"IFERROR(IF(FIND(\"0 Faults\",'Colour Contrast Analysis'!ER4)=1,IFERROR(IF(FIND(\"0 Should\",'Colour Contrast Analysis'!ER4)>1,\"PASS\",\"NO\"),\"Pass with comments\"),\"NON CONFORMANT\"),\"NON CONFORMANT\")","v":"PASS"},{"$f":"IFERROR(IF(FIND(\"0 Faults\",'Colour Contrast Analysis'!ES4)=1,IFERROR(IF(FIND(\"0 Should\",'Colour Contrast Analysis'!ES4)>1,\"PASS\",\"NO\"),\"Pass with comments\"),\"NON CONFORMANT\"),\"NON CONFORMANT\")","v":"PASS"},{"$f":"IFERROR(IF(FIND(\"0 Faults\",'Colour Contrast Analysis'!ET4)=1,IFERROR(IF(FIND(\"0 Should\",'Colour Contrast Analysis'!ET4)>1,\"PASS\",\"NO\"),\"Pass with comments\"),\"NON CONFORMANT\"),\"NON CONFORMANT\")","v":"PASS"},{"$f":"IFERROR(IF(FIND(\"0 Faults\",'Colour Contrast Analysis'!EU4)=1,IFERROR(IF(FIND(\"0 Should\",'Colour Contrast Analysis'!EU4)>1,\"PASS\",\"NO\"),\"Pass with comments\"),\"NON CONFORMANT\"),\"NON CONFORMANT\")","v":"PASS"},{"$f":"IFERROR(IF(FIND(\"0 Faults\",'Colour Contrast Analysis'!EV4)=1,IFERROR(IF(FIND(\"0 Should\",'Colour Contrast Analysis'!EV4)>1,\"PASS\",\"NO\"),\"Pass with comments\"),\"NON CONFORMANT\"),\"NON CONFORMANT\")","v":"PASS"},{"$f":"IFERROR(IF(FIND(\"0 Faults\",'Colour Contrast Analysis'!EW4)=1,IFERROR(IF(FIND(\"0 Should\",'Colour Contrast Analysis'!EW4)>1,\"PASS\",\"NO\"),\"Pass with comments\"),\"NON CONFORMANT\"),\"NON CONFORMANT\")","v":"PASS"},{"$f":"IFERROR(IF(FIND(\"0 Faults\",'Colour Contrast Analysis'!EX4)=1,IFERROR(IF(FIND(\"0 Should\",'Colour Contrast Analysis'!EX4)>1,\"PASS\",\"NO\"),\"Pass with comments\"),\"NON CONFORMANT\"),\"NON CONFORMANT\")","v":"PASS"},{"$f":"IFERROR(IF(FIND(\"0 Faults\",'Colour Contrast Analysis'!EY4)=1,IFERROR(IF(FIND(\"0 Should\",'Colour Contrast Analysis'!EY4)>1,\"PASS\",\"NO\"),\"Pass with comments\"),\"NON CONFORMANT\"),\"NON CONFORMANT\")","v":"PASS"},{"$f":"IFERROR(IF(FIND(\"0 Faults\",'Colour Contrast Analysis'!EZ4)=1,IFERROR(IF(FIND(\"0 Should\",'Colour Contrast Analysis'!EZ4)>1,\"PASS\",\"NO\"),\"Pass with comments\"),\"NON CONFORMANT\"),\"NON CONFORMANT\")","v":"PASS"},{"$f":"IFERROR(IF(FIND(\"0 Faults\",'Colour Contrast Analysis'!FA4)=1,IFERROR(IF(FIND(\"0 Should\",'Colour Contrast Analysis'!FA4)>1,\"PASS\",\"NO\"),\"Pass with comments\"),\"NON CONFORMANT\"),\"NON CONFORMANT\")","v":"PASS"},{"$f":"IFERROR(IF(FIND(\"0 Faults\",'Colour Contrast Analysis'!FB4)=1,IFERROR(IF(FIND(\"0 Should\",'Colour Contrast Analysis'!FB4)>1,\"PASS\",\"NO\"),\"Pass with comments\"),\"NON CONFORMANT\"),\"NON CONFORMANT\")","v":"PASS"},{"$f":"IFERROR(IF(FIND(\"0 Faults\",'Colour Contrast Analysis'!FC4)=1,IFERROR(IF(FIND(\"0 Should\",'Colour Contrast Analysis'!FC4)>1,\"PASS\",\"NO\"),\"Pass with comments\"),\"NON CONFORMANT\"),\"NON CONFORMANT\")","v":"PASS"},{"$f":"IFERROR(IF(FIND(\"0 Faults\",'Colour Contrast Analysis'!FD4)=1,IFERROR(IF(FIND(\"0 Should\",'Colour Contrast Analysis'!FD4)>1,\"PASS\",\"NO\"),\"Pass with comments\"),\"NON CONFORMANT\"),\"NON CONFORMANT\")","v":"PASS"},{"$f":"IFERROR(IF(FIND(\"0 Faults\",'Colour Contrast Analysis'!FE4)=1,IFERROR(IF(FIND(\"0 Should\",'Colour Contrast Analysis'!FE4)>1,\"PASS\",\"NO\"),\"Pass with comments\"),\"NON CONFORMANT\"),\"NON CONFORMANT\")","v":"PASS"},{"$f":"IFERROR(IF(FIND(\"0 Faults\",'Colour Contrast Analysis'!FF4)=1,IFERROR(IF(FIND(\"0 Should\",'Colour Contrast Analysis'!FF4)>1,\"PASS\",\"NO\"),\"Pass with comments\"),\"NON CONFORMANT\"),\"NON CONFORMANT\")","v":"PASS"},{"$f":"IFERROR(IF(FIND(\"0 Faults\",'Colour Contrast Analysis'!FG4)=1,IFERROR(IF(FIND(\"0 Should\",'Colour Contrast Analysis'!FG4)>1,\"PASS\",\"NO\"),\"Pass with comments\"),\"NON CONFORMANT\"),\"NON CONFORMANT\")","v":"PASS"},{"$f":"IFERROR(IF(FIND(\"0 Faults\",'Colour Contrast Analysis'!FH4)=1,IFERROR(IF(FIND(\"0 Should\",'Colour Contrast Analysis'!FH4)>1,\"PASS\",\"NO\"),\"Pass with comments\"),\"NON CONFORMANT\"),\"NON CONFORMANT\")","v":"PASS"},{"$f":"IFERROR(IF(FIND(\"0 Faults\",'Colour Contrast Analysis'!FI4)=1,IFERROR(IF(FIND(\"0 Should\",'Colour Contrast Analysis'!FI4)>1,\"PASS\",\"NO\"),\"Pass with comments\"),\"NON CONFORMANT\"),\"NON CONFORMANT\")","v":"PASS"},{"$f":"IFERROR(IF(FIND(\"0 Faults\",'Colour Contrast Analysis'!FJ4)=1,IFERROR(IF(FIND(\"0 Should\",'Colour Contrast Analysis'!FJ4)>1,\"PASS\",\"NO\"),\"Pass with comments\"),\"NON CONFORMANT\"),\"NON CONFORMANT\")","v":"PASS"},{"$f":"IFERROR(IF(FIND(\"0 Faults\",'Colour Contrast Analysis'!FK4)=1,IFERROR(IF(FIND(\"0 Should\",'Colour Contrast Analysis'!FK4)>1,\"PASS\",\"NO\"),\"Pass with comments\"),\"NON CONFORMANT\"),\"NON CONFORMANT\")","v":"PASS"},{"$f":"IFERROR(IF(FIND(\"0 Faults\",'Colour Contrast Analysis'!FL4)=1,IFERROR(IF(FIND(\"0 Should\",'Colour Contrast Analysis'!FL4)>1,\"PASS\",\"NO\"),\"Pass with comments\"),\"NON CONFORMANT\"),\"NON CONFORMANT\")","v":"PASS"},{"$f":"IFERROR(IF(FIND(\"0 Faults\",'Colour Contrast Analysis'!FM4)=1,IFERROR(IF(FIND(\"0 Should\",'Colour Contrast Analysis'!FM4)>1,\"PASS\",\"NO\"),\"Pass with comments\"),\"NON CONFORMANT\"),\"NON CONFORMANT\")","v":"PASS"},{"$f":"IFERROR(IF(FIND(\"0 Faults\",'Colour Contrast Analysis'!FN4)=1,IFERROR(IF(FIND(\"0 Should\",'Colour Contrast Analysis'!FN4)>1,\"PASS\",\"NO\"),\"Pass with comments\"),\"NON CONFORMANT\"),\"NON CONFORMANT\")","v":"PASS"},{"$f":"IFERROR(IF(FIND(\"0 Faults\",'Colour Contrast Analysis'!FO4)=1,IFERROR(IF(FIND(\"0 Should\",'Colour Contrast Analysis'!FO4)>1,\"PASS\",\"NO\"),\"Pass with comments\"),\"NON CONFORMANT\"),\"NON CONFORMANT\")","v":"PASS"},{"$f":"IFERROR(IF(FIND(\"0 Faults\",'Colour Contrast Analysis'!FP4)=1,IFERROR(IF(FIND(\"0 Should\",'Colour Contrast Analysis'!FP4)>1,\"PASS\",\"NO\"),\"Pass with comments\"),\"NON CONFORMANT\"),\"NON CONFORMANT\")","v":"PASS"},{"$f":"IFERROR(IF(FIND(\"0 Faults\",'Colour Contrast Analysis'!FQ4)=1,IFERROR(IF(FIND(\"0 Should\",'Colour Contrast Analysis'!FQ4)>1,\"PASS\",\"NO\"),\"Pass with comments\"),\"NON CONFORMANT\"),\"NON CONFORMANT\")","v":"PASS"},{"$f":"IFERROR(IF(FIND(\"0 Faults\",'Colour Contrast Analysis'!FR4)=1,IFERROR(IF(FIND(\"0 Should\",'Colour Contrast Analysis'!FR4)>1,\"PASS\",\"NO\"),\"Pass with comments\"),\"NON CONFORMANT\"),\"NON CONFORMANT\")","v":"PASS"},{"$f":"IFERROR(IF(FIND(\"0 Faults\",'Colour Contrast Analysis'!FS4)=1,IFERROR(IF(FIND(\"0 Should\",'Colour Contrast Analysis'!FS4)>1,\"PASS\",\"NO\"),\"Pass with comments\"),\"NON CONFORMANT\"),\"NON CONFORMANT\")","v":"PASS"}]
[null,null,null,null,{"$f":"LEFT('Colour Contrast Analysis'!Z4,FIND(\" \",'Colour Contrast Analysis'!Z4)-1)&\" combination\"&IF(VALUE(LEFT('Colour Contrast Analysis'!Z4,FIND(\" \",'Colour Contrast Analysis'!Z4)))=1,\"\",\"s\")&\" of foreground and background colours do\"&IF(VALUE(LEFT('Colour Contrast Analysis'!Z4,FIND(\" \",'Colour Contrast Analysis'!Z4)))=1,\"es\",\"\")&\" not have sufficient contrast.\"&IF(VALUE(LEFT(RIGHT('Colour Contrast Analysis'!Z4,LEN('Colour Contrast Analysis'!Z4)-FIND(\"+\",'Colour Contrast Analysis'!Z4)-2),LEN(RIGHT('Colour Contrast Analysis'!Z4,LEN('Colour Contrast Analysis'!Z4)-FIND(\"+\",'Colour Contrast Analysis'!Z4)-2))-11))=0,\"\",IF(VALUE(LEFT(RIGHT('Colour Contrast Analysis'!Z4,LEN('Colour Contrast Analysis'!Z4)-FIND(\"+\",'Colour Contrast Analysis'!Z4)-2),LEN(RIGHT('Colour Contrast Analysis'!Z4,LEN('Colour Contrast Analysis'!Z4)-FIND(\"+\",'Colour Contrast Analysis'!Z4)-2))-11))=1,CHAR(10)&VALUE(LEFT(RIGHT('Colour Contrast Analysis'!Z4,LEN('Colour Contrast Analysis'!Z4)-FIND(\"+\",'Colour Contrast Analysis'!Z4)-2),LEN(RIGHT('Colour Contrast Analysis'!Z4,LEN('Colour Contrast Analysis'!Z4)-FIND(\"+\",'Colour Contrast Analysis'!Z4)-2))-11)) & \" combination of foreground and background colours is technically conformant, but its contrast should be increased.\",CHAR(10)&VALUE(LEFT(RIGHT('Colour Contrast Analysis'!Z4,LEN('Colour Contrast Analysis'!Z4)-FIND(\"+\",'Colour Contrast Analysis'!Z4)-2),LEN(RIGHT('Colour Contrast Analysis'!Z4,LEN('Colour Contrast Analysis'!Z4)-FIND(\"+\",'Colour Contrast Analysis'!Z4)-2))-11)) & \" combinations of foreground and background colours are technically conformant, but their contrast should be increased.\")) & CHAR(10) & \"Please see the Colour Contrast Analysis worksheet.\"","v":"0 combinations of foreground and background colours do not have sufficient contrast.\nPlease see the Colour Contrast Analysis worksheet."},{"$f":"LEFT('Colour Contrast Analysis'!AA4,FIND(\" \",'Colour Contrast Analysis'!AA4)-1)&\" combination\"&IF(VALUE(LEFT('Colour Contrast Analysis'!AA4,FIND(\" \",'Colour Contrast Analysis'!AA4)))=1,\"\",\"s\")&\" of foreground and background colours do\"&IF(VALUE(LEFT('Colour Contrast Analysis'!AA4,FIND(\" \",'Colour Contrast Analysis'!AA4)))=1,\"es\",\"\")&\" not have sufficient contrast.\"&IF(VALUE(LEFT(RIGHT('Colour Contrast Analysis'!AA4,LEN('Colour Contrast Analysis'!AA4)-FIND(\"+\",'Colour Contrast Analysis'!AA4)-2),LEN(RIGHT('Colour Contrast Analysis'!AA4,LEN('Colour Contrast Analysis'!AA4)-FIND(\"+\",'Colour Contrast Analysis'!AA4)-2))-11))=0,\"\",IF(VALUE(LEFT(RIGHT('Colour Contrast Analysis'!AA4,LEN('Colour Contrast Analysis'!AA4)-FIND(\"+\",'Colour Contrast Analysis'!AA4)-2),LEN(RIGHT('Colour Contrast Analysis'!AA4,LEN('Colour Contrast Analysis'!AA4)-FIND(\"+\",'Colour Contrast Analysis'!AA4)-2))-11))=1,CHAR(10)&VALUE(LEFT(RIGHT('Colour Contrast Analysis'!AA4,LEN('Colour Contrast Analysis'!AA4)-FIND(\"+\",'Colour Contrast Analysis'!AA4)-2),LEN(RIGHT('Colour Contrast Analysis'!AA4,LEN('Colour Contrast Analysis'!AA4)-FIND(\"+\",'Colour Contrast Analysis'!AA4)-2))-11)) & \" combination of foreground and background colours is technically conformant, but its contrast should be increased.\",CHAR(10)&VALUE(LEFT(RIGHT('Colour Contrast Analysis'!AA4,LEN('Colour Contrast Analysis'!AA4)-FIND(\"+\",'Colour Contrast Analysis'!AA4)-2),LEN(RIGHT('Colour Contrast Analysis'!AA4,LEN('Colour Contrast Analysis'!AA4)-FIND(\"+\",'Colour Contrast Analysis'!AA4)-2))-11)) & \" combinations of foreground and background colours are technically conformant, but their contrast should be increased.\")) & CHAR(10) & \"Please see the Colour Contrast Analysis worksheet.\"","v":"0 combinations of foreground and background colours do not have sufficient contrast.\nPlease see the Colour Contrast Analysis worksheet."},{"$f":"LEFT('Colour Contrast Analysis'!AB4,FIND(\" \",'Colour Contrast Analysis'!AB4)-1)&\" combination\"&IF(VALUE(LEFT('Colour Contrast Analysis'!AB4,FIND(\" \",'Colour Contrast Analysis'!AB4)))=1,\"\",\"s\")&\" of foreground and background colours do\"&IF(VALUE(LEFT('Colour Contrast Analysis'!AB4,FIND(\" \",'Colour Contrast Analysis'!AB4)))=1,\"es\",\"\")&\" not have sufficient contrast.\"&IF(VALUE(LEFT(RIGHT('Colour Contrast Analysis'!AB4,LEN('Colour Contrast Analysis'!AB4)-FIND(\"+\",'Colour Contrast Analysis'!AB4)-2),LEN(RIGHT('Colour Contrast Analysis'!AB4,LEN('Colour Contrast Analysis'!AB4)-FIND(\"+\",'Colour Contrast Analysis'!AB4)-2))-11))=0,\"\",IF(VALUE(LEFT(RIGHT('Colour Contrast Analysis'!AB4,LEN('Colour Contrast Analysis'!AB4)-FIND(\"+\",'Colour Contrast Analysis'!AB4)-2),LEN(RIGHT('Colour Contrast Analysis'!AB4,LEN('Colour Contrast Analysis'!AB4)-FIND(\"+\",'Colour Contrast Analysis'!AB4)-2))-11))=1,CHAR(10)&VALUE(LEFT(RIGHT('Colour Contrast Analysis'!AB4,LEN('Colour Contrast Analysis'!AB4)-FIND(\"+\",'Colour Contrast Analysis'!AB4)-2),LEN(RIGHT('Colour Contrast Analysis'!AB4,LEN('Colour Contrast Analysis'!AB4)-FIND(\"+\",'Colour Contrast Analysis'!AB4)-2))-11)) & \" combination of foreground and background colours is technically conformant, but its contrast should be increased.\",CHAR(10)&VALUE(LEFT(RIGHT('Colour Contrast Analysis'!AB4,LEN('Colour Contrast Analysis'!AB4)-FIND(\"+\",'Colour Contrast Analysis'!AB4)-2),LEN(RIGHT('Colour Contrast Analysis'!AB4,LEN('Colour Contrast Analysis'!AB4)-FIND(\"+\",'Colour Contrast Analysis'!AB4)-2))-11)) & \" combinations of foreground and background colours are technically conformant, but their contrast should be increased.\")) & CHAR(10) & \"Please see the Colour Contrast Analysis worksheet.\"","v":"0 combinations of foreground and background colours do not have sufficient contrast.\nPlease see the Colour Contrast Analysis worksheet."},{"$f":"LEFT('Colour Contrast Analysis'!AC4,FIND(\" \",'Colour Contrast Analysis'!AC4)-1)&\" combination\"&IF(VALUE(LEFT('Colour Contrast Analysis'!AC4,FIND(\" \",'Colour Contrast Analysis'!AC4)))=1,\"\",\"s\")&\" of foreground and background colours do\"&IF(VALUE(LEFT('Colour Contrast Analysis'!AC4,FIND(\" \",'Colour Contrast Analysis'!AC4)))=1,\"es\",\"\")&\" not have sufficient contrast.\"&IF(VALUE(LEFT(RIGHT('Colour Contrast Analysis'!AC4,LEN('Colour Contrast Analysis'!AC4)-FIND(\"+\",'Colour Contrast Analysis'!AC4)-2),LEN(RIGHT('Colour Contrast Analysis'!AC4,LEN('Colour Contrast Analysis'!AC4)-FIND(\"+\",'Colour Contrast Analysis'!AC4)-2))-11))=0,\"\",IF(VALUE(LEFT(RIGHT('Colour Contrast Analysis'!AC4,LEN('Colour Contrast Analysis'!AC4)-FIND(\"+\",'Colour Contrast Analysis'!AC4)-2),LEN(RIGHT('Colour Contrast Analysis'!AC4,LEN('Colour Contrast Analysis'!AC4)-FIND(\"+\",'Colour Contrast Analysis'!AC4)-2))-11))=1,CHAR(10)&VALUE(LEFT(RIGHT('Colour Contrast Analysis'!AC4,LEN('Colour Contrast Analysis'!AC4)-FIND(\"+\",'Colour Contrast Analysis'!AC4)-2),LEN(RIGHT('Colour Contrast Analysis'!AC4,LEN('Colour Contrast Analysis'!AC4)-FIND(\"+\",'Colour Contrast Analysis'!AC4)-2))-11)) & \" combination of foreground and background colours is technically conformant, but its contrast should be increased.\",CHAR(10)&VALUE(LEFT(RIGHT('Colour Contrast Analysis'!AC4,LEN('Colour Contrast Analysis'!AC4)-FIND(\"+\",'Colour Contrast Analysis'!AC4)-2),LEN(RIGHT('Colour Contrast Analysis'!AC4,LEN('Colour Contrast Analysis'!AC4)-FIND(\"+\",'Colour Contrast Analysis'!AC4)-2))-11)) & \" combinations of foreground and background colours are technically conformant, but their contrast should be increased.\")) & CHAR(10) & \"Please see the Colour Contrast Analysis worksheet.\"","v":"1 combination of foreground and background colours does not have sufficient contrast.\nPlease see the Colour Contrast Analysis worksheet."},{"$f":"LEFT('Colour Contrast Analysis'!AD4,FIND(\" \",'Colour Contrast Analysis'!AD4)-1)&\" combination\"&IF(VALUE(LEFT('Colour Contrast Analysis'!AD4,FIND(\" \",'Colour Contrast Analysis'!AD4)))=1,\"\",\"s\")&\" of foreground and background colours do\"&IF(VALUE(LEFT('Colour Contrast Analysis'!AD4,FIND(\" \",'Colour Contrast Analysis'!AD4)))=1,\"es\",\"\")&\" not have sufficient contrast.\"&IF(VALUE(LEFT(RIGHT('Colour Contrast Analysis'!AD4,LEN('Colour Contrast Analysis'!AD4)-FIND(\"+\",'Colour Contrast Analysis'!AD4)-2),LEN(RIGHT('Colour Contrast Analysis'!AD4,LEN('Colour Contrast Analysis'!AD4)-FIND(\"+\",'Colour Contrast Analysis'!AD4)-2))-11))=0,\"\",IF(VALUE(LEFT(RIGHT('Colour Contrast Analysis'!AD4,LEN('Colour Contrast Analysis'!AD4)-FIND(\"+\",'Colour Contrast Analysis'!AD4)-2),LEN(RIGHT('Colour Contrast Analysis'!AD4,LEN('Colour Contrast Analysis'!AD4)-FIND(\"+\",'Colour Contrast Analysis'!AD4)-2))-11))=1,CHAR(10)&VALUE(LEFT(RIGHT('Colour Contrast Analysis'!AD4,LEN('Colour Contrast Analysis'!AD4)-FIND(\"+\",'Colour Contrast Analysis'!AD4)-2),LEN(RIGHT('Colour Contrast Analysis'!AD4,LEN('Colour Contrast Analysis'!AD4)-FIND(\"+\",'Colour Contrast Analysis'!AD4)-2))-11)) & \" combination of foreground and background colours is technically conformant, but its contrast should be increased.\",CHAR(10)&VALUE(LEFT(RIGHT('Colour Contrast Analysis'!AD4,LEN('Colour Contrast Analysis'!AD4)-FIND(\"+\",'Colour Contrast Analysis'!AD4)-2),LEN(RIGHT('Colour Contrast Analysis'!AD4,LEN('Colour Contrast Analysis'!AD4)-FIND(\"+\",'Colour Contrast Analysis'!AD4)-2))-11)) & \" combinations of foreground and background colours are technically conformant, but their contrast should be increased.\")) & CHAR(10) & \"Please see the Colour Contrast Analysis worksheet.\"","v":"0 combinations of foreground and background colours do not have sufficient contrast.\nPlease see the Colour Contrast Analysis worksheet."},{"$f":"LEFT('Colour Contrast Analysis'!AE4,FIND(\" \",'Colour Contrast Analysis'!AE4)-1)&\" combination\"&IF(VALUE(LEFT('Colour Contrast Analysis'!AE4,FIND(\" \",'Colour Contrast Analysis'!AE4)))=1,\"\",\"s\")&\" of foreground and background colours do\"&IF(VALUE(LEFT('Colour Contrast Analysis'!AE4,FIND(\" \",'Colour Contrast Analysis'!AE4)))=1,\"es\",\"\")&\" not have sufficient contrast.\"&IF(VALUE(LEFT(RIGHT('Colour Contrast Analysis'!AE4,LEN('Colour Contrast Analysis'!AE4)-FIND(\"+\",'Colour Contrast Analysis'!AE4)-2),LEN(RIGHT('Colour Contrast Analysis'!AE4,LEN('Colour Contrast Analysis'!AE4)-FIND(\"+\",'Colour Contrast Analysis'!AE4)-2))-11))=0,\"\",IF(VALUE(LEFT(RIGHT('Colour Contrast Analysis'!AE4,LEN('Colour Contrast Analysis'!AE4)-FIND(\"+\",'Colour Contrast Analysis'!AE4)-2),LEN(RIGHT('Colour Contrast Analysis'!AE4,LEN('Colour Contrast Analysis'!AE4)-FIND(\"+\",'Colour Contrast Analysis'!AE4)-2))-11))=1,CHAR(10)&VALUE(LEFT(RIGHT('Colour Contrast Analysis'!AE4,LEN('Colour Contrast Analysis'!AE4)-FIND(\"+\",'Colour Contrast Analysis'!AE4)-2),LEN(RIGHT('Colour Contrast Analysis'!AE4,LEN('Colour Contrast Analysis'!AE4)-FIND(\"+\",'Colour Contrast Analysis'!AE4)-2))-11)) & \" combination of foreground and background colours is technically conformant, but its contrast should be increased.\",CHAR(10)&VALUE(LEFT(RIGHT('Colour Contrast Analysis'!AE4,LEN('Colour Contrast Analysis'!AE4)-FIND(\"+\",'Colour Contrast Analysis'!AE4)-2),LEN(RIGHT('Colour Contrast Analysis'!AE4,LEN('Colour Contrast Analysis'!AE4)-FIND(\"+\",'Colour Contrast Analysis'!AE4)-2))-11)) & \" combinations of foreground and background colours are technically conformant, but their contrast should be increased.\")) & CHAR(10) & \"Please see the Colour Contrast Analysis worksheet.\"","v":"0 combinations of foreground and background colours do not have sufficient contrast.\nPlease see the Colour Contrast Analysis worksheet."},{"$f":"LEFT('Colour Contrast Analysis'!AF4,FIND(\" \",'Colour Contrast Analysis'!AF4)-1)&\" combination\"&IF(VALUE(LEFT('Colour Contrast Analysis'!AF4,FIND(\" \",'Colour Contrast Analysis'!AF4)))=1,\"\",\"s\")&\" of foreground and background colours do\"&IF(VALUE(LEFT('Colour Contrast Analysis'!AF4,FIND(\" \",'Colour Contrast Analysis'!AF4)))=1,\"es\",\"\")&\" not have sufficient contrast.\"&IF(VALUE(LEFT(RIGHT('Colour Contrast Analysis'!AF4,LEN('Colour Contrast Analysis'!AF4)-FIND(\"+\",'Colour Contrast Analysis'!AF4)-2),LEN(RIGHT('Colour Contrast Analysis'!AF4,LEN('Colour Contrast Analysis'!AF4)-FIND(\"+\",'Colour Contrast Analysis'!AF4)-2))-11))=0,\"\",IF(VALUE(LEFT(RIGHT('Colour Contrast Analysis'!AF4,LEN('Colour Contrast Analysis'!AF4)-FIND(\"+\",'Colour Contrast Analysis'!AF4)-2),LEN(RIGHT('Colour Contrast Analysis'!AF4,LEN('Colour Contrast Analysis'!AF4)-FIND(\"+\",'Colour Contrast Analysis'!AF4)-2))-11))=1,CHAR(10)&VALUE(LEFT(RIGHT('Colour Contrast Analysis'!AF4,LEN('Colour Contrast Analysis'!AF4)-FIND(\"+\",'Colour Contrast Analysis'!AF4)-2),LEN(RIGHT('Colour Contrast Analysis'!AF4,LEN('Colour Contrast Analysis'!AF4)-FIND(\"+\",'Colour Contrast Analysis'!AF4)-2))-11)) & \" combination of foreground and background colours is technically conformant, but its contrast should be increased.\",CHAR(10)&VALUE(LEFT(RIGHT('Colour Contrast Analysis'!AF4,LEN('Colour Contrast Analysis'!AF4)-FIND(\"+\",'Colour Contrast Analysis'!AF4)-2),LEN(RIGHT('Colour Contrast Analysis'!AF4,LEN('Colour Contrast Analysis'!AF4)-FIND(\"+\",'Colour Contrast Analysis'!AF4)-2))-11)) & \" combinations of foreground and background colours are technically conformant, but their contrast should be increased.\")) & CHAR(10) & \"Please see the Colour Contrast Analysis worksheet.\"","v":"4 combinations of foreground and background colours do not have sufficient contrast.\nPlease see the Colour Contrast Analysis worksheet."},{"$f":"LEFT('Colour Contrast Analysis'!AG4,FIND(\" \",'Colour Contrast Analysis'!AG4)-1)&\" combination\"&IF(VALUE(LEFT('Colour Contrast Analysis'!AG4,FIND(\" \",'Colour Contrast Analysis'!AG4)))=1,\"\",\"s\")&\" of foreground and background colours do\"&IF(VALUE(LEFT('Colour Contrast Analysis'!AG4,FIND(\" \",'Colour Contrast Analysis'!AG4)))=1,\"es\",\"\")&\" not have sufficient contrast.\"&IF(VALUE(LEFT(RIGHT('Colour Contrast Analysis'!AG4,LEN('Colour Contrast Analysis'!AG4)-FIND(\"+\",'Colour Contrast Analysis'!AG4)-2),LEN(RIGHT('Colour Contrast Analysis'!AG4,LEN('Colour Contrast Analysis'!AG4)-FIND(\"+\",'Colour Contrast Analysis'!AG4)-2))-11))=0,\"\",IF(VALUE(LEFT(RIGHT('Colour Contrast Analysis'!AG4,LEN('Colour Contrast Analysis'!AG4)-FIND(\"+\",'Colour Contrast Analysis'!AG4)-2),LEN(RIGHT('Colour Contrast Analysis'!AG4,LEN('Colour Contrast Analysis'!AG4)-FIND(\"+\",'Colour Contrast Analysis'!AG4)-2))-11))=1,CHAR(10)&VALUE(LEFT(RIGHT('Colour Contrast Analysis'!AG4,LEN('Colour Contrast Analysis'!AG4)-FIND(\"+\",'Colour Contrast Analysis'!AG4)-2),LEN(RIGHT('Colour Contrast Analysis'!AG4,LEN('Colour Contrast Analysis'!AG4)-FIND(\"+\",'Colour Contrast Analysis'!AG4)-2))-11)) & \" combination of foreground and background colours is technically conformant, but its contrast should be increased.\",CHAR(10)&VALUE(LEFT(RIGHT('Colour Contrast Analysis'!AG4,LEN('Colour Contrast Analysis'!AG4)-FIND(\"+\",'Colour Contrast Analysis'!AG4)-2),LEN(RIGHT('Colour Contrast Analysis'!AG4,LEN('Colour Contrast Analysis'!AG4)-FIND(\"+\",'Colour Contrast Analysis'!AG4)-2))-11)) & \" combinations of foreground and background colours are technically conformant, but their contrast should be increased.\")) & CHAR(10) & \"Please see the Colour Contrast Analysis worksheet.\"","v":"0 combinations of foreground and background colours do not have sufficient contrast.\nPlease see the Colour Contrast Analysis worksheet."},{"$f":"LEFT('Colour Contrast Analysis'!AH4,FIND(\" \",'Colour Contrast Analysis'!AH4)-1)&\" combination\"&IF(VALUE(LEFT('Colour Contrast Analysis'!AH4,FIND(\" \",'Colour Contrast Analysis'!AH4)))=1,\"\",\"s\")&\" of foreground and background colours do\"&IF(VALUE(LEFT('Colour Contrast Analysis'!AH4,FIND(\" \",'Colour Contrast Analysis'!AH4)))=1,\"es\",\"\")&\" not have sufficient contrast.\"&IF(VALUE(LEFT(RIGHT('Colour Contrast Analysis'!AH4,LEN('Colour Contrast Analysis'!AH4)-FIND(\"+\",'Colour Contrast Analysis'!AH4)-2),LEN(RIGHT('Colour Contrast Analysis'!AH4,LEN('Colour Contrast Analysis'!AH4)-FIND(\"+\",'Colour Contrast Analysis'!AH4)-2))-11))=0,\"\",IF(VALUE(LEFT(RIGHT('Colour Contrast Analysis'!AH4,LEN('Colour Contrast Analysis'!AH4)-FIND(\"+\",'Colour Contrast Analysis'!AH4)-2),LEN(RIGHT('Colour Contrast Analysis'!AH4,LEN('Colour Contrast Analysis'!AH4)-FIND(\"+\",'Colour Contrast Analysis'!AH4)-2))-11))=1,CHAR(10)&VALUE(LEFT(RIGHT('Colour Contrast Analysis'!AH4,LEN('Colour Contrast Analysis'!AH4)-FIND(\"+\",'Colour Contrast Analysis'!AH4)-2),LEN(RIGHT('Colour Contrast Analysis'!AH4,LEN('Colour Contrast Analysis'!AH4)-FIND(\"+\",'Colour Contrast Analysis'!AH4)-2))-11)) & \" combination of foreground and background colours is technically conformant, but its contrast should be increased.\",CHAR(10)&VALUE(LEFT(RIGHT('Colour Contrast Analysis'!AH4,LEN('Colour Contrast Analysis'!AH4)-FIND(\"+\",'Colour Contrast Analysis'!AH4)-2),LEN(RIGHT('Colour Contrast Analysis'!AH4,LEN('Colour Contrast Analysis'!AH4)-FIND(\"+\",'Colour Contrast Analysis'!AH4)-2))-11)) & \" combinations of foreground and background colours are technically conformant, but their contrast should be increased.\")) & CHAR(10) & \"Please see the Colour Contrast Analysis worksheet.\"","v":"0 combinations of foreground and background colours do not have sufficient contrast.\nPlease see the Colour Contrast Analysis worksheet."},{"$f":"LEFT('Colour Contrast Analysis'!AI4,FIND(\" \",'Colour Contrast Analysis'!AI4)-1)&\" combination\"&IF(VALUE(LEFT('Colour Contrast Analysis'!AI4,FIND(\" \",'Colour Contrast Analysis'!AI4)))=1,\"\",\"s\")&\" of foreground and background colours do\"&IF(VALUE(LEFT('Colour Contrast Analysis'!AI4,FIND(\" \",'Colour Contrast Analysis'!AI4)))=1,\"es\",\"\")&\" not have sufficient contrast.\"&IF(VALUE(LEFT(RIGHT('Colour Contrast Analysis'!AI4,LEN('Colour Contrast Analysis'!AI4)-FIND(\"+\",'Colour Contrast Analysis'!AI4)-2),LEN(RIGHT('Colour Contrast Analysis'!AI4,LEN('Colour Contrast Analysis'!AI4)-FIND(\"+\",'Colour Contrast Analysis'!AI4)-2))-11))=0,\"\",IF(VALUE(LEFT(RIGHT('Colour Contrast Analysis'!AI4,LEN('Colour Contrast Analysis'!AI4)-FIND(\"+\",'Colour Contrast Analysis'!AI4)-2),LEN(RIGHT('Colour Contrast Analysis'!AI4,LEN('Colour Contrast Analysis'!AI4)-FIND(\"+\",'Colour Contrast Analysis'!AI4)-2))-11))=1,CHAR(10)&VALUE(LEFT(RIGHT('Colour Contrast Analysis'!AI4,LEN('Colour Contrast Analysis'!AI4)-FIND(\"+\",'Colour Contrast Analysis'!AI4)-2),LEN(RIGHT('Colour Contrast Analysis'!AI4,LEN('Colour Contrast Analysis'!AI4)-FIND(\"+\",'Colour Contrast Analysis'!AI4)-2))-11)) & \" combination of foreground and background colours is technically conformant, but its contrast should be increased.\",CHAR(10)&VALUE(LEFT(RIGHT('Colour Contrast Analysis'!AI4,LEN('Colour Contrast Analysis'!AI4)-FIND(\"+\",'Colour Contrast Analysis'!AI4)-2),LEN(RIGHT('Colour Contrast Analysis'!AI4,LEN('Colour Contrast Analysis'!AI4)-FIND(\"+\",'Colour Contrast Analysis'!AI4)-2))-11)) & \" combinations of foreground and background colours are technically conformant, but their contrast should be increased.\")) & CHAR(10) & \"Please see the Colour Contrast Analysis worksheet.\"","v":"1 combination of foreground and background colours does not have sufficient contrast.\nPlease see the Colour Contrast Analysis worksheet."},{"$f":"LEFT('Colour Contrast Analysis'!AJ4,FIND(\" \",'Colour Contrast Analysis'!AJ4)-1)&\" combination\"&IF(VALUE(LEFT('Colour Contrast Analysis'!AJ4,FIND(\" \",'Colour Contrast Analysis'!AJ4)))=1,\"\",\"s\")&\" of foreground and background colours do\"&IF(VALUE(LEFT('Colour Contrast Analysis'!AJ4,FIND(\" \",'Colour Contrast Analysis'!AJ4)))=1,\"es\",\"\")&\" not have sufficient contrast.\"&IF(VALUE(LEFT(RIGHT('Colour Contrast Analysis'!AJ4,LEN('Colour Contrast Analysis'!AJ4)-FIND(\"+\",'Colour Contrast Analysis'!AJ4)-2),LEN(RIGHT('Colour Contrast Analysis'!AJ4,LEN('Colour Contrast Analysis'!AJ4)-FIND(\"+\",'Colour Contrast Analysis'!AJ4)-2))-11))=0,\"\",IF(VALUE(LEFT(RIGHT('Colour Contrast Analysis'!AJ4,LEN('Colour Contrast Analysis'!AJ4)-FIND(\"+\",'Colour Contrast Analysis'!AJ4)-2),LEN(RIGHT('Colour Contrast Analysis'!AJ4,LEN('Colour Contrast Analysis'!AJ4)-FIND(\"+\",'Colour Contrast Analysis'!AJ4)-2))-11))=1,CHAR(10)&VALUE(LEFT(RIGHT('Colour Contrast Analysis'!AJ4,LEN('Colour Contrast Analysis'!AJ4)-FIND(\"+\",'Colour Contrast Analysis'!AJ4)-2),LEN(RIGHT('Colour Contrast Analysis'!AJ4,LEN('Colour Contrast Analysis'!AJ4)-FIND(\"+\",'Colour Contrast Analysis'!AJ4)-2))-11)) & \" combination of foreground and background colours is technically conformant, but its contrast should be increased.\",CHAR(10)&VALUE(LEFT(RIGHT('Colour Contrast Analysis'!AJ4,LEN('Colour Contrast Analysis'!AJ4)-FIND(\"+\",'Colour Contrast Analysis'!AJ4)-2),LEN(RIGHT('Colour Contrast Analysis'!AJ4,LEN('Colour Contrast Analysis'!AJ4)-FIND(\"+\",'Colour Contrast Analysis'!AJ4)-2))-11)) & \" combinations of foreground and background colours are technically conformant, but their contrast should be increased.\")) & CHAR(10) & \"Please see the Colour Contrast Analysis worksheet.\"","v":"0 combinations of foreground and background colours do not have sufficient contrast.\nPlease see the Colour Contrast Analysis worksheet."},{"$f":"LEFT('Colour Contrast Analysis'!AK4,FIND(\" \",'Colour Contrast Analysis'!AK4)-1)&\" combination\"&IF(VALUE(LEFT('Colour Contrast Analysis'!AK4,FIND(\" \",'Colour Contrast Analysis'!AK4)))=1,\"\",\"s\")&\" of foreground and background colours do\"&IF(VALUE(LEFT('Colour Contrast Analysis'!AK4,FIND(\" \",'Colour Contrast Analysis'!AK4)))=1,\"es\",\"\")&\" not have sufficient contrast.\"&IF(VALUE(LEFT(RIGHT('Colour Contrast Analysis'!AK4,LEN('Colour Contrast Analysis'!AK4)-FIND(\"+\",'Colour Contrast Analysis'!AK4)-2),LEN(RIGHT('Colour Contrast Analysis'!AK4,LEN('Colour Contrast Analysis'!AK4)-FIND(\"+\",'Colour Contrast Analysis'!AK4)-2))-11))=0,\"\",IF(VALUE(LEFT(RIGHT('Colour Contrast Analysis'!AK4,LEN('Colour Contrast Analysis'!AK4)-FIND(\"+\",'Colour Contrast Analysis'!AK4)-2),LEN(RIGHT('Colour Contrast Analysis'!AK4,LEN('Colour Contrast Analysis'!AK4)-FIND(\"+\",'Colour Contrast Analysis'!AK4)-2))-11))=1,CHAR(10)&VALUE(LEFT(RIGHT('Colour Contrast Analysis'!AK4,LEN('Colour Contrast Analysis'!AK4)-FIND(\"+\",'Colour Contrast Analysis'!AK4)-2),LEN(RIGHT('Colour Contrast Analysis'!AK4,LEN('Colour Contrast Analysis'!AK4)-FIND(\"+\",'Colour Contrast Analysis'!AK4)-2))-11)) & \" combination of foreground and background colours is technically conformant, but its contrast should be increased.\",CHAR(10)&VALUE(LEFT(RIGHT('Colour Contrast Analysis'!AK4,LEN('Colour Contrast Analysis'!AK4)-FIND(\"+\",'Colour Contrast Analysis'!AK4)-2),LEN(RIGHT('Colour Contrast Analysis'!AK4,LEN('Colour Contrast Analysis'!AK4)-FIND(\"+\",'Colour Contrast Analysis'!AK4)-2))-11)) & \" combinations of foreground and background colours are technically conformant, but their contrast should be increased.\")) & CHAR(10) & \"Please see the Colour Contrast Analysis worksheet.\"","v":"0 combinations of foreground and background colours do not have sufficient contrast.\nPlease see the Colour Contrast Analysis worksheet."},{"$f":"LEFT('Colour Contrast Analysis'!AL4,FIND(\" \",'Colour Contrast Analysis'!AL4)-1)&\" combination\"&IF(VALUE(LEFT('Colour Contrast Analysis'!AL4,FIND(\" \",'Colour Contrast Analysis'!AL4)))=1,\"\",\"s\")&\" of foreground and background colours do\"&IF(VALUE(LEFT('Colour Contrast Analysis'!AL4,FIND(\" \",'Colour Contrast Analysis'!AL4)))=1,\"es\",\"\")&\" not have sufficient contrast.\"&IF(VALUE(LEFT(RIGHT('Colour Contrast Analysis'!AL4,LEN('Colour Contrast Analysis'!AL4)-FIND(\"+\",'Colour Contrast Analysis'!AL4)-2),LEN(RIGHT('Colour Contrast Analysis'!AL4,LEN('Colour Contrast Analysis'!AL4)-FIND(\"+\",'Colour Contrast Analysis'!AL4)-2))-11))=0,\"\",IF(VALUE(LEFT(RIGHT('Colour Contrast Analysis'!AL4,LEN('Colour Contrast Analysis'!AL4)-FIND(\"+\",'Colour Contrast Analysis'!AL4)-2),LEN(RIGHT('Colour Contrast Analysis'!AL4,LEN('Colour Contrast Analysis'!AL4)-FIND(\"+\",'Colour Contrast Analysis'!AL4)-2))-11))=1,CHAR(10)&VALUE(LEFT(RIGHT('Colour Contrast Analysis'!AL4,LEN('Colour Contrast Analysis'!AL4)-FIND(\"+\",'Colour Contrast Analysis'!AL4)-2),LEN(RIGHT('Colour Contrast Analysis'!AL4,LEN('Colour Contrast Analysis'!AL4)-FIND(\"+\",'Colour Contrast Analysis'!AL4)-2))-11)) & \" combination of foreground and background colours is technically conformant, but its contrast should be increased.\",CHAR(10)&VALUE(LEFT(RIGHT('Colour Contrast Analysis'!AL4,LEN('Colour Contrast Analysis'!AL4)-FIND(\"+\",'Colour Contrast Analysis'!AL4)-2),LEN(RIGHT('Colour Contrast Analysis'!AL4,LEN('Colour Contrast Analysis'!AL4)-FIND(\"+\",'Colour Contrast Analysis'!AL4)-2))-11)) & \" combinations of foreground and background colours are technically conformant, but their contrast should be increased.\")) & CHAR(10) & \"Please see the Colour Contrast Analysis worksheet.\"","v":"0 combinations of foreground and background colours do not have sufficient contrast.\nPlease see the Colour Contrast Analysis worksheet."},{"$f":"LEFT('Colour Contrast Analysis'!AM4,FIND(\" \",'Colour Contrast Analysis'!AM4)-1)&\" combination\"&IF(VALUE(LEFT('Colour Contrast Analysis'!AM4,FIND(\" \",'Colour Contrast Analysis'!AM4)))=1,\"\",\"s\")&\" of foreground and background colours do\"&IF(VALUE(LEFT('Colour Contrast Analysis'!AM4,FIND(\" \",'Colour Contrast Analysis'!AM4)))=1,\"es\",\"\")&\" not have sufficient contrast.\"&IF(VALUE(LEFT(RIGHT('Colour Contrast Analysis'!AM4,LEN('Colour Contrast Analysis'!AM4)-FIND(\"+\",'Colour Contrast Analysis'!AM4)-2),LEN(RIGHT('Colour Contrast Analysis'!AM4,LEN('Colour Contrast Analysis'!AM4)-FIND(\"+\",'Colour Contrast Analysis'!AM4)-2))-11))=0,\"\",IF(VALUE(LEFT(RIGHT('Colour Contrast Analysis'!AM4,LEN('Colour Contrast Analysis'!AM4)-FIND(\"+\",'Colour Contrast Analysis'!AM4)-2),LEN(RIGHT('Colour Contrast Analysis'!AM4,LEN('Colour Contrast Analysis'!AM4)-FIND(\"+\",'Colour Contrast Analysis'!AM4)-2))-11))=1,CHAR(10)&VALUE(LEFT(RIGHT('Colour Contrast Analysis'!AM4,LEN('Colour Contrast Analysis'!AM4)-FIND(\"+\",'Colour Contrast Analysis'!AM4)-2),LEN(RIGHT('Colour Contrast Analysis'!AM4,LEN('Colour Contrast Analysis'!AM4)-FIND(\"+\",'Colour Contrast Analysis'!AM4)-2))-11)) & \" combination of foreground and background colours is technically conformant, but its contrast should be increased.\",CHAR(10)&VALUE(LEFT(RIGHT('Colour Contrast Analysis'!AM4,LEN('Colour Contrast Analysis'!AM4)-FIND(\"+\",'Colour Contrast Analysis'!AM4)-2),LEN(RIGHT('Colour Contrast Analysis'!AM4,LEN('Colour Contrast Analysis'!AM4)-FIND(\"+\",'Colour Contrast Analysis'!AM4)-2))-11)) & \" combinations of foreground and background colours are technically conformant, but their contrast should be increased.\")) & CHAR(10) & \"Please see the Colour Contrast Analysis worksheet.\"","v":"0 combinations of foreground and background colours do not have sufficient contrast.\nPlease see the Colour Contrast Analysis worksheet."},{"$f":"LEFT('Colour Contrast Analysis'!AN4,FIND(\" \",'Colour Contrast Analysis'!AN4)-1)&\" combination\"&IF(VALUE(LEFT('Colour Contrast Analysis'!AN4,FIND(\" \",'Colour Contrast Analysis'!AN4)))=1,\"\",\"s\")&\" of foreground and background colours do\"&IF(VALUE(LEFT('Colour Contrast Analysis'!AN4,FIND(\" \",'Colour Contrast Analysis'!AN4)))=1,\"es\",\"\")&\" not have sufficient contrast.\"&IF(VALUE(LEFT(RIGHT('Colour Contrast Analysis'!AN4,LEN('Colour Contrast Analysis'!AN4)-FIND(\"+\",'Colour Contrast Analysis'!AN4)-2),LEN(RIGHT('Colour Contrast Analysis'!AN4,LEN('Colour Contrast Analysis'!AN4)-FIND(\"+\",'Colour Contrast Analysis'!AN4)-2))-11))=0,\"\",IF(VALUE(LEFT(RIGHT('Colour Contrast Analysis'!AN4,LEN('Colour Contrast Analysis'!AN4)-FIND(\"+\",'Colour Contrast Analysis'!AN4)-2),LEN(RIGHT('Colour Contrast Analysis'!AN4,LEN('Colour Contrast Analysis'!AN4)-FIND(\"+\",'Colour Contrast Analysis'!AN4)-2))-11))=1,CHAR(10)&VALUE(LEFT(RIGHT('Colour Contrast Analysis'!AN4,LEN('Colour Contrast Analysis'!AN4)-FIND(\"+\",'Colour Contrast Analysis'!AN4)-2),LEN(RIGHT('Colour Contrast Analysis'!AN4,LEN('Colour Contrast Analysis'!AN4)-FIND(\"+\",'Colour Contrast Analysis'!AN4)-2))-11)) & \" combination of foreground and background colours is technically conformant, but its contrast should be increased.\",CHAR(10)&VALUE(LEFT(RIGHT('Colour Contrast Analysis'!AN4,LEN('Colour Contrast Analysis'!AN4)-FIND(\"+\",'Colour Contrast Analysis'!AN4)-2),LEN(RIGHT('Colour Contrast Analysis'!AN4,LEN('Colour Contrast Analysis'!AN4)-FIND(\"+\",'Colour Contrast Analysis'!AN4)-2))-11)) & \" combinations of foreground and background colours are technically conformant, but their contrast should be increased.\")) & CHAR(10) & \"Please see the Colour Contrast Analysis worksheet.\"","v":"1 combination of foreground and background colours does not have sufficient contrast.\nPlease see the Colour Contrast Analysis worksheet."},{"$f":"LEFT('Colour Contrast Analysis'!AO4,FIND(\" \",'Colour Contrast Analysis'!AO4)-1)&\" combination\"&IF(VALUE(LEFT('Colour Contrast Analysis'!AO4,FIND(\" \",'Colour Contrast Analysis'!AO4)))=1,\"\",\"s\")&\" of foreground and background colours do\"&IF(VALUE(LEFT('Colour Contrast Analysis'!AO4,FIND(\" \",'Colour Contrast Analysis'!AO4)))=1,\"es\",\"\")&\" not have sufficient contrast.\"&IF(VALUE(LEFT(RIGHT('Colour Contrast Analysis'!AO4,LEN('Colour Contrast Analysis'!AO4)-FIND(\"+\",'Colour Contrast Analysis'!AO4)-2),LEN(RIGHT('Colour Contrast Analysis'!AO4,LEN('Colour Contrast Analysis'!AO4)-FIND(\"+\",'Colour Contrast Analysis'!AO4)-2))-11))=0,\"\",IF(VALUE(LEFT(RIGHT('Colour Contrast Analysis'!AO4,LEN('Colour Contrast Analysis'!AO4)-FIND(\"+\",'Colour Contrast Analysis'!AO4)-2),LEN(RIGHT('Colour Contrast Analysis'!AO4,LEN('Colour Contrast Analysis'!AO4)-FIND(\"+\",'Colour Contrast Analysis'!AO4)-2))-11))=1,CHAR(10)&VALUE(LEFT(RIGHT('Colour Contrast Analysis'!AO4,LEN('Colour Contrast Analysis'!AO4)-FIND(\"+\",'Colour Contrast Analysis'!AO4)-2),LEN(RIGHT('Colour Contrast Analysis'!AO4,LEN('Colour Contrast Analysis'!AO4)-FIND(\"+\",'Colour Contrast Analysis'!AO4)-2))-11)) & \" combination of foreground and background colours is technically conformant, but its contrast should be increased.\",CHAR(10)&VALUE(LEFT(RIGHT('Colour Contrast Analysis'!AO4,LEN('Colour Contrast Analysis'!AO4)-FIND(\"+\",'Colour Contrast Analysis'!AO4)-2),LEN(RIGHT('Colour Contrast Analysis'!AO4,LEN('Colour Contrast Analysis'!AO4)-FIND(\"+\",'Colour Contrast Analysis'!AO4)-2))-11)) & \" combinations of foreground and background colours are technically conformant, but their contrast should be increased.\")) & CHAR(10) & \"Please see the Colour Contrast Analysis worksheet.\"","v":"0 combinations of foreground and background colours do not have sufficient contrast.\nPlease see the Colour Contrast Analysis worksheet."},{"$f":"LEFT('Colour Contrast Analysis'!AP4,FIND(\" \",'Colour Contrast Analysis'!AP4)-1)&\" combination\"&IF(VALUE(LEFT('Colour Contrast Analysis'!AP4,FIND(\" \",'Colour Contrast Analysis'!AP4)))=1,\"\",\"s\")&\" of foreground and background colours do\"&IF(VALUE(LEFT('Colour Contrast Analysis'!AP4,FIND(\" \",'Colour Contrast Analysis'!AP4)))=1,\"es\",\"\")&\" not have sufficient contrast.\"&IF(VALUE(LEFT(RIGHT('Colour Contrast Analysis'!AP4,LEN('Colour Contrast Analysis'!AP4)-FIND(\"+\",'Colour Contrast Analysis'!AP4)-2),LEN(RIGHT('Colour Contrast Analysis'!AP4,LEN('Colour Contrast Analysis'!AP4)-FIND(\"+\",'Colour Contrast Analysis'!AP4)-2))-11))=0,\"\",IF(VALUE(LEFT(RIGHT('Colour Contrast Analysis'!AP4,LEN('Colour Contrast Analysis'!AP4)-FIND(\"+\",'Colour Contrast Analysis'!AP4)-2),LEN(RIGHT('Colour Contrast Analysis'!AP4,LEN('Colour Contrast Analysis'!AP4)-FIND(\"+\",'Colour Contrast Analysis'!AP4)-2))-11))=1,CHAR(10)&VALUE(LEFT(RIGHT('Colour Contrast Analysis'!AP4,LEN('Colour Contrast Analysis'!AP4)-FIND(\"+\",'Colour Contrast Analysis'!AP4)-2),LEN(RIGHT('Colour Contrast Analysis'!AP4,LEN('Colour Contrast Analysis'!AP4)-FIND(\"+\",'Colour Contrast Analysis'!AP4)-2))-11)) & \" combination of foreground and background colours is technically conformant, but its contrast should be increased.\",CHAR(10)&VALUE(LEFT(RIGHT('Colour Contrast Analysis'!AP4,LEN('Colour Contrast Analysis'!AP4)-FIND(\"+\",'Colour Contrast Analysis'!AP4)-2),LEN(RIGHT('Colour Contrast Analysis'!AP4,LEN('Colour Contrast Analysis'!AP4)-FIND(\"+\",'Colour Contrast Analysis'!AP4)-2))-11)) & \" combinations of foreground and background colours are technically conformant, but their contrast should be increased.\")) & CHAR(10) & \"Please see the Colour Contrast Analysis worksheet.\"","v":"1 combination of foreground and background colours does not have sufficient contrast.\nPlease see the Colour Contrast Analysis worksheet."},{"$f":"LEFT('Colour Contrast Analysis'!AQ4,FIND(\" \",'Colour Contrast Analysis'!AQ4)-1)&\" combination\"&IF(VALUE(LEFT('Colour Contrast Analysis'!AQ4,FIND(\" \",'Colour Contrast Analysis'!AQ4)))=1,\"\",\"s\")&\" of foreground and background colours do\"&IF(VALUE(LEFT('Colour Contrast Analysis'!AQ4,FIND(\" \",'Colour Contrast Analysis'!AQ4)))=1,\"es\",\"\")&\" not have sufficient contrast.\"&IF(VALUE(LEFT(RIGHT('Colour Contrast Analysis'!AQ4,LEN('Colour Contrast Analysis'!AQ4)-FIND(\"+\",'Colour Contrast Analysis'!AQ4)-2),LEN(RIGHT('Colour Contrast Analysis'!AQ4,LEN('Colour Contrast Analysis'!AQ4)-FIND(\"+\",'Colour Contrast Analysis'!AQ4)-2))-11))=0,\"\",IF(VALUE(LEFT(RIGHT('Colour Contrast Analysis'!AQ4,LEN('Colour Contrast Analysis'!AQ4)-FIND(\"+\",'Colour Contrast Analysis'!AQ4)-2),LEN(RIGHT('Colour Contrast Analysis'!AQ4,LEN('Colour Contrast Analysis'!AQ4)-FIND(\"+\",'Colour Contrast Analysis'!AQ4)-2))-11))=1,CHAR(10)&VALUE(LEFT(RIGHT('Colour Contrast Analysis'!AQ4,LEN('Colour Contrast Analysis'!AQ4)-FIND(\"+\",'Colour Contrast Analysis'!AQ4)-2),LEN(RIGHT('Colour Contrast Analysis'!AQ4,LEN('Colour Contrast Analysis'!AQ4)-FIND(\"+\",'Colour Contrast Analysis'!AQ4)-2))-11)) & \" combination of foreground and background colours is technically conformant, but its contrast should be increased.\",CHAR(10)&VALUE(LEFT(RIGHT('Colour Contrast Analysis'!AQ4,LEN('Colour Contrast Analysis'!AQ4)-FIND(\"+\",'Colour Contrast Analysis'!AQ4)-2),LEN(RIGHT('Colour Contrast Analysis'!AQ4,LEN('Colour Contrast Analysis'!AQ4)-FIND(\"+\",'Colour Contrast Analysis'!AQ4)-2))-11)) & \" combinations of foreground and background colours are technically conformant, but their contrast should be increased.\")) & CHAR(10) & \"Please see the Colour Contrast Analysis worksheet.\"","v":"0 combinations of foreground and background colours do not have sufficient contrast.\nPlease see the Colour Contrast Analysis worksheet."},{"$f":"LEFT('Colour Contrast Analysis'!AR4,FIND(\" \",'Colour Contrast Analysis'!AR4)-1)&\" combination\"&IF(VALUE(LEFT('Colour Contrast Analysis'!AR4,FIND(\" \",'Colour Contrast Analysis'!AR4)))=1,\"\",\"s\")&\" of foreground and background colours do\"&IF(VALUE(LEFT('Colour Contrast Analysis'!AR4,FIND(\" \",'Colour Contrast Analysis'!AR4)))=1,\"es\",\"\")&\" not have sufficient contrast.\"&IF(VALUE(LEFT(RIGHT('Colour Contrast Analysis'!AR4,LEN('Colour Contrast Analysis'!AR4)-FIND(\"+\",'Colour Contrast Analysis'!AR4)-2),LEN(RIGHT('Colour Contrast Analysis'!AR4,LEN('Colour Contrast Analysis'!AR4)-FIND(\"+\",'Colour Contrast Analysis'!AR4)-2))-11))=0,\"\",IF(VALUE(LEFT(RIGHT('Colour Contrast Analysis'!AR4,LEN('Colour Contrast Analysis'!AR4)-FIND(\"+\",'Colour Contrast Analysis'!AR4)-2),LEN(RIGHT('Colour Contrast Analysis'!AR4,LEN('Colour Contrast Analysis'!AR4)-FIND(\"+\",'Colour Contrast Analysis'!AR4)-2))-11))=1,CHAR(10)&VALUE(LEFT(RIGHT('Colour Contrast Analysis'!AR4,LEN('Colour Contrast Analysis'!AR4)-FIND(\"+\",'Colour Contrast Analysis'!AR4)-2),LEN(RIGHT('Colour Contrast Analysis'!AR4,LEN('Colour Contrast Analysis'!AR4)-FIND(\"+\",'Colour Contrast Analysis'!AR4)-2))-11)) & \" combination of foreground and background colours is technically conformant, but its contrast should be increased.\",CHAR(10)&VALUE(LEFT(RIGHT('Colour Contrast Analysis'!AR4,LEN('Colour Contrast Analysis'!AR4)-FIND(\"+\",'Colour Contrast Analysis'!AR4)-2),LEN(RIGHT('Colour Contrast Analysis'!AR4,LEN('Colour Contrast Analysis'!AR4)-FIND(\"+\",'Colour Contrast Analysis'!AR4)-2))-11)) & \" combinations of foreground and background colours are technically conformant, but their contrast should be increased.\")) & CHAR(10) & \"Please see the Colour Contrast Analysis worksheet.\"","v":"0 combinations of foreground and background colours do not have sufficient contrast.\nPlease see the Colour Contrast Analysis worksheet."},{"$f":"LEFT('Colour Contrast Analysis'!AS4,FIND(\" \",'Colour Contrast Analysis'!AS4)-1)&\" combination\"&IF(VALUE(LEFT('Colour Contrast Analysis'!AS4,FIND(\" \",'Colour Contrast Analysis'!AS4)))=1,\"\",\"s\")&\" of foreground and background colours do\"&IF(VALUE(LEFT('Colour Contrast Analysis'!AS4,FIND(\" \",'Colour Contrast Analysis'!AS4)))=1,\"es\",\"\")&\" not have sufficient contrast.\"&IF(VALUE(LEFT(RIGHT('Colour Contrast Analysis'!AS4,LEN('Colour Contrast Analysis'!AS4)-FIND(\"+\",'Colour Contrast Analysis'!AS4)-2),LEN(RIGHT('Colour Contrast Analysis'!AS4,LEN('Colour Contrast Analysis'!AS4)-FIND(\"+\",'Colour Contrast Analysis'!AS4)-2))-11))=0,\"\",IF(VALUE(LEFT(RIGHT('Colour Contrast Analysis'!AS4,LEN('Colour Contrast Analysis'!AS4)-FIND(\"+\",'Colour Contrast Analysis'!AS4)-2),LEN(RIGHT('Colour Contrast Analysis'!AS4,LEN('Colour Contrast Analysis'!AS4)-FIND(\"+\",'Colour Contrast Analysis'!AS4)-2))-11))=1,CHAR(10)&VALUE(LEFT(RIGHT('Colour Contrast Analysis'!AS4,LEN('Colour Contrast Analysis'!AS4)-FIND(\"+\",'Colour Contrast Analysis'!AS4)-2),LEN(RIGHT('Colour Contrast Analysis'!AS4,LEN('Colour Contrast Analysis'!AS4)-FIND(\"+\",'Colour Contrast Analysis'!AS4)-2))-11)) & \" combination of foreground and background colours is technically conformant, but its contrast should be increased.\",CHAR(10)&VALUE(LEFT(RIGHT('Colour Contrast Analysis'!AS4,LEN('Colour Contrast Analysis'!AS4)-FIND(\"+\",'Colour Contrast Analysis'!AS4)-2),LEN(RIGHT('Colour Contrast Analysis'!AS4,LEN('Colour Contrast Analysis'!AS4)-FIND(\"+\",'Colour Contrast Analysis'!AS4)-2))-11)) & \" combinations of foreground and background colours are technically conformant, but their contrast should be increased.\")) & CHAR(10) & \"Please see the Colour Contrast Analysis worksheet.\"","v":"0 combinations of foreground and background colours do not have sufficient contrast.\nPlease see the Colour Contrast Analysis worksheet."},{"$f":"LEFT('Colour Contrast Analysis'!AT4,FIND(\" \",'Colour Contrast Analysis'!AT4)-1)&\" combination\"&IF(VALUE(LEFT('Colour Contrast Analysis'!AT4,FIND(\" \",'Colour Contrast Analysis'!AT4)))=1,\"\",\"s\")&\" of foreground and background colours do\"&IF(VALUE(LEFT('Colour Contrast Analysis'!AT4,FIND(\" \",'Colour Contrast Analysis'!AT4)))=1,\"es\",\"\")&\" not have sufficient contrast.\"&IF(VALUE(LEFT(RIGHT('Colour Contrast Analysis'!AT4,LEN('Colour Contrast Analysis'!AT4)-FIND(\"+\",'Colour Contrast Analysis'!AT4)-2),LEN(RIGHT('Colour Contrast Analysis'!AT4,LEN('Colour Contrast Analysis'!AT4)-FIND(\"+\",'Colour Contrast Analysis'!AT4)-2))-11))=0,\"\",IF(VALUE(LEFT(RIGHT('Colour Contrast Analysis'!AT4,LEN('Colour Contrast Analysis'!AT4)-FIND(\"+\",'Colour Contrast Analysis'!AT4)-2),LEN(RIGHT('Colour Contrast Analysis'!AT4,LEN('Colour Contrast Analysis'!AT4)-FIND(\"+\",'Colour Contrast Analysis'!AT4)-2))-11))=1,CHAR(10)&VALUE(LEFT(RIGHT('Colour Contrast Analysis'!AT4,LEN('Colour Contrast Analysis'!AT4)-FIND(\"+\",'Colour Contrast Analysis'!AT4)-2),LEN(RIGHT('Colour Contrast Analysis'!AT4,LEN('Colour Contrast Analysis'!AT4)-FIND(\"+\",'Colour Contrast Analysis'!AT4)-2))-11)) & \" combination of foreground and background colours is technically conformant, but its contrast should be increased.\",CHAR(10)&VALUE(LEFT(RIGHT('Colour Contrast Analysis'!AT4,LEN('Colour Contrast Analysis'!AT4)-FIND(\"+\",'Colour Contrast Analysis'!AT4)-2),LEN(RIGHT('Colour Contrast Analysis'!AT4,LEN('Colour Contrast Analysis'!AT4)-FIND(\"+\",'Colour Contrast Analysis'!AT4)-2))-11)) & \" combinations of foreground and background colours are technically conformant, but their contrast should be increased.\")) & CHAR(10) & \"Please see the Colour Contrast Analysis worksheet.\"","v":"0 combinations of foreground and background colours do not have sufficient contrast.\nPlease see the Colour Contrast Analysis worksheet."},{"$f":"LEFT('Colour Contrast Analysis'!AU4,FIND(\" \",'Colour Contrast Analysis'!AU4)-1)&\" combination\"&IF(VALUE(LEFT('Colour Contrast Analysis'!AU4,FIND(\" \",'Colour Contrast Analysis'!AU4)))=1,\"\",\"s\")&\" of foreground and background colours do\"&IF(VALUE(LEFT('Colour Contrast Analysis'!AU4,FIND(\" \",'Colour Contrast Analysis'!AU4)))=1,\"es\",\"\")&\" not have sufficient contrast.\"&IF(VALUE(LEFT(RIGHT('Colour Contrast Analysis'!AU4,LEN('Colour Contrast Analysis'!AU4)-FIND(\"+\",'Colour Contrast Analysis'!AU4)-2),LEN(RIGHT('Colour Contrast Analysis'!AU4,LEN('Colour Contrast Analysis'!AU4)-FIND(\"+\",'Colour Contrast Analysis'!AU4)-2))-11))=0,\"\",IF(VALUE(LEFT(RIGHT('Colour Contrast Analysis'!AU4,LEN('Colour Contrast Analysis'!AU4)-FIND(\"+\",'Colour Contrast Analysis'!AU4)-2),LEN(RIGHT('Colour Contrast Analysis'!AU4,LEN('Colour Contrast Analysis'!AU4)-FIND(\"+\",'Colour Contrast Analysis'!AU4)-2))-11))=1,CHAR(10)&VALUE(LEFT(RIGHT('Colour Contrast Analysis'!AU4,LEN('Colour Contrast Analysis'!AU4)-FIND(\"+\",'Colour Contrast Analysis'!AU4)-2),LEN(RIGHT('Colour Contrast Analysis'!AU4,LEN('Colour Contrast Analysis'!AU4)-FIND(\"+\",'Colour Contrast Analysis'!AU4)-2))-11)) & \" combination of foreground and background colours is technically conformant, but its contrast should be increased.\",CHAR(10)&VALUE(LEFT(RIGHT('Colour Contrast Analysis'!AU4,LEN('Colour Contrast Analysis'!AU4)-FIND(\"+\",'Colour Contrast Analysis'!AU4)-2),LEN(RIGHT('Colour Contrast Analysis'!AU4,LEN('Colour Contrast Analysis'!AU4)-FIND(\"+\",'Colour Contrast Analysis'!AU4)-2))-11)) & \" combinations of foreground and background colours are technically conformant, but their contrast should be increased.\")) & CHAR(10) & \"Please see the Colour Contrast Analysis worksheet.\"","v":"0 combinations of foreground and background colours do not have sufficient contrast.\nPlease see the Colour Contrast Analysis worksheet."},{"$f":"LEFT('Colour Contrast Analysis'!AV4,FIND(\" \",'Colour Contrast Analysis'!AV4)-1)&\" combination\"&IF(VALUE(LEFT('Colour Contrast Analysis'!AV4,FIND(\" \",'Colour Contrast Analysis'!AV4)))=1,\"\",\"s\")&\" of foreground and background colours do\"&IF(VALUE(LEFT('Colour Contrast Analysis'!AV4,FIND(\" \",'Colour Contrast Analysis'!AV4)))=1,\"es\",\"\")&\" not have sufficient contrast.\"&IF(VALUE(LEFT(RIGHT('Colour Contrast Analysis'!AV4,LEN('Colour Contrast Analysis'!AV4)-FIND(\"+\",'Colour Contrast Analysis'!AV4)-2),LEN(RIGHT('Colour Contrast Analysis'!AV4,LEN('Colour Contrast Analysis'!AV4)-FIND(\"+\",'Colour Contrast Analysis'!AV4)-2))-11))=0,\"\",IF(VALUE(LEFT(RIGHT('Colour Contrast Analysis'!AV4,LEN('Colour Contrast Analysis'!AV4)-FIND(\"+\",'Colour Contrast Analysis'!AV4)-2),LEN(RIGHT('Colour Contrast Analysis'!AV4,LEN('Colour Contrast Analysis'!AV4)-FIND(\"+\",'Colour Contrast Analysis'!AV4)-2))-11))=1,CHAR(10)&VALUE(LEFT(RIGHT('Colour Contrast Analysis'!AV4,LEN('Colour Contrast Analysis'!AV4)-FIND(\"+\",'Colour Contrast Analysis'!AV4)-2),LEN(RIGHT('Colour Contrast Analysis'!AV4,LEN('Colour Contrast Analysis'!AV4)-FIND(\"+\",'Colour Contrast Analysis'!AV4)-2))-11)) & \" combination of foreground and background colours is technically conformant, but its contrast should be increased.\",CHAR(10)&VALUE(LEFT(RIGHT('Colour Contrast Analysis'!AV4,LEN('Colour Contrast Analysis'!AV4)-FIND(\"+\",'Colour Contrast Analysis'!AV4)-2),LEN(RIGHT('Colour Contrast Analysis'!AV4,LEN('Colour Contrast Analysis'!AV4)-FIND(\"+\",'Colour Contrast Analysis'!AV4)-2))-11)) & \" combinations of foreground and background colours are technically conformant, but their contrast should be increased.\")) & CHAR(10) & \"Please see the Colour Contrast Analysis worksheet.\"","v":"0 combinations of foreground and background colours do not have sufficient contrast.\nPlease see the Colour Contrast Analysis worksheet."},{"$f":"LEFT('Colour Contrast Analysis'!AW4,FIND(\" \",'Colour Contrast Analysis'!AW4)-1)&\" combination\"&IF(VALUE(LEFT('Colour Contrast Analysis'!AW4,FIND(\" \",'Colour Contrast Analysis'!AW4)))=1,\"\",\"s\")&\" of foreground and background colours do\"&IF(VALUE(LEFT('Colour Contrast Analysis'!AW4,FIND(\" \",'Colour Contrast Analysis'!AW4)))=1,\"es\",\"\")&\" not have sufficient contrast.\"&IF(VALUE(LEFT(RIGHT('Colour Contrast Analysis'!AW4,LEN('Colour Contrast Analysis'!AW4)-FIND(\"+\",'Colour Contrast Analysis'!AW4)-2),LEN(RIGHT('Colour Contrast Analysis'!AW4,LEN('Colour Contrast Analysis'!AW4)-FIND(\"+\",'Colour Contrast Analysis'!AW4)-2))-11))=0,\"\",IF(VALUE(LEFT(RIGHT('Colour Contrast Analysis'!AW4,LEN('Colour Contrast Analysis'!AW4)-FIND(\"+\",'Colour Contrast Analysis'!AW4)-2),LEN(RIGHT('Colour Contrast Analysis'!AW4,LEN('Colour Contrast Analysis'!AW4)-FIND(\"+\",'Colour Contrast Analysis'!AW4)-2))-11))=1,CHAR(10)&VALUE(LEFT(RIGHT('Colour Contrast Analysis'!AW4,LEN('Colour Contrast Analysis'!AW4)-FIND(\"+\",'Colour Contrast Analysis'!AW4)-2),LEN(RIGHT('Colour Contrast Analysis'!AW4,LEN('Colour Contrast Analysis'!AW4)-FIND(\"+\",'Colour Contrast Analysis'!AW4)-2))-11)) & \" combination of foreground and background colours is technically conformant, but its contrast should be increased.\",CHAR(10)&VALUE(LEFT(RIGHT('Colour Contrast Analysis'!AW4,LEN('Colour Contrast Analysis'!AW4)-FIND(\"+\",'Colour Contrast Analysis'!AW4)-2),LEN(RIGHT('Colour Contrast Analysis'!AW4,LEN('Colour Contrast Analysis'!AW4)-FIND(\"+\",'Colour Contrast Analysis'!AW4)-2))-11)) & \" combinations of foreground and background colours are technically conformant, but their contrast should be increased.\")) & CHAR(10) & \"Please see the Colour Contrast Analysis worksheet.\"","v":"0 combinations of foreground and background colours do not have sufficient contrast.\nPlease see the Colour Contrast Analysis worksheet."},{"$f":"LEFT('Colour Contrast Analysis'!AX4,FIND(\" \",'Colour Contrast Analysis'!AX4)-1)&\" combination\"&IF(VALUE(LEFT('Colour Contrast Analysis'!AX4,FIND(\" \",'Colour Contrast Analysis'!AX4)))=1,\"\",\"s\")&\" of foreground and background colours do\"&IF(VALUE(LEFT('Colour Contrast Analysis'!AX4,FIND(\" \",'Colour Contrast Analysis'!AX4)))=1,\"es\",\"\")&\" not have sufficient contrast.\"&IF(VALUE(LEFT(RIGHT('Colour Contrast Analysis'!AX4,LEN('Colour Contrast Analysis'!AX4)-FIND(\"+\",'Colour Contrast Analysis'!AX4)-2),LEN(RIGHT('Colour Contrast Analysis'!AX4,LEN('Colour Contrast Analysis'!AX4)-FIND(\"+\",'Colour Contrast Analysis'!AX4)-2))-11))=0,\"\",IF(VALUE(LEFT(RIGHT('Colour Contrast Analysis'!AX4,LEN('Colour Contrast Analysis'!AX4)-FIND(\"+\",'Colour Contrast Analysis'!AX4)-2),LEN(RIGHT('Colour Contrast Analysis'!AX4,LEN('Colour Contrast Analysis'!AX4)-FIND(\"+\",'Colour Contrast Analysis'!AX4)-2))-11))=1,CHAR(10)&VALUE(LEFT(RIGHT('Colour Contrast Analysis'!AX4,LEN('Colour Contrast Analysis'!AX4)-FIND(\"+\",'Colour Contrast Analysis'!AX4)-2),LEN(RIGHT('Colour Contrast Analysis'!AX4,LEN('Colour Contrast Analysis'!AX4)-FIND(\"+\",'Colour Contrast Analysis'!AX4)-2))-11)) & \" combination of foreground and background colours is technically conformant, but its contrast should be increased.\",CHAR(10)&VALUE(LEFT(RIGHT('Colour Contrast Analysis'!AX4,LEN('Colour Contrast Analysis'!AX4)-FIND(\"+\",'Colour Contrast Analysis'!AX4)-2),LEN(RIGHT('Colour Contrast Analysis'!AX4,LEN('Colour Contrast Analysis'!AX4)-FIND(\"+\",'Colour Contrast Analysis'!AX4)-2))-11)) & \" combinations of foreground and background colours are technically conformant, but their contrast should be increased.\")) & CHAR(10) & \"Please see the Colour Contrast Analysis worksheet.\"","v":"0 combinations of foreground and background colours do not have sufficient contrast.\nPlease see the Colour Contrast Analysis worksheet."},{"$f":"LEFT('Colour Contrast Analysis'!AY4,FIND(\" \",'Colour Contrast Analysis'!AY4)-1)&\" combination\"&IF(VALUE(LEFT('Colour Contrast Analysis'!AY4,FIND(\" \",'Colour Contrast Analysis'!AY4)))=1,\"\",\"s\")&\" of foreground and background colours do\"&IF(VALUE(LEFT('Colour Contrast Analysis'!AY4,FIND(\" \",'Colour Contrast Analysis'!AY4)))=1,\"es\",\"\")&\" not have sufficient contrast.\"&IF(VALUE(LEFT(RIGHT('Colour Contrast Analysis'!AY4,LEN('Colour Contrast Analysis'!AY4)-FIND(\"+\",'Colour Contrast Analysis'!AY4)-2),LEN(RIGHT('Colour Contrast Analysis'!AY4,LEN('Colour Contrast Analysis'!AY4)-FIND(\"+\",'Colour Contrast Analysis'!AY4)-2))-11))=0,\"\",IF(VALUE(LEFT(RIGHT('Colour Contrast Analysis'!AY4,LEN('Colour Contrast Analysis'!AY4)-FIND(\"+\",'Colour Contrast Analysis'!AY4)-2),LEN(RIGHT('Colour Contrast Analysis'!AY4,LEN('Colour Contrast Analysis'!AY4)-FIND(\"+\",'Colour Contrast Analysis'!AY4)-2))-11))=1,CHAR(10)&VALUE(LEFT(RIGHT('Colour Contrast Analysis'!AY4,LEN('Colour Contrast Analysis'!AY4)-FIND(\"+\",'Colour Contrast Analysis'!AY4)-2),LEN(RIGHT('Colour Contrast Analysis'!AY4,LEN('Colour Contrast Analysis'!AY4)-FIND(\"+\",'Colour Contrast Analysis'!AY4)-2))-11)) & \" combination of foreground and background colours is technically conformant, but its contrast should be increased.\",CHAR(10)&VALUE(LEFT(RIGHT('Colour Contrast Analysis'!AY4,LEN('Colour Contrast Analysis'!AY4)-FIND(\"+\",'Colour Contrast Analysis'!AY4)-2),LEN(RIGHT('Colour Contrast Analysis'!AY4,LEN('Colour Contrast Analysis'!AY4)-FIND(\"+\",'Colour Contrast Analysis'!AY4)-2))-11)) & \" combinations of foreground and background colours are technically conformant, but their contrast should be increased.\")) & CHAR(10) & \"Please see the Colour Contrast Analysis worksheet.\"","v":"0 combinations of foreground and background colours do not have sufficient contrast.\nPlease see the Colour Contrast Analysis worksheet."},{"$f":"LEFT('Colour Contrast Analysis'!AZ4,FIND(\" \",'Colour Contrast Analysis'!AZ4)-1)&\" combination\"&IF(VALUE(LEFT('Colour Contrast Analysis'!AZ4,FIND(\" \",'Colour Contrast Analysis'!AZ4)))=1,\"\",\"s\")&\" of foreground and background colours do\"&IF(VALUE(LEFT('Colour Contrast Analysis'!AZ4,FIND(\" \",'Colour Contrast Analysis'!AZ4)))=1,\"es\",\"\")&\" not have sufficient contrast.\"&IF(VALUE(LEFT(RIGHT('Colour Contrast Analysis'!AZ4,LEN('Colour Contrast Analysis'!AZ4)-FIND(\"+\",'Colour Contrast Analysis'!AZ4)-2),LEN(RIGHT('Colour Contrast Analysis'!AZ4,LEN('Colour Contrast Analysis'!AZ4)-FIND(\"+\",'Colour Contrast Analysis'!AZ4)-2))-11))=0,\"\",IF(VALUE(LEFT(RIGHT('Colour Contrast Analysis'!AZ4,LEN('Colour Contrast Analysis'!AZ4)-FIND(\"+\",'Colour Contrast Analysis'!AZ4)-2),LEN(RIGHT('Colour Contrast Analysis'!AZ4,LEN('Colour Contrast Analysis'!AZ4)-FIND(\"+\",'Colour Contrast Analysis'!AZ4)-2))-11))=1,CHAR(10)&VALUE(LEFT(RIGHT('Colour Contrast Analysis'!AZ4,LEN('Colour Contrast Analysis'!AZ4)-FIND(\"+\",'Colour Contrast Analysis'!AZ4)-2),LEN(RIGHT('Colour Contrast Analysis'!AZ4,LEN('Colour Contrast Analysis'!AZ4)-FIND(\"+\",'Colour Contrast Analysis'!AZ4)-2))-11)) & \" combination of foreground and background colours is technically conformant, but its contrast should be increased.\",CHAR(10)&VALUE(LEFT(RIGHT('Colour Contrast Analysis'!AZ4,LEN('Colour Contrast Analysis'!AZ4)-FIND(\"+\",'Colour Contrast Analysis'!AZ4)-2),LEN(RIGHT('Colour Contrast Analysis'!AZ4,LEN('Colour Contrast Analysis'!AZ4)-FIND(\"+\",'Colour Contrast Analysis'!AZ4)-2))-11)) & \" combinations of foreground and background colours are technically conformant, but their contrast should be increased.\")) & CHAR(10) & \"Please see the Colour Contrast Analysis worksheet.\"","v":"0 combinations of foreground and background colours do not have sufficient contrast.\nPlease see the Colour Contrast Analysis worksheet."},{"$f":"LEFT('Colour Contrast Analysis'!BA4,FIND(\" \",'Colour Contrast Analysis'!BA4)-1)&\" combination\"&IF(VALUE(LEFT('Colour Contrast Analysis'!BA4,FIND(\" \",'Colour Contrast Analysis'!BA4)))=1,\"\",\"s\")&\" of foreground and background colours do\"&IF(VALUE(LEFT('Colour Contrast Analysis'!BA4,FIND(\" \",'Colour Contrast Analysis'!BA4)))=1,\"es\",\"\")&\" not have sufficient contrast.\"&IF(VALUE(LEFT(RIGHT('Colour Contrast Analysis'!BA4,LEN('Colour Contrast Analysis'!BA4)-FIND(\"+\",'Colour Contrast Analysis'!BA4)-2),LEN(RIGHT('Colour Contrast Analysis'!BA4,LEN('Colour Contrast Analysis'!BA4)-FIND(\"+\",'Colour Contrast Analysis'!BA4)-2))-11))=0,\"\",IF(VALUE(LEFT(RIGHT('Colour Contrast Analysis'!BA4,LEN('Colour Contrast Analysis'!BA4)-FIND(\"+\",'Colour Contrast Analysis'!BA4)-2),LEN(RIGHT('Colour Contrast Analysis'!BA4,LEN('Colour Contrast Analysis'!BA4)-FIND(\"+\",'Colour Contrast Analysis'!BA4)-2))-11))=1,CHAR(10)&VALUE(LEFT(RIGHT('Colour Contrast Analysis'!BA4,LEN('Colour Contrast Analysis'!BA4)-FIND(\"+\",'Colour Contrast Analysis'!BA4)-2),LEN(RIGHT('Colour Contrast Analysis'!BA4,LEN('Colour Contrast Analysis'!BA4)-FIND(\"+\",'Colour Contrast Analysis'!BA4)-2))-11)) & \" combination of foreground and background colours is technically conformant, but its contrast should be increased.\",CHAR(10)&VALUE(LEFT(RIGHT('Colour Contrast Analysis'!BA4,LEN('Colour Contrast Analysis'!BA4)-FIND(\"+\",'Colour Contrast Analysis'!BA4)-2),LEN(RIGHT('Colour Contrast Analysis'!BA4,LEN('Colour Contrast Analysis'!BA4)-FIND(\"+\",'Colour Contrast Analysis'!BA4)-2))-11)) & \" combinations of foreground and background colours are technically conformant, but their contrast should be increased.\")) & CHAR(10) & \"Please see the Colour Contrast Analysis worksheet.\"","v":"0 combinations of foreground and background colours do not have sufficient contrast.\nPlease see the Colour Contrast Analysis worksheet."},{"$f":"LEFT('Colour Contrast Analysis'!BB4,FIND(\" \",'Colour Contrast Analysis'!BB4)-1)&\" combination\"&IF(VALUE(LEFT('Colour Contrast Analysis'!BB4,FIND(\" \",'Colour Contrast Analysis'!BB4)))=1,\"\",\"s\")&\" of foreground and background colours do\"&IF(VALUE(LEFT('Colour Contrast Analysis'!BB4,FIND(\" \",'Colour Contrast Analysis'!BB4)))=1,\"es\",\"\")&\" not have sufficient contrast.\"&IF(VALUE(LEFT(RIGHT('Colour Contrast Analysis'!BB4,LEN('Colour Contrast Analysis'!BB4)-FIND(\"+\",'Colour Contrast Analysis'!BB4)-2),LEN(RIGHT('Colour Contrast Analysis'!BB4,LEN('Colour Contrast Analysis'!BB4)-FIND(\"+\",'Colour Contrast Analysis'!BB4)-2))-11))=0,\"\",IF(VALUE(LEFT(RIGHT('Colour Contrast Analysis'!BB4,LEN('Colour Contrast Analysis'!BB4)-FIND(\"+\",'Colour Contrast Analysis'!BB4)-2),LEN(RIGHT('Colour Contrast Analysis'!BB4,LEN('Colour Contrast Analysis'!BB4)-FIND(\"+\",'Colour Contrast Analysis'!BB4)-2))-11))=1,CHAR(10)&VALUE(LEFT(RIGHT('Colour Contrast Analysis'!BB4,LEN('Colour Contrast Analysis'!BB4)-FIND(\"+\",'Colour Contrast Analysis'!BB4)-2),LEN(RIGHT('Colour Contrast Analysis'!BB4,LEN('Colour Contrast Analysis'!BB4)-FIND(\"+\",'Colour Contrast Analysis'!BB4)-2))-11)) & \" combination of foreground and background colours is technically conformant, but its contrast should be increased.\",CHAR(10)&VALUE(LEFT(RIGHT('Colour Contrast Analysis'!BB4,LEN('Colour Contrast Analysis'!BB4)-FIND(\"+\",'Colour Contrast Analysis'!BB4)-2),LEN(RIGHT('Colour Contrast Analysis'!BB4,LEN('Colour Contrast Analysis'!BB4)-FIND(\"+\",'Colour Contrast Analysis'!BB4)-2))-11)) & \" combinations of foreground and background colours are technically conformant, but their contrast should be increased.\")) & CHAR(10) & \"Please see the Colour Contrast Analysis worksheet.\"","v":"0 combinations of foreground and background colours do not have sufficient contrast.\nPlease see the Colour Contrast Analysis worksheet."},{"$f":"LEFT('Colour Contrast Analysis'!BC4,FIND(\" \",'Colour Contrast Analysis'!BC4)-1)&\" combination\"&IF(VALUE(LEFT('Colour Contrast Analysis'!BC4,FIND(\" \",'Colour Contrast Analysis'!BC4)))=1,\"\",\"s\")&\" of foreground and background colours do\"&IF(VALUE(LEFT('Colour Contrast Analysis'!BC4,FIND(\" \",'Colour Contrast Analysis'!BC4)))=1,\"es\",\"\")&\" not have sufficient contrast.\"&IF(VALUE(LEFT(RIGHT('Colour Contrast Analysis'!BC4,LEN('Colour Contrast Analysis'!BC4)-FIND(\"+\",'Colour Contrast Analysis'!BC4)-2),LEN(RIGHT('Colour Contrast Analysis'!BC4,LEN('Colour Contrast Analysis'!BC4)-FIND(\"+\",'Colour Contrast Analysis'!BC4)-2))-11))=0,\"\",IF(VALUE(LEFT(RIGHT('Colour Contrast Analysis'!BC4,LEN('Colour Contrast Analysis'!BC4)-FIND(\"+\",'Colour Contrast Analysis'!BC4)-2),LEN(RIGHT('Colour Contrast Analysis'!BC4,LEN('Colour Contrast Analysis'!BC4)-FIND(\"+\",'Colour Contrast Analysis'!BC4)-2))-11))=1,CHAR(10)&VALUE(LEFT(RIGHT('Colour Contrast Analysis'!BC4,LEN('Colour Contrast Analysis'!BC4)-FIND(\"+\",'Colour Contrast Analysis'!BC4)-2),LEN(RIGHT('Colour Contrast Analysis'!BC4,LEN('Colour Contrast Analysis'!BC4)-FIND(\"+\",'Colour Contrast Analysis'!BC4)-2))-11)) & \" combination of foreground and background colours is technically conformant, but its contrast should be increased.\",CHAR(10)&VALUE(LEFT(RIGHT('Colour Contrast Analysis'!BC4,LEN('Colour Contrast Analysis'!BC4)-FIND(\"+\",'Colour Contrast Analysis'!BC4)-2),LEN(RIGHT('Colour Contrast Analysis'!BC4,LEN('Colour Contrast Analysis'!BC4)-FIND(\"+\",'Colour Contrast Analysis'!BC4)-2))-11)) & \" combinations of foreground and background colours are technically conformant, but their contrast should be increased.\")) & CHAR(10) & \"Please see the Colour Contrast Analysis worksheet.\"","v":"0 combinations of foreground and background colours do not have sufficient contrast.\nPlease see the Colour Contrast Analysis worksheet."},{"$f":"LEFT('Colour Contrast Analysis'!BD4,FIND(\" \",'Colour Contrast Analysis'!BD4)-1)&\" combination\"&IF(VALUE(LEFT('Colour Contrast Analysis'!BD4,FIND(\" \",'Colour Contrast Analysis'!BD4)))=1,\"\",\"s\")&\" of foreground and background colours do\"&IF(VALUE(LEFT('Colour Contrast Analysis'!BD4,FIND(\" \",'Colour Contrast Analysis'!BD4)))=1,\"es\",\"\")&\" not have sufficient contrast.\"&IF(VALUE(LEFT(RIGHT('Colour Contrast Analysis'!BD4,LEN('Colour Contrast Analysis'!BD4)-FIND(\"+\",'Colour Contrast Analysis'!BD4)-2),LEN(RIGHT('Colour Contrast Analysis'!BD4,LEN('Colour Contrast Analysis'!BD4)-FIND(\"+\",'Colour Contrast Analysis'!BD4)-2))-11))=0,\"\",IF(VALUE(LEFT(RIGHT('Colour Contrast Analysis'!BD4,LEN('Colour Contrast Analysis'!BD4)-FIND(\"+\",'Colour Contrast Analysis'!BD4)-2),LEN(RIGHT('Colour Contrast Analysis'!BD4,LEN('Colour Contrast Analysis'!BD4)-FIND(\"+\",'Colour Contrast Analysis'!BD4)-2))-11))=1,CHAR(10)&VALUE(LEFT(RIGHT('Colour Contrast Analysis'!BD4,LEN('Colour Contrast Analysis'!BD4)-FIND(\"+\",'Colour Contrast Analysis'!BD4)-2),LEN(RIGHT('Colour Contrast Analysis'!BD4,LEN('Colour Contrast Analysis'!BD4)-FIND(\"+\",'Colour Contrast Analysis'!BD4)-2))-11)) & \" combination of foreground and background colours is technically conformant, but its contrast should be increased.\",CHAR(10)&VALUE(LEFT(RIGHT('Colour Contrast Analysis'!BD4,LEN('Colour Contrast Analysis'!BD4)-FIND(\"+\",'Colour Contrast Analysis'!BD4)-2),LEN(RIGHT('Colour Contrast Analysis'!BD4,LEN('Colour Contrast Analysis'!BD4)-FIND(\"+\",'Colour Contrast Analysis'!BD4)-2))-11)) & \" combinations of foreground and background colours are technically conformant, but their contrast should be increased.\")) & CHAR(10) & \"Please see the Colour Contrast Analysis worksheet.\"","v":"0 combinations of foreground and background colours do not have sufficient contrast.\nPlease see the Colour Contrast Analysis worksheet."},{"$f":"LEFT('Colour Contrast Analysis'!BE4,FIND(\" \",'Colour Contrast Analysis'!BE4)-1)&\" combination\"&IF(VALUE(LEFT('Colour Contrast Analysis'!BE4,FIND(\" \",'Colour Contrast Analysis'!BE4)))=1,\"\",\"s\")&\" of foreground and background colours do\"&IF(VALUE(LEFT('Colour Contrast Analysis'!BE4,FIND(\" \",'Colour Contrast Analysis'!BE4)))=1,\"es\",\"\")&\" not have sufficient contrast.\"&IF(VALUE(LEFT(RIGHT('Colour Contrast Analysis'!BE4,LEN('Colour Contrast Analysis'!BE4)-FIND(\"+\",'Colour Contrast Analysis'!BE4)-2),LEN(RIGHT('Colour Contrast Analysis'!BE4,LEN('Colour Contrast Analysis'!BE4)-FIND(\"+\",'Colour Contrast Analysis'!BE4)-2))-11))=0,\"\",IF(VALUE(LEFT(RIGHT('Colour Contrast Analysis'!BE4,LEN('Colour Contrast Analysis'!BE4)-FIND(\"+\",'Colour Contrast Analysis'!BE4)-2),LEN(RIGHT('Colour Contrast Analysis'!BE4,LEN('Colour Contrast Analysis'!BE4)-FIND(\"+\",'Colour Contrast Analysis'!BE4)-2))-11))=1,CHAR(10)&VALUE(LEFT(RIGHT('Colour Contrast Analysis'!BE4,LEN('Colour Contrast Analysis'!BE4)-FIND(\"+\",'Colour Contrast Analysis'!BE4)-2),LEN(RIGHT('Colour Contrast Analysis'!BE4,LEN('Colour Contrast Analysis'!BE4)-FIND(\"+\",'Colour Contrast Analysis'!BE4)-2))-11)) & \" combination of foreground and background colours is technically conformant, but its contrast should be increased.\",CHAR(10)&VALUE(LEFT(RIGHT('Colour Contrast Analysis'!BE4,LEN('Colour Contrast Analysis'!BE4)-FIND(\"+\",'Colour Contrast Analysis'!BE4)-2),LEN(RIGHT('Colour Contrast Analysis'!BE4,LEN('Colour Contrast Analysis'!BE4)-FIND(\"+\",'Colour Contrast Analysis'!BE4)-2))-11)) & \" combinations of foreground and background colours are technically conformant, but their contrast should be increased.\")) & CHAR(10) & \"Please see the Colour Contrast Analysis worksheet.\"","v":"0 combinations of foreground and background colours do not have sufficient contrast.\nPlease see the Colour Contrast Analysis worksheet."},{"$f":"LEFT('Colour Contrast Analysis'!BF4,FIND(\" \",'Colour Contrast Analysis'!BF4)-1)&\" combination\"&IF(VALUE(LEFT('Colour Contrast Analysis'!BF4,FIND(\" \",'Colour Contrast Analysis'!BF4)))=1,\"\",\"s\")&\" of foreground and background colours do\"&IF(VALUE(LEFT('Colour Contrast Analysis'!BF4,FIND(\" \",'Colour Contrast Analysis'!BF4)))=1,\"es\",\"\")&\" not have sufficient contrast.\"&IF(VALUE(LEFT(RIGHT('Colour Contrast Analysis'!BF4,LEN('Colour Contrast Analysis'!BF4)-FIND(\"+\",'Colour Contrast Analysis'!BF4)-2),LEN(RIGHT('Colour Contrast Analysis'!BF4,LEN('Colour Contrast Analysis'!BF4)-FIND(\"+\",'Colour Contrast Analysis'!BF4)-2))-11))=0,\"\",IF(VALUE(LEFT(RIGHT('Colour Contrast Analysis'!BF4,LEN('Colour Contrast Analysis'!BF4)-FIND(\"+\",'Colour Contrast Analysis'!BF4)-2),LEN(RIGHT('Colour Contrast Analysis'!BF4,LEN('Colour Contrast Analysis'!BF4)-FIND(\"+\",'Colour Contrast Analysis'!BF4)-2))-11))=1,CHAR(10)&VALUE(LEFT(RIGHT('Colour Contrast Analysis'!BF4,LEN('Colour Contrast Analysis'!BF4)-FIND(\"+\",'Colour Contrast Analysis'!BF4)-2),LEN(RIGHT('Colour Contrast Analysis'!BF4,LEN('Colour Contrast Analysis'!BF4)-FIND(\"+\",'Colour Contrast Analysis'!BF4)-2))-11)) & \" combination of foreground and background colours is technically conformant, but its contrast should be increased.\",CHAR(10)&VALUE(LEFT(RIGHT('Colour Contrast Analysis'!BF4,LEN('Colour Contrast Analysis'!BF4)-FIND(\"+\",'Colour Contrast Analysis'!BF4)-2),LEN(RIGHT('Colour Contrast Analysis'!BF4,LEN('Colour Contrast Analysis'!BF4)-FIND(\"+\",'Colour Contrast Analysis'!BF4)-2))-11)) & \" combinations of foreground and background colours are technically conformant, but their contrast should be increased.\")) & CHAR(10) & \"Please see the Colour Contrast Analysis worksheet.\"","v":"0 combinations of foreground and background colours do not have sufficient contrast.\nPlease see the Colour Contrast Analysis worksheet."},{"$f":"LEFT('Colour Contrast Analysis'!BG4,FIND(\" \",'Colour Contrast Analysis'!BG4)-1)&\" combination\"&IF(VALUE(LEFT('Colour Contrast Analysis'!BG4,FIND(\" \",'Colour Contrast Analysis'!BG4)))=1,\"\",\"s\")&\" of foreground and background colours do\"&IF(VALUE(LEFT('Colour Contrast Analysis'!BG4,FIND(\" \",'Colour Contrast Analysis'!BG4)))=1,\"es\",\"\")&\" not have sufficient contrast.\"&IF(VALUE(LEFT(RIGHT('Colour Contrast Analysis'!BG4,LEN('Colour Contrast Analysis'!BG4)-FIND(\"+\",'Colour Contrast Analysis'!BG4)-2),LEN(RIGHT('Colour Contrast Analysis'!BG4,LEN('Colour Contrast Analysis'!BG4)-FIND(\"+\",'Colour Contrast Analysis'!BG4)-2))-11))=0,\"\",IF(VALUE(LEFT(RIGHT('Colour Contrast Analysis'!BG4,LEN('Colour Contrast Analysis'!BG4)-FIND(\"+\",'Colour Contrast Analysis'!BG4)-2),LEN(RIGHT('Colour Contrast Analysis'!BG4,LEN('Colour Contrast Analysis'!BG4)-FIND(\"+\",'Colour Contrast Analysis'!BG4)-2))-11))=1,CHAR(10)&VALUE(LEFT(RIGHT('Colour Contrast Analysis'!BG4,LEN('Colour Contrast Analysis'!BG4)-FIND(\"+\",'Colour Contrast Analysis'!BG4)-2),LEN(RIGHT('Colour Contrast Analysis'!BG4,LEN('Colour Contrast Analysis'!BG4)-FIND(\"+\",'Colour Contrast Analysis'!BG4)-2))-11)) & \" combination of foreground and background colours is technically conformant, but its contrast should be increased.\",CHAR(10)&VALUE(LEFT(RIGHT('Colour Contrast Analysis'!BG4,LEN('Colour Contrast Analysis'!BG4)-FIND(\"+\",'Colour Contrast Analysis'!BG4)-2),LEN(RIGHT('Colour Contrast Analysis'!BG4,LEN('Colour Contrast Analysis'!BG4)-FIND(\"+\",'Colour Contrast Analysis'!BG4)-2))-11)) & \" combinations of foreground and background colours are technically conformant, but their contrast should be increased.\")) & CHAR(10) & \"Please see the Colour Contrast Analysis worksheet.\"","v":"0 combinations of foreground and background colours do not have sufficient contrast.\nPlease see the Colour Contrast Analysis worksheet."},{"$f":"LEFT('Colour Contrast Analysis'!BH4,FIND(\" \",'Colour Contrast Analysis'!BH4)-1)&\" combination\"&IF(VALUE(LEFT('Colour Contrast Analysis'!BH4,FIND(\" \",'Colour Contrast Analysis'!BH4)))=1,\"\",\"s\")&\" of foreground and background colours do\"&IF(VALUE(LEFT('Colour Contrast Analysis'!BH4,FIND(\" \",'Colour Contrast Analysis'!BH4)))=1,\"es\",\"\")&\" not have sufficient contrast.\"&IF(VALUE(LEFT(RIGHT('Colour Contrast Analysis'!BH4,LEN('Colour Contrast Analysis'!BH4)-FIND(\"+\",'Colour Contrast Analysis'!BH4)-2),LEN(RIGHT('Colour Contrast Analysis'!BH4,LEN('Colour Contrast Analysis'!BH4)-FIND(\"+\",'Colour Contrast Analysis'!BH4)-2))-11))=0,\"\",IF(VALUE(LEFT(RIGHT('Colour Contrast Analysis'!BH4,LEN('Colour Contrast Analysis'!BH4)-FIND(\"+\",'Colour Contrast Analysis'!BH4)-2),LEN(RIGHT('Colour Contrast Analysis'!BH4,LEN('Colour Contrast Analysis'!BH4)-FIND(\"+\",'Colour Contrast Analysis'!BH4)-2))-11))=1,CHAR(10)&VALUE(LEFT(RIGHT('Colour Contrast Analysis'!BH4,LEN('Colour Contrast Analysis'!BH4)-FIND(\"+\",'Colour Contrast Analysis'!BH4)-2),LEN(RIGHT('Colour Contrast Analysis'!BH4,LEN('Colour Contrast Analysis'!BH4)-FIND(\"+\",'Colour Contrast Analysis'!BH4)-2))-11)) & \" combination of foreground and background colours is technically conformant, but its contrast should be increased.\",CHAR(10)&VALUE(LEFT(RIGHT('Colour Contrast Analysis'!BH4,LEN('Colour Contrast Analysis'!BH4)-FIND(\"+\",'Colour Contrast Analysis'!BH4)-2),LEN(RIGHT('Colour Contrast Analysis'!BH4,LEN('Colour Contrast Analysis'!BH4)-FIND(\"+\",'Colour Contrast Analysis'!BH4)-2))-11)) & \" combinations of foreground and background colours are technically conformant, but their contrast should be increased.\")) & CHAR(10) & \"Please see the Colour Contrast Analysis worksheet.\"","v":"0 combinations of foreground and background colours do not have sufficient contrast.\nPlease see the Colour Contrast Analysis worksheet."},{"$f":"LEFT('Colour Contrast Analysis'!BI4,FIND(\" \",'Colour Contrast Analysis'!BI4)-1)&\" combination\"&IF(VALUE(LEFT('Colour Contrast Analysis'!BI4,FIND(\" \",'Colour Contrast Analysis'!BI4)))=1,\"\",\"s\")&\" of foreground and background colours do\"&IF(VALUE(LEFT('Colour Contrast Analysis'!BI4,FIND(\" \",'Colour Contrast Analysis'!BI4)))=1,\"es\",\"\")&\" not have sufficient contrast.\"&IF(VALUE(LEFT(RIGHT('Colour Contrast Analysis'!BI4,LEN('Colour Contrast Analysis'!BI4)-FIND(\"+\",'Colour Contrast Analysis'!BI4)-2),LEN(RIGHT('Colour Contrast Analysis'!BI4,LEN('Colour Contrast Analysis'!BI4)-FIND(\"+\",'Colour Contrast Analysis'!BI4)-2))-11))=0,\"\",IF(VALUE(LEFT(RIGHT('Colour Contrast Analysis'!BI4,LEN('Colour Contrast Analysis'!BI4)-FIND(\"+\",'Colour Contrast Analysis'!BI4)-2),LEN(RIGHT('Colour Contrast Analysis'!BI4,LEN('Colour Contrast Analysis'!BI4)-FIND(\"+\",'Colour Contrast Analysis'!BI4)-2))-11))=1,CHAR(10)&VALUE(LEFT(RIGHT('Colour Contrast Analysis'!BI4,LEN('Colour Contrast Analysis'!BI4)-FIND(\"+\",'Colour Contrast Analysis'!BI4)-2),LEN(RIGHT('Colour Contrast Analysis'!BI4,LEN('Colour Contrast Analysis'!BI4)-FIND(\"+\",'Colour Contrast Analysis'!BI4)-2))-11)) & \" combination of foreground and background colours is technically conformant, but its contrast should be increased.\",CHAR(10)&VALUE(LEFT(RIGHT('Colour Contrast Analysis'!BI4,LEN('Colour Contrast Analysis'!BI4)-FIND(\"+\",'Colour Contrast Analysis'!BI4)-2),LEN(RIGHT('Colour Contrast Analysis'!BI4,LEN('Colour Contrast Analysis'!BI4)-FIND(\"+\",'Colour Contrast Analysis'!BI4)-2))-11)) & \" combinations of foreground and background colours are technically conformant, but their contrast should be increased.\")) & CHAR(10) & \"Please see the Colour Contrast Analysis worksheet.\"","v":"0 combinations of foreground and background colours do not have sufficient contrast.\nPlease see the Colour Contrast Analysis worksheet."},{"$f":"LEFT('Colour Contrast Analysis'!BJ4,FIND(\" \",'Colour Contrast Analysis'!BJ4)-1)&\" combination\"&IF(VALUE(LEFT('Colour Contrast Analysis'!BJ4,FIND(\" \",'Colour Contrast Analysis'!BJ4)))=1,\"\",\"s\")&\" of foreground and background colours do\"&IF(VALUE(LEFT('Colour Contrast Analysis'!BJ4,FIND(\" \",'Colour Contrast Analysis'!BJ4)))=1,\"es\",\"\")&\" not have sufficient contrast.\"&IF(VALUE(LEFT(RIGHT('Colour Contrast Analysis'!BJ4,LEN('Colour Contrast Analysis'!BJ4)-FIND(\"+\",'Colour Contrast Analysis'!BJ4)-2),LEN(RIGHT('Colour Contrast Analysis'!BJ4,LEN('Colour Contrast Analysis'!BJ4)-FIND(\"+\",'Colour Contrast Analysis'!BJ4)-2))-11))=0,\"\",IF(VALUE(LEFT(RIGHT('Colour Contrast Analysis'!BJ4,LEN('Colour Contrast Analysis'!BJ4)-FIND(\"+\",'Colour Contrast Analysis'!BJ4)-2),LEN(RIGHT('Colour Contrast Analysis'!BJ4,LEN('Colour Contrast Analysis'!BJ4)-FIND(\"+\",'Colour Contrast Analysis'!BJ4)-2))-11))=1,CHAR(10)&VALUE(LEFT(RIGHT('Colour Contrast Analysis'!BJ4,LEN('Colour Contrast Analysis'!BJ4)-FIND(\"+\",'Colour Contrast Analysis'!BJ4)-2),LEN(RIGHT('Colour Contrast Analysis'!BJ4,LEN('Colour Contrast Analysis'!BJ4)-FIND(\"+\",'Colour Contrast Analysis'!BJ4)-2))-11)) & \" combination of foreground and background colours is technically conformant, but its contrast should be increased.\",CHAR(10)&VALUE(LEFT(RIGHT('Colour Contrast Analysis'!BJ4,LEN('Colour Contrast Analysis'!BJ4)-FIND(\"+\",'Colour Contrast Analysis'!BJ4)-2),LEN(RIGHT('Colour Contrast Analysis'!BJ4,LEN('Colour Contrast Analysis'!BJ4)-FIND(\"+\",'Colour Contrast Analysis'!BJ4)-2))-11)) & \" combinations of foreground and background colours are technically conformant, but their contrast should be increased.\")) & CHAR(10) & \"Please see the Colour Contrast Analysis worksheet.\"","v":"0 combinations of foreground and background colours do not have sufficient contrast.\nPlease see the Colour Contrast Analysis worksheet."},{"$f":"LEFT('Colour Contrast Analysis'!BK4,FIND(\" \",'Colour Contrast Analysis'!BK4)-1)&\" combination\"&IF(VALUE(LEFT('Colour Contrast Analysis'!BK4,FIND(\" \",'Colour Contrast Analysis'!BK4)))=1,\"\",\"s\")&\" of foreground and background colours do\"&IF(VALUE(LEFT('Colour Contrast Analysis'!BK4,FIND(\" \",'Colour Contrast Analysis'!BK4)))=1,\"es\",\"\")&\" not have sufficient contrast.\"&IF(VALUE(LEFT(RIGHT('Colour Contrast Analysis'!BK4,LEN('Colour Contrast Analysis'!BK4)-FIND(\"+\",'Colour Contrast Analysis'!BK4)-2),LEN(RIGHT('Colour Contrast Analysis'!BK4,LEN('Colour Contrast Analysis'!BK4)-FIND(\"+\",'Colour Contrast Analysis'!BK4)-2))-11))=0,\"\",IF(VALUE(LEFT(RIGHT('Colour Contrast Analysis'!BK4,LEN('Colour Contrast Analysis'!BK4)-FIND(\"+\",'Colour Contrast Analysis'!BK4)-2),LEN(RIGHT('Colour Contrast Analysis'!BK4,LEN('Colour Contrast Analysis'!BK4)-FIND(\"+\",'Colour Contrast Analysis'!BK4)-2))-11))=1,CHAR(10)&VALUE(LEFT(RIGHT('Colour Contrast Analysis'!BK4,LEN('Colour Contrast Analysis'!BK4)-FIND(\"+\",'Colour Contrast Analysis'!BK4)-2),LEN(RIGHT('Colour Contrast Analysis'!BK4,LEN('Colour Contrast Analysis'!BK4)-FIND(\"+\",'Colour Contrast Analysis'!BK4)-2))-11)) & \" combination of foreground and background colours is technically conformant, but its contrast should be increased.\",CHAR(10)&VALUE(LEFT(RIGHT('Colour Contrast Analysis'!BK4,LEN('Colour Contrast Analysis'!BK4)-FIND(\"+\",'Colour Contrast Analysis'!BK4)-2),LEN(RIGHT('Colour Contrast Analysis'!BK4,LEN('Colour Contrast Analysis'!BK4)-FIND(\"+\",'Colour Contrast Analysis'!BK4)-2))-11)) & \" combinations of foreground and background colours are technically conformant, but their contrast should be increased.\")) & CHAR(10) & \"Please see the Colour Contrast Analysis worksheet.\"","v":"0 combinations of foreground and background colours do not have sufficient contrast.\nPlease see the Colour Contrast Analysis worksheet."},{"$f":"LEFT('Colour Contrast Analysis'!BL4,FIND(\" \",'Colour Contrast Analysis'!BL4)-1)&\" combination\"&IF(VALUE(LEFT('Colour Contrast Analysis'!BL4,FIND(\" \",'Colour Contrast Analysis'!BL4)))=1,\"\",\"s\")&\" of foreground and background colours do\"&IF(VALUE(LEFT('Colour Contrast Analysis'!BL4,FIND(\" \",'Colour Contrast Analysis'!BL4)))=1,\"es\",\"\")&\" not have sufficient contrast.\"&IF(VALUE(LEFT(RIGHT('Colour Contrast Analysis'!BL4,LEN('Colour Contrast Analysis'!BL4)-FIND(\"+\",'Colour Contrast Analysis'!BL4)-2),LEN(RIGHT('Colour Contrast Analysis'!BL4,LEN('Colour Contrast Analysis'!BL4)-FIND(\"+\",'Colour Contrast Analysis'!BL4)-2))-11))=0,\"\",IF(VALUE(LEFT(RIGHT('Colour Contrast Analysis'!BL4,LEN('Colour Contrast Analysis'!BL4)-FIND(\"+\",'Colour Contrast Analysis'!BL4)-2),LEN(RIGHT('Colour Contrast Analysis'!BL4,LEN('Colour Contrast Analysis'!BL4)-FIND(\"+\",'Colour Contrast Analysis'!BL4)-2))-11))=1,CHAR(10)&VALUE(LEFT(RIGHT('Colour Contrast Analysis'!BL4,LEN('Colour Contrast Analysis'!BL4)-FIND(\"+\",'Colour Contrast Analysis'!BL4)-2),LEN(RIGHT('Colour Contrast Analysis'!BL4,LEN('Colour Contrast Analysis'!BL4)-FIND(\"+\",'Colour Contrast Analysis'!BL4)-2))-11)) & \" combination of foreground and background colours is technically conformant, but its contrast should be increased.\",CHAR(10)&VALUE(LEFT(RIGHT('Colour Contrast Analysis'!BL4,LEN('Colour Contrast Analysis'!BL4)-FIND(\"+\",'Colour Contrast Analysis'!BL4)-2),LEN(RIGHT('Colour Contrast Analysis'!BL4,LEN('Colour Contrast Analysis'!BL4)-FIND(\"+\",'Colour Contrast Analysis'!BL4)-2))-11)) & \" combinations of foreground and background colours are technically conformant, but their contrast should be increased.\")) & CHAR(10) & \"Please see the Colour Contrast Analysis worksheet.\"","v":"0 combinations of foreground and background colours do not have sufficient contrast.\nPlease see the Colour Contrast Analysis worksheet."},{"$f":"LEFT('Colour Contrast Analysis'!BM4,FIND(\" \",'Colour Contrast Analysis'!BM4)-1)&\" combination\"&IF(VALUE(LEFT('Colour Contrast Analysis'!BM4,FIND(\" \",'Colour Contrast Analysis'!BM4)))=1,\"\",\"s\")&\" of foreground and background colours do\"&IF(VALUE(LEFT('Colour Contrast Analysis'!BM4,FIND(\" \",'Colour Contrast Analysis'!BM4)))=1,\"es\",\"\")&\" not have sufficient contrast.\"&IF(VALUE(LEFT(RIGHT('Colour Contrast Analysis'!BM4,LEN('Colour Contrast Analysis'!BM4)-FIND(\"+\",'Colour Contrast Analysis'!BM4)-2),LEN(RIGHT('Colour Contrast Analysis'!BM4,LEN('Colour Contrast Analysis'!BM4)-FIND(\"+\",'Colour Contrast Analysis'!BM4)-2))-11))=0,\"\",IF(VALUE(LEFT(RIGHT('Colour Contrast Analysis'!BM4,LEN('Colour Contrast Analysis'!BM4)-FIND(\"+\",'Colour Contrast Analysis'!BM4)-2),LEN(RIGHT('Colour Contrast Analysis'!BM4,LEN('Colour Contrast Analysis'!BM4)-FIND(\"+\",'Colour Contrast Analysis'!BM4)-2))-11))=1,CHAR(10)&VALUE(LEFT(RIGHT('Colour Contrast Analysis'!BM4,LEN('Colour Contrast Analysis'!BM4)-FIND(\"+\",'Colour Contrast Analysis'!BM4)-2),LEN(RIGHT('Colour Contrast Analysis'!BM4,LEN('Colour Contrast Analysis'!BM4)-FIND(\"+\",'Colour Contrast Analysis'!BM4)-2))-11)) & \" combination of foreground and background colours is technically conformant, but its contrast should be increased.\",CHAR(10)&VALUE(LEFT(RIGHT('Colour Contrast Analysis'!BM4,LEN('Colour Contrast Analysis'!BM4)-FIND(\"+\",'Colour Contrast Analysis'!BM4)-2),LEN(RIGHT('Colour Contrast Analysis'!BM4,LEN('Colour Contrast Analysis'!BM4)-FIND(\"+\",'Colour Contrast Analysis'!BM4)-2))-11)) & \" combinations of foreground and background colours are technically conformant, but their contrast should be increased.\")) & CHAR(10) & \"Please see the Colour Contrast Analysis worksheet.\"","v":"0 combinations of foreground and background colours do not have sufficient contrast.\nPlease see the Colour Contrast Analysis worksheet."},{"$f":"LEFT('Colour Contrast Analysis'!BN4,FIND(\" \",'Colour Contrast Analysis'!BN4)-1)&\" combination\"&IF(VALUE(LEFT('Colour Contrast Analysis'!BN4,FIND(\" \",'Colour Contrast Analysis'!BN4)))=1,\"\",\"s\")&\" of foreground and background colours do\"&IF(VALUE(LEFT('Colour Contrast Analysis'!BN4,FIND(\" \",'Colour Contrast Analysis'!BN4)))=1,\"es\",\"\")&\" not have sufficient contrast.\"&IF(VALUE(LEFT(RIGHT('Colour Contrast Analysis'!BN4,LEN('Colour Contrast Analysis'!BN4)-FIND(\"+\",'Colour Contrast Analysis'!BN4)-2),LEN(RIGHT('Colour Contrast Analysis'!BN4,LEN('Colour Contrast Analysis'!BN4)-FIND(\"+\",'Colour Contrast Analysis'!BN4)-2))-11))=0,\"\",IF(VALUE(LEFT(RIGHT('Colour Contrast Analysis'!BN4,LEN('Colour Contrast Analysis'!BN4)-FIND(\"+\",'Colour Contrast Analysis'!BN4)-2),LEN(RIGHT('Colour Contrast Analysis'!BN4,LEN('Colour Contrast Analysis'!BN4)-FIND(\"+\",'Colour Contrast Analysis'!BN4)-2))-11))=1,CHAR(10)&VALUE(LEFT(RIGHT('Colour Contrast Analysis'!BN4,LEN('Colour Contrast Analysis'!BN4)-FIND(\"+\",'Colour Contrast Analysis'!BN4)-2),LEN(RIGHT('Colour Contrast Analysis'!BN4,LEN('Colour Contrast Analysis'!BN4)-FIND(\"+\",'Colour Contrast Analysis'!BN4)-2))-11)) & \" combination of foreground and background colours is technically conformant, but its contrast should be increased.\",CHAR(10)&VALUE(LEFT(RIGHT('Colour Contrast Analysis'!BN4,LEN('Colour Contrast Analysis'!BN4)-FIND(\"+\",'Colour Contrast Analysis'!BN4)-2),LEN(RIGHT('Colour Contrast Analysis'!BN4,LEN('Colour Contrast Analysis'!BN4)-FIND(\"+\",'Colour Contrast Analysis'!BN4)-2))-11)) & \" combinations of foreground and background colours are technically conformant, but their contrast should be increased.\")) & CHAR(10) & \"Please see the Colour Contrast Analysis worksheet.\"","v":"0 combinations of foreground and background colours do not have sufficient contrast.\nPlease see the Colour Contrast Analysis worksheet."},{"$f":"LEFT('Colour Contrast Analysis'!BO4,FIND(\" \",'Colour Contrast Analysis'!BO4)-1)&\" combination\"&IF(VALUE(LEFT('Colour Contrast Analysis'!BO4,FIND(\" \",'Colour Contrast Analysis'!BO4)))=1,\"\",\"s\")&\" of foreground and background colours do\"&IF(VALUE(LEFT('Colour Contrast Analysis'!BO4,FIND(\" \",'Colour Contrast Analysis'!BO4)))=1,\"es\",\"\")&\" not have sufficient contrast.\"&IF(VALUE(LEFT(RIGHT('Colour Contrast Analysis'!BO4,LEN('Colour Contrast Analysis'!BO4)-FIND(\"+\",'Colour Contrast Analysis'!BO4)-2),LEN(RIGHT('Colour Contrast Analysis'!BO4,LEN('Colour Contrast Analysis'!BO4)-FIND(\"+\",'Colour Contrast Analysis'!BO4)-2))-11))=0,\"\",IF(VALUE(LEFT(RIGHT('Colour Contrast Analysis'!BO4,LEN('Colour Contrast Analysis'!BO4)-FIND(\"+\",'Colour Contrast Analysis'!BO4)-2),LEN(RIGHT('Colour Contrast Analysis'!BO4,LEN('Colour Contrast Analysis'!BO4)-FIND(\"+\",'Colour Contrast Analysis'!BO4)-2))-11))=1,CHAR(10)&VALUE(LEFT(RIGHT('Colour Contrast Analysis'!BO4,LEN('Colour Contrast Analysis'!BO4)-FIND(\"+\",'Colour Contrast Analysis'!BO4)-2),LEN(RIGHT('Colour Contrast Analysis'!BO4,LEN('Colour Contrast Analysis'!BO4)-FIND(\"+\",'Colour Contrast Analysis'!BO4)-2))-11)) & \" combination of foreground and background colours is technically conformant, but its contrast should be increased.\",CHAR(10)&VALUE(LEFT(RIGHT('Colour Contrast Analysis'!BO4,LEN('Colour Contrast Analysis'!BO4)-FIND(\"+\",'Colour Contrast Analysis'!BO4)-2),LEN(RIGHT('Colour Contrast Analysis'!BO4,LEN('Colour Contrast Analysis'!BO4)-FIND(\"+\",'Colour Contrast Analysis'!BO4)-2))-11)) & \" combinations of foreground and background colours are technically conformant, but their contrast should be increased.\")) & CHAR(10) & \"Please see the Colour Contrast Analysis worksheet.\"","v":"0 combinations of foreground and background colours do not have sufficient contrast.\nPlease see the Colour Contrast Analysis worksheet."},{"$f":"LEFT('Colour Contrast Analysis'!BP4,FIND(\" \",'Colour Contrast Analysis'!BP4)-1)&\" combination\"&IF(VALUE(LEFT('Colour Contrast Analysis'!BP4,FIND(\" \",'Colour Contrast Analysis'!BP4)))=1,\"\",\"s\")&\" of foreground and background colours do\"&IF(VALUE(LEFT('Colour Contrast Analysis'!BP4,FIND(\" \",'Colour Contrast Analysis'!BP4)))=1,\"es\",\"\")&\" not have sufficient contrast.\"&IF(VALUE(LEFT(RIGHT('Colour Contrast Analysis'!BP4,LEN('Colour Contrast Analysis'!BP4)-FIND(\"+\",'Colour Contrast Analysis'!BP4)-2),LEN(RIGHT('Colour Contrast Analysis'!BP4,LEN('Colour Contrast Analysis'!BP4)-FIND(\"+\",'Colour Contrast Analysis'!BP4)-2))-11))=0,\"\",IF(VALUE(LEFT(RIGHT('Colour Contrast Analysis'!BP4,LEN('Colour Contrast Analysis'!BP4)-FIND(\"+\",'Colour Contrast Analysis'!BP4)-2),LEN(RIGHT('Colour Contrast Analysis'!BP4,LEN('Colour Contrast Analysis'!BP4)-FIND(\"+\",'Colour Contrast Analysis'!BP4)-2))-11))=1,CHAR(10)&VALUE(LEFT(RIGHT('Colour Contrast Analysis'!BP4,LEN('Colour Contrast Analysis'!BP4)-FIND(\"+\",'Colour Contrast Analysis'!BP4)-2),LEN(RIGHT('Colour Contrast Analysis'!BP4,LEN('Colour Contrast Analysis'!BP4)-FIND(\"+\",'Colour Contrast Analysis'!BP4)-2))-11)) & \" combination of foreground and background colours is technically conformant, but its contrast should be increased.\",CHAR(10)&VALUE(LEFT(RIGHT('Colour Contrast Analysis'!BP4,LEN('Colour Contrast Analysis'!BP4)-FIND(\"+\",'Colour Contrast Analysis'!BP4)-2),LEN(RIGHT('Colour Contrast Analysis'!BP4,LEN('Colour Contrast Analysis'!BP4)-FIND(\"+\",'Colour Contrast Analysis'!BP4)-2))-11)) & \" combinations of foreground and background colours are technically conformant, but their contrast should be increased.\")) & CHAR(10) & \"Please see the Colour Contrast Analysis worksheet.\"","v":"0 combinations of foreground and background colours do not have sufficient contrast.\nPlease see the Colour Contrast Analysis worksheet."},{"$f":"LEFT('Colour Contrast Analysis'!BQ4,FIND(\" \",'Colour Contrast Analysis'!BQ4)-1)&\" combination\"&IF(VALUE(LEFT('Colour Contrast Analysis'!BQ4,FIND(\" \",'Colour Contrast Analysis'!BQ4)))=1,\"\",\"s\")&\" of foreground and background colours do\"&IF(VALUE(LEFT('Colour Contrast Analysis'!BQ4,FIND(\" \",'Colour Contrast Analysis'!BQ4)))=1,\"es\",\"\")&\" not have sufficient contrast.\"&IF(VALUE(LEFT(RIGHT('Colour Contrast Analysis'!BQ4,LEN('Colour Contrast Analysis'!BQ4)-FIND(\"+\",'Colour Contrast Analysis'!BQ4)-2),LEN(RIGHT('Colour Contrast Analysis'!BQ4,LEN('Colour Contrast Analysis'!BQ4)-FIND(\"+\",'Colour Contrast Analysis'!BQ4)-2))-11))=0,\"\",IF(VALUE(LEFT(RIGHT('Colour Contrast Analysis'!BQ4,LEN('Colour Contrast Analysis'!BQ4)-FIND(\"+\",'Colour Contrast Analysis'!BQ4)-2),LEN(RIGHT('Colour Contrast Analysis'!BQ4,LEN('Colour Contrast Analysis'!BQ4)-FIND(\"+\",'Colour Contrast Analysis'!BQ4)-2))-11))=1,CHAR(10)&VALUE(LEFT(RIGHT('Colour Contrast Analysis'!BQ4,LEN('Colour Contrast Analysis'!BQ4)-FIND(\"+\",'Colour Contrast Analysis'!BQ4)-2),LEN(RIGHT('Colour Contrast Analysis'!BQ4,LEN('Colour Contrast Analysis'!BQ4)-FIND(\"+\",'Colour Contrast Analysis'!BQ4)-2))-11)) & \" combination of foreground and background colours is technically conformant, but its contrast should be increased.\",CHAR(10)&VALUE(LEFT(RIGHT('Colour Contrast Analysis'!BQ4,LEN('Colour Contrast Analysis'!BQ4)-FIND(\"+\",'Colour Contrast Analysis'!BQ4)-2),LEN(RIGHT('Colour Contrast Analysis'!BQ4,LEN('Colour Contrast Analysis'!BQ4)-FIND(\"+\",'Colour Contrast Analysis'!BQ4)-2))-11)) & \" combinations of foreground and background colours are technically conformant, but their contrast should be increased.\")) & CHAR(10) & \"Please see the Colour Contrast Analysis worksheet.\"","v":"0 combinations of foreground and background colours do not have sufficient contrast.\nPlease see the Colour Contrast Analysis worksheet."},{"$f":"LEFT('Colour Contrast Analysis'!BR4,FIND(\" \",'Colour Contrast Analysis'!BR4)-1)&\" combination\"&IF(VALUE(LEFT('Colour Contrast Analysis'!BR4,FIND(\" \",'Colour Contrast Analysis'!BR4)))=1,\"\",\"s\")&\" of foreground and background colours do\"&IF(VALUE(LEFT('Colour Contrast Analysis'!BR4,FIND(\" \",'Colour Contrast Analysis'!BR4)))=1,\"es\",\"\")&\" not have sufficient contrast.\"&IF(VALUE(LEFT(RIGHT('Colour Contrast Analysis'!BR4,LEN('Colour Contrast Analysis'!BR4)-FIND(\"+\",'Colour Contrast Analysis'!BR4)-2),LEN(RIGHT('Colour Contrast Analysis'!BR4,LEN('Colour Contrast Analysis'!BR4)-FIND(\"+\",'Colour Contrast Analysis'!BR4)-2))-11))=0,\"\",IF(VALUE(LEFT(RIGHT('Colour Contrast Analysis'!BR4,LEN('Colour Contrast Analysis'!BR4)-FIND(\"+\",'Colour Contrast Analysis'!BR4)-2),LEN(RIGHT('Colour Contrast Analysis'!BR4,LEN('Colour Contrast Analysis'!BR4)-FIND(\"+\",'Colour Contrast Analysis'!BR4)-2))-11))=1,CHAR(10)&VALUE(LEFT(RIGHT('Colour Contrast Analysis'!BR4,LEN('Colour Contrast Analysis'!BR4)-FIND(\"+\",'Colour Contrast Analysis'!BR4)-2),LEN(RIGHT('Colour Contrast Analysis'!BR4,LEN('Colour Contrast Analysis'!BR4)-FIND(\"+\",'Colour Contrast Analysis'!BR4)-2))-11)) & \" combination of foreground and background colours is technically conformant, but its contrast should be increased.\",CHAR(10)&VALUE(LEFT(RIGHT('Colour Contrast Analysis'!BR4,LEN('Colour Contrast Analysis'!BR4)-FIND(\"+\",'Colour Contrast Analysis'!BR4)-2),LEN(RIGHT('Colour Contrast Analysis'!BR4,LEN('Colour Contrast Analysis'!BR4)-FIND(\"+\",'Colour Contrast Analysis'!BR4)-2))-11)) & \" combinations of foreground and background colours are technically conformant, but their contrast should be increased.\")) & CHAR(10) & \"Please see the Colour Contrast Analysis worksheet.\"","v":"0 combinations of foreground and background colours do not have sufficient contrast.\nPlease see the Colour Contrast Analysis worksheet."},{"$f":"LEFT('Colour Contrast Analysis'!BS4,FIND(\" \",'Colour Contrast Analysis'!BS4)-1)&\" combination\"&IF(VALUE(LEFT('Colour Contrast Analysis'!BS4,FIND(\" \",'Colour Contrast Analysis'!BS4)))=1,\"\",\"s\")&\" of foreground and background colours do\"&IF(VALUE(LEFT('Colour Contrast Analysis'!BS4,FIND(\" \",'Colour Contrast Analysis'!BS4)))=1,\"es\",\"\")&\" not have sufficient contrast.\"&IF(VALUE(LEFT(RIGHT('Colour Contrast Analysis'!BS4,LEN('Colour Contrast Analysis'!BS4)-FIND(\"+\",'Colour Contrast Analysis'!BS4)-2),LEN(RIGHT('Colour Contrast Analysis'!BS4,LEN('Colour Contrast Analysis'!BS4)-FIND(\"+\",'Colour Contrast Analysis'!BS4)-2))-11))=0,\"\",IF(VALUE(LEFT(RIGHT('Colour Contrast Analysis'!BS4,LEN('Colour Contrast Analysis'!BS4)-FIND(\"+\",'Colour Contrast Analysis'!BS4)-2),LEN(RIGHT('Colour Contrast Analysis'!BS4,LEN('Colour Contrast Analysis'!BS4)-FIND(\"+\",'Colour Contrast Analysis'!BS4)-2))-11))=1,CHAR(10)&VALUE(LEFT(RIGHT('Colour Contrast Analysis'!BS4,LEN('Colour Contrast Analysis'!BS4)-FIND(\"+\",'Colour Contrast Analysis'!BS4)-2),LEN(RIGHT('Colour Contrast Analysis'!BS4,LEN('Colour Contrast Analysis'!BS4)-FIND(\"+\",'Colour Contrast Analysis'!BS4)-2))-11)) & \" combination of foreground and background colours is technically conformant, but its contrast should be increased.\",CHAR(10)&VALUE(LEFT(RIGHT('Colour Contrast Analysis'!BS4,LEN('Colour Contrast Analysis'!BS4)-FIND(\"+\",'Colour Contrast Analysis'!BS4)-2),LEN(RIGHT('Colour Contrast Analysis'!BS4,LEN('Colour Contrast Analysis'!BS4)-FIND(\"+\",'Colour Contrast Analysis'!BS4)-2))-11)) & \" combinations of foreground and background colours are technically conformant, but their contrast should be increased.\")) & CHAR(10) & \"Please see the Colour Contrast Analysis worksheet.\"","v":"0 combinations of foreground and background colours do not have sufficient contrast.\nPlease see the Colour Contrast Analysis worksheet."},{"$f":"LEFT('Colour Contrast Analysis'!BT4,FIND(\" \",'Colour Contrast Analysis'!BT4)-1)&\" combination\"&IF(VALUE(LEFT('Colour Contrast Analysis'!BT4,FIND(\" \",'Colour Contrast Analysis'!BT4)))=1,\"\",\"s\")&\" of foreground and background colours do\"&IF(VALUE(LEFT('Colour Contrast Analysis'!BT4,FIND(\" \",'Colour Contrast Analysis'!BT4)))=1,\"es\",\"\")&\" not have sufficient contrast.\"&IF(VALUE(LEFT(RIGHT('Colour Contrast Analysis'!BT4,LEN('Colour Contrast Analysis'!BT4)-FIND(\"+\",'Colour Contrast Analysis'!BT4)-2),LEN(RIGHT('Colour Contrast Analysis'!BT4,LEN('Colour Contrast Analysis'!BT4)-FIND(\"+\",'Colour Contrast Analysis'!BT4)-2))-11))=0,\"\",IF(VALUE(LEFT(RIGHT('Colour Contrast Analysis'!BT4,LEN('Colour Contrast Analysis'!BT4)-FIND(\"+\",'Colour Contrast Analysis'!BT4)-2),LEN(RIGHT('Colour Contrast Analysis'!BT4,LEN('Colour Contrast Analysis'!BT4)-FIND(\"+\",'Colour Contrast Analysis'!BT4)-2))-11))=1,CHAR(10)&VALUE(LEFT(RIGHT('Colour Contrast Analysis'!BT4,LEN('Colour Contrast Analysis'!BT4)-FIND(\"+\",'Colour Contrast Analysis'!BT4)-2),LEN(RIGHT('Colour Contrast Analysis'!BT4,LEN('Colour Contrast Analysis'!BT4)-FIND(\"+\",'Colour Contrast Analysis'!BT4)-2))-11)) & \" combination of foreground and background colours is technically conformant, but its contrast should be increased.\",CHAR(10)&VALUE(LEFT(RIGHT('Colour Contrast Analysis'!BT4,LEN('Colour Contrast Analysis'!BT4)-FIND(\"+\",'Colour Contrast Analysis'!BT4)-2),LEN(RIGHT('Colour Contrast Analysis'!BT4,LEN('Colour Contrast Analysis'!BT4)-FIND(\"+\",'Colour Contrast Analysis'!BT4)-2))-11)) & \" combinations of foreground and background colours are technically conformant, but their contrast should be increased.\")) & CHAR(10) & \"Please see the Colour Contrast Analysis worksheet.\"","v":"0 combinations of foreground and background colours do not have sufficient contrast.\nPlease see the Colour Contrast Analysis worksheet."},{"$f":"LEFT('Colour Contrast Analysis'!BU4,FIND(\" \",'Colour Contrast Analysis'!BU4)-1)&\" combination\"&IF(VALUE(LEFT('Colour Contrast Analysis'!BU4,FIND(\" \",'Colour Contrast Analysis'!BU4)))=1,\"\",\"s\")&\" of foreground and background colours do\"&IF(VALUE(LEFT('Colour Contrast Analysis'!BU4,FIND(\" \",'Colour Contrast Analysis'!BU4)))=1,\"es\",\"\")&\" not have sufficient contrast.\"&IF(VALUE(LEFT(RIGHT('Colour Contrast Analysis'!BU4,LEN('Colour Contrast Analysis'!BU4)-FIND(\"+\",'Colour Contrast Analysis'!BU4)-2),LEN(RIGHT('Colour Contrast Analysis'!BU4,LEN('Colour Contrast Analysis'!BU4)-FIND(\"+\",'Colour Contrast Analysis'!BU4)-2))-11))=0,\"\",IF(VALUE(LEFT(RIGHT('Colour Contrast Analysis'!BU4,LEN('Colour Contrast Analysis'!BU4)-FIND(\"+\",'Colour Contrast Analysis'!BU4)-2),LEN(RIGHT('Colour Contrast Analysis'!BU4,LEN('Colour Contrast Analysis'!BU4)-FIND(\"+\",'Colour Contrast Analysis'!BU4)-2))-11))=1,CHAR(10)&VALUE(LEFT(RIGHT('Colour Contrast Analysis'!BU4,LEN('Colour Contrast Analysis'!BU4)-FIND(\"+\",'Colour Contrast Analysis'!BU4)-2),LEN(RIGHT('Colour Contrast Analysis'!BU4,LEN('Colour Contrast Analysis'!BU4)-FIND(\"+\",'Colour Contrast Analysis'!BU4)-2))-11)) & \" combination of foreground and background colours is technically conformant, but its contrast should be increased.\",CHAR(10)&VALUE(LEFT(RIGHT('Colour Contrast Analysis'!BU4,LEN('Colour Contrast Analysis'!BU4)-FIND(\"+\",'Colour Contrast Analysis'!BU4)-2),LEN(RIGHT('Colour Contrast Analysis'!BU4,LEN('Colour Contrast Analysis'!BU4)-FIND(\"+\",'Colour Contrast Analysis'!BU4)-2))-11)) & \" combinations of foreground and background colours are technically conformant, but their contrast should be increased.\")) & CHAR(10) & \"Please see the Colour Contrast Analysis worksheet.\"","v":"0 combinations of foreground and background colours do not have sufficient contrast.\nPlease see the Colour Contrast Analysis worksheet."},{"$f":"LEFT('Colour Contrast Analysis'!BV4,FIND(\" \",'Colour Contrast Analysis'!BV4)-1)&\" combination\"&IF(VALUE(LEFT('Colour Contrast Analysis'!BV4,FIND(\" \",'Colour Contrast Analysis'!BV4)))=1,\"\",\"s\")&\" of foreground and background colours do\"&IF(VALUE(LEFT('Colour Contrast Analysis'!BV4,FIND(\" \",'Colour Contrast Analysis'!BV4)))=1,\"es\",\"\")&\" not have sufficient contrast.\"&IF(VALUE(LEFT(RIGHT('Colour Contrast Analysis'!BV4,LEN('Colour Contrast Analysis'!BV4)-FIND(\"+\",'Colour Contrast Analysis'!BV4)-2),LEN(RIGHT('Colour Contrast Analysis'!BV4,LEN('Colour Contrast Analysis'!BV4)-FIND(\"+\",'Colour Contrast Analysis'!BV4)-2))-11))=0,\"\",IF(VALUE(LEFT(RIGHT('Colour Contrast Analysis'!BV4,LEN('Colour Contrast Analysis'!BV4)-FIND(\"+\",'Colour Contrast Analysis'!BV4)-2),LEN(RIGHT('Colour Contrast Analysis'!BV4,LEN('Colour Contrast Analysis'!BV4)-FIND(\"+\",'Colour Contrast Analysis'!BV4)-2))-11))=1,CHAR(10)&VALUE(LEFT(RIGHT('Colour Contrast Analysis'!BV4,LEN('Colour Contrast Analysis'!BV4)-FIND(\"+\",'Colour Contrast Analysis'!BV4)-2),LEN(RIGHT('Colour Contrast Analysis'!BV4,LEN('Colour Contrast Analysis'!BV4)-FIND(\"+\",'Colour Contrast Analysis'!BV4)-2))-11)) & \" combination of foreground and background colours is technically conformant, but its contrast should be increased.\",CHAR(10)&VALUE(LEFT(RIGHT('Colour Contrast Analysis'!BV4,LEN('Colour Contrast Analysis'!BV4)-FIND(\"+\",'Colour Contrast Analysis'!BV4)-2),LEN(RIGHT('Colour Contrast Analysis'!BV4,LEN('Colour Contrast Analysis'!BV4)-FIND(\"+\",'Colour Contrast Analysis'!BV4)-2))-11)) & \" combinations of foreground and background colours are technically conformant, but their contrast should be increased.\")) & CHAR(10) & \"Please see the Colour Contrast Analysis worksheet.\"","v":"0 combinations of foreground and background colours do not have sufficient contrast.\nPlease see the Colour Contrast Analysis worksheet."},{"$f":"LEFT('Colour Contrast Analysis'!BW4,FIND(\" \",'Colour Contrast Analysis'!BW4)-1)&\" combination\"&IF(VALUE(LEFT('Colour Contrast Analysis'!BW4,FIND(\" \",'Colour Contrast Analysis'!BW4)))=1,\"\",\"s\")&\" of foreground and background colours do\"&IF(VALUE(LEFT('Colour Contrast Analysis'!BW4,FIND(\" \",'Colour Contrast Analysis'!BW4)))=1,\"es\",\"\")&\" not have sufficient contrast.\"&IF(VALUE(LEFT(RIGHT('Colour Contrast Analysis'!BW4,LEN('Colour Contrast Analysis'!BW4)-FIND(\"+\",'Colour Contrast Analysis'!BW4)-2),LEN(RIGHT('Colour Contrast Analysis'!BW4,LEN('Colour Contrast Analysis'!BW4)-FIND(\"+\",'Colour Contrast Analysis'!BW4)-2))-11))=0,\"\",IF(VALUE(LEFT(RIGHT('Colour Contrast Analysis'!BW4,LEN('Colour Contrast Analysis'!BW4)-FIND(\"+\",'Colour Contrast Analysis'!BW4)-2),LEN(RIGHT('Colour Contrast Analysis'!BW4,LEN('Colour Contrast Analysis'!BW4)-FIND(\"+\",'Colour Contrast Analysis'!BW4)-2))-11))=1,CHAR(10)&VALUE(LEFT(RIGHT('Colour Contrast Analysis'!BW4,LEN('Colour Contrast Analysis'!BW4)-FIND(\"+\",'Colour Contrast Analysis'!BW4)-2),LEN(RIGHT('Colour Contrast Analysis'!BW4,LEN('Colour Contrast Analysis'!BW4)-FIND(\"+\",'Colour Contrast Analysis'!BW4)-2))-11)) & \" combination of foreground and background colours is technically conformant, but its contrast should be increased.\",CHAR(10)&VALUE(LEFT(RIGHT('Colour Contrast Analysis'!BW4,LEN('Colour Contrast Analysis'!BW4)-FIND(\"+\",'Colour Contrast Analysis'!BW4)-2),LEN(RIGHT('Colour Contrast Analysis'!BW4,LEN('Colour Contrast Analysis'!BW4)-FIND(\"+\",'Colour Contrast Analysis'!BW4)-2))-11)) & \" combinations of foreground and background colours are technically conformant, but their contrast should be increased.\")) & CHAR(10) & \"Please see the Colour Contrast Analysis worksheet.\"","v":"0 combinations of foreground and background colours do not have sufficient contrast.\nPlease see the Colour Contrast Analysis worksheet."},{"$f":"LEFT('Colour Contrast Analysis'!BX4,FIND(\" \",'Colour Contrast Analysis'!BX4)-1)&\" combination\"&IF(VALUE(LEFT('Colour Contrast Analysis'!BX4,FIND(\" \",'Colour Contrast Analysis'!BX4)))=1,\"\",\"s\")&\" of foreground and background colours do\"&IF(VALUE(LEFT('Colour Contrast Analysis'!BX4,FIND(\" \",'Colour Contrast Analysis'!BX4)))=1,\"es\",\"\")&\" not have sufficient contrast.\"&IF(VALUE(LEFT(RIGHT('Colour Contrast Analysis'!BX4,LEN('Colour Contrast Analysis'!BX4)-FIND(\"+\",'Colour Contrast Analysis'!BX4)-2),LEN(RIGHT('Colour Contrast Analysis'!BX4,LEN('Colour Contrast Analysis'!BX4)-FIND(\"+\",'Colour Contrast Analysis'!BX4)-2))-11))=0,\"\",IF(VALUE(LEFT(RIGHT('Colour Contrast Analysis'!BX4,LEN('Colour Contrast Analysis'!BX4)-FIND(\"+\",'Colour Contrast Analysis'!BX4)-2),LEN(RIGHT('Colour Contrast Analysis'!BX4,LEN('Colour Contrast Analysis'!BX4)-FIND(\"+\",'Colour Contrast Analysis'!BX4)-2))-11))=1,CHAR(10)&VALUE(LEFT(RIGHT('Colour Contrast Analysis'!BX4,LEN('Colour Contrast Analysis'!BX4)-FIND(\"+\",'Colour Contrast Analysis'!BX4)-2),LEN(RIGHT('Colour Contrast Analysis'!BX4,LEN('Colour Contrast Analysis'!BX4)-FIND(\"+\",'Colour Contrast Analysis'!BX4)-2))-11)) & \" combination of foreground and background colours is technically conformant, but its contrast should be increased.\",CHAR(10)&VALUE(LEFT(RIGHT('Colour Contrast Analysis'!BX4,LEN('Colour Contrast Analysis'!BX4)-FIND(\"+\",'Colour Contrast Analysis'!BX4)-2),LEN(RIGHT('Colour Contrast Analysis'!BX4,LEN('Colour Contrast Analysis'!BX4)-FIND(\"+\",'Colour Contrast Analysis'!BX4)-2))-11)) & \" combinations of foreground and background colours are technically conformant, but their contrast should be increased.\")) & CHAR(10) & \"Please see the Colour Contrast Analysis worksheet.\"","v":"0 combinations of foreground and background colours do not have sufficient contrast.\nPlease see the Colour Contrast Analysis worksheet."},{"$f":"LEFT('Colour Contrast Analysis'!BY4,FIND(\" \",'Colour Contrast Analysis'!BY4)-1)&\" combination\"&IF(VALUE(LEFT('Colour Contrast Analysis'!BY4,FIND(\" \",'Colour Contrast Analysis'!BY4)))=1,\"\",\"s\")&\" of foreground and background colours do\"&IF(VALUE(LEFT('Colour Contrast Analysis'!BY4,FIND(\" \",'Colour Contrast Analysis'!BY4)))=1,\"es\",\"\")&\" not have sufficient contrast.\"&IF(VALUE(LEFT(RIGHT('Colour Contrast Analysis'!BY4,LEN('Colour Contrast Analysis'!BY4)-FIND(\"+\",'Colour Contrast Analysis'!BY4)-2),LEN(RIGHT('Colour Contrast Analysis'!BY4,LEN('Colour Contrast Analysis'!BY4)-FIND(\"+\",'Colour Contrast Analysis'!BY4)-2))-11))=0,\"\",IF(VALUE(LEFT(RIGHT('Colour Contrast Analysis'!BY4,LEN('Colour Contrast Analysis'!BY4)-FIND(\"+\",'Colour Contrast Analysis'!BY4)-2),LEN(RIGHT('Colour Contrast Analysis'!BY4,LEN('Colour Contrast Analysis'!BY4)-FIND(\"+\",'Colour Contrast Analysis'!BY4)-2))-11))=1,CHAR(10)&VALUE(LEFT(RIGHT('Colour Contrast Analysis'!BY4,LEN('Colour Contrast Analysis'!BY4)-FIND(\"+\",'Colour Contrast Analysis'!BY4)-2),LEN(RIGHT('Colour Contrast Analysis'!BY4,LEN('Colour Contrast Analysis'!BY4)-FIND(\"+\",'Colour Contrast Analysis'!BY4)-2))-11)) & \" combination of foreground and background colours is technically conformant, but its contrast should be increased.\",CHAR(10)&VALUE(LEFT(RIGHT('Colour Contrast Analysis'!BY4,LEN('Colour Contrast Analysis'!BY4)-FIND(\"+\",'Colour Contrast Analysis'!BY4)-2),LEN(RIGHT('Colour Contrast Analysis'!BY4,LEN('Colour Contrast Analysis'!BY4)-FIND(\"+\",'Colour Contrast Analysis'!BY4)-2))-11)) & \" combinations of foreground and background colours are technically conformant, but their contrast should be increased.\")) & CHAR(10) & \"Please see the Colour Contrast Analysis worksheet.\"","v":"0 combinations of foreground and background colours do not have sufficient contrast.\nPlease see the Colour Contrast Analysis worksheet."},{"$f":"LEFT('Colour Contrast Analysis'!BZ4,FIND(\" \",'Colour Contrast Analysis'!BZ4)-1)&\" combination\"&IF(VALUE(LEFT('Colour Contrast Analysis'!BZ4,FIND(\" \",'Colour Contrast Analysis'!BZ4)))=1,\"\",\"s\")&\" of foreground and background colours do\"&IF(VALUE(LEFT('Colour Contrast Analysis'!BZ4,FIND(\" \",'Colour Contrast Analysis'!BZ4)))=1,\"es\",\"\")&\" not have sufficient contrast.\"&IF(VALUE(LEFT(RIGHT('Colour Contrast Analysis'!BZ4,LEN('Colour Contrast Analysis'!BZ4)-FIND(\"+\",'Colour Contrast Analysis'!BZ4)-2),LEN(RIGHT('Colour Contrast Analysis'!BZ4,LEN('Colour Contrast Analysis'!BZ4)-FIND(\"+\",'Colour Contrast Analysis'!BZ4)-2))-11))=0,\"\",IF(VALUE(LEFT(RIGHT('Colour Contrast Analysis'!BZ4,LEN('Colour Contrast Analysis'!BZ4)-FIND(\"+\",'Colour Contrast Analysis'!BZ4)-2),LEN(RIGHT('Colour Contrast Analysis'!BZ4,LEN('Colour Contrast Analysis'!BZ4)-FIND(\"+\",'Colour Contrast Analysis'!BZ4)-2))-11))=1,CHAR(10)&VALUE(LEFT(RIGHT('Colour Contrast Analysis'!BZ4,LEN('Colour Contrast Analysis'!BZ4)-FIND(\"+\",'Colour Contrast Analysis'!BZ4)-2),LEN(RIGHT('Colour Contrast Analysis'!BZ4,LEN('Colour Contrast Analysis'!BZ4)-FIND(\"+\",'Colour Contrast Analysis'!BZ4)-2))-11)) & \" combination of foreground and background colours is technically conformant, but its contrast should be increased.\",CHAR(10)&VALUE(LEFT(RIGHT('Colour Contrast Analysis'!BZ4,LEN('Colour Contrast Analysis'!BZ4)-FIND(\"+\",'Colour Contrast Analysis'!BZ4)-2),LEN(RIGHT('Colour Contrast Analysis'!BZ4,LEN('Colour Contrast Analysis'!BZ4)-FIND(\"+\",'Colour Contrast Analysis'!BZ4)-2))-11)) & \" combinations of foreground and background colours are technically conformant, but their contrast should be increased.\")) & CHAR(10) & \"Please see the Colour Contrast Analysis worksheet.\"","v":"0 combinations of foreground and background colours do not have sufficient contrast.\nPlease see the Colour Contrast Analysis worksheet."},{"$f":"LEFT('Colour Contrast Analysis'!CA4,FIND(\" \",'Colour Contrast Analysis'!CA4)-1)&\" combination\"&IF(VALUE(LEFT('Colour Contrast Analysis'!CA4,FIND(\" \",'Colour Contrast Analysis'!CA4)))=1,\"\",\"s\")&\" of foreground and background colours do\"&IF(VALUE(LEFT('Colour Contrast Analysis'!CA4,FIND(\" \",'Colour Contrast Analysis'!CA4)))=1,\"es\",\"\")&\" not have sufficient contrast.\"&IF(VALUE(LEFT(RIGHT('Colour Contrast Analysis'!CA4,LEN('Colour Contrast Analysis'!CA4)-FIND(\"+\",'Colour Contrast Analysis'!CA4)-2),LEN(RIGHT('Colour Contrast Analysis'!CA4,LEN('Colour Contrast Analysis'!CA4)-FIND(\"+\",'Colour Contrast Analysis'!CA4)-2))-11))=0,\"\",IF(VALUE(LEFT(RIGHT('Colour Contrast Analysis'!CA4,LEN('Colour Contrast Analysis'!CA4)-FIND(\"+\",'Colour Contrast Analysis'!CA4)-2),LEN(RIGHT('Colour Contrast Analysis'!CA4,LEN('Colour Contrast Analysis'!CA4)-FIND(\"+\",'Colour Contrast Analysis'!CA4)-2))-11))=1,CHAR(10)&VALUE(LEFT(RIGHT('Colour Contrast Analysis'!CA4,LEN('Colour Contrast Analysis'!CA4)-FIND(\"+\",'Colour Contrast Analysis'!CA4)-2),LEN(RIGHT('Colour Contrast Analysis'!CA4,LEN('Colour Contrast Analysis'!CA4)-FIND(\"+\",'Colour Contrast Analysis'!CA4)-2))-11)) & \" combination of foreground and background colours is technically conformant, but its contrast should be increased.\",CHAR(10)&VALUE(LEFT(RIGHT('Colour Contrast Analysis'!CA4,LEN('Colour Contrast Analysis'!CA4)-FIND(\"+\",'Colour Contrast Analysis'!CA4)-2),LEN(RIGHT('Colour Contrast Analysis'!CA4,LEN('Colour Contrast Analysis'!CA4)-FIND(\"+\",'Colour Contrast Analysis'!CA4)-2))-11)) & \" combinations of foreground and background colours are technically conformant, but their contrast should be increased.\")) & CHAR(10) & \"Please see the Colour Contrast Analysis worksheet.\"","v":"0 combinations of foreground and background colours do not have sufficient contrast.\nPlease see the Colour Contrast Analysis worksheet."},{"$f":"LEFT('Colour Contrast Analysis'!CB4,FIND(\" \",'Colour Contrast Analysis'!CB4)-1)&\" combination\"&IF(VALUE(LEFT('Colour Contrast Analysis'!CB4,FIND(\" \",'Colour Contrast Analysis'!CB4)))=1,\"\",\"s\")&\" of foreground and background colours do\"&IF(VALUE(LEFT('Colour Contrast Analysis'!CB4,FIND(\" \",'Colour Contrast Analysis'!CB4)))=1,\"es\",\"\")&\" not have sufficient contrast.\"&IF(VALUE(LEFT(RIGHT('Colour Contrast Analysis'!CB4,LEN('Colour Contrast Analysis'!CB4)-FIND(\"+\",'Colour Contrast Analysis'!CB4)-2),LEN(RIGHT('Colour Contrast Analysis'!CB4,LEN('Colour Contrast Analysis'!CB4)-FIND(\"+\",'Colour Contrast Analysis'!CB4)-2))-11))=0,\"\",IF(VALUE(LEFT(RIGHT('Colour Contrast Analysis'!CB4,LEN('Colour Contrast Analysis'!CB4)-FIND(\"+\",'Colour Contrast Analysis'!CB4)-2),LEN(RIGHT('Colour Contrast Analysis'!CB4,LEN('Colour Contrast Analysis'!CB4)-FIND(\"+\",'Colour Contrast Analysis'!CB4)-2))-11))=1,CHAR(10)&VALUE(LEFT(RIGHT('Colour Contrast Analysis'!CB4,LEN('Colour Contrast Analysis'!CB4)-FIND(\"+\",'Colour Contrast Analysis'!CB4)-2),LEN(RIGHT('Colour Contrast Analysis'!CB4,LEN('Colour Contrast Analysis'!CB4)-FIND(\"+\",'Colour Contrast Analysis'!CB4)-2))-11)) & \" combination of foreground and background colours is technically conformant, but its contrast should be increased.\",CHAR(10)&VALUE(LEFT(RIGHT('Colour Contrast Analysis'!CB4,LEN('Colour Contrast Analysis'!CB4)-FIND(\"+\",'Colour Contrast Analysis'!CB4)-2),LEN(RIGHT('Colour Contrast Analysis'!CB4,LEN('Colour Contrast Analysis'!CB4)-FIND(\"+\",'Colour Contrast Analysis'!CB4)-2))-11)) & \" combinations of foreground and background colours are technically conformant, but their contrast should be increased.\")) & CHAR(10) & \"Please see the Colour Contrast Analysis worksheet.\"","v":"0 combinations of foreground and background colours do not have sufficient contrast.\nPlease see the Colour Contrast Analysis worksheet."},{"$f":"LEFT('Colour Contrast Analysis'!CC4,FIND(\" \",'Colour Contrast Analysis'!CC4)-1)&\" combination\"&IF(VALUE(LEFT('Colour Contrast Analysis'!CC4,FIND(\" \",'Colour Contrast Analysis'!CC4)))=1,\"\",\"s\")&\" of foreground and background colours do\"&IF(VALUE(LEFT('Colour Contrast Analysis'!CC4,FIND(\" \",'Colour Contrast Analysis'!CC4)))=1,\"es\",\"\")&\" not have sufficient contrast.\"&IF(VALUE(LEFT(RIGHT('Colour Contrast Analysis'!CC4,LEN('Colour Contrast Analysis'!CC4)-FIND(\"+\",'Colour Contrast Analysis'!CC4)-2),LEN(RIGHT('Colour Contrast Analysis'!CC4,LEN('Colour Contrast Analysis'!CC4)-FIND(\"+\",'Colour Contrast Analysis'!CC4)-2))-11))=0,\"\",IF(VALUE(LEFT(RIGHT('Colour Contrast Analysis'!CC4,LEN('Colour Contrast Analysis'!CC4)-FIND(\"+\",'Colour Contrast Analysis'!CC4)-2),LEN(RIGHT('Colour Contrast Analysis'!CC4,LEN('Colour Contrast Analysis'!CC4)-FIND(\"+\",'Colour Contrast Analysis'!CC4)-2))-11))=1,CHAR(10)&VALUE(LEFT(RIGHT('Colour Contrast Analysis'!CC4,LEN('Colour Contrast Analysis'!CC4)-FIND(\"+\",'Colour Contrast Analysis'!CC4)-2),LEN(RIGHT('Colour Contrast Analysis'!CC4,LEN('Colour Contrast Analysis'!CC4)-FIND(\"+\",'Colour Contrast Analysis'!CC4)-2))-11)) & \" combination of foreground and background colours is technically conformant, but its contrast should be increased.\",CHAR(10)&VALUE(LEFT(RIGHT('Colour Contrast Analysis'!CC4,LEN('Colour Contrast Analysis'!CC4)-FIND(\"+\",'Colour Contrast Analysis'!CC4)-2),LEN(RIGHT('Colour Contrast Analysis'!CC4,LEN('Colour Contrast Analysis'!CC4)-FIND(\"+\",'Colour Contrast Analysis'!CC4)-2))-11)) & \" combinations of foreground and background colours are technically conformant, but their contrast should be increased.\")) & CHAR(10) & \"Please see the Colour Contrast Analysis worksheet.\"","v":"0 combinations of foreground and background colours do not have sufficient contrast.\nPlease see the Colour Contrast Analysis worksheet."},{"$f":"LEFT('Colour Contrast Analysis'!CD4,FIND(\" \",'Colour Contrast Analysis'!CD4)-1)&\" combination\"&IF(VALUE(LEFT('Colour Contrast Analysis'!CD4,FIND(\" \",'Colour Contrast Analysis'!CD4)))=1,\"\",\"s\")&\" of foreground and background colours do\"&IF(VALUE(LEFT('Colour Contrast Analysis'!CD4,FIND(\" \",'Colour Contrast Analysis'!CD4)))=1,\"es\",\"\")&\" not have sufficient contrast.\"&IF(VALUE(LEFT(RIGHT('Colour Contrast Analysis'!CD4,LEN('Colour Contrast Analysis'!CD4)-FIND(\"+\",'Colour Contrast Analysis'!CD4)-2),LEN(RIGHT('Colour Contrast Analysis'!CD4,LEN('Colour Contrast Analysis'!CD4)-FIND(\"+\",'Colour Contrast Analysis'!CD4)-2))-11))=0,\"\",IF(VALUE(LEFT(RIGHT('Colour Contrast Analysis'!CD4,LEN('Colour Contrast Analysis'!CD4)-FIND(\"+\",'Colour Contrast Analysis'!CD4)-2),LEN(RIGHT('Colour Contrast Analysis'!CD4,LEN('Colour Contrast Analysis'!CD4)-FIND(\"+\",'Colour Contrast Analysis'!CD4)-2))-11))=1,CHAR(10)&VALUE(LEFT(RIGHT('Colour Contrast Analysis'!CD4,LEN('Colour Contrast Analysis'!CD4)-FIND(\"+\",'Colour Contrast Analysis'!CD4)-2),LEN(RIGHT('Colour Contrast Analysis'!CD4,LEN('Colour Contrast Analysis'!CD4)-FIND(\"+\",'Colour Contrast Analysis'!CD4)-2))-11)) & \" combination of foreground and background colours is technically conformant, but its contrast should be increased.\",CHAR(10)&VALUE(LEFT(RIGHT('Colour Contrast Analysis'!CD4,LEN('Colour Contrast Analysis'!CD4)-FIND(\"+\",'Colour Contrast Analysis'!CD4)-2),LEN(RIGHT('Colour Contrast Analysis'!CD4,LEN('Colour Contrast Analysis'!CD4)-FIND(\"+\",'Colour Contrast Analysis'!CD4)-2))-11)) & \" combinations of foreground and background colours are technically conformant, but their contrast should be increased.\")) & CHAR(10) & \"Please see the Colour Contrast Analysis worksheet.\"","v":"0 combinations of foreground and background colours do not have sufficient contrast.\nPlease see the Colour Contrast Analysis worksheet."},{"$f":"LEFT('Colour Contrast Analysis'!CE4,FIND(\" \",'Colour Contrast Analysis'!CE4)-1)&\" combination\"&IF(VALUE(LEFT('Colour Contrast Analysis'!CE4,FIND(\" \",'Colour Contrast Analysis'!CE4)))=1,\"\",\"s\")&\" of foreground and background colours do\"&IF(VALUE(LEFT('Colour Contrast Analysis'!CE4,FIND(\" \",'Colour Contrast Analysis'!CE4)))=1,\"es\",\"\")&\" not have sufficient contrast.\"&IF(VALUE(LEFT(RIGHT('Colour Contrast Analysis'!CE4,LEN('Colour Contrast Analysis'!CE4)-FIND(\"+\",'Colour Contrast Analysis'!CE4)-2),LEN(RIGHT('Colour Contrast Analysis'!CE4,LEN('Colour Contrast Analysis'!CE4)-FIND(\"+\",'Colour Contrast Analysis'!CE4)-2))-11))=0,\"\",IF(VALUE(LEFT(RIGHT('Colour Contrast Analysis'!CE4,LEN('Colour Contrast Analysis'!CE4)-FIND(\"+\",'Colour Contrast Analysis'!CE4)-2),LEN(RIGHT('Colour Contrast Analysis'!CE4,LEN('Colour Contrast Analysis'!CE4)-FIND(\"+\",'Colour Contrast Analysis'!CE4)-2))-11))=1,CHAR(10)&VALUE(LEFT(RIGHT('Colour Contrast Analysis'!CE4,LEN('Colour Contrast Analysis'!CE4)-FIND(\"+\",'Colour Contrast Analysis'!CE4)-2),LEN(RIGHT('Colour Contrast Analysis'!CE4,LEN('Colour Contrast Analysis'!CE4)-FIND(\"+\",'Colour Contrast Analysis'!CE4)-2))-11)) & \" combination of foreground and background colours is technically conformant, but its contrast should be increased.\",CHAR(10)&VALUE(LEFT(RIGHT('Colour Contrast Analysis'!CE4,LEN('Colour Contrast Analysis'!CE4)-FIND(\"+\",'Colour Contrast Analysis'!CE4)-2),LEN(RIGHT('Colour Contrast Analysis'!CE4,LEN('Colour Contrast Analysis'!CE4)-FIND(\"+\",'Colour Contrast Analysis'!CE4)-2))-11)) & \" combinations of foreground and background colours are technically conformant, but their contrast should be increased.\")) & CHAR(10) & \"Please see the Colour Contrast Analysis worksheet.\"","v":"0 combinations of foreground and background colours do not have sufficient contrast.\nPlease see the Colour Contrast Analysis worksheet."},{"$f":"LEFT('Colour Contrast Analysis'!CF4,FIND(\" \",'Colour Contrast Analysis'!CF4)-1)&\" combination\"&IF(VALUE(LEFT('Colour Contrast Analysis'!CF4,FIND(\" \",'Colour Contrast Analysis'!CF4)))=1,\"\",\"s\")&\" of foreground and background colours do\"&IF(VALUE(LEFT('Colour Contrast Analysis'!CF4,FIND(\" \",'Colour Contrast Analysis'!CF4)))=1,\"es\",\"\")&\" not have sufficient contrast.\"&IF(VALUE(LEFT(RIGHT('Colour Contrast Analysis'!CF4,LEN('Colour Contrast Analysis'!CF4)-FIND(\"+\",'Colour Contrast Analysis'!CF4)-2),LEN(RIGHT('Colour Contrast Analysis'!CF4,LEN('Colour Contrast Analysis'!CF4)-FIND(\"+\",'Colour Contrast Analysis'!CF4)-2))-11))=0,\"\",IF(VALUE(LEFT(RIGHT('Colour Contrast Analysis'!CF4,LEN('Colour Contrast Analysis'!CF4)-FIND(\"+\",'Colour Contrast Analysis'!CF4)-2),LEN(RIGHT('Colour Contrast Analysis'!CF4,LEN('Colour Contrast Analysis'!CF4)-FIND(\"+\",'Colour Contrast Analysis'!CF4)-2))-11))=1,CHAR(10)&VALUE(LEFT(RIGHT('Colour Contrast Analysis'!CF4,LEN('Colour Contrast Analysis'!CF4)-FIND(\"+\",'Colour Contrast Analysis'!CF4)-2),LEN(RIGHT('Colour Contrast Analysis'!CF4,LEN('Colour Contrast Analysis'!CF4)-FIND(\"+\",'Colour Contrast Analysis'!CF4)-2))-11)) & \" combination of foreground and background colours is technically conformant, but its contrast should be increased.\",CHAR(10)&VALUE(LEFT(RIGHT('Colour Contrast Analysis'!CF4,LEN('Colour Contrast Analysis'!CF4)-FIND(\"+\",'Colour Contrast Analysis'!CF4)-2),LEN(RIGHT('Colour Contrast Analysis'!CF4,LEN('Colour Contrast Analysis'!CF4)-FIND(\"+\",'Colour Contrast Analysis'!CF4)-2))-11)) & \" combinations of foreground and background colours are technically conformant, but their contrast should be increased.\")) & CHAR(10) & \"Please see the Colour Contrast Analysis worksheet.\"","v":"0 combinations of foreground and background colours do not have sufficient contrast.\nPlease see the Colour Contrast Analysis worksheet."},{"$f":"LEFT('Colour Contrast Analysis'!CG4,FIND(\" \",'Colour Contrast Analysis'!CG4)-1)&\" combination\"&IF(VALUE(LEFT('Colour Contrast Analysis'!CG4,FIND(\" \",'Colour Contrast Analysis'!CG4)))=1,\"\",\"s\")&\" of foreground and background colours do\"&IF(VALUE(LEFT('Colour Contrast Analysis'!CG4,FIND(\" \",'Colour Contrast Analysis'!CG4)))=1,\"es\",\"\")&\" not have sufficient contrast.\"&IF(VALUE(LEFT(RIGHT('Colour Contrast Analysis'!CG4,LEN('Colour Contrast Analysis'!CG4)-FIND(\"+\",'Colour Contrast Analysis'!CG4)-2),LEN(RIGHT('Colour Contrast Analysis'!CG4,LEN('Colour Contrast Analysis'!CG4)-FIND(\"+\",'Colour Contrast Analysis'!CG4)-2))-11))=0,\"\",IF(VALUE(LEFT(RIGHT('Colour Contrast Analysis'!CG4,LEN('Colour Contrast Analysis'!CG4)-FIND(\"+\",'Colour Contrast Analysis'!CG4)-2),LEN(RIGHT('Colour Contrast Analysis'!CG4,LEN('Colour Contrast Analysis'!CG4)-FIND(\"+\",'Colour Contrast Analysis'!CG4)-2))-11))=1,CHAR(10)&VALUE(LEFT(RIGHT('Colour Contrast Analysis'!CG4,LEN('Colour Contrast Analysis'!CG4)-FIND(\"+\",'Colour Contrast Analysis'!CG4)-2),LEN(RIGHT('Colour Contrast Analysis'!CG4,LEN('Colour Contrast Analysis'!CG4)-FIND(\"+\",'Colour Contrast Analysis'!CG4)-2))-11)) & \" combination of foreground and background colours is technically conformant, but its contrast should be increased.\",CHAR(10)&VALUE(LEFT(RIGHT('Colour Contrast Analysis'!CG4,LEN('Colour Contrast Analysis'!CG4)-FIND(\"+\",'Colour Contrast Analysis'!CG4)-2),LEN(RIGHT('Colour Contrast Analysis'!CG4,LEN('Colour Contrast Analysis'!CG4)-FIND(\"+\",'Colour Contrast Analysis'!CG4)-2))-11)) & \" combinations of foreground and background colours are technically conformant, but their contrast should be increased.\")) & CHAR(10) & \"Please see the Colour Contrast Analysis worksheet.\"","v":"0 combinations of foreground and background colours do not have sufficient contrast.\nPlease see the Colour Contrast Analysis worksheet."},{"$f":"LEFT('Colour Contrast Analysis'!CH4,FIND(\" \",'Colour Contrast Analysis'!CH4)-1)&\" combination\"&IF(VALUE(LEFT('Colour Contrast Analysis'!CH4,FIND(\" \",'Colour Contrast Analysis'!CH4)))=1,\"\",\"s\")&\" of foreground and background colours do\"&IF(VALUE(LEFT('Colour Contrast Analysis'!CH4,FIND(\" \",'Colour Contrast Analysis'!CH4)))=1,\"es\",\"\")&\" not have sufficient contrast.\"&IF(VALUE(LEFT(RIGHT('Colour Contrast Analysis'!CH4,LEN('Colour Contrast Analysis'!CH4)-FIND(\"+\",'Colour Contrast Analysis'!CH4)-2),LEN(RIGHT('Colour Contrast Analysis'!CH4,LEN('Colour Contrast Analysis'!CH4)-FIND(\"+\",'Colour Contrast Analysis'!CH4)-2))-11))=0,\"\",IF(VALUE(LEFT(RIGHT('Colour Contrast Analysis'!CH4,LEN('Colour Contrast Analysis'!CH4)-FIND(\"+\",'Colour Contrast Analysis'!CH4)-2),LEN(RIGHT('Colour Contrast Analysis'!CH4,LEN('Colour Contrast Analysis'!CH4)-FIND(\"+\",'Colour Contrast Analysis'!CH4)-2))-11))=1,CHAR(10)&VALUE(LEFT(RIGHT('Colour Contrast Analysis'!CH4,LEN('Colour Contrast Analysis'!CH4)-FIND(\"+\",'Colour Contrast Analysis'!CH4)-2),LEN(RIGHT('Colour Contrast Analysis'!CH4,LEN('Colour Contrast Analysis'!CH4)-FIND(\"+\",'Colour Contrast Analysis'!CH4)-2))-11)) & \" combination of foreground and background colours is technically conformant, but its contrast should be increased.\",CHAR(10)&VALUE(LEFT(RIGHT('Colour Contrast Analysis'!CH4,LEN('Colour Contrast Analysis'!CH4)-FIND(\"+\",'Colour Contrast Analysis'!CH4)-2),LEN(RIGHT('Colour Contrast Analysis'!CH4,LEN('Colour Contrast Analysis'!CH4)-FIND(\"+\",'Colour Contrast Analysis'!CH4)-2))-11)) & \" combinations of foreground and background colours are technically conformant, but their contrast should be increased.\")) & CHAR(10) & \"Please see the Colour Contrast Analysis worksheet.\"","v":"0 combinations of foreground and background colours do not have sufficient contrast.\nPlease see the Colour Contrast Analysis worksheet."},{"$f":"LEFT('Colour Contrast Analysis'!CI4,FIND(\" \",'Colour Contrast Analysis'!CI4)-1)&\" combination\"&IF(VALUE(LEFT('Colour Contrast Analysis'!CI4,FIND(\" \",'Colour Contrast Analysis'!CI4)))=1,\"\",\"s\")&\" of foreground and background colours do\"&IF(VALUE(LEFT('Colour Contrast Analysis'!CI4,FIND(\" \",'Colour Contrast Analysis'!CI4)))=1,\"es\",\"\")&\" not have sufficient contrast.\"&IF(VALUE(LEFT(RIGHT('Colour Contrast Analysis'!CI4,LEN('Colour Contrast Analysis'!CI4)-FIND(\"+\",'Colour Contrast Analysis'!CI4)-2),LEN(RIGHT('Colour Contrast Analysis'!CI4,LEN('Colour Contrast Analysis'!CI4)-FIND(\"+\",'Colour Contrast Analysis'!CI4)-2))-11))=0,\"\",IF(VALUE(LEFT(RIGHT('Colour Contrast Analysis'!CI4,LEN('Colour Contrast Analysis'!CI4)-FIND(\"+\",'Colour Contrast Analysis'!CI4)-2),LEN(RIGHT('Colour Contrast Analysis'!CI4,LEN('Colour Contrast Analysis'!CI4)-FIND(\"+\",'Colour Contrast Analysis'!CI4)-2))-11))=1,CHAR(10)&VALUE(LEFT(RIGHT('Colour Contrast Analysis'!CI4,LEN('Colour Contrast Analysis'!CI4)-FIND(\"+\",'Colour Contrast Analysis'!CI4)-2),LEN(RIGHT('Colour Contrast Analysis'!CI4,LEN('Colour Contrast Analysis'!CI4)-FIND(\"+\",'Colour Contrast Analysis'!CI4)-2))-11)) & \" combination of foreground and background colours is technically conformant, but its contrast should be increased.\",CHAR(10)&VALUE(LEFT(RIGHT('Colour Contrast Analysis'!CI4,LEN('Colour Contrast Analysis'!CI4)-FIND(\"+\",'Colour Contrast Analysis'!CI4)-2),LEN(RIGHT('Colour Contrast Analysis'!CI4,LEN('Colour Contrast Analysis'!CI4)-FIND(\"+\",'Colour Contrast Analysis'!CI4)-2))-11)) & \" combinations of foreground and background colours are technically conformant, but their contrast should be increased.\")) & CHAR(10) & \"Please see the Colour Contrast Analysis worksheet.\"","v":"0 combinations of foreground and background colours do not have sufficient contrast.\nPlease see the Colour Contrast Analysis worksheet."},{"$f":"LEFT('Colour Contrast Analysis'!CJ4,FIND(\" \",'Colour Contrast Analysis'!CJ4)-1)&\" combination\"&IF(VALUE(LEFT('Colour Contrast Analysis'!CJ4,FIND(\" \",'Colour Contrast Analysis'!CJ4)))=1,\"\",\"s\")&\" of foreground and background colours do\"&IF(VALUE(LEFT('Colour Contrast Analysis'!CJ4,FIND(\" \",'Colour Contrast Analysis'!CJ4)))=1,\"es\",\"\")&\" not have sufficient contrast.\"&IF(VALUE(LEFT(RIGHT('Colour Contrast Analysis'!CJ4,LEN('Colour Contrast Analysis'!CJ4)-FIND(\"+\",'Colour Contrast Analysis'!CJ4)-2),LEN(RIGHT('Colour Contrast Analysis'!CJ4,LEN('Colour Contrast Analysis'!CJ4)-FIND(\"+\",'Colour Contrast Analysis'!CJ4)-2))-11))=0,\"\",IF(VALUE(LEFT(RIGHT('Colour Contrast Analysis'!CJ4,LEN('Colour Contrast Analysis'!CJ4)-FIND(\"+\",'Colour Contrast Analysis'!CJ4)-2),LEN(RIGHT('Colour Contrast Analysis'!CJ4,LEN('Colour Contrast Analysis'!CJ4)-FIND(\"+\",'Colour Contrast Analysis'!CJ4)-2))-11))=1,CHAR(10)&VALUE(LEFT(RIGHT('Colour Contrast Analysis'!CJ4,LEN('Colour Contrast Analysis'!CJ4)-FIND(\"+\",'Colour Contrast Analysis'!CJ4)-2),LEN(RIGHT('Colour Contrast Analysis'!CJ4,LEN('Colour Contrast Analysis'!CJ4)-FIND(\"+\",'Colour Contrast Analysis'!CJ4)-2))-11)) & \" combination of foreground and background colours is technically conformant, but its contrast should be increased.\",CHAR(10)&VALUE(LEFT(RIGHT('Colour Contrast Analysis'!CJ4,LEN('Colour Contrast Analysis'!CJ4)-FIND(\"+\",'Colour Contrast Analysis'!CJ4)-2),LEN(RIGHT('Colour Contrast Analysis'!CJ4,LEN('Colour Contrast Analysis'!CJ4)-FIND(\"+\",'Colour Contrast Analysis'!CJ4)-2))-11)) & \" combinations of foreground and background colours are technically conformant, but their contrast should be increased.\")) & CHAR(10) & \"Please see the Colour Contrast Analysis worksheet.\"","v":"0 combinations of foreground and background colours do not have sufficient contrast.\nPlease see the Colour Contrast Analysis worksheet."},{"$f":"LEFT('Colour Contrast Analysis'!CK4,FIND(\" \",'Colour Contrast Analysis'!CK4)-1)&\" combination\"&IF(VALUE(LEFT('Colour Contrast Analysis'!CK4,FIND(\" \",'Colour Contrast Analysis'!CK4)))=1,\"\",\"s\")&\" of foreground and background colours do\"&IF(VALUE(LEFT('Colour Contrast Analysis'!CK4,FIND(\" \",'Colour Contrast Analysis'!CK4)))=1,\"es\",\"\")&\" not have sufficient contrast.\"&IF(VALUE(LEFT(RIGHT('Colour Contrast Analysis'!CK4,LEN('Colour Contrast Analysis'!CK4)-FIND(\"+\",'Colour Contrast Analysis'!CK4)-2),LEN(RIGHT('Colour Contrast Analysis'!CK4,LEN('Colour Contrast Analysis'!CK4)-FIND(\"+\",'Colour Contrast Analysis'!CK4)-2))-11))=0,\"\",IF(VALUE(LEFT(RIGHT('Colour Contrast Analysis'!CK4,LEN('Colour Contrast Analysis'!CK4)-FIND(\"+\",'Colour Contrast Analysis'!CK4)-2),LEN(RIGHT('Colour Contrast Analysis'!CK4,LEN('Colour Contrast Analysis'!CK4)-FIND(\"+\",'Colour Contrast Analysis'!CK4)-2))-11))=1,CHAR(10)&VALUE(LEFT(RIGHT('Colour Contrast Analysis'!CK4,LEN('Colour Contrast Analysis'!CK4)-FIND(\"+\",'Colour Contrast Analysis'!CK4)-2),LEN(RIGHT('Colour Contrast Analysis'!CK4,LEN('Colour Contrast Analysis'!CK4)-FIND(\"+\",'Colour Contrast Analysis'!CK4)-2))-11)) & \" combination of foreground and background colours is technically conformant, but its contrast should be increased.\",CHAR(10)&VALUE(LEFT(RIGHT('Colour Contrast Analysis'!CK4,LEN('Colour Contrast Analysis'!CK4)-FIND(\"+\",'Colour Contrast Analysis'!CK4)-2),LEN(RIGHT('Colour Contrast Analysis'!CK4,LEN('Colour Contrast Analysis'!CK4)-FIND(\"+\",'Colour Contrast Analysis'!CK4)-2))-11)) & \" combinations of foreground and background colours are technically conformant, but their contrast should be increased.\")) & CHAR(10) & \"Please see the Colour Contrast Analysis worksheet.\"","v":"0 combinations of foreground and background colours do not have sufficient contrast.\nPlease see the Colour Contrast Analysis worksheet."},{"$f":"LEFT('Colour Contrast Analysis'!CL4,FIND(\" \",'Colour Contrast Analysis'!CL4)-1)&\" combination\"&IF(VALUE(LEFT('Colour Contrast Analysis'!CL4,FIND(\" \",'Colour Contrast Analysis'!CL4)))=1,\"\",\"s\")&\" of foreground and background colours do\"&IF(VALUE(LEFT('Colour Contrast Analysis'!CL4,FIND(\" \",'Colour Contrast Analysis'!CL4)))=1,\"es\",\"\")&\" not have sufficient contrast.\"&IF(VALUE(LEFT(RIGHT('Colour Contrast Analysis'!CL4,LEN('Colour Contrast Analysis'!CL4)-FIND(\"+\",'Colour Contrast Analysis'!CL4)-2),LEN(RIGHT('Colour Contrast Analysis'!CL4,LEN('Colour Contrast Analysis'!CL4)-FIND(\"+\",'Colour Contrast Analysis'!CL4)-2))-11))=0,\"\",IF(VALUE(LEFT(RIGHT('Colour Contrast Analysis'!CL4,LEN('Colour Contrast Analysis'!CL4)-FIND(\"+\",'Colour Contrast Analysis'!CL4)-2),LEN(RIGHT('Colour Contrast Analysis'!CL4,LEN('Colour Contrast Analysis'!CL4)-FIND(\"+\",'Colour Contrast Analysis'!CL4)-2))-11))=1,CHAR(10)&VALUE(LEFT(RIGHT('Colour Contrast Analysis'!CL4,LEN('Colour Contrast Analysis'!CL4)-FIND(\"+\",'Colour Contrast Analysis'!CL4)-2),LEN(RIGHT('Colour Contrast Analysis'!CL4,LEN('Colour Contrast Analysis'!CL4)-FIND(\"+\",'Colour Contrast Analysis'!CL4)-2))-11)) & \" combination of foreground and background colours is technically conformant, but its contrast should be increased.\",CHAR(10)&VALUE(LEFT(RIGHT('Colour Contrast Analysis'!CL4,LEN('Colour Contrast Analysis'!CL4)-FIND(\"+\",'Colour Contrast Analysis'!CL4)-2),LEN(RIGHT('Colour Contrast Analysis'!CL4,LEN('Colour Contrast Analysis'!CL4)-FIND(\"+\",'Colour Contrast Analysis'!CL4)-2))-11)) & \" combinations of foreground and background colours are technically conformant, but their contrast should be increased.\")) & CHAR(10) & \"Please see the Colour Contrast Analysis worksheet.\"","v":"0 combinations of foreground and background colours do not have sufficient contrast.\nPlease see the Colour Contrast Analysis worksheet."},{"$f":"LEFT('Colour Contrast Analysis'!CM4,FIND(\" \",'Colour Contrast Analysis'!CM4)-1)&\" combination\"&IF(VALUE(LEFT('Colour Contrast Analysis'!CM4,FIND(\" \",'Colour Contrast Analysis'!CM4)))=1,\"\",\"s\")&\" of foreground and background colours do\"&IF(VALUE(LEFT('Colour Contrast Analysis'!CM4,FIND(\" \",'Colour Contrast Analysis'!CM4)))=1,\"es\",\"\")&\" not have sufficient contrast.\"&IF(VALUE(LEFT(RIGHT('Colour Contrast Analysis'!CM4,LEN('Colour Contrast Analysis'!CM4)-FIND(\"+\",'Colour Contrast Analysis'!CM4)-2),LEN(RIGHT('Colour Contrast Analysis'!CM4,LEN('Colour Contrast Analysis'!CM4)-FIND(\"+\",'Colour Contrast Analysis'!CM4)-2))-11))=0,\"\",IF(VALUE(LEFT(RIGHT('Colour Contrast Analysis'!CM4,LEN('Colour Contrast Analysis'!CM4)-FIND(\"+\",'Colour Contrast Analysis'!CM4)-2),LEN(RIGHT('Colour Contrast Analysis'!CM4,LEN('Colour Contrast Analysis'!CM4)-FIND(\"+\",'Colour Contrast Analysis'!CM4)-2))-11))=1,CHAR(10)&VALUE(LEFT(RIGHT('Colour Contrast Analysis'!CM4,LEN('Colour Contrast Analysis'!CM4)-FIND(\"+\",'Colour Contrast Analysis'!CM4)-2),LEN(RIGHT('Colour Contrast Analysis'!CM4,LEN('Colour Contrast Analysis'!CM4)-FIND(\"+\",'Colour Contrast Analysis'!CM4)-2))-11)) & \" combination of foreground and background colours is technically conformant, but its contrast should be increased.\",CHAR(10)&VALUE(LEFT(RIGHT('Colour Contrast Analysis'!CM4,LEN('Colour Contrast Analysis'!CM4)-FIND(\"+\",'Colour Contrast Analysis'!CM4)-2),LEN(RIGHT('Colour Contrast Analysis'!CM4,LEN('Colour Contrast Analysis'!CM4)-FIND(\"+\",'Colour Contrast Analysis'!CM4)-2))-11)) & \" combinations of foreground and background colours are technically conformant, but their contrast should be increased.\")) & CHAR(10) & \"Please see the Colour Contrast Analysis worksheet.\"","v":"0 combinations of foreground and background colours do not have sufficient contrast.\nPlease see the Colour Contrast Analysis worksheet."},{"$f":"LEFT('Colour Contrast Analysis'!CN4,FIND(\" \",'Colour Contrast Analysis'!CN4)-1)&\" combination\"&IF(VALUE(LEFT('Colour Contrast Analysis'!CN4,FIND(\" \",'Colour Contrast Analysis'!CN4)))=1,\"\",\"s\")&\" of foreground and background colours do\"&IF(VALUE(LEFT('Colour Contrast Analysis'!CN4,FIND(\" \",'Colour Contrast Analysis'!CN4)))=1,\"es\",\"\")&\" not have sufficient contrast.\"&IF(VALUE(LEFT(RIGHT('Colour Contrast Analysis'!CN4,LEN('Colour Contrast Analysis'!CN4)-FIND(\"+\",'Colour Contrast Analysis'!CN4)-2),LEN(RIGHT('Colour Contrast Analysis'!CN4,LEN('Colour Contrast Analysis'!CN4)-FIND(\"+\",'Colour Contrast Analysis'!CN4)-2))-11))=0,\"\",IF(VALUE(LEFT(RIGHT('Colour Contrast Analysis'!CN4,LEN('Colour Contrast Analysis'!CN4)-FIND(\"+\",'Colour Contrast Analysis'!CN4)-2),LEN(RIGHT('Colour Contrast Analysis'!CN4,LEN('Colour Contrast Analysis'!CN4)-FIND(\"+\",'Colour Contrast Analysis'!CN4)-2))-11))=1,CHAR(10)&VALUE(LEFT(RIGHT('Colour Contrast Analysis'!CN4,LEN('Colour Contrast Analysis'!CN4)-FIND(\"+\",'Colour Contrast Analysis'!CN4)-2),LEN(RIGHT('Colour Contrast Analysis'!CN4,LEN('Colour Contrast Analysis'!CN4)-FIND(\"+\",'Colour Contrast Analysis'!CN4)-2))-11)) & \" combination of foreground and background colours is technically conformant, but its contrast should be increased.\",CHAR(10)&VALUE(LEFT(RIGHT('Colour Contrast Analysis'!CN4,LEN('Colour Contrast Analysis'!CN4)-FIND(\"+\",'Colour Contrast Analysis'!CN4)-2),LEN(RIGHT('Colour Contrast Analysis'!CN4,LEN('Colour Contrast Analysis'!CN4)-FIND(\"+\",'Colour Contrast Analysis'!CN4)-2))-11)) & \" combinations of foreground and background colours are technically conformant, but their contrast should be increased.\")) & CHAR(10) & \"Please see the Colour Contrast Analysis worksheet.\"","v":"0 combinations of foreground and background colours do not have sufficient contrast.\nPlease see the Colour Contrast Analysis worksheet."},{"$f":"LEFT('Colour Contrast Analysis'!CO4,FIND(\" \",'Colour Contrast Analysis'!CO4)-1)&\" combination\"&IF(VALUE(LEFT('Colour Contrast Analysis'!CO4,FIND(\" \",'Colour Contrast Analysis'!CO4)))=1,\"\",\"s\")&\" of foreground and background colours do\"&IF(VALUE(LEFT('Colour Contrast Analysis'!CO4,FIND(\" \",'Colour Contrast Analysis'!CO4)))=1,\"es\",\"\")&\" not have sufficient contrast.\"&IF(VALUE(LEFT(RIGHT('Colour Contrast Analysis'!CO4,LEN('Colour Contrast Analysis'!CO4)-FIND(\"+\",'Colour Contrast Analysis'!CO4)-2),LEN(RIGHT('Colour Contrast Analysis'!CO4,LEN('Colour Contrast Analysis'!CO4)-FIND(\"+\",'Colour Contrast Analysis'!CO4)-2))-11))=0,\"\",IF(VALUE(LEFT(RIGHT('Colour Contrast Analysis'!CO4,LEN('Colour Contrast Analysis'!CO4)-FIND(\"+\",'Colour Contrast Analysis'!CO4)-2),LEN(RIGHT('Colour Contrast Analysis'!CO4,LEN('Colour Contrast Analysis'!CO4)-FIND(\"+\",'Colour Contrast Analysis'!CO4)-2))-11))=1,CHAR(10)&VALUE(LEFT(RIGHT('Colour Contrast Analysis'!CO4,LEN('Colour Contrast Analysis'!CO4)-FIND(\"+\",'Colour Contrast Analysis'!CO4)-2),LEN(RIGHT('Colour Contrast Analysis'!CO4,LEN('Colour Contrast Analysis'!CO4)-FIND(\"+\",'Colour Contrast Analysis'!CO4)-2))-11)) & \" combination of foreground and background colours is technically conformant, but its contrast should be increased.\",CHAR(10)&VALUE(LEFT(RIGHT('Colour Contrast Analysis'!CO4,LEN('Colour Contrast Analysis'!CO4)-FIND(\"+\",'Colour Contrast Analysis'!CO4)-2),LEN(RIGHT('Colour Contrast Analysis'!CO4,LEN('Colour Contrast Analysis'!CO4)-FIND(\"+\",'Colour Contrast Analysis'!CO4)-2))-11)) & \" combinations of foreground and background colours are technically conformant, but their contrast should be increased.\")) & CHAR(10) & \"Please see the Colour Contrast Analysis worksheet.\"","v":"0 combinations of foreground and background colours do not have sufficient contrast.\nPlease see the Colour Contrast Analysis worksheet."},{"$f":"LEFT('Colour Contrast Analysis'!CP4,FIND(\" \",'Colour Contrast Analysis'!CP4)-1)&\" combination\"&IF(VALUE(LEFT('Colour Contrast Analysis'!CP4,FIND(\" \",'Colour Contrast Analysis'!CP4)))=1,\"\",\"s\")&\" of foreground and background colours do\"&IF(VALUE(LEFT('Colour Contrast Analysis'!CP4,FIND(\" \",'Colour Contrast Analysis'!CP4)))=1,\"es\",\"\")&\" not have sufficient contrast.\"&IF(VALUE(LEFT(RIGHT('Colour Contrast Analysis'!CP4,LEN('Colour Contrast Analysis'!CP4)-FIND(\"+\",'Colour Contrast Analysis'!CP4)-2),LEN(RIGHT('Colour Contrast Analysis'!CP4,LEN('Colour Contrast Analysis'!CP4)-FIND(\"+\",'Colour Contrast Analysis'!CP4)-2))-11))=0,\"\",IF(VALUE(LEFT(RIGHT('Colour Contrast Analysis'!CP4,LEN('Colour Contrast Analysis'!CP4)-FIND(\"+\",'Colour Contrast Analysis'!CP4)-2),LEN(RIGHT('Colour Contrast Analysis'!CP4,LEN('Colour Contrast Analysis'!CP4)-FIND(\"+\",'Colour Contrast Analysis'!CP4)-2))-11))=1,CHAR(10)&VALUE(LEFT(RIGHT('Colour Contrast Analysis'!CP4,LEN('Colour Contrast Analysis'!CP4)-FIND(\"+\",'Colour Contrast Analysis'!CP4)-2),LEN(RIGHT('Colour Contrast Analysis'!CP4,LEN('Colour Contrast Analysis'!CP4)-FIND(\"+\",'Colour Contrast Analysis'!CP4)-2))-11)) & \" combination of foreground and background colours is technically conformant, but its contrast should be increased.\",CHAR(10)&VALUE(LEFT(RIGHT('Colour Contrast Analysis'!CP4,LEN('Colour Contrast Analysis'!CP4)-FIND(\"+\",'Colour Contrast Analysis'!CP4)-2),LEN(RIGHT('Colour Contrast Analysis'!CP4,LEN('Colour Contrast Analysis'!CP4)-FIND(\"+\",'Colour Contrast Analysis'!CP4)-2))-11)) & \" combinations of foreground and background colours are technically conformant, but their contrast should be increased.\")) & CHAR(10) & \"Please see the Colour Contrast Analysis worksheet.\"","v":"0 combinations of foreground and background colours do not have sufficient contrast.\nPlease see the Colour Contrast Analysis worksheet."},{"$f":"LEFT('Colour Contrast Analysis'!CQ4,FIND(\" \",'Colour Contrast Analysis'!CQ4)-1)&\" combination\"&IF(VALUE(LEFT('Colour Contrast Analysis'!CQ4,FIND(\" \",'Colour Contrast Analysis'!CQ4)))=1,\"\",\"s\")&\" of foreground and background colours do\"&IF(VALUE(LEFT('Colour Contrast Analysis'!CQ4,FIND(\" \",'Colour Contrast Analysis'!CQ4)))=1,\"es\",\"\")&\" not have sufficient contrast.\"&IF(VALUE(LEFT(RIGHT('Colour Contrast Analysis'!CQ4,LEN('Colour Contrast Analysis'!CQ4)-FIND(\"+\",'Colour Contrast Analysis'!CQ4)-2),LEN(RIGHT('Colour Contrast Analysis'!CQ4,LEN('Colour Contrast Analysis'!CQ4)-FIND(\"+\",'Colour Contrast Analysis'!CQ4)-2))-11))=0,\"\",IF(VALUE(LEFT(RIGHT('Colour Contrast Analysis'!CQ4,LEN('Colour Contrast Analysis'!CQ4)-FIND(\"+\",'Colour Contrast Analysis'!CQ4)-2),LEN(RIGHT('Colour Contrast Analysis'!CQ4,LEN('Colour Contrast Analysis'!CQ4)-FIND(\"+\",'Colour Contrast Analysis'!CQ4)-2))-11))=1,CHAR(10)&VALUE(LEFT(RIGHT('Colour Contrast Analysis'!CQ4,LEN('Colour Contrast Analysis'!CQ4)-FIND(\"+\",'Colour Contrast Analysis'!CQ4)-2),LEN(RIGHT('Colour Contrast Analysis'!CQ4,LEN('Colour Contrast Analysis'!CQ4)-FIND(\"+\",'Colour Contrast Analysis'!CQ4)-2))-11)) & \" combination of foreground and background colours is technically conformant, but its contrast should be increased.\",CHAR(10)&VALUE(LEFT(RIGHT('Colour Contrast Analysis'!CQ4,LEN('Colour Contrast Analysis'!CQ4)-FIND(\"+\",'Colour Contrast Analysis'!CQ4)-2),LEN(RIGHT('Colour Contrast Analysis'!CQ4,LEN('Colour Contrast Analysis'!CQ4)-FIND(\"+\",'Colour Contrast Analysis'!CQ4)-2))-11)) & \" combinations of foreground and background colours are technically conformant, but their contrast should be increased.\")) & CHAR(10) & \"Please see the Colour Contrast Analysis worksheet.\"","v":"0 combinations of foreground and background colours do not have sufficient contrast.\nPlease see the Colour Contrast Analysis worksheet."},{"$f":"LEFT('Colour Contrast Analysis'!CR4,FIND(\" \",'Colour Contrast Analysis'!CR4)-1)&\" combination\"&IF(VALUE(LEFT('Colour Contrast Analysis'!CR4,FIND(\" \",'Colour Contrast Analysis'!CR4)))=1,\"\",\"s\")&\" of foreground and background colours do\"&IF(VALUE(LEFT('Colour Contrast Analysis'!CR4,FIND(\" \",'Colour Contrast Analysis'!CR4)))=1,\"es\",\"\")&\" not have sufficient contrast.\"&IF(VALUE(LEFT(RIGHT('Colour Contrast Analysis'!CR4,LEN('Colour Contrast Analysis'!CR4)-FIND(\"+\",'Colour Contrast Analysis'!CR4)-2),LEN(RIGHT('Colour Contrast Analysis'!CR4,LEN('Colour Contrast Analysis'!CR4)-FIND(\"+\",'Colour Contrast Analysis'!CR4)-2))-11))=0,\"\",IF(VALUE(LEFT(RIGHT('Colour Contrast Analysis'!CR4,LEN('Colour Contrast Analysis'!CR4)-FIND(\"+\",'Colour Contrast Analysis'!CR4)-2),LEN(RIGHT('Colour Contrast Analysis'!CR4,LEN('Colour Contrast Analysis'!CR4)-FIND(\"+\",'Colour Contrast Analysis'!CR4)-2))-11))=1,CHAR(10)&VALUE(LEFT(RIGHT('Colour Contrast Analysis'!CR4,LEN('Colour Contrast Analysis'!CR4)-FIND(\"+\",'Colour Contrast Analysis'!CR4)-2),LEN(RIGHT('Colour Contrast Analysis'!CR4,LEN('Colour Contrast Analysis'!CR4)-FIND(\"+\",'Colour Contrast Analysis'!CR4)-2))-11)) & \" combination of foreground and background colours is technically conformant, but its contrast should be increased.\",CHAR(10)&VALUE(LEFT(RIGHT('Colour Contrast Analysis'!CR4,LEN('Colour Contrast Analysis'!CR4)-FIND(\"+\",'Colour Contrast Analysis'!CR4)-2),LEN(RIGHT('Colour Contrast Analysis'!CR4,LEN('Colour Contrast Analysis'!CR4)-FIND(\"+\",'Colour Contrast Analysis'!CR4)-2))-11)) & \" combinations of foreground and background colours are technically conformant, but their contrast should be increased.\")) & CHAR(10) & \"Please see the Colour Contrast Analysis worksheet.\"","v":"0 combinations of foreground and background colours do not have sufficient contrast.\nPlease see the Colour Contrast Analysis worksheet."},{"$f":"LEFT('Colour Contrast Analysis'!CS4,FIND(\" \",'Colour Contrast Analysis'!CS4)-1)&\" combination\"&IF(VALUE(LEFT('Colour Contrast Analysis'!CS4,FIND(\" \",'Colour Contrast Analysis'!CS4)))=1,\"\",\"s\")&\" of foreground and background colours do\"&IF(VALUE(LEFT('Colour Contrast Analysis'!CS4,FIND(\" \",'Colour Contrast Analysis'!CS4)))=1,\"es\",\"\")&\" not have sufficient contrast.\"&IF(VALUE(LEFT(RIGHT('Colour Contrast Analysis'!CS4,LEN('Colour Contrast Analysis'!CS4)-FIND(\"+\",'Colour Contrast Analysis'!CS4)-2),LEN(RIGHT('Colour Contrast Analysis'!CS4,LEN('Colour Contrast Analysis'!CS4)-FIND(\"+\",'Colour Contrast Analysis'!CS4)-2))-11))=0,\"\",IF(VALUE(LEFT(RIGHT('Colour Contrast Analysis'!CS4,LEN('Colour Contrast Analysis'!CS4)-FIND(\"+\",'Colour Contrast Analysis'!CS4)-2),LEN(RIGHT('Colour Contrast Analysis'!CS4,LEN('Colour Contrast Analysis'!CS4)-FIND(\"+\",'Colour Contrast Analysis'!CS4)-2))-11))=1,CHAR(10)&VALUE(LEFT(RIGHT('Colour Contrast Analysis'!CS4,LEN('Colour Contrast Analysis'!CS4)-FIND(\"+\",'Colour Contrast Analysis'!CS4)-2),LEN(RIGHT('Colour Contrast Analysis'!CS4,LEN('Colour Contrast Analysis'!CS4)-FIND(\"+\",'Colour Contrast Analysis'!CS4)-2))-11)) & \" combination of foreground and background colours is technically conformant, but its contrast should be increased.\",CHAR(10)&VALUE(LEFT(RIGHT('Colour Contrast Analysis'!CS4,LEN('Colour Contrast Analysis'!CS4)-FIND(\"+\",'Colour Contrast Analysis'!CS4)-2),LEN(RIGHT('Colour Contrast Analysis'!CS4,LEN('Colour Contrast Analysis'!CS4)-FIND(\"+\",'Colour Contrast Analysis'!CS4)-2))-11)) & \" combinations of foreground and background colours are technically conformant, but their contrast should be increased.\")) & CHAR(10) & \"Please see the Colour Contrast Analysis worksheet.\"","v":"0 combinations of foreground and background colours do not have sufficient contrast.\nPlease see the Colour Contrast Analysis worksheet."},{"$f":"LEFT('Colour Contrast Analysis'!CT4,FIND(\" \",'Colour Contrast Analysis'!CT4)-1)&\" combination\"&IF(VALUE(LEFT('Colour Contrast Analysis'!CT4,FIND(\" \",'Colour Contrast Analysis'!CT4)))=1,\"\",\"s\")&\" of foreground and background colours do\"&IF(VALUE(LEFT('Colour Contrast Analysis'!CT4,FIND(\" \",'Colour Contrast Analysis'!CT4)))=1,\"es\",\"\")&\" not have sufficient contrast.\"&IF(VALUE(LEFT(RIGHT('Colour Contrast Analysis'!CT4,LEN('Colour Contrast Analysis'!CT4)-FIND(\"+\",'Colour Contrast Analysis'!CT4)-2),LEN(RIGHT('Colour Contrast Analysis'!CT4,LEN('Colour Contrast Analysis'!CT4)-FIND(\"+\",'Colour Contrast Analysis'!CT4)-2))-11))=0,\"\",IF(VALUE(LEFT(RIGHT('Colour Contrast Analysis'!CT4,LEN('Colour Contrast Analysis'!CT4)-FIND(\"+\",'Colour Contrast Analysis'!CT4)-2),LEN(RIGHT('Colour Contrast Analysis'!CT4,LEN('Colour Contrast Analysis'!CT4)-FIND(\"+\",'Colour Contrast Analysis'!CT4)-2))-11))=1,CHAR(10)&VALUE(LEFT(RIGHT('Colour Contrast Analysis'!CT4,LEN('Colour Contrast Analysis'!CT4)-FIND(\"+\",'Colour Contrast Analysis'!CT4)-2),LEN(RIGHT('Colour Contrast Analysis'!CT4,LEN('Colour Contrast Analysis'!CT4)-FIND(\"+\",'Colour Contrast Analysis'!CT4)-2))-11)) & \" combination of foreground and background colours is technically conformant, but its contrast should be increased.\",CHAR(10)&VALUE(LEFT(RIGHT('Colour Contrast Analysis'!CT4,LEN('Colour Contrast Analysis'!CT4)-FIND(\"+\",'Colour Contrast Analysis'!CT4)-2),LEN(RIGHT('Colour Contrast Analysis'!CT4,LEN('Colour Contrast Analysis'!CT4)-FIND(\"+\",'Colour Contrast Analysis'!CT4)-2))-11)) & \" combinations of foreground and background colours are technically conformant, but their contrast should be increased.\")) & CHAR(10) & \"Please see the Colour Contrast Analysis worksheet.\"","v":"0 combinations of foreground and background colours do not have sufficient contrast.\nPlease see the Colour Contrast Analysis worksheet."},{"$f":"LEFT('Colour Contrast Analysis'!CU4,FIND(\" \",'Colour Contrast Analysis'!CU4)-1)&\" combination\"&IF(VALUE(LEFT('Colour Contrast Analysis'!CU4,FIND(\" \",'Colour Contrast Analysis'!CU4)))=1,\"\",\"s\")&\" of foreground and background colours do\"&IF(VALUE(LEFT('Colour Contrast Analysis'!CU4,FIND(\" \",'Colour Contrast Analysis'!CU4)))=1,\"es\",\"\")&\" not have sufficient contrast.\"&IF(VALUE(LEFT(RIGHT('Colour Contrast Analysis'!CU4,LEN('Colour Contrast Analysis'!CU4)-FIND(\"+\",'Colour Contrast Analysis'!CU4)-2),LEN(RIGHT('Colour Contrast Analysis'!CU4,LEN('Colour Contrast Analysis'!CU4)-FIND(\"+\",'Colour Contrast Analysis'!CU4)-2))-11))=0,\"\",IF(VALUE(LEFT(RIGHT('Colour Contrast Analysis'!CU4,LEN('Colour Contrast Analysis'!CU4)-FIND(\"+\",'Colour Contrast Analysis'!CU4)-2),LEN(RIGHT('Colour Contrast Analysis'!CU4,LEN('Colour Contrast Analysis'!CU4)-FIND(\"+\",'Colour Contrast Analysis'!CU4)-2))-11))=1,CHAR(10)&VALUE(LEFT(RIGHT('Colour Contrast Analysis'!CU4,LEN('Colour Contrast Analysis'!CU4)-FIND(\"+\",'Colour Contrast Analysis'!CU4)-2),LEN(RIGHT('Colour Contrast Analysis'!CU4,LEN('Colour Contrast Analysis'!CU4)-FIND(\"+\",'Colour Contrast Analysis'!CU4)-2))-11)) & \" combination of foreground and background colours is technically conformant, but its contrast should be increased.\",CHAR(10)&VALUE(LEFT(RIGHT('Colour Contrast Analysis'!CU4,LEN('Colour Contrast Analysis'!CU4)-FIND(\"+\",'Colour Contrast Analysis'!CU4)-2),LEN(RIGHT('Colour Contrast Analysis'!CU4,LEN('Colour Contrast Analysis'!CU4)-FIND(\"+\",'Colour Contrast Analysis'!CU4)-2))-11)) & \" combinations of foreground and background colours are technically conformant, but their contrast should be increased.\")) & CHAR(10) & \"Please see the Colour Contrast Analysis worksheet.\"","v":"0 combinations of foreground and background colours do not have sufficient contrast.\nPlease see the Colour Contrast Analysis worksheet."},{"$f":"LEFT('Colour Contrast Analysis'!CV4,FIND(\" \",'Colour Contrast Analysis'!CV4)-1)&\" combination\"&IF(VALUE(LEFT('Colour Contrast Analysis'!CV4,FIND(\" \",'Colour Contrast Analysis'!CV4)))=1,\"\",\"s\")&\" of foreground and background colours do\"&IF(VALUE(LEFT('Colour Contrast Analysis'!CV4,FIND(\" \",'Colour Contrast Analysis'!CV4)))=1,\"es\",\"\")&\" not have sufficient contrast.\"&IF(VALUE(LEFT(RIGHT('Colour Contrast Analysis'!CV4,LEN('Colour Contrast Analysis'!CV4)-FIND(\"+\",'Colour Contrast Analysis'!CV4)-2),LEN(RIGHT('Colour Contrast Analysis'!CV4,LEN('Colour Contrast Analysis'!CV4)-FIND(\"+\",'Colour Contrast Analysis'!CV4)-2))-11))=0,\"\",IF(VALUE(LEFT(RIGHT('Colour Contrast Analysis'!CV4,LEN('Colour Contrast Analysis'!CV4)-FIND(\"+\",'Colour Contrast Analysis'!CV4)-2),LEN(RIGHT('Colour Contrast Analysis'!CV4,LEN('Colour Contrast Analysis'!CV4)-FIND(\"+\",'Colour Contrast Analysis'!CV4)-2))-11))=1,CHAR(10)&VALUE(LEFT(RIGHT('Colour Contrast Analysis'!CV4,LEN('Colour Contrast Analysis'!CV4)-FIND(\"+\",'Colour Contrast Analysis'!CV4)-2),LEN(RIGHT('Colour Contrast Analysis'!CV4,LEN('Colour Contrast Analysis'!CV4)-FIND(\"+\",'Colour Contrast Analysis'!CV4)-2))-11)) & \" combination of foreground and background colours is technically conformant, but its contrast should be increased.\",CHAR(10)&VALUE(LEFT(RIGHT('Colour Contrast Analysis'!CV4,LEN('Colour Contrast Analysis'!CV4)-FIND(\"+\",'Colour Contrast Analysis'!CV4)-2),LEN(RIGHT('Colour Contrast Analysis'!CV4,LEN('Colour Contrast Analysis'!CV4)-FIND(\"+\",'Colour Contrast Analysis'!CV4)-2))-11)) & \" combinations of foreground and background colours are technically conformant, but their contrast should be increased.\")) & CHAR(10) & \"Please see the Colour Contrast Analysis worksheet.\"","v":"0 combinations of foreground and background colours do not have sufficient contrast.\nPlease see the Colour Contrast Analysis worksheet."},{"$f":"LEFT('Colour Contrast Analysis'!CW4,FIND(\" \",'Colour Contrast Analysis'!CW4)-1)&\" combination\"&IF(VALUE(LEFT('Colour Contrast Analysis'!CW4,FIND(\" \",'Colour Contrast Analysis'!CW4)))=1,\"\",\"s\")&\" of foreground and background colours do\"&IF(VALUE(LEFT('Colour Contrast Analysis'!CW4,FIND(\" \",'Colour Contrast Analysis'!CW4)))=1,\"es\",\"\")&\" not have sufficient contrast.\"&IF(VALUE(LEFT(RIGHT('Colour Contrast Analysis'!CW4,LEN('Colour Contrast Analysis'!CW4)-FIND(\"+\",'Colour Contrast Analysis'!CW4)-2),LEN(RIGHT('Colour Contrast Analysis'!CW4,LEN('Colour Contrast Analysis'!CW4)-FIND(\"+\",'Colour Contrast Analysis'!CW4)-2))-11))=0,\"\",IF(VALUE(LEFT(RIGHT('Colour Contrast Analysis'!CW4,LEN('Colour Contrast Analysis'!CW4)-FIND(\"+\",'Colour Contrast Analysis'!CW4)-2),LEN(RIGHT('Colour Contrast Analysis'!CW4,LEN('Colour Contrast Analysis'!CW4)-FIND(\"+\",'Colour Contrast Analysis'!CW4)-2))-11))=1,CHAR(10)&VALUE(LEFT(RIGHT('Colour Contrast Analysis'!CW4,LEN('Colour Contrast Analysis'!CW4)-FIND(\"+\",'Colour Contrast Analysis'!CW4)-2),LEN(RIGHT('Colour Contrast Analysis'!CW4,LEN('Colour Contrast Analysis'!CW4)-FIND(\"+\",'Colour Contrast Analysis'!CW4)-2))-11)) & \" combination of foreground and background colours is technically conformant, but its contrast should be increased.\",CHAR(10)&VALUE(LEFT(RIGHT('Colour Contrast Analysis'!CW4,LEN('Colour Contrast Analysis'!CW4)-FIND(\"+\",'Colour Contrast Analysis'!CW4)-2),LEN(RIGHT('Colour Contrast Analysis'!CW4,LEN('Colour Contrast Analysis'!CW4)-FIND(\"+\",'Colour Contrast Analysis'!CW4)-2))-11)) & \" combinations of foreground and background colours are technically conformant, but their contrast should be increased.\")) & CHAR(10) & \"Please see the Colour Contrast Analysis worksheet.\"","v":"0 combinations of foreground and background colours do not have sufficient contrast.\nPlease see the Colour Contrast Analysis worksheet."},{"$f":"LEFT('Colour Contrast Analysis'!CX4,FIND(\" \",'Colour Contrast Analysis'!CX4)-1)&\" combination\"&IF(VALUE(LEFT('Colour Contrast Analysis'!CX4,FIND(\" \",'Colour Contrast Analysis'!CX4)))=1,\"\",\"s\")&\" of foreground and background colours do\"&IF(VALUE(LEFT('Colour Contrast Analysis'!CX4,FIND(\" \",'Colour Contrast Analysis'!CX4)))=1,\"es\",\"\")&\" not have sufficient contrast.\"&IF(VALUE(LEFT(RIGHT('Colour Contrast Analysis'!CX4,LEN('Colour Contrast Analysis'!CX4)-FIND(\"+\",'Colour Contrast Analysis'!CX4)-2),LEN(RIGHT('Colour Contrast Analysis'!CX4,LEN('Colour Contrast Analysis'!CX4)-FIND(\"+\",'Colour Contrast Analysis'!CX4)-2))-11))=0,\"\",IF(VALUE(LEFT(RIGHT('Colour Contrast Analysis'!CX4,LEN('Colour Contrast Analysis'!CX4)-FIND(\"+\",'Colour Contrast Analysis'!CX4)-2),LEN(RIGHT('Colour Contrast Analysis'!CX4,LEN('Colour Contrast Analysis'!CX4)-FIND(\"+\",'Colour Contrast Analysis'!CX4)-2))-11))=1,CHAR(10)&VALUE(LEFT(RIGHT('Colour Contrast Analysis'!CX4,LEN('Colour Contrast Analysis'!CX4)-FIND(\"+\",'Colour Contrast Analysis'!CX4)-2),LEN(RIGHT('Colour Contrast Analysis'!CX4,LEN('Colour Contrast Analysis'!CX4)-FIND(\"+\",'Colour Contrast Analysis'!CX4)-2))-11)) & \" combination of foreground and background colours is technically conformant, but its contrast should be increased.\",CHAR(10)&VALUE(LEFT(RIGHT('Colour Contrast Analysis'!CX4,LEN('Colour Contrast Analysis'!CX4)-FIND(\"+\",'Colour Contrast Analysis'!CX4)-2),LEN(RIGHT('Colour Contrast Analysis'!CX4,LEN('Colour Contrast Analysis'!CX4)-FIND(\"+\",'Colour Contrast Analysis'!CX4)-2))-11)) & \" combinations of foreground and background colours are technically conformant, but their contrast should be increased.\")) & CHAR(10) & \"Please see the Colour Contrast Analysis worksheet.\"","v":"0 combinations of foreground and background colours do not have sufficient contrast.\nPlease see the Colour Contrast Analysis worksheet."},{"$f":"LEFT('Colour Contrast Analysis'!CY4,FIND(\" \",'Colour Contrast Analysis'!CY4)-1)&\" combination\"&IF(VALUE(LEFT('Colour Contrast Analysis'!CY4,FIND(\" \",'Colour Contrast Analysis'!CY4)))=1,\"\",\"s\")&\" of foreground and background colours do\"&IF(VALUE(LEFT('Colour Contrast Analysis'!CY4,FIND(\" \",'Colour Contrast Analysis'!CY4)))=1,\"es\",\"\")&\" not have sufficient contrast.\"&IF(VALUE(LEFT(RIGHT('Colour Contrast Analysis'!CY4,LEN('Colour Contrast Analysis'!CY4)-FIND(\"+\",'Colour Contrast Analysis'!CY4)-2),LEN(RIGHT('Colour Contrast Analysis'!CY4,LEN('Colour Contrast Analysis'!CY4)-FIND(\"+\",'Colour Contrast Analysis'!CY4)-2))-11))=0,\"\",IF(VALUE(LEFT(RIGHT('Colour Contrast Analysis'!CY4,LEN('Colour Contrast Analysis'!CY4)-FIND(\"+\",'Colour Contrast Analysis'!CY4)-2),LEN(RIGHT('Colour Contrast Analysis'!CY4,LEN('Colour Contrast Analysis'!CY4)-FIND(\"+\",'Colour Contrast Analysis'!CY4)-2))-11))=1,CHAR(10)&VALUE(LEFT(RIGHT('Colour Contrast Analysis'!CY4,LEN('Colour Contrast Analysis'!CY4)-FIND(\"+\",'Colour Contrast Analysis'!CY4)-2),LEN(RIGHT('Colour Contrast Analysis'!CY4,LEN('Colour Contrast Analysis'!CY4)-FIND(\"+\",'Colour Contrast Analysis'!CY4)-2))-11)) & \" combination of foreground and background colours is technically conformant, but its contrast should be increased.\",CHAR(10)&VALUE(LEFT(RIGHT('Colour Contrast Analysis'!CY4,LEN('Colour Contrast Analysis'!CY4)-FIND(\"+\",'Colour Contrast Analysis'!CY4)-2),LEN(RIGHT('Colour Contrast Analysis'!CY4,LEN('Colour Contrast Analysis'!CY4)-FIND(\"+\",'Colour Contrast Analysis'!CY4)-2))-11)) & \" combinations of foreground and background colours are technically conformant, but their contrast should be increased.\")) & CHAR(10) & \"Please see the Colour Contrast Analysis worksheet.\"","v":"0 combinations of foreground and background colours do not have sufficient contrast.\nPlease see the Colour Contrast Analysis worksheet."},{"$f":"LEFT('Colour Contrast Analysis'!CZ4,FIND(\" \",'Colour Contrast Analysis'!CZ4)-1)&\" combination\"&IF(VALUE(LEFT('Colour Contrast Analysis'!CZ4,FIND(\" \",'Colour Contrast Analysis'!CZ4)))=1,\"\",\"s\")&\" of foreground and background colours do\"&IF(VALUE(LEFT('Colour Contrast Analysis'!CZ4,FIND(\" \",'Colour Contrast Analysis'!CZ4)))=1,\"es\",\"\")&\" not have sufficient contrast.\"&IF(VALUE(LEFT(RIGHT('Colour Contrast Analysis'!CZ4,LEN('Colour Contrast Analysis'!CZ4)-FIND(\"+\",'Colour Contrast Analysis'!CZ4)-2),LEN(RIGHT('Colour Contrast Analysis'!CZ4,LEN('Colour Contrast Analysis'!CZ4)-FIND(\"+\",'Colour Contrast Analysis'!CZ4)-2))-11))=0,\"\",IF(VALUE(LEFT(RIGHT('Colour Contrast Analysis'!CZ4,LEN('Colour Contrast Analysis'!CZ4)-FIND(\"+\",'Colour Contrast Analysis'!CZ4)-2),LEN(RIGHT('Colour Contrast Analysis'!CZ4,LEN('Colour Contrast Analysis'!CZ4)-FIND(\"+\",'Colour Contrast Analysis'!CZ4)-2))-11))=1,CHAR(10)&VALUE(LEFT(RIGHT('Colour Contrast Analysis'!CZ4,LEN('Colour Contrast Analysis'!CZ4)-FIND(\"+\",'Colour Contrast Analysis'!CZ4)-2),LEN(RIGHT('Colour Contrast Analysis'!CZ4,LEN('Colour Contrast Analysis'!CZ4)-FIND(\"+\",'Colour Contrast Analysis'!CZ4)-2))-11)) & \" combination of foreground and background colours is technically conformant, but its contrast should be increased.\",CHAR(10)&VALUE(LEFT(RIGHT('Colour Contrast Analysis'!CZ4,LEN('Colour Contrast Analysis'!CZ4)-FIND(\"+\",'Colour Contrast Analysis'!CZ4)-2),LEN(RIGHT('Colour Contrast Analysis'!CZ4,LEN('Colour Contrast Analysis'!CZ4)-FIND(\"+\",'Colour Contrast Analysis'!CZ4)-2))-11)) & \" combinations of foreground and background colours are technically conformant, but their contrast should be increased.\")) & CHAR(10) & \"Please see the Colour Contrast Analysis worksheet.\"","v":"0 combinations of foreground and background colours do not have sufficient contrast.\nPlease see the Colour Contrast Analysis worksheet."},{"$f":"LEFT('Colour Contrast Analysis'!DA4,FIND(\" \",'Colour Contrast Analysis'!DA4)-1)&\" combination\"&IF(VALUE(LEFT('Colour Contrast Analysis'!DA4,FIND(\" \",'Colour Contrast Analysis'!DA4)))=1,\"\",\"s\")&\" of foreground and background colours do\"&IF(VALUE(LEFT('Colour Contrast Analysis'!DA4,FIND(\" \",'Colour Contrast Analysis'!DA4)))=1,\"es\",\"\")&\" not have sufficient contrast.\"&IF(VALUE(LEFT(RIGHT('Colour Contrast Analysis'!DA4,LEN('Colour Contrast Analysis'!DA4)-FIND(\"+\",'Colour Contrast Analysis'!DA4)-2),LEN(RIGHT('Colour Contrast Analysis'!DA4,LEN('Colour Contrast Analysis'!DA4)-FIND(\"+\",'Colour Contrast Analysis'!DA4)-2))-11))=0,\"\",IF(VALUE(LEFT(RIGHT('Colour Contrast Analysis'!DA4,LEN('Colour Contrast Analysis'!DA4)-FIND(\"+\",'Colour Contrast Analysis'!DA4)-2),LEN(RIGHT('Colour Contrast Analysis'!DA4,LEN('Colour Contrast Analysis'!DA4)-FIND(\"+\",'Colour Contrast Analysis'!DA4)-2))-11))=1,CHAR(10)&VALUE(LEFT(RIGHT('Colour Contrast Analysis'!DA4,LEN('Colour Contrast Analysis'!DA4)-FIND(\"+\",'Colour Contrast Analysis'!DA4)-2),LEN(RIGHT('Colour Contrast Analysis'!DA4,LEN('Colour Contrast Analysis'!DA4)-FIND(\"+\",'Colour Contrast Analysis'!DA4)-2))-11)) & \" combination of foreground and background colours is technically conformant, but its contrast should be increased.\",CHAR(10)&VALUE(LEFT(RIGHT('Colour Contrast Analysis'!DA4,LEN('Colour Contrast Analysis'!DA4)-FIND(\"+\",'Colour Contrast Analysis'!DA4)-2),LEN(RIGHT('Colour Contrast Analysis'!DA4,LEN('Colour Contrast Analysis'!DA4)-FIND(\"+\",'Colour Contrast Analysis'!DA4)-2))-11)) & \" combinations of foreground and background colours are technically conformant, but their contrast should be increased.\")) & CHAR(10) & \"Please see the Colour Contrast Analysis worksheet.\"","v":"0 combinations of foreground and background colours do not have sufficient contrast.\nPlease see the Colour Contrast Analysis worksheet."},{"$f":"LEFT('Colour Contrast Analysis'!DB4,FIND(\" \",'Colour Contrast Analysis'!DB4)-1)&\" combination\"&IF(VALUE(LEFT('Colour Contrast Analysis'!DB4,FIND(\" \",'Colour Contrast Analysis'!DB4)))=1,\"\",\"s\")&\" of foreground and background colours do\"&IF(VALUE(LEFT('Colour Contrast Analysis'!DB4,FIND(\" \",'Colour Contrast Analysis'!DB4)))=1,\"es\",\"\")&\" not have sufficient contrast.\"&IF(VALUE(LEFT(RIGHT('Colour Contrast Analysis'!DB4,LEN('Colour Contrast Analysis'!DB4)-FIND(\"+\",'Colour Contrast Analysis'!DB4)-2),LEN(RIGHT('Colour Contrast Analysis'!DB4,LEN('Colour Contrast Analysis'!DB4)-FIND(\"+\",'Colour Contrast Analysis'!DB4)-2))-11))=0,\"\",IF(VALUE(LEFT(RIGHT('Colour Contrast Analysis'!DB4,LEN('Colour Contrast Analysis'!DB4)-FIND(\"+\",'Colour Contrast Analysis'!DB4)-2),LEN(RIGHT('Colour Contrast Analysis'!DB4,LEN('Colour Contrast Analysis'!DB4)-FIND(\"+\",'Colour Contrast Analysis'!DB4)-2))-11))=1,CHAR(10)&VALUE(LEFT(RIGHT('Colour Contrast Analysis'!DB4,LEN('Colour Contrast Analysis'!DB4)-FIND(\"+\",'Colour Contrast Analysis'!DB4)-2),LEN(RIGHT('Colour Contrast Analysis'!DB4,LEN('Colour Contrast Analysis'!DB4)-FIND(\"+\",'Colour Contrast Analysis'!DB4)-2))-11)) & \" combination of foreground and background colours is technically conformant, but its contrast should be increased.\",CHAR(10)&VALUE(LEFT(RIGHT('Colour Contrast Analysis'!DB4,LEN('Colour Contrast Analysis'!DB4)-FIND(\"+\",'Colour Contrast Analysis'!DB4)-2),LEN(RIGHT('Colour Contrast Analysis'!DB4,LEN('Colour Contrast Analysis'!DB4)-FIND(\"+\",'Colour Contrast Analysis'!DB4)-2))-11)) & \" combinations of foreground and background colours are technically conformant, but their contrast should be increased.\")) & CHAR(10) & \"Please see the Colour Contrast Analysis worksheet.\"","v":"0 combinations of foreground and background colours do not have sufficient contrast.\nPlease see the Colour Contrast Analysis worksheet."},{"$f":"LEFT('Colour Contrast Analysis'!DC4,FIND(\" \",'Colour Contrast Analysis'!DC4)-1)&\" combination\"&IF(VALUE(LEFT('Colour Contrast Analysis'!DC4,FIND(\" \",'Colour Contrast Analysis'!DC4)))=1,\"\",\"s\")&\" of foreground and background colours do\"&IF(VALUE(LEFT('Colour Contrast Analysis'!DC4,FIND(\" \",'Colour Contrast Analysis'!DC4)))=1,\"es\",\"\")&\" not have sufficient contrast.\"&IF(VALUE(LEFT(RIGHT('Colour Contrast Analysis'!DC4,LEN('Colour Contrast Analysis'!DC4)-FIND(\"+\",'Colour Contrast Analysis'!DC4)-2),LEN(RIGHT('Colour Contrast Analysis'!DC4,LEN('Colour Contrast Analysis'!DC4)-FIND(\"+\",'Colour Contrast Analysis'!DC4)-2))-11))=0,\"\",IF(VALUE(LEFT(RIGHT('Colour Contrast Analysis'!DC4,LEN('Colour Contrast Analysis'!DC4)-FIND(\"+\",'Colour Contrast Analysis'!DC4)-2),LEN(RIGHT('Colour Contrast Analysis'!DC4,LEN('Colour Contrast Analysis'!DC4)-FIND(\"+\",'Colour Contrast Analysis'!DC4)-2))-11))=1,CHAR(10)&VALUE(LEFT(RIGHT('Colour Contrast Analysis'!DC4,LEN('Colour Contrast Analysis'!DC4)-FIND(\"+\",'Colour Contrast Analysis'!DC4)-2),LEN(RIGHT('Colour Contrast Analysis'!DC4,LEN('Colour Contrast Analysis'!DC4)-FIND(\"+\",'Colour Contrast Analysis'!DC4)-2))-11)) & \" combination of foreground and background colours is technically conformant, but its contrast should be increased.\",CHAR(10)&VALUE(LEFT(RIGHT('Colour Contrast Analysis'!DC4,LEN('Colour Contrast Analysis'!DC4)-FIND(\"+\",'Colour Contrast Analysis'!DC4)-2),LEN(RIGHT('Colour Contrast Analysis'!DC4,LEN('Colour Contrast Analysis'!DC4)-FIND(\"+\",'Colour Contrast Analysis'!DC4)-2))-11)) & \" combinations of foreground and background colours are technically conformant, but their contrast should be increased.\")) & CHAR(10) & \"Please see the Colour Contrast Analysis worksheet.\"","v":"0 combinations of foreground and background colours do not have sufficient contrast.\nPlease see the Colour Contrast Analysis worksheet."},{"$f":"LEFT('Colour Contrast Analysis'!DD4,FIND(\" \",'Colour Contrast Analysis'!DD4)-1)&\" combination\"&IF(VALUE(LEFT('Colour Contrast Analysis'!DD4,FIND(\" \",'Colour Contrast Analysis'!DD4)))=1,\"\",\"s\")&\" of foreground and background colours do\"&IF(VALUE(LEFT('Colour Contrast Analysis'!DD4,FIND(\" \",'Colour Contrast Analysis'!DD4)))=1,\"es\",\"\")&\" not have sufficient contrast.\"&IF(VALUE(LEFT(RIGHT('Colour Contrast Analysis'!DD4,LEN('Colour Contrast Analysis'!DD4)-FIND(\"+\",'Colour Contrast Analysis'!DD4)-2),LEN(RIGHT('Colour Contrast Analysis'!DD4,LEN('Colour Contrast Analysis'!DD4)-FIND(\"+\",'Colour Contrast Analysis'!DD4)-2))-11))=0,\"\",IF(VALUE(LEFT(RIGHT('Colour Contrast Analysis'!DD4,LEN('Colour Contrast Analysis'!DD4)-FIND(\"+\",'Colour Contrast Analysis'!DD4)-2),LEN(RIGHT('Colour Contrast Analysis'!DD4,LEN('Colour Contrast Analysis'!DD4)-FIND(\"+\",'Colour Contrast Analysis'!DD4)-2))-11))=1,CHAR(10)&VALUE(LEFT(RIGHT('Colour Contrast Analysis'!DD4,LEN('Colour Contrast Analysis'!DD4)-FIND(\"+\",'Colour Contrast Analysis'!DD4)-2),LEN(RIGHT('Colour Contrast Analysis'!DD4,LEN('Colour Contrast Analysis'!DD4)-FIND(\"+\",'Colour Contrast Analysis'!DD4)-2))-11)) & \" combination of foreground and background colours is technically conformant, but its contrast should be increased.\",CHAR(10)&VALUE(LEFT(RIGHT('Colour Contrast Analysis'!DD4,LEN('Colour Contrast Analysis'!DD4)-FIND(\"+\",'Colour Contrast Analysis'!DD4)-2),LEN(RIGHT('Colour Contrast Analysis'!DD4,LEN('Colour Contrast Analysis'!DD4)-FIND(\"+\",'Colour Contrast Analysis'!DD4)-2))-11)) & \" combinations of foreground and background colours are technically conformant, but their contrast should be increased.\")) & CHAR(10) & \"Please see the Colour Contrast Analysis worksheet.\"","v":"0 combinations of foreground and background colours do not have sufficient contrast.\nPlease see the Colour Contrast Analysis worksheet."},{"$f":"LEFT('Colour Contrast Analysis'!DE4,FIND(\" \",'Colour Contrast Analysis'!DE4)-1)&\" combination\"&IF(VALUE(LEFT('Colour Contrast Analysis'!DE4,FIND(\" \",'Colour Contrast Analysis'!DE4)))=1,\"\",\"s\")&\" of foreground and background colours do\"&IF(VALUE(LEFT('Colour Contrast Analysis'!DE4,FIND(\" \",'Colour Contrast Analysis'!DE4)))=1,\"es\",\"\")&\" not have sufficient contrast.\"&IF(VALUE(LEFT(RIGHT('Colour Contrast Analysis'!DE4,LEN('Colour Contrast Analysis'!DE4)-FIND(\"+\",'Colour Contrast Analysis'!DE4)-2),LEN(RIGHT('Colour Contrast Analysis'!DE4,LEN('Colour Contrast Analysis'!DE4)-FIND(\"+\",'Colour Contrast Analysis'!DE4)-2))-11))=0,\"\",IF(VALUE(LEFT(RIGHT('Colour Contrast Analysis'!DE4,LEN('Colour Contrast Analysis'!DE4)-FIND(\"+\",'Colour Contrast Analysis'!DE4)-2),LEN(RIGHT('Colour Contrast Analysis'!DE4,LEN('Colour Contrast Analysis'!DE4)-FIND(\"+\",'Colour Contrast Analysis'!DE4)-2))-11))=1,CHAR(10)&VALUE(LEFT(RIGHT('Colour Contrast Analysis'!DE4,LEN('Colour Contrast Analysis'!DE4)-FIND(\"+\",'Colour Contrast Analysis'!DE4)-2),LEN(RIGHT('Colour Contrast Analysis'!DE4,LEN('Colour Contrast Analysis'!DE4)-FIND(\"+\",'Colour Contrast Analysis'!DE4)-2))-11)) & \" combination of foreground and background colours is technically conformant, but its contrast should be increased.\",CHAR(10)&VALUE(LEFT(RIGHT('Colour Contrast Analysis'!DE4,LEN('Colour Contrast Analysis'!DE4)-FIND(\"+\",'Colour Contrast Analysis'!DE4)-2),LEN(RIGHT('Colour Contrast Analysis'!DE4,LEN('Colour Contrast Analysis'!DE4)-FIND(\"+\",'Colour Contrast Analysis'!DE4)-2))-11)) & \" combinations of foreground and background colours are technically conformant, but their contrast should be increased.\")) & CHAR(10) & \"Please see the Colour Contrast Analysis worksheet.\"","v":"0 combinations of foreground and background colours do not have sufficient contrast.\nPlease see the Colour Contrast Analysis worksheet."},{"$f":"LEFT('Colour Contrast Analysis'!DF4,FIND(\" \",'Colour Contrast Analysis'!DF4)-1)&\" combination\"&IF(VALUE(LEFT('Colour Contrast Analysis'!DF4,FIND(\" \",'Colour Contrast Analysis'!DF4)))=1,\"\",\"s\")&\" of foreground and background colours do\"&IF(VALUE(LEFT('Colour Contrast Analysis'!DF4,FIND(\" \",'Colour Contrast Analysis'!DF4)))=1,\"es\",\"\")&\" not have sufficient contrast.\"&IF(VALUE(LEFT(RIGHT('Colour Contrast Analysis'!DF4,LEN('Colour Contrast Analysis'!DF4)-FIND(\"+\",'Colour Contrast Analysis'!DF4)-2),LEN(RIGHT('Colour Contrast Analysis'!DF4,LEN('Colour Contrast Analysis'!DF4)-FIND(\"+\",'Colour Contrast Analysis'!DF4)-2))-11))=0,\"\",IF(VALUE(LEFT(RIGHT('Colour Contrast Analysis'!DF4,LEN('Colour Contrast Analysis'!DF4)-FIND(\"+\",'Colour Contrast Analysis'!DF4)-2),LEN(RIGHT('Colour Contrast Analysis'!DF4,LEN('Colour Contrast Analysis'!DF4)-FIND(\"+\",'Colour Contrast Analysis'!DF4)-2))-11))=1,CHAR(10)&VALUE(LEFT(RIGHT('Colour Contrast Analysis'!DF4,LEN('Colour Contrast Analysis'!DF4)-FIND(\"+\",'Colour Contrast Analysis'!DF4)-2),LEN(RIGHT('Colour Contrast Analysis'!DF4,LEN('Colour Contrast Analysis'!DF4)-FIND(\"+\",'Colour Contrast Analysis'!DF4)-2))-11)) & \" combination of foreground and background colours is technically conformant, but its contrast should be increased.\",CHAR(10)&VALUE(LEFT(RIGHT('Colour Contrast Analysis'!DF4,LEN('Colour Contrast Analysis'!DF4)-FIND(\"+\",'Colour Contrast Analysis'!DF4)-2),LEN(RIGHT('Colour Contrast Analysis'!DF4,LEN('Colour Contrast Analysis'!DF4)-FIND(\"+\",'Colour Contrast Analysis'!DF4)-2))-11)) & \" combinations of foreground and background colours are technically conformant, but their contrast should be increased.\")) & CHAR(10) & \"Please see the Colour Contrast Analysis worksheet.\"","v":"0 combinations of foreground and background colours do not have sufficient contrast.\nPlease see the Colour Contrast Analysis worksheet."},{"$f":"LEFT('Colour Contrast Analysis'!DG4,FIND(\" \",'Colour Contrast Analysis'!DG4)-1)&\" combination\"&IF(VALUE(LEFT('Colour Contrast Analysis'!DG4,FIND(\" \",'Colour Contrast Analysis'!DG4)))=1,\"\",\"s\")&\" of foreground and background colours do\"&IF(VALUE(LEFT('Colour Contrast Analysis'!DG4,FIND(\" \",'Colour Contrast Analysis'!DG4)))=1,\"es\",\"\")&\" not have sufficient contrast.\"&IF(VALUE(LEFT(RIGHT('Colour Contrast Analysis'!DG4,LEN('Colour Contrast Analysis'!DG4)-FIND(\"+\",'Colour Contrast Analysis'!DG4)-2),LEN(RIGHT('Colour Contrast Analysis'!DG4,LEN('Colour Contrast Analysis'!DG4)-FIND(\"+\",'Colour Contrast Analysis'!DG4)-2))-11))=0,\"\",IF(VALUE(LEFT(RIGHT('Colour Contrast Analysis'!DG4,LEN('Colour Contrast Analysis'!DG4)-FIND(\"+\",'Colour Contrast Analysis'!DG4)-2),LEN(RIGHT('Colour Contrast Analysis'!DG4,LEN('Colour Contrast Analysis'!DG4)-FIND(\"+\",'Colour Contrast Analysis'!DG4)-2))-11))=1,CHAR(10)&VALUE(LEFT(RIGHT('Colour Contrast Analysis'!DG4,LEN('Colour Contrast Analysis'!DG4)-FIND(\"+\",'Colour Contrast Analysis'!DG4)-2),LEN(RIGHT('Colour Contrast Analysis'!DG4,LEN('Colour Contrast Analysis'!DG4)-FIND(\"+\",'Colour Contrast Analysis'!DG4)-2))-11)) & \" combination of foreground and background colours is technically conformant, but its contrast should be increased.\",CHAR(10)&VALUE(LEFT(RIGHT('Colour Contrast Analysis'!DG4,LEN('Colour Contrast Analysis'!DG4)-FIND(\"+\",'Colour Contrast Analysis'!DG4)-2),LEN(RIGHT('Colour Contrast Analysis'!DG4,LEN('Colour Contrast Analysis'!DG4)-FIND(\"+\",'Colour Contrast Analysis'!DG4)-2))-11)) & \" combinations of foreground and background colours are technically conformant, but their contrast should be increased.\")) & CHAR(10) & \"Please see the Colour Contrast Analysis worksheet.\"","v":"0 combinations of foreground and background colours do not have sufficient contrast.\nPlease see the Colour Contrast Analysis worksheet."},{"$f":"LEFT('Colour Contrast Analysis'!DH4,FIND(\" \",'Colour Contrast Analysis'!DH4)-1)&\" combination\"&IF(VALUE(LEFT('Colour Contrast Analysis'!DH4,FIND(\" \",'Colour Contrast Analysis'!DH4)))=1,\"\",\"s\")&\" of foreground and background colours do\"&IF(VALUE(LEFT('Colour Contrast Analysis'!DH4,FIND(\" \",'Colour Contrast Analysis'!DH4)))=1,\"es\",\"\")&\" not have sufficient contrast.\"&IF(VALUE(LEFT(RIGHT('Colour Contrast Analysis'!DH4,LEN('Colour Contrast Analysis'!DH4)-FIND(\"+\",'Colour Contrast Analysis'!DH4)-2),LEN(RIGHT('Colour Contrast Analysis'!DH4,LEN('Colour Contrast Analysis'!DH4)-FIND(\"+\",'Colour Contrast Analysis'!DH4)-2))-11))=0,\"\",IF(VALUE(LEFT(RIGHT('Colour Contrast Analysis'!DH4,LEN('Colour Contrast Analysis'!DH4)-FIND(\"+\",'Colour Contrast Analysis'!DH4)-2),LEN(RIGHT('Colour Contrast Analysis'!DH4,LEN('Colour Contrast Analysis'!DH4)-FIND(\"+\",'Colour Contrast Analysis'!DH4)-2))-11))=1,CHAR(10)&VALUE(LEFT(RIGHT('Colour Contrast Analysis'!DH4,LEN('Colour Contrast Analysis'!DH4)-FIND(\"+\",'Colour Contrast Analysis'!DH4)-2),LEN(RIGHT('Colour Contrast Analysis'!DH4,LEN('Colour Contrast Analysis'!DH4)-FIND(\"+\",'Colour Contrast Analysis'!DH4)-2))-11)) & \" combination of foreground and background colours is technically conformant, but its contrast should be increased.\",CHAR(10)&VALUE(LEFT(RIGHT('Colour Contrast Analysis'!DH4,LEN('Colour Contrast Analysis'!DH4)-FIND(\"+\",'Colour Contrast Analysis'!DH4)-2),LEN(RIGHT('Colour Contrast Analysis'!DH4,LEN('Colour Contrast Analysis'!DH4)-FIND(\"+\",'Colour Contrast Analysis'!DH4)-2))-11)) & \" combinations of foreground and background colours are technically conformant, but their contrast should be increased.\")) & CHAR(10) & \"Please see the Colour Contrast Analysis worksheet.\"","v":"0 combinations of foreground and background colours do not have sufficient contrast.\nPlease see the Colour Contrast Analysis worksheet."},{"$f":"LEFT('Colour Contrast Analysis'!DI4,FIND(\" \",'Colour Contrast Analysis'!DI4)-1)&\" combination\"&IF(VALUE(LEFT('Colour Contrast Analysis'!DI4,FIND(\" \",'Colour Contrast Analysis'!DI4)))=1,\"\",\"s\")&\" of foreground and background colours do\"&IF(VALUE(LEFT('Colour Contrast Analysis'!DI4,FIND(\" \",'Colour Contrast Analysis'!DI4)))=1,\"es\",\"\")&\" not have sufficient contrast.\"&IF(VALUE(LEFT(RIGHT('Colour Contrast Analysis'!DI4,LEN('Colour Contrast Analysis'!DI4)-FIND(\"+\",'Colour Contrast Analysis'!DI4)-2),LEN(RIGHT('Colour Contrast Analysis'!DI4,LEN('Colour Contrast Analysis'!DI4)-FIND(\"+\",'Colour Contrast Analysis'!DI4)-2))-11))=0,\"\",IF(VALUE(LEFT(RIGHT('Colour Contrast Analysis'!DI4,LEN('Colour Contrast Analysis'!DI4)-FIND(\"+\",'Colour Contrast Analysis'!DI4)-2),LEN(RIGHT('Colour Contrast Analysis'!DI4,LEN('Colour Contrast Analysis'!DI4)-FIND(\"+\",'Colour Contrast Analysis'!DI4)-2))-11))=1,CHAR(10)&VALUE(LEFT(RIGHT('Colour Contrast Analysis'!DI4,LEN('Colour Contrast Analysis'!DI4)-FIND(\"+\",'Colour Contrast Analysis'!DI4)-2),LEN(RIGHT('Colour Contrast Analysis'!DI4,LEN('Colour Contrast Analysis'!DI4)-FIND(\"+\",'Colour Contrast Analysis'!DI4)-2))-11)) & \" combination of foreground and background colours is technically conformant, but its contrast should be increased.\",CHAR(10)&VALUE(LEFT(RIGHT('Colour Contrast Analysis'!DI4,LEN('Colour Contrast Analysis'!DI4)-FIND(\"+\",'Colour Contrast Analysis'!DI4)-2),LEN(RIGHT('Colour Contrast Analysis'!DI4,LEN('Colour Contrast Analysis'!DI4)-FIND(\"+\",'Colour Contrast Analysis'!DI4)-2))-11)) & \" combinations of foreground and background colours are technically conformant, but their contrast should be increased.\")) & CHAR(10) & \"Please see the Colour Contrast Analysis worksheet.\"","v":"0 combinations of foreground and background colours do not have sufficient contrast.\nPlease see the Colour Contrast Analysis worksheet."},{"$f":"LEFT('Colour Contrast Analysis'!DJ4,FIND(\" \",'Colour Contrast Analysis'!DJ4)-1)&\" combination\"&IF(VALUE(LEFT('Colour Contrast Analysis'!DJ4,FIND(\" \",'Colour Contrast Analysis'!DJ4)))=1,\"\",\"s\")&\" of foreground and background colours do\"&IF(VALUE(LEFT('Colour Contrast Analysis'!DJ4,FIND(\" \",'Colour Contrast Analysis'!DJ4)))=1,\"es\",\"\")&\" not have sufficient contrast.\"&IF(VALUE(LEFT(RIGHT('Colour Contrast Analysis'!DJ4,LEN('Colour Contrast Analysis'!DJ4)-FIND(\"+\",'Colour Contrast Analysis'!DJ4)-2),LEN(RIGHT('Colour Contrast Analysis'!DJ4,LEN('Colour Contrast Analysis'!DJ4)-FIND(\"+\",'Colour Contrast Analysis'!DJ4)-2))-11))=0,\"\",IF(VALUE(LEFT(RIGHT('Colour Contrast Analysis'!DJ4,LEN('Colour Contrast Analysis'!DJ4)-FIND(\"+\",'Colour Contrast Analysis'!DJ4)-2),LEN(RIGHT('Colour Contrast Analysis'!DJ4,LEN('Colour Contrast Analysis'!DJ4)-FIND(\"+\",'Colour Contrast Analysis'!DJ4)-2))-11))=1,CHAR(10)&VALUE(LEFT(RIGHT('Colour Contrast Analysis'!DJ4,LEN('Colour Contrast Analysis'!DJ4)-FIND(\"+\",'Colour Contrast Analysis'!DJ4)-2),LEN(RIGHT('Colour Contrast Analysis'!DJ4,LEN('Colour Contrast Analysis'!DJ4)-FIND(\"+\",'Colour Contrast Analysis'!DJ4)-2))-11)) & \" combination of foreground and background colours is technically conformant, but its contrast should be increased.\",CHAR(10)&VALUE(LEFT(RIGHT('Colour Contrast Analysis'!DJ4,LEN('Colour Contrast Analysis'!DJ4)-FIND(\"+\",'Colour Contrast Analysis'!DJ4)-2),LEN(RIGHT('Colour Contrast Analysis'!DJ4,LEN('Colour Contrast Analysis'!DJ4)-FIND(\"+\",'Colour Contrast Analysis'!DJ4)-2))-11)) & \" combinations of foreground and background colours are technically conformant, but their contrast should be increased.\")) & CHAR(10) & \"Please see the Colour Contrast Analysis worksheet.\"","v":"0 combinations of foreground and background colours do not have sufficient contrast.\nPlease see the Colour Contrast Analysis worksheet."},{"$f":"LEFT('Colour Contrast Analysis'!DK4,FIND(\" \",'Colour Contrast Analysis'!DK4)-1)&\" combination\"&IF(VALUE(LEFT('Colour Contrast Analysis'!DK4,FIND(\" \",'Colour Contrast Analysis'!DK4)))=1,\"\",\"s\")&\" of foreground and background colours do\"&IF(VALUE(LEFT('Colour Contrast Analysis'!DK4,FIND(\" \",'Colour Contrast Analysis'!DK4)))=1,\"es\",\"\")&\" not have sufficient contrast.\"&IF(VALUE(LEFT(RIGHT('Colour Contrast Analysis'!DK4,LEN('Colour Contrast Analysis'!DK4)-FIND(\"+\",'Colour Contrast Analysis'!DK4)-2),LEN(RIGHT('Colour Contrast Analysis'!DK4,LEN('Colour Contrast Analysis'!DK4)-FIND(\"+\",'Colour Contrast Analysis'!DK4)-2))-11))=0,\"\",IF(VALUE(LEFT(RIGHT('Colour Contrast Analysis'!DK4,LEN('Colour Contrast Analysis'!DK4)-FIND(\"+\",'Colour Contrast Analysis'!DK4)-2),LEN(RIGHT('Colour Contrast Analysis'!DK4,LEN('Colour Contrast Analysis'!DK4)-FIND(\"+\",'Colour Contrast Analysis'!DK4)-2))-11))=1,CHAR(10)&VALUE(LEFT(RIGHT('Colour Contrast Analysis'!DK4,LEN('Colour Contrast Analysis'!DK4)-FIND(\"+\",'Colour Contrast Analysis'!DK4)-2),LEN(RIGHT('Colour Contrast Analysis'!DK4,LEN('Colour Contrast Analysis'!DK4)-FIND(\"+\",'Colour Contrast Analysis'!DK4)-2))-11)) & \" combination of foreground and background colours is technically conformant, but its contrast should be increased.\",CHAR(10)&VALUE(LEFT(RIGHT('Colour Contrast Analysis'!DK4,LEN('Colour Contrast Analysis'!DK4)-FIND(\"+\",'Colour Contrast Analysis'!DK4)-2),LEN(RIGHT('Colour Contrast Analysis'!DK4,LEN('Colour Contrast Analysis'!DK4)-FIND(\"+\",'Colour Contrast Analysis'!DK4)-2))-11)) & \" combinations of foreground and background colours are technically conformant, but their contrast should be increased.\")) & CHAR(10) & \"Please see the Colour Contrast Analysis worksheet.\"","v":"0 combinations of foreground and background colours do not have sufficient contrast.\nPlease see the Colour Contrast Analysis worksheet."},{"$f":"LEFT('Colour Contrast Analysis'!DL4,FIND(\" \",'Colour Contrast Analysis'!DL4)-1)&\" combination\"&IF(VALUE(LEFT('Colour Contrast Analysis'!DL4,FIND(\" \",'Colour Contrast Analysis'!DL4)))=1,\"\",\"s\")&\" of foreground and background colours do\"&IF(VALUE(LEFT('Colour Contrast Analysis'!DL4,FIND(\" \",'Colour Contrast Analysis'!DL4)))=1,\"es\",\"\")&\" not have sufficient contrast.\"&IF(VALUE(LEFT(RIGHT('Colour Contrast Analysis'!DL4,LEN('Colour Contrast Analysis'!DL4)-FIND(\"+\",'Colour Contrast Analysis'!DL4)-2),LEN(RIGHT('Colour Contrast Analysis'!DL4,LEN('Colour Contrast Analysis'!DL4)-FIND(\"+\",'Colour Contrast Analysis'!DL4)-2))-11))=0,\"\",IF(VALUE(LEFT(RIGHT('Colour Contrast Analysis'!DL4,LEN('Colour Contrast Analysis'!DL4)-FIND(\"+\",'Colour Contrast Analysis'!DL4)-2),LEN(RIGHT('Colour Contrast Analysis'!DL4,LEN('Colour Contrast Analysis'!DL4)-FIND(\"+\",'Colour Contrast Analysis'!DL4)-2))-11))=1,CHAR(10)&VALUE(LEFT(RIGHT('Colour Contrast Analysis'!DL4,LEN('Colour Contrast Analysis'!DL4)-FIND(\"+\",'Colour Contrast Analysis'!DL4)-2),LEN(RIGHT('Colour Contrast Analysis'!DL4,LEN('Colour Contrast Analysis'!DL4)-FIND(\"+\",'Colour Contrast Analysis'!DL4)-2))-11)) & \" combination of foreground and background colours is technically conformant, but its contrast should be increased.\",CHAR(10)&VALUE(LEFT(RIGHT('Colour Contrast Analysis'!DL4,LEN('Colour Contrast Analysis'!DL4)-FIND(\"+\",'Colour Contrast Analysis'!DL4)-2),LEN(RIGHT('Colour Contrast Analysis'!DL4,LEN('Colour Contrast Analysis'!DL4)-FIND(\"+\",'Colour Contrast Analysis'!DL4)-2))-11)) & \" combinations of foreground and background colours are technically conformant, but their contrast should be increased.\")) & CHAR(10) & \"Please see the Colour Contrast Analysis worksheet.\"","v":"0 combinations of foreground and background colours do not have sufficient contrast.\nPlease see the Colour Contrast Analysis worksheet."},{"$f":"LEFT('Colour Contrast Analysis'!DM4,FIND(\" \",'Colour Contrast Analysis'!DM4)-1)&\" combination\"&IF(VALUE(LEFT('Colour Contrast Analysis'!DM4,FIND(\" \",'Colour Contrast Analysis'!DM4)))=1,\"\",\"s\")&\" of foreground and background colours do\"&IF(VALUE(LEFT('Colour Contrast Analysis'!DM4,FIND(\" \",'Colour Contrast Analysis'!DM4)))=1,\"es\",\"\")&\" not have sufficient contrast.\"&IF(VALUE(LEFT(RIGHT('Colour Contrast Analysis'!DM4,LEN('Colour Contrast Analysis'!DM4)-FIND(\"+\",'Colour Contrast Analysis'!DM4)-2),LEN(RIGHT('Colour Contrast Analysis'!DM4,LEN('Colour Contrast Analysis'!DM4)-FIND(\"+\",'Colour Contrast Analysis'!DM4)-2))-11))=0,\"\",IF(VALUE(LEFT(RIGHT('Colour Contrast Analysis'!DM4,LEN('Colour Contrast Analysis'!DM4)-FIND(\"+\",'Colour Contrast Analysis'!DM4)-2),LEN(RIGHT('Colour Contrast Analysis'!DM4,LEN('Colour Contrast Analysis'!DM4)-FIND(\"+\",'Colour Contrast Analysis'!DM4)-2))-11))=1,CHAR(10)&VALUE(LEFT(RIGHT('Colour Contrast Analysis'!DM4,LEN('Colour Contrast Analysis'!DM4)-FIND(\"+\",'Colour Contrast Analysis'!DM4)-2),LEN(RIGHT('Colour Contrast Analysis'!DM4,LEN('Colour Contrast Analysis'!DM4)-FIND(\"+\",'Colour Contrast Analysis'!DM4)-2))-11)) & \" combination of foreground and background colours is technically conformant, but its contrast should be increased.\",CHAR(10)&VALUE(LEFT(RIGHT('Colour Contrast Analysis'!DM4,LEN('Colour Contrast Analysis'!DM4)-FIND(\"+\",'Colour Contrast Analysis'!DM4)-2),LEN(RIGHT('Colour Contrast Analysis'!DM4,LEN('Colour Contrast Analysis'!DM4)-FIND(\"+\",'Colour Contrast Analysis'!DM4)-2))-11)) & \" combinations of foreground and background colours are technically conformant, but their contrast should be increased.\")) & CHAR(10) & \"Please see the Colour Contrast Analysis worksheet.\"","v":"0 combinations of foreground and background colours do not have sufficient contrast.\nPlease see the Colour Contrast Analysis worksheet."},{"$f":"LEFT('Colour Contrast Analysis'!DN4,FIND(\" \",'Colour Contrast Analysis'!DN4)-1)&\" combination\"&IF(VALUE(LEFT('Colour Contrast Analysis'!DN4,FIND(\" \",'Colour Contrast Analysis'!DN4)))=1,\"\",\"s\")&\" of foreground and background colours do\"&IF(VALUE(LEFT('Colour Contrast Analysis'!DN4,FIND(\" \",'Colour Contrast Analysis'!DN4)))=1,\"es\",\"\")&\" not have sufficient contrast.\"&IF(VALUE(LEFT(RIGHT('Colour Contrast Analysis'!DN4,LEN('Colour Contrast Analysis'!DN4)-FIND(\"+\",'Colour Contrast Analysis'!DN4)-2),LEN(RIGHT('Colour Contrast Analysis'!DN4,LEN('Colour Contrast Analysis'!DN4)-FIND(\"+\",'Colour Contrast Analysis'!DN4)-2))-11))=0,\"\",IF(VALUE(LEFT(RIGHT('Colour Contrast Analysis'!DN4,LEN('Colour Contrast Analysis'!DN4)-FIND(\"+\",'Colour Contrast Analysis'!DN4)-2),LEN(RIGHT('Colour Contrast Analysis'!DN4,LEN('Colour Contrast Analysis'!DN4)-FIND(\"+\",'Colour Contrast Analysis'!DN4)-2))-11))=1,CHAR(10)&VALUE(LEFT(RIGHT('Colour Contrast Analysis'!DN4,LEN('Colour Contrast Analysis'!DN4)-FIND(\"+\",'Colour Contrast Analysis'!DN4)-2),LEN(RIGHT('Colour Contrast Analysis'!DN4,LEN('Colour Contrast Analysis'!DN4)-FIND(\"+\",'Colour Contrast Analysis'!DN4)-2))-11)) & \" combination of foreground and background colours is technically conformant, but its contrast should be increased.\",CHAR(10)&VALUE(LEFT(RIGHT('Colour Contrast Analysis'!DN4,LEN('Colour Contrast Analysis'!DN4)-FIND(\"+\",'Colour Contrast Analysis'!DN4)-2),LEN(RIGHT('Colour Contrast Analysis'!DN4,LEN('Colour Contrast Analysis'!DN4)-FIND(\"+\",'Colour Contrast Analysis'!DN4)-2))-11)) & \" combinations of foreground and background colours are technically conformant, but their contrast should be increased.\")) & CHAR(10) & \"Please see the Colour Contrast Analysis worksheet.\"","v":"0 combinations of foreground and background colours do not have sufficient contrast.\nPlease see the Colour Contrast Analysis worksheet."},{"$f":"LEFT('Colour Contrast Analysis'!DO4,FIND(\" \",'Colour Contrast Analysis'!DO4)-1)&\" combination\"&IF(VALUE(LEFT('Colour Contrast Analysis'!DO4,FIND(\" \",'Colour Contrast Analysis'!DO4)))=1,\"\",\"s\")&\" of foreground and background colours do\"&IF(VALUE(LEFT('Colour Contrast Analysis'!DO4,FIND(\" \",'Colour Contrast Analysis'!DO4)))=1,\"es\",\"\")&\" not have sufficient contrast.\"&IF(VALUE(LEFT(RIGHT('Colour Contrast Analysis'!DO4,LEN('Colour Contrast Analysis'!DO4)-FIND(\"+\",'Colour Contrast Analysis'!DO4)-2),LEN(RIGHT('Colour Contrast Analysis'!DO4,LEN('Colour Contrast Analysis'!DO4)-FIND(\"+\",'Colour Contrast Analysis'!DO4)-2))-11))=0,\"\",IF(VALUE(LEFT(RIGHT('Colour Contrast Analysis'!DO4,LEN('Colour Contrast Analysis'!DO4)-FIND(\"+\",'Colour Contrast Analysis'!DO4)-2),LEN(RIGHT('Colour Contrast Analysis'!DO4,LEN('Colour Contrast Analysis'!DO4)-FIND(\"+\",'Colour Contrast Analysis'!DO4)-2))-11))=1,CHAR(10)&VALUE(LEFT(RIGHT('Colour Contrast Analysis'!DO4,LEN('Colour Contrast Analysis'!DO4)-FIND(\"+\",'Colour Contrast Analysis'!DO4)-2),LEN(RIGHT('Colour Contrast Analysis'!DO4,LEN('Colour Contrast Analysis'!DO4)-FIND(\"+\",'Colour Contrast Analysis'!DO4)-2))-11)) & \" combination of foreground and background colours is technically conformant, but its contrast should be increased.\",CHAR(10)&VALUE(LEFT(RIGHT('Colour Contrast Analysis'!DO4,LEN('Colour Contrast Analysis'!DO4)-FIND(\"+\",'Colour Contrast Analysis'!DO4)-2),LEN(RIGHT('Colour Contrast Analysis'!DO4,LEN('Colour Contrast Analysis'!DO4)-FIND(\"+\",'Colour Contrast Analysis'!DO4)-2))-11)) & \" combinations of foreground and background colours are technically conformant, but their contrast should be increased.\")) & CHAR(10) & \"Please see the Colour Contrast Analysis worksheet.\"","v":"0 combinations of foreground and background colours do not have sufficient contrast.\nPlease see the Colour Contrast Analysis worksheet."},{"$f":"LEFT('Colour Contrast Analysis'!DP4,FIND(\" \",'Colour Contrast Analysis'!DP4)-1)&\" combination\"&IF(VALUE(LEFT('Colour Contrast Analysis'!DP4,FIND(\" \",'Colour Contrast Analysis'!DP4)))=1,\"\",\"s\")&\" of foreground and background colours do\"&IF(VALUE(LEFT('Colour Contrast Analysis'!DP4,FIND(\" \",'Colour Contrast Analysis'!DP4)))=1,\"es\",\"\")&\" not have sufficient contrast.\"&IF(VALUE(LEFT(RIGHT('Colour Contrast Analysis'!DP4,LEN('Colour Contrast Analysis'!DP4)-FIND(\"+\",'Colour Contrast Analysis'!DP4)-2),LEN(RIGHT('Colour Contrast Analysis'!DP4,LEN('Colour Contrast Analysis'!DP4)-FIND(\"+\",'Colour Contrast Analysis'!DP4)-2))-11))=0,\"\",IF(VALUE(LEFT(RIGHT('Colour Contrast Analysis'!DP4,LEN('Colour Contrast Analysis'!DP4)-FIND(\"+\",'Colour Contrast Analysis'!DP4)-2),LEN(RIGHT('Colour Contrast Analysis'!DP4,LEN('Colour Contrast Analysis'!DP4)-FIND(\"+\",'Colour Contrast Analysis'!DP4)-2))-11))=1,CHAR(10)&VALUE(LEFT(RIGHT('Colour Contrast Analysis'!DP4,LEN('Colour Contrast Analysis'!DP4)-FIND(\"+\",'Colour Contrast Analysis'!DP4)-2),LEN(RIGHT('Colour Contrast Analysis'!DP4,LEN('Colour Contrast Analysis'!DP4)-FIND(\"+\",'Colour Contrast Analysis'!DP4)-2))-11)) & \" combination of foreground and background colours is technically conformant, but its contrast should be increased.\",CHAR(10)&VALUE(LEFT(RIGHT('Colour Contrast Analysis'!DP4,LEN('Colour Contrast Analysis'!DP4)-FIND(\"+\",'Colour Contrast Analysis'!DP4)-2),LEN(RIGHT('Colour Contrast Analysis'!DP4,LEN('Colour Contrast Analysis'!DP4)-FIND(\"+\",'Colour Contrast Analysis'!DP4)-2))-11)) & \" combinations of foreground and background colours are technically conformant, but their contrast should be increased.\")) & CHAR(10) & \"Please see the Colour Contrast Analysis worksheet.\"","v":"0 combinations of foreground and background colours do not have sufficient contrast.\nPlease see the Colour Contrast Analysis worksheet."},{"$f":"LEFT('Colour Contrast Analysis'!DQ4,FIND(\" \",'Colour Contrast Analysis'!DQ4)-1)&\" combination\"&IF(VALUE(LEFT('Colour Contrast Analysis'!DQ4,FIND(\" \",'Colour Contrast Analysis'!DQ4)))=1,\"\",\"s\")&\" of foreground and background colours do\"&IF(VALUE(LEFT('Colour Contrast Analysis'!DQ4,FIND(\" \",'Colour Contrast Analysis'!DQ4)))=1,\"es\",\"\")&\" not have sufficient contrast.\"&IF(VALUE(LEFT(RIGHT('Colour Contrast Analysis'!DQ4,LEN('Colour Contrast Analysis'!DQ4)-FIND(\"+\",'Colour Contrast Analysis'!DQ4)-2),LEN(RIGHT('Colour Contrast Analysis'!DQ4,LEN('Colour Contrast Analysis'!DQ4)-FIND(\"+\",'Colour Contrast Analysis'!DQ4)-2))-11))=0,\"\",IF(VALUE(LEFT(RIGHT('Colour Contrast Analysis'!DQ4,LEN('Colour Contrast Analysis'!DQ4)-FIND(\"+\",'Colour Contrast Analysis'!DQ4)-2),LEN(RIGHT('Colour Contrast Analysis'!DQ4,LEN('Colour Contrast Analysis'!DQ4)-FIND(\"+\",'Colour Contrast Analysis'!DQ4)-2))-11))=1,CHAR(10)&VALUE(LEFT(RIGHT('Colour Contrast Analysis'!DQ4,LEN('Colour Contrast Analysis'!DQ4)-FIND(\"+\",'Colour Contrast Analysis'!DQ4)-2),LEN(RIGHT('Colour Contrast Analysis'!DQ4,LEN('Colour Contrast Analysis'!DQ4)-FIND(\"+\",'Colour Contrast Analysis'!DQ4)-2))-11)) & \" combination of foreground and background colours is technically conformant, but its contrast should be increased.\",CHAR(10)&VALUE(LEFT(RIGHT('Colour Contrast Analysis'!DQ4,LEN('Colour Contrast Analysis'!DQ4)-FIND(\"+\",'Colour Contrast Analysis'!DQ4)-2),LEN(RIGHT('Colour Contrast Analysis'!DQ4,LEN('Colour Contrast Analysis'!DQ4)-FIND(\"+\",'Colour Contrast Analysis'!DQ4)-2))-11)) & \" combinations of foreground and background colours are technically conformant, but their contrast should be increased.\")) & CHAR(10) & \"Please see the Colour Contrast Analysis worksheet.\"","v":"0 combinations of foreground and background colours do not have sufficient contrast.\nPlease see the Colour Contrast Analysis worksheet."},{"$f":"LEFT('Colour Contrast Analysis'!DR4,FIND(\" \",'Colour Contrast Analysis'!DR4)-1)&\" combination\"&IF(VALUE(LEFT('Colour Contrast Analysis'!DR4,FIND(\" \",'Colour Contrast Analysis'!DR4)))=1,\"\",\"s\")&\" of foreground and background colours do\"&IF(VALUE(LEFT('Colour Contrast Analysis'!DR4,FIND(\" \",'Colour Contrast Analysis'!DR4)))=1,\"es\",\"\")&\" not have sufficient contrast.\"&IF(VALUE(LEFT(RIGHT('Colour Contrast Analysis'!DR4,LEN('Colour Contrast Analysis'!DR4)-FIND(\"+\",'Colour Contrast Analysis'!DR4)-2),LEN(RIGHT('Colour Contrast Analysis'!DR4,LEN('Colour Contrast Analysis'!DR4)-FIND(\"+\",'Colour Contrast Analysis'!DR4)-2))-11))=0,\"\",IF(VALUE(LEFT(RIGHT('Colour Contrast Analysis'!DR4,LEN('Colour Contrast Analysis'!DR4)-FIND(\"+\",'Colour Contrast Analysis'!DR4)-2),LEN(RIGHT('Colour Contrast Analysis'!DR4,LEN('Colour Contrast Analysis'!DR4)-FIND(\"+\",'Colour Contrast Analysis'!DR4)-2))-11))=1,CHAR(10)&VALUE(LEFT(RIGHT('Colour Contrast Analysis'!DR4,LEN('Colour Contrast Analysis'!DR4)-FIND(\"+\",'Colour Contrast Analysis'!DR4)-2),LEN(RIGHT('Colour Contrast Analysis'!DR4,LEN('Colour Contrast Analysis'!DR4)-FIND(\"+\",'Colour Contrast Analysis'!DR4)-2))-11)) & \" combination of foreground and background colours is technically conformant, but its contrast should be increased.\",CHAR(10)&VALUE(LEFT(RIGHT('Colour Contrast Analysis'!DR4,LEN('Colour Contrast Analysis'!DR4)-FIND(\"+\",'Colour Contrast Analysis'!DR4)-2),LEN(RIGHT('Colour Contrast Analysis'!DR4,LEN('Colour Contrast Analysis'!DR4)-FIND(\"+\",'Colour Contrast Analysis'!DR4)-2))-11)) & \" combinations of foreground and background colours are technically conformant, but their contrast should be increased.\")) & CHAR(10) & \"Please see the Colour Contrast Analysis worksheet.\"","v":"0 combinations of foreground and background colours do not have sufficient contrast.\nPlease see the Colour Contrast Analysis worksheet."},{"$f":"LEFT('Colour Contrast Analysis'!DS4,FIND(\" \",'Colour Contrast Analysis'!DS4)-1)&\" combination\"&IF(VALUE(LEFT('Colour Contrast Analysis'!DS4,FIND(\" \",'Colour Contrast Analysis'!DS4)))=1,\"\",\"s\")&\" of foreground and background colours do\"&IF(VALUE(LEFT('Colour Contrast Analysis'!DS4,FIND(\" \",'Colour Contrast Analysis'!DS4)))=1,\"es\",\"\")&\" not have sufficient contrast.\"&IF(VALUE(LEFT(RIGHT('Colour Contrast Analysis'!DS4,LEN('Colour Contrast Analysis'!DS4)-FIND(\"+\",'Colour Contrast Analysis'!DS4)-2),LEN(RIGHT('Colour Contrast Analysis'!DS4,LEN('Colour Contrast Analysis'!DS4)-FIND(\"+\",'Colour Contrast Analysis'!DS4)-2))-11))=0,\"\",IF(VALUE(LEFT(RIGHT('Colour Contrast Analysis'!DS4,LEN('Colour Contrast Analysis'!DS4)-FIND(\"+\",'Colour Contrast Analysis'!DS4)-2),LEN(RIGHT('Colour Contrast Analysis'!DS4,LEN('Colour Contrast Analysis'!DS4)-FIND(\"+\",'Colour Contrast Analysis'!DS4)-2))-11))=1,CHAR(10)&VALUE(LEFT(RIGHT('Colour Contrast Analysis'!DS4,LEN('Colour Contrast Analysis'!DS4)-FIND(\"+\",'Colour Contrast Analysis'!DS4)-2),LEN(RIGHT('Colour Contrast Analysis'!DS4,LEN('Colour Contrast Analysis'!DS4)-FIND(\"+\",'Colour Contrast Analysis'!DS4)-2))-11)) & \" combination of foreground and background colours is technically conformant, but its contrast should be increased.\",CHAR(10)&VALUE(LEFT(RIGHT('Colour Contrast Analysis'!DS4,LEN('Colour Contrast Analysis'!DS4)-FIND(\"+\",'Colour Contrast Analysis'!DS4)-2),LEN(RIGHT('Colour Contrast Analysis'!DS4,LEN('Colour Contrast Analysis'!DS4)-FIND(\"+\",'Colour Contrast Analysis'!DS4)-2))-11)) & \" combinations of foreground and background colours are technically conformant, but their contrast should be increased.\")) & CHAR(10) & \"Please see the Colour Contrast Analysis worksheet.\"","v":"0 combinations of foreground and background colours do not have sufficient contrast.\nPlease see the Colour Contrast Analysis worksheet."},{"$f":"LEFT('Colour Contrast Analysis'!DT4,FIND(\" \",'Colour Contrast Analysis'!DT4)-1)&\" combination\"&IF(VALUE(LEFT('Colour Contrast Analysis'!DT4,FIND(\" \",'Colour Contrast Analysis'!DT4)))=1,\"\",\"s\")&\" of foreground and background colours do\"&IF(VALUE(LEFT('Colour Contrast Analysis'!DT4,FIND(\" \",'Colour Contrast Analysis'!DT4)))=1,\"es\",\"\")&\" not have sufficient contrast.\"&IF(VALUE(LEFT(RIGHT('Colour Contrast Analysis'!DT4,LEN('Colour Contrast Analysis'!DT4)-FIND(\"+\",'Colour Contrast Analysis'!DT4)-2),LEN(RIGHT('Colour Contrast Analysis'!DT4,LEN('Colour Contrast Analysis'!DT4)-FIND(\"+\",'Colour Contrast Analysis'!DT4)-2))-11))=0,\"\",IF(VALUE(LEFT(RIGHT('Colour Contrast Analysis'!DT4,LEN('Colour Contrast Analysis'!DT4)-FIND(\"+\",'Colour Contrast Analysis'!DT4)-2),LEN(RIGHT('Colour Contrast Analysis'!DT4,LEN('Colour Contrast Analysis'!DT4)-FIND(\"+\",'Colour Contrast Analysis'!DT4)-2))-11))=1,CHAR(10)&VALUE(LEFT(RIGHT('Colour Contrast Analysis'!DT4,LEN('Colour Contrast Analysis'!DT4)-FIND(\"+\",'Colour Contrast Analysis'!DT4)-2),LEN(RIGHT('Colour Contrast Analysis'!DT4,LEN('Colour Contrast Analysis'!DT4)-FIND(\"+\",'Colour Contrast Analysis'!DT4)-2))-11)) & \" combination of foreground and background colours is technically conformant, but its contrast should be increased.\",CHAR(10)&VALUE(LEFT(RIGHT('Colour Contrast Analysis'!DT4,LEN('Colour Contrast Analysis'!DT4)-FIND(\"+\",'Colour Contrast Analysis'!DT4)-2),LEN(RIGHT('Colour Contrast Analysis'!DT4,LEN('Colour Contrast Analysis'!DT4)-FIND(\"+\",'Colour Contrast Analysis'!DT4)-2))-11)) & \" combinations of foreground and background colours are technically conformant, but their contrast should be increased.\")) & CHAR(10) & \"Please see the Colour Contrast Analysis worksheet.\"","v":"0 combinations of foreground and background colours do not have sufficient contrast.\nPlease see the Colour Contrast Analysis worksheet."},{"$f":"LEFT('Colour Contrast Analysis'!DU4,FIND(\" \",'Colour Contrast Analysis'!DU4)-1)&\" combination\"&IF(VALUE(LEFT('Colour Contrast Analysis'!DU4,FIND(\" \",'Colour Contrast Analysis'!DU4)))=1,\"\",\"s\")&\" of foreground and background colours do\"&IF(VALUE(LEFT('Colour Contrast Analysis'!DU4,FIND(\" \",'Colour Contrast Analysis'!DU4)))=1,\"es\",\"\")&\" not have sufficient contrast.\"&IF(VALUE(LEFT(RIGHT('Colour Contrast Analysis'!DU4,LEN('Colour Contrast Analysis'!DU4)-FIND(\"+\",'Colour Contrast Analysis'!DU4)-2),LEN(RIGHT('Colour Contrast Analysis'!DU4,LEN('Colour Contrast Analysis'!DU4)-FIND(\"+\",'Colour Contrast Analysis'!DU4)-2))-11))=0,\"\",IF(VALUE(LEFT(RIGHT('Colour Contrast Analysis'!DU4,LEN('Colour Contrast Analysis'!DU4)-FIND(\"+\",'Colour Contrast Analysis'!DU4)-2),LEN(RIGHT('Colour Contrast Analysis'!DU4,LEN('Colour Contrast Analysis'!DU4)-FIND(\"+\",'Colour Contrast Analysis'!DU4)-2))-11))=1,CHAR(10)&VALUE(LEFT(RIGHT('Colour Contrast Analysis'!DU4,LEN('Colour Contrast Analysis'!DU4)-FIND(\"+\",'Colour Contrast Analysis'!DU4)-2),LEN(RIGHT('Colour Contrast Analysis'!DU4,LEN('Colour Contrast Analysis'!DU4)-FIND(\"+\",'Colour Contrast Analysis'!DU4)-2))-11)) & \" combination of foreground and background colours is technically conformant, but its contrast should be increased.\",CHAR(10)&VALUE(LEFT(RIGHT('Colour Contrast Analysis'!DU4,LEN('Colour Contrast Analysis'!DU4)-FIND(\"+\",'Colour Contrast Analysis'!DU4)-2),LEN(RIGHT('Colour Contrast Analysis'!DU4,LEN('Colour Contrast Analysis'!DU4)-FIND(\"+\",'Colour Contrast Analysis'!DU4)-2))-11)) & \" combinations of foreground and background colours are technically conformant, but their contrast should be increased.\")) & CHAR(10) & \"Please see the Colour Contrast Analysis worksheet.\"","v":"0 combinations of foreground and background colours do not have sufficient contrast.\nPlease see the Colour Contrast Analysis worksheet."},{"$f":"LEFT('Colour Contrast Analysis'!DV4,FIND(\" \",'Colour Contrast Analysis'!DV4)-1)&\" combination\"&IF(VALUE(LEFT('Colour Contrast Analysis'!DV4,FIND(\" \",'Colour Contrast Analysis'!DV4)))=1,\"\",\"s\")&\" of foreground and background colours do\"&IF(VALUE(LEFT('Colour Contrast Analysis'!DV4,FIND(\" \",'Colour Contrast Analysis'!DV4)))=1,\"es\",\"\")&\" not have sufficient contrast.\"&IF(VALUE(LEFT(RIGHT('Colour Contrast Analysis'!DV4,LEN('Colour Contrast Analysis'!DV4)-FIND(\"+\",'Colour Contrast Analysis'!DV4)-2),LEN(RIGHT('Colour Contrast Analysis'!DV4,LEN('Colour Contrast Analysis'!DV4)-FIND(\"+\",'Colour Contrast Analysis'!DV4)-2))-11))=0,\"\",IF(VALUE(LEFT(RIGHT('Colour Contrast Analysis'!DV4,LEN('Colour Contrast Analysis'!DV4)-FIND(\"+\",'Colour Contrast Analysis'!DV4)-2),LEN(RIGHT('Colour Contrast Analysis'!DV4,LEN('Colour Contrast Analysis'!DV4)-FIND(\"+\",'Colour Contrast Analysis'!DV4)-2))-11))=1,CHAR(10)&VALUE(LEFT(RIGHT('Colour Contrast Analysis'!DV4,LEN('Colour Contrast Analysis'!DV4)-FIND(\"+\",'Colour Contrast Analysis'!DV4)-2),LEN(RIGHT('Colour Contrast Analysis'!DV4,LEN('Colour Contrast Analysis'!DV4)-FIND(\"+\",'Colour Contrast Analysis'!DV4)-2))-11)) & \" combination of foreground and background colours is technically conformant, but its contrast should be increased.\",CHAR(10)&VALUE(LEFT(RIGHT('Colour Contrast Analysis'!DV4,LEN('Colour Contrast Analysis'!DV4)-FIND(\"+\",'Colour Contrast Analysis'!DV4)-2),LEN(RIGHT('Colour Contrast Analysis'!DV4,LEN('Colour Contrast Analysis'!DV4)-FIND(\"+\",'Colour Contrast Analysis'!DV4)-2))-11)) & \" combinations of foreground and background colours are technically conformant, but their contrast should be increased.\")) & CHAR(10) & \"Please see the Colour Contrast Analysis worksheet.\"","v":"0 combinations of foreground and background colours do not have sufficient contrast.\nPlease see the Colour Contrast Analysis worksheet."},{"$f":"LEFT('Colour Contrast Analysis'!DW4,FIND(\" \",'Colour Contrast Analysis'!DW4)-1)&\" combination\"&IF(VALUE(LEFT('Colour Contrast Analysis'!DW4,FIND(\" \",'Colour Contrast Analysis'!DW4)))=1,\"\",\"s\")&\" of foreground and background colours do\"&IF(VALUE(LEFT('Colour Contrast Analysis'!DW4,FIND(\" \",'Colour Contrast Analysis'!DW4)))=1,\"es\",\"\")&\" not have sufficient contrast.\"&IF(VALUE(LEFT(RIGHT('Colour Contrast Analysis'!DW4,LEN('Colour Contrast Analysis'!DW4)-FIND(\"+\",'Colour Contrast Analysis'!DW4)-2),LEN(RIGHT('Colour Contrast Analysis'!DW4,LEN('Colour Contrast Analysis'!DW4)-FIND(\"+\",'Colour Contrast Analysis'!DW4)-2))-11))=0,\"\",IF(VALUE(LEFT(RIGHT('Colour Contrast Analysis'!DW4,LEN('Colour Contrast Analysis'!DW4)-FIND(\"+\",'Colour Contrast Analysis'!DW4)-2),LEN(RIGHT('Colour Contrast Analysis'!DW4,LEN('Colour Contrast Analysis'!DW4)-FIND(\"+\",'Colour Contrast Analysis'!DW4)-2))-11))=1,CHAR(10)&VALUE(LEFT(RIGHT('Colour Contrast Analysis'!DW4,LEN('Colour Contrast Analysis'!DW4)-FIND(\"+\",'Colour Contrast Analysis'!DW4)-2),LEN(RIGHT('Colour Contrast Analysis'!DW4,LEN('Colour Contrast Analysis'!DW4)-FIND(\"+\",'Colour Contrast Analysis'!DW4)-2))-11)) & \" combination of foreground and background colours is technically conformant, but its contrast should be increased.\",CHAR(10)&VALUE(LEFT(RIGHT('Colour Contrast Analysis'!DW4,LEN('Colour Contrast Analysis'!DW4)-FIND(\"+\",'Colour Contrast Analysis'!DW4)-2),LEN(RIGHT('Colour Contrast Analysis'!DW4,LEN('Colour Contrast Analysis'!DW4)-FIND(\"+\",'Colour Contrast Analysis'!DW4)-2))-11)) & \" combinations of foreground and background colours are technically conformant, but their contrast should be increased.\")) & CHAR(10) & \"Please see the Colour Contrast Analysis worksheet.\"","v":"0 combinations of foreground and background colours do not have sufficient contrast.\nPlease see the Colour Contrast Analysis worksheet."},{"$f":"LEFT('Colour Contrast Analysis'!DX4,FIND(\" \",'Colour Contrast Analysis'!DX4)-1)&\" combination\"&IF(VALUE(LEFT('Colour Contrast Analysis'!DX4,FIND(\" \",'Colour Contrast Analysis'!DX4)))=1,\"\",\"s\")&\" of foreground and background colours do\"&IF(VALUE(LEFT('Colour Contrast Analysis'!DX4,FIND(\" \",'Colour Contrast Analysis'!DX4)))=1,\"es\",\"\")&\" not have sufficient contrast.\"&IF(VALUE(LEFT(RIGHT('Colour Contrast Analysis'!DX4,LEN('Colour Contrast Analysis'!DX4)-FIND(\"+\",'Colour Contrast Analysis'!DX4)-2),LEN(RIGHT('Colour Contrast Analysis'!DX4,LEN('Colour Contrast Analysis'!DX4)-FIND(\"+\",'Colour Contrast Analysis'!DX4)-2))-11))=0,\"\",IF(VALUE(LEFT(RIGHT('Colour Contrast Analysis'!DX4,LEN('Colour Contrast Analysis'!DX4)-FIND(\"+\",'Colour Contrast Analysis'!DX4)-2),LEN(RIGHT('Colour Contrast Analysis'!DX4,LEN('Colour Contrast Analysis'!DX4)-FIND(\"+\",'Colour Contrast Analysis'!DX4)-2))-11))=1,CHAR(10)&VALUE(LEFT(RIGHT('Colour Contrast Analysis'!DX4,LEN('Colour Contrast Analysis'!DX4)-FIND(\"+\",'Colour Contrast Analysis'!DX4)-2),LEN(RIGHT('Colour Contrast Analysis'!DX4,LEN('Colour Contrast Analysis'!DX4)-FIND(\"+\",'Colour Contrast Analysis'!DX4)-2))-11)) & \" combination of foreground and background colours is technically conformant, but its contrast should be increased.\",CHAR(10)&VALUE(LEFT(RIGHT('Colour Contrast Analysis'!DX4,LEN('Colour Contrast Analysis'!DX4)-FIND(\"+\",'Colour Contrast Analysis'!DX4)-2),LEN(RIGHT('Colour Contrast Analysis'!DX4,LEN('Colour Contrast Analysis'!DX4)-FIND(\"+\",'Colour Contrast Analysis'!DX4)-2))-11)) & \" combinations of foreground and background colours are technically conformant, but their contrast should be increased.\")) & CHAR(10) & \"Please see the Colour Contrast Analysis worksheet.\"","v":"0 combinations of foreground and background colours do not have sufficient contrast.\nPlease see the Colour Contrast Analysis worksheet."},{"$f":"LEFT('Colour Contrast Analysis'!DY4,FIND(\" \",'Colour Contrast Analysis'!DY4)-1)&\" combination\"&IF(VALUE(LEFT('Colour Contrast Analysis'!DY4,FIND(\" \",'Colour Contrast Analysis'!DY4)))=1,\"\",\"s\")&\" of foreground and background colours do\"&IF(VALUE(LEFT('Colour Contrast Analysis'!DY4,FIND(\" \",'Colour Contrast Analysis'!DY4)))=1,\"es\",\"\")&\" not have sufficient contrast.\"&IF(VALUE(LEFT(RIGHT('Colour Contrast Analysis'!DY4,LEN('Colour Contrast Analysis'!DY4)-FIND(\"+\",'Colour Contrast Analysis'!DY4)-2),LEN(RIGHT('Colour Contrast Analysis'!DY4,LEN('Colour Contrast Analysis'!DY4)-FIND(\"+\",'Colour Contrast Analysis'!DY4)-2))-11))=0,\"\",IF(VALUE(LEFT(RIGHT('Colour Contrast Analysis'!DY4,LEN('Colour Contrast Analysis'!DY4)-FIND(\"+\",'Colour Contrast Analysis'!DY4)-2),LEN(RIGHT('Colour Contrast Analysis'!DY4,LEN('Colour Contrast Analysis'!DY4)-FIND(\"+\",'Colour Contrast Analysis'!DY4)-2))-11))=1,CHAR(10)&VALUE(LEFT(RIGHT('Colour Contrast Analysis'!DY4,LEN('Colour Contrast Analysis'!DY4)-FIND(\"+\",'Colour Contrast Analysis'!DY4)-2),LEN(RIGHT('Colour Contrast Analysis'!DY4,LEN('Colour Contrast Analysis'!DY4)-FIND(\"+\",'Colour Contrast Analysis'!DY4)-2))-11)) & \" combination of foreground and background colours is technically conformant, but its contrast should be increased.\",CHAR(10)&VALUE(LEFT(RIGHT('Colour Contrast Analysis'!DY4,LEN('Colour Contrast Analysis'!DY4)-FIND(\"+\",'Colour Contrast Analysis'!DY4)-2),LEN(RIGHT('Colour Contrast Analysis'!DY4,LEN('Colour Contrast Analysis'!DY4)-FIND(\"+\",'Colour Contrast Analysis'!DY4)-2))-11)) & \" combinations of foreground and background colours are technically conformant, but their contrast should be increased.\")) & CHAR(10) & \"Please see the Colour Contrast Analysis worksheet.\"","v":"0 combinations of foreground and background colours do not have sufficient contrast.\nPlease see the Colour Contrast Analysis worksheet."},{"$f":"LEFT('Colour Contrast Analysis'!DZ4,FIND(\" \",'Colour Contrast Analysis'!DZ4)-1)&\" combination\"&IF(VALUE(LEFT('Colour Contrast Analysis'!DZ4,FIND(\" \",'Colour Contrast Analysis'!DZ4)))=1,\"\",\"s\")&\" of foreground and background colours do\"&IF(VALUE(LEFT('Colour Contrast Analysis'!DZ4,FIND(\" \",'Colour Contrast Analysis'!DZ4)))=1,\"es\",\"\")&\" not have sufficient contrast.\"&IF(VALUE(LEFT(RIGHT('Colour Contrast Analysis'!DZ4,LEN('Colour Contrast Analysis'!DZ4)-FIND(\"+\",'Colour Contrast Analysis'!DZ4)-2),LEN(RIGHT('Colour Contrast Analysis'!DZ4,LEN('Colour Contrast Analysis'!DZ4)-FIND(\"+\",'Colour Contrast Analysis'!DZ4)-2))-11))=0,\"\",IF(VALUE(LEFT(RIGHT('Colour Contrast Analysis'!DZ4,LEN('Colour Contrast Analysis'!DZ4)-FIND(\"+\",'Colour Contrast Analysis'!DZ4)-2),LEN(RIGHT('Colour Contrast Analysis'!DZ4,LEN('Colour Contrast Analysis'!DZ4)-FIND(\"+\",'Colour Contrast Analysis'!DZ4)-2))-11))=1,CHAR(10)&VALUE(LEFT(RIGHT('Colour Contrast Analysis'!DZ4,LEN('Colour Contrast Analysis'!DZ4)-FIND(\"+\",'Colour Contrast Analysis'!DZ4)-2),LEN(RIGHT('Colour Contrast Analysis'!DZ4,LEN('Colour Contrast Analysis'!DZ4)-FIND(\"+\",'Colour Contrast Analysis'!DZ4)-2))-11)) & \" combination of foreground and background colours is technically conformant, but its contrast should be increased.\",CHAR(10)&VALUE(LEFT(RIGHT('Colour Contrast Analysis'!DZ4,LEN('Colour Contrast Analysis'!DZ4)-FIND(\"+\",'Colour Contrast Analysis'!DZ4)-2),LEN(RIGHT('Colour Contrast Analysis'!DZ4,LEN('Colour Contrast Analysis'!DZ4)-FIND(\"+\",'Colour Contrast Analysis'!DZ4)-2))-11)) & \" combinations of foreground and background colours are technically conformant, but their contrast should be increased.\")) & CHAR(10) & \"Please see the Colour Contrast Analysis worksheet.\"","v":"0 combinations of foreground and background colours do not have sufficient contrast.\nPlease see the Colour Contrast Analysis worksheet."},{"$f":"LEFT('Colour Contrast Analysis'!EA4,FIND(\" \",'Colour Contrast Analysis'!EA4)-1)&\" combination\"&IF(VALUE(LEFT('Colour Contrast Analysis'!EA4,FIND(\" \",'Colour Contrast Analysis'!EA4)))=1,\"\",\"s\")&\" of foreground and background colours do\"&IF(VALUE(LEFT('Colour Contrast Analysis'!EA4,FIND(\" \",'Colour Contrast Analysis'!EA4)))=1,\"es\",\"\")&\" not have sufficient contrast.\"&IF(VALUE(LEFT(RIGHT('Colour Contrast Analysis'!EA4,LEN('Colour Contrast Analysis'!EA4)-FIND(\"+\",'Colour Contrast Analysis'!EA4)-2),LEN(RIGHT('Colour Contrast Analysis'!EA4,LEN('Colour Contrast Analysis'!EA4)-FIND(\"+\",'Colour Contrast Analysis'!EA4)-2))-11))=0,\"\",IF(VALUE(LEFT(RIGHT('Colour Contrast Analysis'!EA4,LEN('Colour Contrast Analysis'!EA4)-FIND(\"+\",'Colour Contrast Analysis'!EA4)-2),LEN(RIGHT('Colour Contrast Analysis'!EA4,LEN('Colour Contrast Analysis'!EA4)-FIND(\"+\",'Colour Contrast Analysis'!EA4)-2))-11))=1,CHAR(10)&VALUE(LEFT(RIGHT('Colour Contrast Analysis'!EA4,LEN('Colour Contrast Analysis'!EA4)-FIND(\"+\",'Colour Contrast Analysis'!EA4)-2),LEN(RIGHT('Colour Contrast Analysis'!EA4,LEN('Colour Contrast Analysis'!EA4)-FIND(\"+\",'Colour Contrast Analysis'!EA4)-2))-11)) & \" combination of foreground and background colours is technically conformant, but its contrast should be increased.\",CHAR(10)&VALUE(LEFT(RIGHT('Colour Contrast Analysis'!EA4,LEN('Colour Contrast Analysis'!EA4)-FIND(\"+\",'Colour Contrast Analysis'!EA4)-2),LEN(RIGHT('Colour Contrast Analysis'!EA4,LEN('Colour Contrast Analysis'!EA4)-FIND(\"+\",'Colour Contrast Analysis'!EA4)-2))-11)) & \" combinations of foreground and background colours are technically conformant, but their contrast should be increased.\")) & CHAR(10) & \"Please see the Colour Contrast Analysis worksheet.\"","v":"0 combinations of foreground and background colours do not have sufficient contrast.\nPlease see the Colour Contrast Analysis worksheet."},{"$f":"LEFT('Colour Contrast Analysis'!EB4,FIND(\" \",'Colour Contrast Analysis'!EB4)-1)&\" combination\"&IF(VALUE(LEFT('Colour Contrast Analysis'!EB4,FIND(\" \",'Colour Contrast Analysis'!EB4)))=1,\"\",\"s\")&\" of foreground and background colours do\"&IF(VALUE(LEFT('Colour Contrast Analysis'!EB4,FIND(\" \",'Colour Contrast Analysis'!EB4)))=1,\"es\",\"\")&\" not have sufficient contrast.\"&IF(VALUE(LEFT(RIGHT('Colour Contrast Analysis'!EB4,LEN('Colour Contrast Analysis'!EB4)-FIND(\"+\",'Colour Contrast Analysis'!EB4)-2),LEN(RIGHT('Colour Contrast Analysis'!EB4,LEN('Colour Contrast Analysis'!EB4)-FIND(\"+\",'Colour Contrast Analysis'!EB4)-2))-11))=0,\"\",IF(VALUE(LEFT(RIGHT('Colour Contrast Analysis'!EB4,LEN('Colour Contrast Analysis'!EB4)-FIND(\"+\",'Colour Contrast Analysis'!EB4)-2),LEN(RIGHT('Colour Contrast Analysis'!EB4,LEN('Colour Contrast Analysis'!EB4)-FIND(\"+\",'Colour Contrast Analysis'!EB4)-2))-11))=1,CHAR(10)&VALUE(LEFT(RIGHT('Colour Contrast Analysis'!EB4,LEN('Colour Contrast Analysis'!EB4)-FIND(\"+\",'Colour Contrast Analysis'!EB4)-2),LEN(RIGHT('Colour Contrast Analysis'!EB4,LEN('Colour Contrast Analysis'!EB4)-FIND(\"+\",'Colour Contrast Analysis'!EB4)-2))-11)) & \" combination of foreground and background colours is technically conformant, but its contrast should be increased.\",CHAR(10)&VALUE(LEFT(RIGHT('Colour Contrast Analysis'!EB4,LEN('Colour Contrast Analysis'!EB4)-FIND(\"+\",'Colour Contrast Analysis'!EB4)-2),LEN(RIGHT('Colour Contrast Analysis'!EB4,LEN('Colour Contrast Analysis'!EB4)-FIND(\"+\",'Colour Contrast Analysis'!EB4)-2))-11)) & \" combinations of foreground and background colours are technically conformant, but their contrast should be increased.\")) & CHAR(10) & \"Please see the Colour Contrast Analysis worksheet.\"","v":"0 combinations of foreground and background colours do not have sufficient contrast.\nPlease see the Colour Contrast Analysis worksheet."},{"$f":"LEFT('Colour Contrast Analysis'!EC4,FIND(\" \",'Colour Contrast Analysis'!EC4)-1)&\" combination\"&IF(VALUE(LEFT('Colour Contrast Analysis'!EC4,FIND(\" \",'Colour Contrast Analysis'!EC4)))=1,\"\",\"s\")&\" of foreground and background colours do\"&IF(VALUE(LEFT('Colour Contrast Analysis'!EC4,FIND(\" \",'Colour Contrast Analysis'!EC4)))=1,\"es\",\"\")&\" not have sufficient contrast.\"&IF(VALUE(LEFT(RIGHT('Colour Contrast Analysis'!EC4,LEN('Colour Contrast Analysis'!EC4)-FIND(\"+\",'Colour Contrast Analysis'!EC4)-2),LEN(RIGHT('Colour Contrast Analysis'!EC4,LEN('Colour Contrast Analysis'!EC4)-FIND(\"+\",'Colour Contrast Analysis'!EC4)-2))-11))=0,\"\",IF(VALUE(LEFT(RIGHT('Colour Contrast Analysis'!EC4,LEN('Colour Contrast Analysis'!EC4)-FIND(\"+\",'Colour Contrast Analysis'!EC4)-2),LEN(RIGHT('Colour Contrast Analysis'!EC4,LEN('Colour Contrast Analysis'!EC4)-FIND(\"+\",'Colour Contrast Analysis'!EC4)-2))-11))=1,CHAR(10)&VALUE(LEFT(RIGHT('Colour Contrast Analysis'!EC4,LEN('Colour Contrast Analysis'!EC4)-FIND(\"+\",'Colour Contrast Analysis'!EC4)-2),LEN(RIGHT('Colour Contrast Analysis'!EC4,LEN('Colour Contrast Analysis'!EC4)-FIND(\"+\",'Colour Contrast Analysis'!EC4)-2))-11)) & \" combination of foreground and background colours is technically conformant, but its contrast should be increased.\",CHAR(10)&VALUE(LEFT(RIGHT('Colour Contrast Analysis'!EC4,LEN('Colour Contrast Analysis'!EC4)-FIND(\"+\",'Colour Contrast Analysis'!EC4)-2),LEN(RIGHT('Colour Contrast Analysis'!EC4,LEN('Colour Contrast Analysis'!EC4)-FIND(\"+\",'Colour Contrast Analysis'!EC4)-2))-11)) & \" combinations of foreground and background colours are technically conformant, but their contrast should be increased.\")) & CHAR(10) & \"Please see the Colour Contrast Analysis worksheet.\"","v":"0 combinations of foreground and background colours do not have sufficient contrast.\nPlease see the Colour Contrast Analysis worksheet."},{"$f":"LEFT('Colour Contrast Analysis'!ED4,FIND(\" \",'Colour Contrast Analysis'!ED4)-1)&\" combination\"&IF(VALUE(LEFT('Colour Contrast Analysis'!ED4,FIND(\" \",'Colour Contrast Analysis'!ED4)))=1,\"\",\"s\")&\" of foreground and background colours do\"&IF(VALUE(LEFT('Colour Contrast Analysis'!ED4,FIND(\" \",'Colour Contrast Analysis'!ED4)))=1,\"es\",\"\")&\" not have sufficient contrast.\"&IF(VALUE(LEFT(RIGHT('Colour Contrast Analysis'!ED4,LEN('Colour Contrast Analysis'!ED4)-FIND(\"+\",'Colour Contrast Analysis'!ED4)-2),LEN(RIGHT('Colour Contrast Analysis'!ED4,LEN('Colour Contrast Analysis'!ED4)-FIND(\"+\",'Colour Contrast Analysis'!ED4)-2))-11))=0,\"\",IF(VALUE(LEFT(RIGHT('Colour Contrast Analysis'!ED4,LEN('Colour Contrast Analysis'!ED4)-FIND(\"+\",'Colour Contrast Analysis'!ED4)-2),LEN(RIGHT('Colour Contrast Analysis'!ED4,LEN('Colour Contrast Analysis'!ED4)-FIND(\"+\",'Colour Contrast Analysis'!ED4)-2))-11))=1,CHAR(10)&VALUE(LEFT(RIGHT('Colour Contrast Analysis'!ED4,LEN('Colour Contrast Analysis'!ED4)-FIND(\"+\",'Colour Contrast Analysis'!ED4)-2),LEN(RIGHT('Colour Contrast Analysis'!ED4,LEN('Colour Contrast Analysis'!ED4)-FIND(\"+\",'Colour Contrast Analysis'!ED4)-2))-11)) & \" combination of foreground and background colours is technically conformant, but its contrast should be increased.\",CHAR(10)&VALUE(LEFT(RIGHT('Colour Contrast Analysis'!ED4,LEN('Colour Contrast Analysis'!ED4)-FIND(\"+\",'Colour Contrast Analysis'!ED4)-2),LEN(RIGHT('Colour Contrast Analysis'!ED4,LEN('Colour Contrast Analysis'!ED4)-FIND(\"+\",'Colour Contrast Analysis'!ED4)-2))-11)) & \" combinations of foreground and background colours are technically conformant, but their contrast should be increased.\")) & CHAR(10) & \"Please see the Colour Contrast Analysis worksheet.\"","v":"0 combinations of foreground and background colours do not have sufficient contrast.\nPlease see the Colour Contrast Analysis worksheet."},{"$f":"LEFT('Colour Contrast Analysis'!EE4,FIND(\" \",'Colour Contrast Analysis'!EE4)-1)&\" combination\"&IF(VALUE(LEFT('Colour Contrast Analysis'!EE4,FIND(\" \",'Colour Contrast Analysis'!EE4)))=1,\"\",\"s\")&\" of foreground and background colours do\"&IF(VALUE(LEFT('Colour Contrast Analysis'!EE4,FIND(\" \",'Colour Contrast Analysis'!EE4)))=1,\"es\",\"\")&\" not have sufficient contrast.\"&IF(VALUE(LEFT(RIGHT('Colour Contrast Analysis'!EE4,LEN('Colour Contrast Analysis'!EE4)-FIND(\"+\",'Colour Contrast Analysis'!EE4)-2),LEN(RIGHT('Colour Contrast Analysis'!EE4,LEN('Colour Contrast Analysis'!EE4)-FIND(\"+\",'Colour Contrast Analysis'!EE4)-2))-11))=0,\"\",IF(VALUE(LEFT(RIGHT('Colour Contrast Analysis'!EE4,LEN('Colour Contrast Analysis'!EE4)-FIND(\"+\",'Colour Contrast Analysis'!EE4)-2),LEN(RIGHT('Colour Contrast Analysis'!EE4,LEN('Colour Contrast Analysis'!EE4)-FIND(\"+\",'Colour Contrast Analysis'!EE4)-2))-11))=1,CHAR(10)&VALUE(LEFT(RIGHT('Colour Contrast Analysis'!EE4,LEN('Colour Contrast Analysis'!EE4)-FIND(\"+\",'Colour Contrast Analysis'!EE4)-2),LEN(RIGHT('Colour Contrast Analysis'!EE4,LEN('Colour Contrast Analysis'!EE4)-FIND(\"+\",'Colour Contrast Analysis'!EE4)-2))-11)) & \" combination of foreground and background colours is technically conformant, but its contrast should be increased.\",CHAR(10)&VALUE(LEFT(RIGHT('Colour Contrast Analysis'!EE4,LEN('Colour Contrast Analysis'!EE4)-FIND(\"+\",'Colour Contrast Analysis'!EE4)-2),LEN(RIGHT('Colour Contrast Analysis'!EE4,LEN('Colour Contrast Analysis'!EE4)-FIND(\"+\",'Colour Contrast Analysis'!EE4)-2))-11)) & \" combinations of foreground and background colours are technically conformant, but their contrast should be increased.\")) & CHAR(10) & \"Please see the Colour Contrast Analysis worksheet.\"","v":"0 combinations of foreground and background colours do not have sufficient contrast.\nPlease see the Colour Contrast Analysis worksheet."},{"$f":"LEFT('Colour Contrast Analysis'!EF4,FIND(\" \",'Colour Contrast Analysis'!EF4)-1)&\" combination\"&IF(VALUE(LEFT('Colour Contrast Analysis'!EF4,FIND(\" \",'Colour Contrast Analysis'!EF4)))=1,\"\",\"s\")&\" of foreground and background colours do\"&IF(VALUE(LEFT('Colour Contrast Analysis'!EF4,FIND(\" \",'Colour Contrast Analysis'!EF4)))=1,\"es\",\"\")&\" not have sufficient contrast.\"&IF(VALUE(LEFT(RIGHT('Colour Contrast Analysis'!EF4,LEN('Colour Contrast Analysis'!EF4)-FIND(\"+\",'Colour Contrast Analysis'!EF4)-2),LEN(RIGHT('Colour Contrast Analysis'!EF4,LEN('Colour Contrast Analysis'!EF4)-FIND(\"+\",'Colour Contrast Analysis'!EF4)-2))-11))=0,\"\",IF(VALUE(LEFT(RIGHT('Colour Contrast Analysis'!EF4,LEN('Colour Contrast Analysis'!EF4)-FIND(\"+\",'Colour Contrast Analysis'!EF4)-2),LEN(RIGHT('Colour Contrast Analysis'!EF4,LEN('Colour Contrast Analysis'!EF4)-FIND(\"+\",'Colour Contrast Analysis'!EF4)-2))-11))=1,CHAR(10)&VALUE(LEFT(RIGHT('Colour Contrast Analysis'!EF4,LEN('Colour Contrast Analysis'!EF4)-FIND(\"+\",'Colour Contrast Analysis'!EF4)-2),LEN(RIGHT('Colour Contrast Analysis'!EF4,LEN('Colour Contrast Analysis'!EF4)-FIND(\"+\",'Colour Contrast Analysis'!EF4)-2))-11)) & \" combination of foreground and background colours is technically conformant, but its contrast should be increased.\",CHAR(10)&VALUE(LEFT(RIGHT('Colour Contrast Analysis'!EF4,LEN('Colour Contrast Analysis'!EF4)-FIND(\"+\",'Colour Contrast Analysis'!EF4)-2),LEN(RIGHT('Colour Contrast Analysis'!EF4,LEN('Colour Contrast Analysis'!EF4)-FIND(\"+\",'Colour Contrast Analysis'!EF4)-2))-11)) & \" combinations of foreground and background colours are technically conformant, but their contrast should be increased.\")) & CHAR(10) & \"Please see the Colour Contrast Analysis worksheet.\"","v":"0 combinations of foreground and background colours do not have sufficient contrast.\nPlease see the Colour Contrast Analysis worksheet."},{"$f":"LEFT('Colour Contrast Analysis'!EG4,FIND(\" \",'Colour Contrast Analysis'!EG4)-1)&\" combination\"&IF(VALUE(LEFT('Colour Contrast Analysis'!EG4,FIND(\" \",'Colour Contrast Analysis'!EG4)))=1,\"\",\"s\")&\" of foreground and background colours do\"&IF(VALUE(LEFT('Colour Contrast Analysis'!EG4,FIND(\" \",'Colour Contrast Analysis'!EG4)))=1,\"es\",\"\")&\" not have sufficient contrast.\"&IF(VALUE(LEFT(RIGHT('Colour Contrast Analysis'!EG4,LEN('Colour Contrast Analysis'!EG4)-FIND(\"+\",'Colour Contrast Analysis'!EG4)-2),LEN(RIGHT('Colour Contrast Analysis'!EG4,LEN('Colour Contrast Analysis'!EG4)-FIND(\"+\",'Colour Contrast Analysis'!EG4)-2))-11))=0,\"\",IF(VALUE(LEFT(RIGHT('Colour Contrast Analysis'!EG4,LEN('Colour Contrast Analysis'!EG4)-FIND(\"+\",'Colour Contrast Analysis'!EG4)-2),LEN(RIGHT('Colour Contrast Analysis'!EG4,LEN('Colour Contrast Analysis'!EG4)-FIND(\"+\",'Colour Contrast Analysis'!EG4)-2))-11))=1,CHAR(10)&VALUE(LEFT(RIGHT('Colour Contrast Analysis'!EG4,LEN('Colour Contrast Analysis'!EG4)-FIND(\"+\",'Colour Contrast Analysis'!EG4)-2),LEN(RIGHT('Colour Contrast Analysis'!EG4,LEN('Colour Contrast Analysis'!EG4)-FIND(\"+\",'Colour Contrast Analysis'!EG4)-2))-11)) & \" combination of foreground and background colours is technically conformant, but its contrast should be increased.\",CHAR(10)&VALUE(LEFT(RIGHT('Colour Contrast Analysis'!EG4,LEN('Colour Contrast Analysis'!EG4)-FIND(\"+\",'Colour Contrast Analysis'!EG4)-2),LEN(RIGHT('Colour Contrast Analysis'!EG4,LEN('Colour Contrast Analysis'!EG4)-FIND(\"+\",'Colour Contrast Analysis'!EG4)-2))-11)) & \" combinations of foreground and background colours are technically conformant, but their contrast should be increased.\")) & CHAR(10) & \"Please see the Colour Contrast Analysis worksheet.\"","v":"0 combinations of foreground and background colours do not have sufficient contrast.\nPlease see the Colour Contrast Analysis worksheet."},{"$f":"LEFT('Colour Contrast Analysis'!EH4,FIND(\" \",'Colour Contrast Analysis'!EH4)-1)&\" combination\"&IF(VALUE(LEFT('Colour Contrast Analysis'!EH4,FIND(\" \",'Colour Contrast Analysis'!EH4)))=1,\"\",\"s\")&\" of foreground and background colours do\"&IF(VALUE(LEFT('Colour Contrast Analysis'!EH4,FIND(\" \",'Colour Contrast Analysis'!EH4)))=1,\"es\",\"\")&\" not have sufficient contrast.\"&IF(VALUE(LEFT(RIGHT('Colour Contrast Analysis'!EH4,LEN('Colour Contrast Analysis'!EH4)-FIND(\"+\",'Colour Contrast Analysis'!EH4)-2),LEN(RIGHT('Colour Contrast Analysis'!EH4,LEN('Colour Contrast Analysis'!EH4)-FIND(\"+\",'Colour Contrast Analysis'!EH4)-2))-11))=0,\"\",IF(VALUE(LEFT(RIGHT('Colour Contrast Analysis'!EH4,LEN('Colour Contrast Analysis'!EH4)-FIND(\"+\",'Colour Contrast Analysis'!EH4)-2),LEN(RIGHT('Colour Contrast Analysis'!EH4,LEN('Colour Contrast Analysis'!EH4)-FIND(\"+\",'Colour Contrast Analysis'!EH4)-2))-11))=1,CHAR(10)&VALUE(LEFT(RIGHT('Colour Contrast Analysis'!EH4,LEN('Colour Contrast Analysis'!EH4)-FIND(\"+\",'Colour Contrast Analysis'!EH4)-2),LEN(RIGHT('Colour Contrast Analysis'!EH4,LEN('Colour Contrast Analysis'!EH4)-FIND(\"+\",'Colour Contrast Analysis'!EH4)-2))-11)) & \" combination of foreground and background colours is technically conformant, but its contrast should be increased.\",CHAR(10)&VALUE(LEFT(RIGHT('Colour Contrast Analysis'!EH4,LEN('Colour Contrast Analysis'!EH4)-FIND(\"+\",'Colour Contrast Analysis'!EH4)-2),LEN(RIGHT('Colour Contrast Analysis'!EH4,LEN('Colour Contrast Analysis'!EH4)-FIND(\"+\",'Colour Contrast Analysis'!EH4)-2))-11)) & \" combinations of foreground and background colours are technically conformant, but their contrast should be increased.\")) & CHAR(10) & \"Please see the Colour Contrast Analysis worksheet.\"","v":"0 combinations of foreground and background colours do not have sufficient contrast.\nPlease see the Colour Contrast Analysis worksheet."},{"$f":"LEFT('Colour Contrast Analysis'!EI4,FIND(\" \",'Colour Contrast Analysis'!EI4)-1)&\" combination\"&IF(VALUE(LEFT('Colour Contrast Analysis'!EI4,FIND(\" \",'Colour Contrast Analysis'!EI4)))=1,\"\",\"s\")&\" of foreground and background colours do\"&IF(VALUE(LEFT('Colour Contrast Analysis'!EI4,FIND(\" \",'Colour Contrast Analysis'!EI4)))=1,\"es\",\"\")&\" not have sufficient contrast.\"&IF(VALUE(LEFT(RIGHT('Colour Contrast Analysis'!EI4,LEN('Colour Contrast Analysis'!EI4)-FIND(\"+\",'Colour Contrast Analysis'!EI4)-2),LEN(RIGHT('Colour Contrast Analysis'!EI4,LEN('Colour Contrast Analysis'!EI4)-FIND(\"+\",'Colour Contrast Analysis'!EI4)-2))-11))=0,\"\",IF(VALUE(LEFT(RIGHT('Colour Contrast Analysis'!EI4,LEN('Colour Contrast Analysis'!EI4)-FIND(\"+\",'Colour Contrast Analysis'!EI4)-2),LEN(RIGHT('Colour Contrast Analysis'!EI4,LEN('Colour Contrast Analysis'!EI4)-FIND(\"+\",'Colour Contrast Analysis'!EI4)-2))-11))=1,CHAR(10)&VALUE(LEFT(RIGHT('Colour Contrast Analysis'!EI4,LEN('Colour Contrast Analysis'!EI4)-FIND(\"+\",'Colour Contrast Analysis'!EI4)-2),LEN(RIGHT('Colour Contrast Analysis'!EI4,LEN('Colour Contrast Analysis'!EI4)-FIND(\"+\",'Colour Contrast Analysis'!EI4)-2))-11)) & \" combination of foreground and background colours is technically conformant, but its contrast should be increased.\",CHAR(10)&VALUE(LEFT(RIGHT('Colour Contrast Analysis'!EI4,LEN('Colour Contrast Analysis'!EI4)-FIND(\"+\",'Colour Contrast Analysis'!EI4)-2),LEN(RIGHT('Colour Contrast Analysis'!EI4,LEN('Colour Contrast Analysis'!EI4)-FIND(\"+\",'Colour Contrast Analysis'!EI4)-2))-11)) & \" combinations of foreground and background colours are technically conformant, but their contrast should be increased.\")) & CHAR(10) & \"Please see the Colour Contrast Analysis worksheet.\"","v":"0 combinations of foreground and background colours do not have sufficient contrast.\nPlease see the Colour Contrast Analysis worksheet."},{"$f":"LEFT('Colour Contrast Analysis'!EJ4,FIND(\" \",'Colour Contrast Analysis'!EJ4)-1)&\" combination\"&IF(VALUE(LEFT('Colour Contrast Analysis'!EJ4,FIND(\" \",'Colour Contrast Analysis'!EJ4)))=1,\"\",\"s\")&\" of foreground and background colours do\"&IF(VALUE(LEFT('Colour Contrast Analysis'!EJ4,FIND(\" \",'Colour Contrast Analysis'!EJ4)))=1,\"es\",\"\")&\" not have sufficient contrast.\"&IF(VALUE(LEFT(RIGHT('Colour Contrast Analysis'!EJ4,LEN('Colour Contrast Analysis'!EJ4)-FIND(\"+\",'Colour Contrast Analysis'!EJ4)-2),LEN(RIGHT('Colour Contrast Analysis'!EJ4,LEN('Colour Contrast Analysis'!EJ4)-FIND(\"+\",'Colour Contrast Analysis'!EJ4)-2))-11))=0,\"\",IF(VALUE(LEFT(RIGHT('Colour Contrast Analysis'!EJ4,LEN('Colour Contrast Analysis'!EJ4)-FIND(\"+\",'Colour Contrast Analysis'!EJ4)-2),LEN(RIGHT('Colour Contrast Analysis'!EJ4,LEN('Colour Contrast Analysis'!EJ4)-FIND(\"+\",'Colour Contrast Analysis'!EJ4)-2))-11))=1,CHAR(10)&VALUE(LEFT(RIGHT('Colour Contrast Analysis'!EJ4,LEN('Colour Contrast Analysis'!EJ4)-FIND(\"+\",'Colour Contrast Analysis'!EJ4)-2),LEN(RIGHT('Colour Contrast Analysis'!EJ4,LEN('Colour Contrast Analysis'!EJ4)-FIND(\"+\",'Colour Contrast Analysis'!EJ4)-2))-11)) & \" combination of foreground and background colours is technically conformant, but its contrast should be increased.\",CHAR(10)&VALUE(LEFT(RIGHT('Colour Contrast Analysis'!EJ4,LEN('Colour Contrast Analysis'!EJ4)-FIND(\"+\",'Colour Contrast Analysis'!EJ4)-2),LEN(RIGHT('Colour Contrast Analysis'!EJ4,LEN('Colour Contrast Analysis'!EJ4)-FIND(\"+\",'Colour Contrast Analysis'!EJ4)-2))-11)) & \" combinations of foreground and background colours are technically conformant, but their contrast should be increased.\")) & CHAR(10) & \"Please see the Colour Contrast Analysis worksheet.\"","v":"0 combinations of foreground and background colours do not have sufficient contrast.\nPlease see the Colour Contrast Analysis worksheet."},{"$f":"LEFT('Colour Contrast Analysis'!EK4,FIND(\" \",'Colour Contrast Analysis'!EK4)-1)&\" combination\"&IF(VALUE(LEFT('Colour Contrast Analysis'!EK4,FIND(\" \",'Colour Contrast Analysis'!EK4)))=1,\"\",\"s\")&\" of foreground and background colours do\"&IF(VALUE(LEFT('Colour Contrast Analysis'!EK4,FIND(\" \",'Colour Contrast Analysis'!EK4)))=1,\"es\",\"\")&\" not have sufficient contrast.\"&IF(VALUE(LEFT(RIGHT('Colour Contrast Analysis'!EK4,LEN('Colour Contrast Analysis'!EK4)-FIND(\"+\",'Colour Contrast Analysis'!EK4)-2),LEN(RIGHT('Colour Contrast Analysis'!EK4,LEN('Colour Contrast Analysis'!EK4)-FIND(\"+\",'Colour Contrast Analysis'!EK4)-2))-11))=0,\"\",IF(VALUE(LEFT(RIGHT('Colour Contrast Analysis'!EK4,LEN('Colour Contrast Analysis'!EK4)-FIND(\"+\",'Colour Contrast Analysis'!EK4)-2),LEN(RIGHT('Colour Contrast Analysis'!EK4,LEN('Colour Contrast Analysis'!EK4)-FIND(\"+\",'Colour Contrast Analysis'!EK4)-2))-11))=1,CHAR(10)&VALUE(LEFT(RIGHT('Colour Contrast Analysis'!EK4,LEN('Colour Contrast Analysis'!EK4)-FIND(\"+\",'Colour Contrast Analysis'!EK4)-2),LEN(RIGHT('Colour Contrast Analysis'!EK4,LEN('Colour Contrast Analysis'!EK4)-FIND(\"+\",'Colour Contrast Analysis'!EK4)-2))-11)) & \" combination of foreground and background colours is technically conformant, but its contrast should be increased.\",CHAR(10)&VALUE(LEFT(RIGHT('Colour Contrast Analysis'!EK4,LEN('Colour Contrast Analysis'!EK4)-FIND(\"+\",'Colour Contrast Analysis'!EK4)-2),LEN(RIGHT('Colour Contrast Analysis'!EK4,LEN('Colour Contrast Analysis'!EK4)-FIND(\"+\",'Colour Contrast Analysis'!EK4)-2))-11)) & \" combinations of foreground and background colours are technically conformant, but their contrast should be increased.\")) & CHAR(10) & \"Please see the Colour Contrast Analysis worksheet.\"","v":"0 combinations of foreground and background colours do not have sufficient contrast.\nPlease see the Colour Contrast Analysis worksheet."},{"$f":"LEFT('Colour Contrast Analysis'!EL4,FIND(\" \",'Colour Contrast Analysis'!EL4)-1)&\" combination\"&IF(VALUE(LEFT('Colour Contrast Analysis'!EL4,FIND(\" \",'Colour Contrast Analysis'!EL4)))=1,\"\",\"s\")&\" of foreground and background colours do\"&IF(VALUE(LEFT('Colour Contrast Analysis'!EL4,FIND(\" \",'Colour Contrast Analysis'!EL4)))=1,\"es\",\"\")&\" not have sufficient contrast.\"&IF(VALUE(LEFT(RIGHT('Colour Contrast Analysis'!EL4,LEN('Colour Contrast Analysis'!EL4)-FIND(\"+\",'Colour Contrast Analysis'!EL4)-2),LEN(RIGHT('Colour Contrast Analysis'!EL4,LEN('Colour Contrast Analysis'!EL4)-FIND(\"+\",'Colour Contrast Analysis'!EL4)-2))-11))=0,\"\",IF(VALUE(LEFT(RIGHT('Colour Contrast Analysis'!EL4,LEN('Colour Contrast Analysis'!EL4)-FIND(\"+\",'Colour Contrast Analysis'!EL4)-2),LEN(RIGHT('Colour Contrast Analysis'!EL4,LEN('Colour Contrast Analysis'!EL4)-FIND(\"+\",'Colour Contrast Analysis'!EL4)-2))-11))=1,CHAR(10)&VALUE(LEFT(RIGHT('Colour Contrast Analysis'!EL4,LEN('Colour Contrast Analysis'!EL4)-FIND(\"+\",'Colour Contrast Analysis'!EL4)-2),LEN(RIGHT('Colour Contrast Analysis'!EL4,LEN('Colour Contrast Analysis'!EL4)-FIND(\"+\",'Colour Contrast Analysis'!EL4)-2))-11)) & \" combination of foreground and background colours is technically conformant, but its contrast should be increased.\",CHAR(10)&VALUE(LEFT(RIGHT('Colour Contrast Analysis'!EL4,LEN('Colour Contrast Analysis'!EL4)-FIND(\"+\",'Colour Contrast Analysis'!EL4)-2),LEN(RIGHT('Colour Contrast Analysis'!EL4,LEN('Colour Contrast Analysis'!EL4)-FIND(\"+\",'Colour Contrast Analysis'!EL4)-2))-11)) & \" combinations of foreground and background colours are technically conformant, but their contrast should be increased.\")) & CHAR(10) & \"Please see the Colour Contrast Analysis worksheet.\"","v":"0 combinations of foreground and background colours do not have sufficient contrast.\nPlease see the Colour Contrast Analysis worksheet."},{"$f":"LEFT('Colour Contrast Analysis'!EM4,FIND(\" \",'Colour Contrast Analysis'!EM4)-1)&\" combination\"&IF(VALUE(LEFT('Colour Contrast Analysis'!EM4,FIND(\" \",'Colour Contrast Analysis'!EM4)))=1,\"\",\"s\")&\" of foreground and background colours do\"&IF(VALUE(LEFT('Colour Contrast Analysis'!EM4,FIND(\" \",'Colour Contrast Analysis'!EM4)))=1,\"es\",\"\")&\" not have sufficient contrast.\"&IF(VALUE(LEFT(RIGHT('Colour Contrast Analysis'!EM4,LEN('Colour Contrast Analysis'!EM4)-FIND(\"+\",'Colour Contrast Analysis'!EM4)-2),LEN(RIGHT('Colour Contrast Analysis'!EM4,LEN('Colour Contrast Analysis'!EM4)-FIND(\"+\",'Colour Contrast Analysis'!EM4)-2))-11))=0,\"\",IF(VALUE(LEFT(RIGHT('Colour Contrast Analysis'!EM4,LEN('Colour Contrast Analysis'!EM4)-FIND(\"+\",'Colour Contrast Analysis'!EM4)-2),LEN(RIGHT('Colour Contrast Analysis'!EM4,LEN('Colour Contrast Analysis'!EM4)-FIND(\"+\",'Colour Contrast Analysis'!EM4)-2))-11))=1,CHAR(10)&VALUE(LEFT(RIGHT('Colour Contrast Analysis'!EM4,LEN('Colour Contrast Analysis'!EM4)-FIND(\"+\",'Colour Contrast Analysis'!EM4)-2),LEN(RIGHT('Colour Contrast Analysis'!EM4,LEN('Colour Contrast Analysis'!EM4)-FIND(\"+\",'Colour Contrast Analysis'!EM4)-2))-11)) & \" combination of foreground and background colours is technically conformant, but its contrast should be increased.\",CHAR(10)&VALUE(LEFT(RIGHT('Colour Contrast Analysis'!EM4,LEN('Colour Contrast Analysis'!EM4)-FIND(\"+\",'Colour Contrast Analysis'!EM4)-2),LEN(RIGHT('Colour Contrast Analysis'!EM4,LEN('Colour Contrast Analysis'!EM4)-FIND(\"+\",'Colour Contrast Analysis'!EM4)-2))-11)) & \" combinations of foreground and background colours are technically conformant, but their contrast should be increased.\")) & CHAR(10) & \"Please see the Colour Contrast Analysis worksheet.\"","v":"0 combinations of foreground and background colours do not have sufficient contrast.\nPlease see the Colour Contrast Analysis worksheet."},{"$f":"LEFT('Colour Contrast Analysis'!EN4,FIND(\" \",'Colour Contrast Analysis'!EN4)-1)&\" combination\"&IF(VALUE(LEFT('Colour Contrast Analysis'!EN4,FIND(\" \",'Colour Contrast Analysis'!EN4)))=1,\"\",\"s\")&\" of foreground and background colours do\"&IF(VALUE(LEFT('Colour Contrast Analysis'!EN4,FIND(\" \",'Colour Contrast Analysis'!EN4)))=1,\"es\",\"\")&\" not have sufficient contrast.\"&IF(VALUE(LEFT(RIGHT('Colour Contrast Analysis'!EN4,LEN('Colour Contrast Analysis'!EN4)-FIND(\"+\",'Colour Contrast Analysis'!EN4)-2),LEN(RIGHT('Colour Contrast Analysis'!EN4,LEN('Colour Contrast Analysis'!EN4)-FIND(\"+\",'Colour Contrast Analysis'!EN4)-2))-11))=0,\"\",IF(VALUE(LEFT(RIGHT('Colour Contrast Analysis'!EN4,LEN('Colour Contrast Analysis'!EN4)-FIND(\"+\",'Colour Contrast Analysis'!EN4)-2),LEN(RIGHT('Colour Contrast Analysis'!EN4,LEN('Colour Contrast Analysis'!EN4)-FIND(\"+\",'Colour Contrast Analysis'!EN4)-2))-11))=1,CHAR(10)&VALUE(LEFT(RIGHT('Colour Contrast Analysis'!EN4,LEN('Colour Contrast Analysis'!EN4)-FIND(\"+\",'Colour Contrast Analysis'!EN4)-2),LEN(RIGHT('Colour Contrast Analysis'!EN4,LEN('Colour Contrast Analysis'!EN4)-FIND(\"+\",'Colour Contrast Analysis'!EN4)-2))-11)) & \" combination of foreground and background colours is technically conformant, but its contrast should be increased.\",CHAR(10)&VALUE(LEFT(RIGHT('Colour Contrast Analysis'!EN4,LEN('Colour Contrast Analysis'!EN4)-FIND(\"+\",'Colour Contrast Analysis'!EN4)-2),LEN(RIGHT('Colour Contrast Analysis'!EN4,LEN('Colour Contrast Analysis'!EN4)-FIND(\"+\",'Colour Contrast Analysis'!EN4)-2))-11)) & \" combinations of foreground and background colours are technically conformant, but their contrast should be increased.\")) & CHAR(10) & \"Please see the Colour Contrast Analysis worksheet.\"","v":"0 combinations of foreground and background colours do not have sufficient contrast.\nPlease see the Colour Contrast Analysis worksheet."},{"$f":"LEFT('Colour Contrast Analysis'!EO4,FIND(\" \",'Colour Contrast Analysis'!EO4)-1)&\" combination\"&IF(VALUE(LEFT('Colour Contrast Analysis'!EO4,FIND(\" \",'Colour Contrast Analysis'!EO4)))=1,\"\",\"s\")&\" of foreground and background colours do\"&IF(VALUE(LEFT('Colour Contrast Analysis'!EO4,FIND(\" \",'Colour Contrast Analysis'!EO4)))=1,\"es\",\"\")&\" not have sufficient contrast.\"&IF(VALUE(LEFT(RIGHT('Colour Contrast Analysis'!EO4,LEN('Colour Contrast Analysis'!EO4)-FIND(\"+\",'Colour Contrast Analysis'!EO4)-2),LEN(RIGHT('Colour Contrast Analysis'!EO4,LEN('Colour Contrast Analysis'!EO4)-FIND(\"+\",'Colour Contrast Analysis'!EO4)-2))-11))=0,\"\",IF(VALUE(LEFT(RIGHT('Colour Contrast Analysis'!EO4,LEN('Colour Contrast Analysis'!EO4)-FIND(\"+\",'Colour Contrast Analysis'!EO4)-2),LEN(RIGHT('Colour Contrast Analysis'!EO4,LEN('Colour Contrast Analysis'!EO4)-FIND(\"+\",'Colour Contrast Analysis'!EO4)-2))-11))=1,CHAR(10)&VALUE(LEFT(RIGHT('Colour Contrast Analysis'!EO4,LEN('Colour Contrast Analysis'!EO4)-FIND(\"+\",'Colour Contrast Analysis'!EO4)-2),LEN(RIGHT('Colour Contrast Analysis'!EO4,LEN('Colour Contrast Analysis'!EO4)-FIND(\"+\",'Colour Contrast Analysis'!EO4)-2))-11)) & \" combination of foreground and background colours is technically conformant, but its contrast should be increased.\",CHAR(10)&VALUE(LEFT(RIGHT('Colour Contrast Analysis'!EO4,LEN('Colour Contrast Analysis'!EO4)-FIND(\"+\",'Colour Contrast Analysis'!EO4)-2),LEN(RIGHT('Colour Contrast Analysis'!EO4,LEN('Colour Contrast Analysis'!EO4)-FIND(\"+\",'Colour Contrast Analysis'!EO4)-2))-11)) & \" combinations of foreground and background colours are technically conformant, but their contrast should be increased.\")) & CHAR(10) & \"Please see the Colour Contrast Analysis worksheet.\"","v":"0 combinations of foreground and background colours do not have sufficient contrast.\nPlease see the Colour Contrast Analysis worksheet."},{"$f":"LEFT('Colour Contrast Analysis'!EP4,FIND(\" \",'Colour Contrast Analysis'!EP4)-1)&\" combination\"&IF(VALUE(LEFT('Colour Contrast Analysis'!EP4,FIND(\" \",'Colour Contrast Analysis'!EP4)))=1,\"\",\"s\")&\" of foreground and background colours do\"&IF(VALUE(LEFT('Colour Contrast Analysis'!EP4,FIND(\" \",'Colour Contrast Analysis'!EP4)))=1,\"es\",\"\")&\" not have sufficient contrast.\"&IF(VALUE(LEFT(RIGHT('Colour Contrast Analysis'!EP4,LEN('Colour Contrast Analysis'!EP4)-FIND(\"+\",'Colour Contrast Analysis'!EP4)-2),LEN(RIGHT('Colour Contrast Analysis'!EP4,LEN('Colour Contrast Analysis'!EP4)-FIND(\"+\",'Colour Contrast Analysis'!EP4)-2))-11))=0,\"\",IF(VALUE(LEFT(RIGHT('Colour Contrast Analysis'!EP4,LEN('Colour Contrast Analysis'!EP4)-FIND(\"+\",'Colour Contrast Analysis'!EP4)-2),LEN(RIGHT('Colour Contrast Analysis'!EP4,LEN('Colour Contrast Analysis'!EP4)-FIND(\"+\",'Colour Contrast Analysis'!EP4)-2))-11))=1,CHAR(10)&VALUE(LEFT(RIGHT('Colour Contrast Analysis'!EP4,LEN('Colour Contrast Analysis'!EP4)-FIND(\"+\",'Colour Contrast Analysis'!EP4)-2),LEN(RIGHT('Colour Contrast Analysis'!EP4,LEN('Colour Contrast Analysis'!EP4)-FIND(\"+\",'Colour Contrast Analysis'!EP4)-2))-11)) & \" combination of foreground and background colours is technically conformant, but its contrast should be increased.\",CHAR(10)&VALUE(LEFT(RIGHT('Colour Contrast Analysis'!EP4,LEN('Colour Contrast Analysis'!EP4)-FIND(\"+\",'Colour Contrast Analysis'!EP4)-2),LEN(RIGHT('Colour Contrast Analysis'!EP4,LEN('Colour Contrast Analysis'!EP4)-FIND(\"+\",'Colour Contrast Analysis'!EP4)-2))-11)) & \" combinations of foreground and background colours are technically conformant, but their contrast should be increased.\")) & CHAR(10) & \"Please see the Colour Contrast Analysis worksheet.\"","v":"0 combinations of foreground and background colours do not have sufficient contrast.\nPlease see the Colour Contrast Analysis worksheet."},{"$f":"LEFT('Colour Contrast Analysis'!EQ4,FIND(\" \",'Colour Contrast Analysis'!EQ4)-1)&\" combination\"&IF(VALUE(LEFT('Colour Contrast Analysis'!EQ4,FIND(\" \",'Colour Contrast Analysis'!EQ4)))=1,\"\",\"s\")&\" of foreground and background colours do\"&IF(VALUE(LEFT('Colour Contrast Analysis'!EQ4,FIND(\" \",'Colour Contrast Analysis'!EQ4)))=1,\"es\",\"\")&\" not have sufficient contrast.\"&IF(VALUE(LEFT(RIGHT('Colour Contrast Analysis'!EQ4,LEN('Colour Contrast Analysis'!EQ4)-FIND(\"+\",'Colour Contrast Analysis'!EQ4)-2),LEN(RIGHT('Colour Contrast Analysis'!EQ4,LEN('Colour Contrast Analysis'!EQ4)-FIND(\"+\",'Colour Contrast Analysis'!EQ4)-2))-11))=0,\"\",IF(VALUE(LEFT(RIGHT('Colour Contrast Analysis'!EQ4,LEN('Colour Contrast Analysis'!EQ4)-FIND(\"+\",'Colour Contrast Analysis'!EQ4)-2),LEN(RIGHT('Colour Contrast Analysis'!EQ4,LEN('Colour Contrast Analysis'!EQ4)-FIND(\"+\",'Colour Contrast Analysis'!EQ4)-2))-11))=1,CHAR(10)&VALUE(LEFT(RIGHT('Colour Contrast Analysis'!EQ4,LEN('Colour Contrast Analysis'!EQ4)-FIND(\"+\",'Colour Contrast Analysis'!EQ4)-2),LEN(RIGHT('Colour Contrast Analysis'!EQ4,LEN('Colour Contrast Analysis'!EQ4)-FIND(\"+\",'Colour Contrast Analysis'!EQ4)-2))-11)) & \" combination of foreground and background colours is technically conformant, but its contrast should be increased.\",CHAR(10)&VALUE(LEFT(RIGHT('Colour Contrast Analysis'!EQ4,LEN('Colour Contrast Analysis'!EQ4)-FIND(\"+\",'Colour Contrast Analysis'!EQ4)-2),LEN(RIGHT('Colour Contrast Analysis'!EQ4,LEN('Colour Contrast Analysis'!EQ4)-FIND(\"+\",'Colour Contrast Analysis'!EQ4)-2))-11)) & \" combinations of foreground and background colours are technically conformant, but their contrast should be increased.\")) & CHAR(10) & \"Please see the Colour Contrast Analysis worksheet.\"","v":"0 combinations of foreground and background colours do not have sufficient contrast.\nPlease see the Colour Contrast Analysis worksheet."},{"$f":"LEFT('Colour Contrast Analysis'!ER4,FIND(\" \",'Colour Contrast Analysis'!ER4)-1)&\" combination\"&IF(VALUE(LEFT('Colour Contrast Analysis'!ER4,FIND(\" \",'Colour Contrast Analysis'!ER4)))=1,\"\",\"s\")&\" of foreground and background colours do\"&IF(VALUE(LEFT('Colour Contrast Analysis'!ER4,FIND(\" \",'Colour Contrast Analysis'!ER4)))=1,\"es\",\"\")&\" not have sufficient contrast.\"&IF(VALUE(LEFT(RIGHT('Colour Contrast Analysis'!ER4,LEN('Colour Contrast Analysis'!ER4)-FIND(\"+\",'Colour Contrast Analysis'!ER4)-2),LEN(RIGHT('Colour Contrast Analysis'!ER4,LEN('Colour Contrast Analysis'!ER4)-FIND(\"+\",'Colour Contrast Analysis'!ER4)-2))-11))=0,\"\",IF(VALUE(LEFT(RIGHT('Colour Contrast Analysis'!ER4,LEN('Colour Contrast Analysis'!ER4)-FIND(\"+\",'Colour Contrast Analysis'!ER4)-2),LEN(RIGHT('Colour Contrast Analysis'!ER4,LEN('Colour Contrast Analysis'!ER4)-FIND(\"+\",'Colour Contrast Analysis'!ER4)-2))-11))=1,CHAR(10)&VALUE(LEFT(RIGHT('Colour Contrast Analysis'!ER4,LEN('Colour Contrast Analysis'!ER4)-FIND(\"+\",'Colour Contrast Analysis'!ER4)-2),LEN(RIGHT('Colour Contrast Analysis'!ER4,LEN('Colour Contrast Analysis'!ER4)-FIND(\"+\",'Colour Contrast Analysis'!ER4)-2))-11)) & \" combination of foreground and background colours is technically conformant, but its contrast should be increased.\",CHAR(10)&VALUE(LEFT(RIGHT('Colour Contrast Analysis'!ER4,LEN('Colour Contrast Analysis'!ER4)-FIND(\"+\",'Colour Contrast Analysis'!ER4)-2),LEN(RIGHT('Colour Contrast Analysis'!ER4,LEN('Colour Contrast Analysis'!ER4)-FIND(\"+\",'Colour Contrast Analysis'!ER4)-2))-11)) & \" combinations of foreground and background colours are technically conformant, but their contrast should be increased.\")) & CHAR(10) & \"Please see the Colour Contrast Analysis worksheet.\"","v":"0 combinations of foreground and background colours do not have sufficient contrast.\nPlease see the Colour Contrast Analysis worksheet."},{"$f":"LEFT('Colour Contrast Analysis'!ES4,FIND(\" \",'Colour Contrast Analysis'!ES4)-1)&\" combination\"&IF(VALUE(LEFT('Colour Contrast Analysis'!ES4,FIND(\" \",'Colour Contrast Analysis'!ES4)))=1,\"\",\"s\")&\" of foreground and background colours do\"&IF(VALUE(LEFT('Colour Contrast Analysis'!ES4,FIND(\" \",'Colour Contrast Analysis'!ES4)))=1,\"es\",\"\")&\" not have sufficient contrast.\"&IF(VALUE(LEFT(RIGHT('Colour Contrast Analysis'!ES4,LEN('Colour Contrast Analysis'!ES4)-FIND(\"+\",'Colour Contrast Analysis'!ES4)-2),LEN(RIGHT('Colour Contrast Analysis'!ES4,LEN('Colour Contrast Analysis'!ES4)-FIND(\"+\",'Colour Contrast Analysis'!ES4)-2))-11))=0,\"\",IF(VALUE(LEFT(RIGHT('Colour Contrast Analysis'!ES4,LEN('Colour Contrast Analysis'!ES4)-FIND(\"+\",'Colour Contrast Analysis'!ES4)-2),LEN(RIGHT('Colour Contrast Analysis'!ES4,LEN('Colour Contrast Analysis'!ES4)-FIND(\"+\",'Colour Contrast Analysis'!ES4)-2))-11))=1,CHAR(10)&VALUE(LEFT(RIGHT('Colour Contrast Analysis'!ES4,LEN('Colour Contrast Analysis'!ES4)-FIND(\"+\",'Colour Contrast Analysis'!ES4)-2),LEN(RIGHT('Colour Contrast Analysis'!ES4,LEN('Colour Contrast Analysis'!ES4)-FIND(\"+\",'Colour Contrast Analysis'!ES4)-2))-11)) & \" combination of foreground and background colours is technically conformant, but its contrast should be increased.\",CHAR(10)&VALUE(LEFT(RIGHT('Colour Contrast Analysis'!ES4,LEN('Colour Contrast Analysis'!ES4)-FIND(\"+\",'Colour Contrast Analysis'!ES4)-2),LEN(RIGHT('Colour Contrast Analysis'!ES4,LEN('Colour Contrast Analysis'!ES4)-FIND(\"+\",'Colour Contrast Analysis'!ES4)-2))-11)) & \" combinations of foreground and background colours are technically conformant, but their contrast should be increased.\")) & CHAR(10) & \"Please see the Colour Contrast Analysis worksheet.\"","v":"0 combinations of foreground and background colours do not have sufficient contrast.\nPlease see the Colour Contrast Analysis worksheet."},{"$f":"LEFT('Colour Contrast Analysis'!ET4,FIND(\" \",'Colour Contrast Analysis'!ET4)-1)&\" combination\"&IF(VALUE(LEFT('Colour Contrast Analysis'!ET4,FIND(\" \",'Colour Contrast Analysis'!ET4)))=1,\"\",\"s\")&\" of foreground and background colours do\"&IF(VALUE(LEFT('Colour Contrast Analysis'!ET4,FIND(\" \",'Colour Contrast Analysis'!ET4)))=1,\"es\",\"\")&\" not have sufficient contrast.\"&IF(VALUE(LEFT(RIGHT('Colour Contrast Analysis'!ET4,LEN('Colour Contrast Analysis'!ET4)-FIND(\"+\",'Colour Contrast Analysis'!ET4)-2),LEN(RIGHT('Colour Contrast Analysis'!ET4,LEN('Colour Contrast Analysis'!ET4)-FIND(\"+\",'Colour Contrast Analysis'!ET4)-2))-11))=0,\"\",IF(VALUE(LEFT(RIGHT('Colour Contrast Analysis'!ET4,LEN('Colour Contrast Analysis'!ET4)-FIND(\"+\",'Colour Contrast Analysis'!ET4)-2),LEN(RIGHT('Colour Contrast Analysis'!ET4,LEN('Colour Contrast Analysis'!ET4)-FIND(\"+\",'Colour Contrast Analysis'!ET4)-2))-11))=1,CHAR(10)&VALUE(LEFT(RIGHT('Colour Contrast Analysis'!ET4,LEN('Colour Contrast Analysis'!ET4)-FIND(\"+\",'Colour Contrast Analysis'!ET4)-2),LEN(RIGHT('Colour Contrast Analysis'!ET4,LEN('Colour Contrast Analysis'!ET4)-FIND(\"+\",'Colour Contrast Analysis'!ET4)-2))-11)) & \" combination of foreground and background colours is technically conformant, but its contrast should be increased.\",CHAR(10)&VALUE(LEFT(RIGHT('Colour Contrast Analysis'!ET4,LEN('Colour Contrast Analysis'!ET4)-FIND(\"+\",'Colour Contrast Analysis'!ET4)-2),LEN(RIGHT('Colour Contrast Analysis'!ET4,LEN('Colour Contrast Analysis'!ET4)-FIND(\"+\",'Colour Contrast Analysis'!ET4)-2))-11)) & \" combinations of foreground and background colours are technically conformant, but their contrast should be increased.\")) & CHAR(10) & \"Please see the Colour Contrast Analysis worksheet.\"","v":"0 combinations of foreground and background colours do not have sufficient contrast.\nPlease see the Colour Contrast Analysis worksheet."},{"$f":"LEFT('Colour Contrast Analysis'!EU4,FIND(\" \",'Colour Contrast Analysis'!EU4)-1)&\" combination\"&IF(VALUE(LEFT('Colour Contrast Analysis'!EU4,FIND(\" \",'Colour Contrast Analysis'!EU4)))=1,\"\",\"s\")&\" of foreground and background colours do\"&IF(VALUE(LEFT('Colour Contrast Analysis'!EU4,FIND(\" \",'Colour Contrast Analysis'!EU4)))=1,\"es\",\"\")&\" not have sufficient contrast.\"&IF(VALUE(LEFT(RIGHT('Colour Contrast Analysis'!EU4,LEN('Colour Contrast Analysis'!EU4)-FIND(\"+\",'Colour Contrast Analysis'!EU4)-2),LEN(RIGHT('Colour Contrast Analysis'!EU4,LEN('Colour Contrast Analysis'!EU4)-FIND(\"+\",'Colour Contrast Analysis'!EU4)-2))-11))=0,\"\",IF(VALUE(LEFT(RIGHT('Colour Contrast Analysis'!EU4,LEN('Colour Contrast Analysis'!EU4)-FIND(\"+\",'Colour Contrast Analysis'!EU4)-2),LEN(RIGHT('Colour Contrast Analysis'!EU4,LEN('Colour Contrast Analysis'!EU4)-FIND(\"+\",'Colour Contrast Analysis'!EU4)-2))-11))=1,CHAR(10)&VALUE(LEFT(RIGHT('Colour Contrast Analysis'!EU4,LEN('Colour Contrast Analysis'!EU4)-FIND(\"+\",'Colour Contrast Analysis'!EU4)-2),LEN(RIGHT('Colour Contrast Analysis'!EU4,LEN('Colour Contrast Analysis'!EU4)-FIND(\"+\",'Colour Contrast Analysis'!EU4)-2))-11)) & \" combination of foreground and background colours is technically conformant, but its contrast should be increased.\",CHAR(10)&VALUE(LEFT(RIGHT('Colour Contrast Analysis'!EU4,LEN('Colour Contrast Analysis'!EU4)-FIND(\"+\",'Colour Contrast Analysis'!EU4)-2),LEN(RIGHT('Colour Contrast Analysis'!EU4,LEN('Colour Contrast Analysis'!EU4)-FIND(\"+\",'Colour Contrast Analysis'!EU4)-2))-11)) & \" combinations of foreground and background colours are technically conformant, but their contrast should be increased.\")) & CHAR(10) & \"Please see the Colour Contrast Analysis worksheet.\"","v":"0 combinations of foreground and background colours do not have sufficient contrast.\nPlease see the Colour Contrast Analysis worksheet."},{"$f":"LEFT('Colour Contrast Analysis'!EV4,FIND(\" \",'Colour Contrast Analysis'!EV4)-1)&\" combination\"&IF(VALUE(LEFT('Colour Contrast Analysis'!EV4,FIND(\" \",'Colour Contrast Analysis'!EV4)))=1,\"\",\"s\")&\" of foreground and background colours do\"&IF(VALUE(LEFT('Colour Contrast Analysis'!EV4,FIND(\" \",'Colour Contrast Analysis'!EV4)))=1,\"es\",\"\")&\" not have sufficient contrast.\"&IF(VALUE(LEFT(RIGHT('Colour Contrast Analysis'!EV4,LEN('Colour Contrast Analysis'!EV4)-FIND(\"+\",'Colour Contrast Analysis'!EV4)-2),LEN(RIGHT('Colour Contrast Analysis'!EV4,LEN('Colour Contrast Analysis'!EV4)-FIND(\"+\",'Colour Contrast Analysis'!EV4)-2))-11))=0,\"\",IF(VALUE(LEFT(RIGHT('Colour Contrast Analysis'!EV4,LEN('Colour Contrast Analysis'!EV4)-FIND(\"+\",'Colour Contrast Analysis'!EV4)-2),LEN(RIGHT('Colour Contrast Analysis'!EV4,LEN('Colour Contrast Analysis'!EV4)-FIND(\"+\",'Colour Contrast Analysis'!EV4)-2))-11))=1,CHAR(10)&VALUE(LEFT(RIGHT('Colour Contrast Analysis'!EV4,LEN('Colour Contrast Analysis'!EV4)-FIND(\"+\",'Colour Contrast Analysis'!EV4)-2),LEN(RIGHT('Colour Contrast Analysis'!EV4,LEN('Colour Contrast Analysis'!EV4)-FIND(\"+\",'Colour Contrast Analysis'!EV4)-2))-11)) & \" combination of foreground and background colours is technically conformant, but its contrast should be increased.\",CHAR(10)&VALUE(LEFT(RIGHT('Colour Contrast Analysis'!EV4,LEN('Colour Contrast Analysis'!EV4)-FIND(\"+\",'Colour Contrast Analysis'!EV4)-2),LEN(RIGHT('Colour Contrast Analysis'!EV4,LEN('Colour Contrast Analysis'!EV4)-FIND(\"+\",'Colour Contrast Analysis'!EV4)-2))-11)) & \" combinations of foreground and background colours are technically conformant, but their contrast should be increased.\")) & CHAR(10) & \"Please see the Colour Contrast Analysis worksheet.\"","v":"0 combinations of foreground and background colours do not have sufficient contrast.\nPlease see the Colour Contrast Analysis worksheet."},{"$f":"LEFT('Colour Contrast Analysis'!EW4,FIND(\" \",'Colour Contrast Analysis'!EW4)-1)&\" combination\"&IF(VALUE(LEFT('Colour Contrast Analysis'!EW4,FIND(\" \",'Colour Contrast Analysis'!EW4)))=1,\"\",\"s\")&\" of foreground and background colours do\"&IF(VALUE(LEFT('Colour Contrast Analysis'!EW4,FIND(\" \",'Colour Contrast Analysis'!EW4)))=1,\"es\",\"\")&\" not have sufficient contrast.\"&IF(VALUE(LEFT(RIGHT('Colour Contrast Analysis'!EW4,LEN('Colour Contrast Analysis'!EW4)-FIND(\"+\",'Colour Contrast Analysis'!EW4)-2),LEN(RIGHT('Colour Contrast Analysis'!EW4,LEN('Colour Contrast Analysis'!EW4)-FIND(\"+\",'Colour Contrast Analysis'!EW4)-2))-11))=0,\"\",IF(VALUE(LEFT(RIGHT('Colour Contrast Analysis'!EW4,LEN('Colour Contrast Analysis'!EW4)-FIND(\"+\",'Colour Contrast Analysis'!EW4)-2),LEN(RIGHT('Colour Contrast Analysis'!EW4,LEN('Colour Contrast Analysis'!EW4)-FIND(\"+\",'Colour Contrast Analysis'!EW4)-2))-11))=1,CHAR(10)&VALUE(LEFT(RIGHT('Colour Contrast Analysis'!EW4,LEN('Colour Contrast Analysis'!EW4)-FIND(\"+\",'Colour Contrast Analysis'!EW4)-2),LEN(RIGHT('Colour Contrast Analysis'!EW4,LEN('Colour Contrast Analysis'!EW4)-FIND(\"+\",'Colour Contrast Analysis'!EW4)-2))-11)) & \" combination of foreground and background colours is technically conformant, but its contrast should be increased.\",CHAR(10)&VALUE(LEFT(RIGHT('Colour Contrast Analysis'!EW4,LEN('Colour Contrast Analysis'!EW4)-FIND(\"+\",'Colour Contrast Analysis'!EW4)-2),LEN(RIGHT('Colour Contrast Analysis'!EW4,LEN('Colour Contrast Analysis'!EW4)-FIND(\"+\",'Colour Contrast Analysis'!EW4)-2))-11)) & \" combinations of foreground and background colours are technically conformant, but their contrast should be increased.\")) & CHAR(10) & \"Please see the Colour Contrast Analysis worksheet.\"","v":"0 combinations of foreground and background colours do not have sufficient contrast.\nPlease see the Colour Contrast Analysis worksheet."},{"$f":"LEFT('Colour Contrast Analysis'!EX4,FIND(\" \",'Colour Contrast Analysis'!EX4)-1)&\" combination\"&IF(VALUE(LEFT('Colour Contrast Analysis'!EX4,FIND(\" \",'Colour Contrast Analysis'!EX4)))=1,\"\",\"s\")&\" of foreground and background colours do\"&IF(VALUE(LEFT('Colour Contrast Analysis'!EX4,FIND(\" \",'Colour Contrast Analysis'!EX4)))=1,\"es\",\"\")&\" not have sufficient contrast.\"&IF(VALUE(LEFT(RIGHT('Colour Contrast Analysis'!EX4,LEN('Colour Contrast Analysis'!EX4)-FIND(\"+\",'Colour Contrast Analysis'!EX4)-2),LEN(RIGHT('Colour Contrast Analysis'!EX4,LEN('Colour Contrast Analysis'!EX4)-FIND(\"+\",'Colour Contrast Analysis'!EX4)-2))-11))=0,\"\",IF(VALUE(LEFT(RIGHT('Colour Contrast Analysis'!EX4,LEN('Colour Contrast Analysis'!EX4)-FIND(\"+\",'Colour Contrast Analysis'!EX4)-2),LEN(RIGHT('Colour Contrast Analysis'!EX4,LEN('Colour Contrast Analysis'!EX4)-FIND(\"+\",'Colour Contrast Analysis'!EX4)-2))-11))=1,CHAR(10)&VALUE(LEFT(RIGHT('Colour Contrast Analysis'!EX4,LEN('Colour Contrast Analysis'!EX4)-FIND(\"+\",'Colour Contrast Analysis'!EX4)-2),LEN(RIGHT('Colour Contrast Analysis'!EX4,LEN('Colour Contrast Analysis'!EX4)-FIND(\"+\",'Colour Contrast Analysis'!EX4)-2))-11)) & \" combination of foreground and background colours is technically conformant, but its contrast should be increased.\",CHAR(10)&VALUE(LEFT(RIGHT('Colour Contrast Analysis'!EX4,LEN('Colour Contrast Analysis'!EX4)-FIND(\"+\",'Colour Contrast Analysis'!EX4)-2),LEN(RIGHT('Colour Contrast Analysis'!EX4,LEN('Colour Contrast Analysis'!EX4)-FIND(\"+\",'Colour Contrast Analysis'!EX4)-2))-11)) & \" combinations of foreground and background colours are technically conformant, but their contrast should be increased.\")) & CHAR(10) & \"Please see the Colour Contrast Analysis worksheet.\"","v":"0 combinations of foreground and background colours do not have sufficient contrast.\nPlease see the Colour Contrast Analysis worksheet."},{"$f":"LEFT('Colour Contrast Analysis'!EY4,FIND(\" \",'Colour Contrast Analysis'!EY4)-1)&\" combination\"&IF(VALUE(LEFT('Colour Contrast Analysis'!EY4,FIND(\" \",'Colour Contrast Analysis'!EY4)))=1,\"\",\"s\")&\" of foreground and background colours do\"&IF(VALUE(LEFT('Colour Contrast Analysis'!EY4,FIND(\" \",'Colour Contrast Analysis'!EY4)))=1,\"es\",\"\")&\" not have sufficient contrast.\"&IF(VALUE(LEFT(RIGHT('Colour Contrast Analysis'!EY4,LEN('Colour Contrast Analysis'!EY4)-FIND(\"+\",'Colour Contrast Analysis'!EY4)-2),LEN(RIGHT('Colour Contrast Analysis'!EY4,LEN('Colour Contrast Analysis'!EY4)-FIND(\"+\",'Colour Contrast Analysis'!EY4)-2))-11))=0,\"\",IF(VALUE(LEFT(RIGHT('Colour Contrast Analysis'!EY4,LEN('Colour Contrast Analysis'!EY4)-FIND(\"+\",'Colour Contrast Analysis'!EY4)-2),LEN(RIGHT('Colour Contrast Analysis'!EY4,LEN('Colour Contrast Analysis'!EY4)-FIND(\"+\",'Colour Contrast Analysis'!EY4)-2))-11))=1,CHAR(10)&VALUE(LEFT(RIGHT('Colour Contrast Analysis'!EY4,LEN('Colour Contrast Analysis'!EY4)-FIND(\"+\",'Colour Contrast Analysis'!EY4)-2),LEN(RIGHT('Colour Contrast Analysis'!EY4,LEN('Colour Contrast Analysis'!EY4)-FIND(\"+\",'Colour Contrast Analysis'!EY4)-2))-11)) & \" combination of foreground and background colours is technically conformant, but its contrast should be increased.\",CHAR(10)&VALUE(LEFT(RIGHT('Colour Contrast Analysis'!EY4,LEN('Colour Contrast Analysis'!EY4)-FIND(\"+\",'Colour Contrast Analysis'!EY4)-2),LEN(RIGHT('Colour Contrast Analysis'!EY4,LEN('Colour Contrast Analysis'!EY4)-FIND(\"+\",'Colour Contrast Analysis'!EY4)-2))-11)) & \" combinations of foreground and background colours are technically conformant, but their contrast should be increased.\")) & CHAR(10) & \"Please see the Colour Contrast Analysis worksheet.\"","v":"0 combinations of foreground and background colours do not have sufficient contrast.\nPlease see the Colour Contrast Analysis worksheet."},{"$f":"LEFT('Colour Contrast Analysis'!EZ4,FIND(\" \",'Colour Contrast Analysis'!EZ4)-1)&\" combination\"&IF(VALUE(LEFT('Colour Contrast Analysis'!EZ4,FIND(\" \",'Colour Contrast Analysis'!EZ4)))=1,\"\",\"s\")&\" of foreground and background colours do\"&IF(VALUE(LEFT('Colour Contrast Analysis'!EZ4,FIND(\" \",'Colour Contrast Analysis'!EZ4)))=1,\"es\",\"\")&\" not have sufficient contrast.\"&IF(VALUE(LEFT(RIGHT('Colour Contrast Analysis'!EZ4,LEN('Colour Contrast Analysis'!EZ4)-FIND(\"+\",'Colour Contrast Analysis'!EZ4)-2),LEN(RIGHT('Colour Contrast Analysis'!EZ4,LEN('Colour Contrast Analysis'!EZ4)-FIND(\"+\",'Colour Contrast Analysis'!EZ4)-2))-11))=0,\"\",IF(VALUE(LEFT(RIGHT('Colour Contrast Analysis'!EZ4,LEN('Colour Contrast Analysis'!EZ4)-FIND(\"+\",'Colour Contrast Analysis'!EZ4)-2),LEN(RIGHT('Colour Contrast Analysis'!EZ4,LEN('Colour Contrast Analysis'!EZ4)-FIND(\"+\",'Colour Contrast Analysis'!EZ4)-2))-11))=1,CHAR(10)&VALUE(LEFT(RIGHT('Colour Contrast Analysis'!EZ4,LEN('Colour Contrast Analysis'!EZ4)-FIND(\"+\",'Colour Contrast Analysis'!EZ4)-2),LEN(RIGHT('Colour Contrast Analysis'!EZ4,LEN('Colour Contrast Analysis'!EZ4)-FIND(\"+\",'Colour Contrast Analysis'!EZ4)-2))-11)) & \" combination of foreground and background colours is technically conformant, but its contrast should be increased.\",CHAR(10)&VALUE(LEFT(RIGHT('Colour Contrast Analysis'!EZ4,LEN('Colour Contrast Analysis'!EZ4)-FIND(\"+\",'Colour Contrast Analysis'!EZ4)-2),LEN(RIGHT('Colour Contrast Analysis'!EZ4,LEN('Colour Contrast Analysis'!EZ4)-FIND(\"+\",'Colour Contrast Analysis'!EZ4)-2))-11)) & \" combinations of foreground and background colours are technically conformant, but their contrast should be increased.\")) & CHAR(10) & \"Please see the Colour Contrast Analysis worksheet.\"","v":"0 combinations of foreground and background colours do not have sufficient contrast.\nPlease see the Colour Contrast Analysis worksheet."},{"$f":"LEFT('Colour Contrast Analysis'!FA4,FIND(\" \",'Colour Contrast Analysis'!FA4)-1)&\" combination\"&IF(VALUE(LEFT('Colour Contrast Analysis'!FA4,FIND(\" \",'Colour Contrast Analysis'!FA4)))=1,\"\",\"s\")&\" of foreground and background colours do\"&IF(VALUE(LEFT('Colour Contrast Analysis'!FA4,FIND(\" \",'Colour Contrast Analysis'!FA4)))=1,\"es\",\"\")&\" not have sufficient contrast.\"&IF(VALUE(LEFT(RIGHT('Colour Contrast Analysis'!FA4,LEN('Colour Contrast Analysis'!FA4)-FIND(\"+\",'Colour Contrast Analysis'!FA4)-2),LEN(RIGHT('Colour Contrast Analysis'!FA4,LEN('Colour Contrast Analysis'!FA4)-FIND(\"+\",'Colour Contrast Analysis'!FA4)-2))-11))=0,\"\",IF(VALUE(LEFT(RIGHT('Colour Contrast Analysis'!FA4,LEN('Colour Contrast Analysis'!FA4)-FIND(\"+\",'Colour Contrast Analysis'!FA4)-2),LEN(RIGHT('Colour Contrast Analysis'!FA4,LEN('Colour Contrast Analysis'!FA4)-FIND(\"+\",'Colour Contrast Analysis'!FA4)-2))-11))=1,CHAR(10)&VALUE(LEFT(RIGHT('Colour Contrast Analysis'!FA4,LEN('Colour Contrast Analysis'!FA4)-FIND(\"+\",'Colour Contrast Analysis'!FA4)-2),LEN(RIGHT('Colour Contrast Analysis'!FA4,LEN('Colour Contrast Analysis'!FA4)-FIND(\"+\",'Colour Contrast Analysis'!FA4)-2))-11)) & \" combination of foreground and background colours is technically conformant, but its contrast should be increased.\",CHAR(10)&VALUE(LEFT(RIGHT('Colour Contrast Analysis'!FA4,LEN('Colour Contrast Analysis'!FA4)-FIND(\"+\",'Colour Contrast Analysis'!FA4)-2),LEN(RIGHT('Colour Contrast Analysis'!FA4,LEN('Colour Contrast Analysis'!FA4)-FIND(\"+\",'Colour Contrast Analysis'!FA4)-2))-11)) & \" combinations of foreground and background colours are technically conformant, but their contrast should be increased.\")) & CHAR(10) & \"Please see the Colour Contrast Analysis worksheet.\"","v":"0 combinations of foreground and background colours do not have sufficient contrast.\nPlease see the Colour Contrast Analysis worksheet."},{"$f":"LEFT('Colour Contrast Analysis'!FB4,FIND(\" \",'Colour Contrast Analysis'!FB4)-1)&\" combination\"&IF(VALUE(LEFT('Colour Contrast Analysis'!FB4,FIND(\" \",'Colour Contrast Analysis'!FB4)))=1,\"\",\"s\")&\" of foreground and background colours do\"&IF(VALUE(LEFT('Colour Contrast Analysis'!FB4,FIND(\" \",'Colour Contrast Analysis'!FB4)))=1,\"es\",\"\")&\" not have sufficient contrast.\"&IF(VALUE(LEFT(RIGHT('Colour Contrast Analysis'!FB4,LEN('Colour Contrast Analysis'!FB4)-FIND(\"+\",'Colour Contrast Analysis'!FB4)-2),LEN(RIGHT('Colour Contrast Analysis'!FB4,LEN('Colour Contrast Analysis'!FB4)-FIND(\"+\",'Colour Contrast Analysis'!FB4)-2))-11))=0,\"\",IF(VALUE(LEFT(RIGHT('Colour Contrast Analysis'!FB4,LEN('Colour Contrast Analysis'!FB4)-FIND(\"+\",'Colour Contrast Analysis'!FB4)-2),LEN(RIGHT('Colour Contrast Analysis'!FB4,LEN('Colour Contrast Analysis'!FB4)-FIND(\"+\",'Colour Contrast Analysis'!FB4)-2))-11))=1,CHAR(10)&VALUE(LEFT(RIGHT('Colour Contrast Analysis'!FB4,LEN('Colour Contrast Analysis'!FB4)-FIND(\"+\",'Colour Contrast Analysis'!FB4)-2),LEN(RIGHT('Colour Contrast Analysis'!FB4,LEN('Colour Contrast Analysis'!FB4)-FIND(\"+\",'Colour Contrast Analysis'!FB4)-2))-11)) & \" combination of foreground and background colours is technically conformant, but its contrast should be increased.\",CHAR(10)&VALUE(LEFT(RIGHT('Colour Contrast Analysis'!FB4,LEN('Colour Contrast Analysis'!FB4)-FIND(\"+\",'Colour Contrast Analysis'!FB4)-2),LEN(RIGHT('Colour Contrast Analysis'!FB4,LEN('Colour Contrast Analysis'!FB4)-FIND(\"+\",'Colour Contrast Analysis'!FB4)-2))-11)) & \" combinations of foreground and background colours are technically conformant, but their contrast should be increased.\")) & CHAR(10) & \"Please see the Colour Contrast Analysis worksheet.\"","v":"0 combinations of foreground and background colours do not have sufficient contrast.\nPlease see the Colour Contrast Analysis worksheet."},{"$f":"LEFT('Colour Contrast Analysis'!FC4,FIND(\" \",'Colour Contrast Analysis'!FC4)-1)&\" combination\"&IF(VALUE(LEFT('Colour Contrast Analysis'!FC4,FIND(\" \",'Colour Contrast Analysis'!FC4)))=1,\"\",\"s\")&\" of foreground and background colours do\"&IF(VALUE(LEFT('Colour Contrast Analysis'!FC4,FIND(\" \",'Colour Contrast Analysis'!FC4)))=1,\"es\",\"\")&\" not have sufficient contrast.\"&IF(VALUE(LEFT(RIGHT('Colour Contrast Analysis'!FC4,LEN('Colour Contrast Analysis'!FC4)-FIND(\"+\",'Colour Contrast Analysis'!FC4)-2),LEN(RIGHT('Colour Contrast Analysis'!FC4,LEN('Colour Contrast Analysis'!FC4)-FIND(\"+\",'Colour Contrast Analysis'!FC4)-2))-11))=0,\"\",IF(VALUE(LEFT(RIGHT('Colour Contrast Analysis'!FC4,LEN('Colour Contrast Analysis'!FC4)-FIND(\"+\",'Colour Contrast Analysis'!FC4)-2),LEN(RIGHT('Colour Contrast Analysis'!FC4,LEN('Colour Contrast Analysis'!FC4)-FIND(\"+\",'Colour Contrast Analysis'!FC4)-2))-11))=1,CHAR(10)&VALUE(LEFT(RIGHT('Colour Contrast Analysis'!FC4,LEN('Colour Contrast Analysis'!FC4)-FIND(\"+\",'Colour Contrast Analysis'!FC4)-2),LEN(RIGHT('Colour Contrast Analysis'!FC4,LEN('Colour Contrast Analysis'!FC4)-FIND(\"+\",'Colour Contrast Analysis'!FC4)-2))-11)) & \" combination of foreground and background colours is technically conformant, but its contrast should be increased.\",CHAR(10)&VALUE(LEFT(RIGHT('Colour Contrast Analysis'!FC4,LEN('Colour Contrast Analysis'!FC4)-FIND(\"+\",'Colour Contrast Analysis'!FC4)-2),LEN(RIGHT('Colour Contrast Analysis'!FC4,LEN('Colour Contrast Analysis'!FC4)-FIND(\"+\",'Colour Contrast Analysis'!FC4)-2))-11)) & \" combinations of foreground and background colours are technically conformant, but their contrast should be increased.\")) & CHAR(10) & \"Please see the Colour Contrast Analysis worksheet.\"","v":"0 combinations of foreground and background colours do not have sufficient contrast.\nPlease see the Colour Contrast Analysis worksheet."},{"$f":"LEFT('Colour Contrast Analysis'!FD4,FIND(\" \",'Colour Contrast Analysis'!FD4)-1)&\" combination\"&IF(VALUE(LEFT('Colour Contrast Analysis'!FD4,FIND(\" \",'Colour Contrast Analysis'!FD4)))=1,\"\",\"s\")&\" of foreground and background colours do\"&IF(VALUE(LEFT('Colour Contrast Analysis'!FD4,FIND(\" \",'Colour Contrast Analysis'!FD4)))=1,\"es\",\"\")&\" not have sufficient contrast.\"&IF(VALUE(LEFT(RIGHT('Colour Contrast Analysis'!FD4,LEN('Colour Contrast Analysis'!FD4)-FIND(\"+\",'Colour Contrast Analysis'!FD4)-2),LEN(RIGHT('Colour Contrast Analysis'!FD4,LEN('Colour Contrast Analysis'!FD4)-FIND(\"+\",'Colour Contrast Analysis'!FD4)-2))-11))=0,\"\",IF(VALUE(LEFT(RIGHT('Colour Contrast Analysis'!FD4,LEN('Colour Contrast Analysis'!FD4)-FIND(\"+\",'Colour Contrast Analysis'!FD4)-2),LEN(RIGHT('Colour Contrast Analysis'!FD4,LEN('Colour Contrast Analysis'!FD4)-FIND(\"+\",'Colour Contrast Analysis'!FD4)-2))-11))=1,CHAR(10)&VALUE(LEFT(RIGHT('Colour Contrast Analysis'!FD4,LEN('Colour Contrast Analysis'!FD4)-FIND(\"+\",'Colour Contrast Analysis'!FD4)-2),LEN(RIGHT('Colour Contrast Analysis'!FD4,LEN('Colour Contrast Analysis'!FD4)-FIND(\"+\",'Colour Contrast Analysis'!FD4)-2))-11)) & \" combination of foreground and background colours is technically conformant, but its contrast should be increased.\",CHAR(10)&VALUE(LEFT(RIGHT('Colour Contrast Analysis'!FD4,LEN('Colour Contrast Analysis'!FD4)-FIND(\"+\",'Colour Contrast Analysis'!FD4)-2),LEN(RIGHT('Colour Contrast Analysis'!FD4,LEN('Colour Contrast Analysis'!FD4)-FIND(\"+\",'Colour Contrast Analysis'!FD4)-2))-11)) & \" combinations of foreground and background colours are technically conformant, but their contrast should be increased.\")) & CHAR(10) & \"Please see the Colour Contrast Analysis worksheet.\"","v":"0 combinations of foreground and background colours do not have sufficient contrast.\nPlease see the Colour Contrast Analysis worksheet."},{"$f":"LEFT('Colour Contrast Analysis'!FE4,FIND(\" \",'Colour Contrast Analysis'!FE4)-1)&\" combination\"&IF(VALUE(LEFT('Colour Contrast Analysis'!FE4,FIND(\" \",'Colour Contrast Analysis'!FE4)))=1,\"\",\"s\")&\" of foreground and background colours do\"&IF(VALUE(LEFT('Colour Contrast Analysis'!FE4,FIND(\" \",'Colour Contrast Analysis'!FE4)))=1,\"es\",\"\")&\" not have sufficient contrast.\"&IF(VALUE(LEFT(RIGHT('Colour Contrast Analysis'!FE4,LEN('Colour Contrast Analysis'!FE4)-FIND(\"+\",'Colour Contrast Analysis'!FE4)-2),LEN(RIGHT('Colour Contrast Analysis'!FE4,LEN('Colour Contrast Analysis'!FE4)-FIND(\"+\",'Colour Contrast Analysis'!FE4)-2))-11))=0,\"\",IF(VALUE(LEFT(RIGHT('Colour Contrast Analysis'!FE4,LEN('Colour Contrast Analysis'!FE4)-FIND(\"+\",'Colour Contrast Analysis'!FE4)-2),LEN(RIGHT('Colour Contrast Analysis'!FE4,LEN('Colour Contrast Analysis'!FE4)-FIND(\"+\",'Colour Contrast Analysis'!FE4)-2))-11))=1,CHAR(10)&VALUE(LEFT(RIGHT('Colour Contrast Analysis'!FE4,LEN('Colour Contrast Analysis'!FE4)-FIND(\"+\",'Colour Contrast Analysis'!FE4)-2),LEN(RIGHT('Colour Contrast Analysis'!FE4,LEN('Colour Contrast Analysis'!FE4)-FIND(\"+\",'Colour Contrast Analysis'!FE4)-2))-11)) & \" combination of foreground and background colours is technically conformant, but its contrast should be increased.\",CHAR(10)&VALUE(LEFT(RIGHT('Colour Contrast Analysis'!FE4,LEN('Colour Contrast Analysis'!FE4)-FIND(\"+\",'Colour Contrast Analysis'!FE4)-2),LEN(RIGHT('Colour Contrast Analysis'!FE4,LEN('Colour Contrast Analysis'!FE4)-FIND(\"+\",'Colour Contrast Analysis'!FE4)-2))-11)) & \" combinations of foreground and background colours are technically conformant, but their contrast should be increased.\")) & CHAR(10) & \"Please see the Colour Contrast Analysis worksheet.\"","v":"0 combinations of foreground and background colours do not have sufficient contrast.\nPlease see the Colour Contrast Analysis worksheet."},{"$f":"LEFT('Colour Contrast Analysis'!FF4,FIND(\" \",'Colour Contrast Analysis'!FF4)-1)&\" combination\"&IF(VALUE(LEFT('Colour Contrast Analysis'!FF4,FIND(\" \",'Colour Contrast Analysis'!FF4)))=1,\"\",\"s\")&\" of foreground and background colours do\"&IF(VALUE(LEFT('Colour Contrast Analysis'!FF4,FIND(\" \",'Colour Contrast Analysis'!FF4)))=1,\"es\",\"\")&\" not have sufficient contrast.\"&IF(VALUE(LEFT(RIGHT('Colour Contrast Analysis'!FF4,LEN('Colour Contrast Analysis'!FF4)-FIND(\"+\",'Colour Contrast Analysis'!FF4)-2),LEN(RIGHT('Colour Contrast Analysis'!FF4,LEN('Colour Contrast Analysis'!FF4)-FIND(\"+\",'Colour Contrast Analysis'!FF4)-2))-11))=0,\"\",IF(VALUE(LEFT(RIGHT('Colour Contrast Analysis'!FF4,LEN('Colour Contrast Analysis'!FF4)-FIND(\"+\",'Colour Contrast Analysis'!FF4)-2),LEN(RIGHT('Colour Contrast Analysis'!FF4,LEN('Colour Contrast Analysis'!FF4)-FIND(\"+\",'Colour Contrast Analysis'!FF4)-2))-11))=1,CHAR(10)&VALUE(LEFT(RIGHT('Colour Contrast Analysis'!FF4,LEN('Colour Contrast Analysis'!FF4)-FIND(\"+\",'Colour Contrast Analysis'!FF4)-2),LEN(RIGHT('Colour Contrast Analysis'!FF4,LEN('Colour Contrast Analysis'!FF4)-FIND(\"+\",'Colour Contrast Analysis'!FF4)-2))-11)) & \" combination of foreground and background colours is technically conformant, but its contrast should be increased.\",CHAR(10)&VALUE(LEFT(RIGHT('Colour Contrast Analysis'!FF4,LEN('Colour Contrast Analysis'!FF4)-FIND(\"+\",'Colour Contrast Analysis'!FF4)-2),LEN(RIGHT('Colour Contrast Analysis'!FF4,LEN('Colour Contrast Analysis'!FF4)-FIND(\"+\",'Colour Contrast Analysis'!FF4)-2))-11)) & \" combinations of foreground and background colours are technically conformant, but their contrast should be increased.\")) & CHAR(10) & \"Please see the Colour Contrast Analysis worksheet.\"","v":"0 combinations of foreground and background colours do not have sufficient contrast.\nPlease see the Colour Contrast Analysis worksheet."},{"$f":"LEFT('Colour Contrast Analysis'!FG4,FIND(\" \",'Colour Contrast Analysis'!FG4)-1)&\" combination\"&IF(VALUE(LEFT('Colour Contrast Analysis'!FG4,FIND(\" \",'Colour Contrast Analysis'!FG4)))=1,\"\",\"s\")&\" of foreground and background colours do\"&IF(VALUE(LEFT('Colour Contrast Analysis'!FG4,FIND(\" \",'Colour Contrast Analysis'!FG4)))=1,\"es\",\"\")&\" not have sufficient contrast.\"&IF(VALUE(LEFT(RIGHT('Colour Contrast Analysis'!FG4,LEN('Colour Contrast Analysis'!FG4)-FIND(\"+\",'Colour Contrast Analysis'!FG4)-2),LEN(RIGHT('Colour Contrast Analysis'!FG4,LEN('Colour Contrast Analysis'!FG4)-FIND(\"+\",'Colour Contrast Analysis'!FG4)-2))-11))=0,\"\",IF(VALUE(LEFT(RIGHT('Colour Contrast Analysis'!FG4,LEN('Colour Contrast Analysis'!FG4)-FIND(\"+\",'Colour Contrast Analysis'!FG4)-2),LEN(RIGHT('Colour Contrast Analysis'!FG4,LEN('Colour Contrast Analysis'!FG4)-FIND(\"+\",'Colour Contrast Analysis'!FG4)-2))-11))=1,CHAR(10)&VALUE(LEFT(RIGHT('Colour Contrast Analysis'!FG4,LEN('Colour Contrast Analysis'!FG4)-FIND(\"+\",'Colour Contrast Analysis'!FG4)-2),LEN(RIGHT('Colour Contrast Analysis'!FG4,LEN('Colour Contrast Analysis'!FG4)-FIND(\"+\",'Colour Contrast Analysis'!FG4)-2))-11)) & \" combination of foreground and background colours is technically conformant, but its contrast should be increased.\",CHAR(10)&VALUE(LEFT(RIGHT('Colour Contrast Analysis'!FG4,LEN('Colour Contrast Analysis'!FG4)-FIND(\"+\",'Colour Contrast Analysis'!FG4)-2),LEN(RIGHT('Colour Contrast Analysis'!FG4,LEN('Colour Contrast Analysis'!FG4)-FIND(\"+\",'Colour Contrast Analysis'!FG4)-2))-11)) & \" combinations of foreground and background colours are technically conformant, but their contrast should be increased.\")) & CHAR(10) & \"Please see the Colour Contrast Analysis worksheet.\"","v":"0 combinations of foreground and background colours do not have sufficient contrast.\nPlease see the Colour Contrast Analysis worksheet."},{"$f":"LEFT('Colour Contrast Analysis'!FH4,FIND(\" \",'Colour Contrast Analysis'!FH4)-1)&\" combination\"&IF(VALUE(LEFT('Colour Contrast Analysis'!FH4,FIND(\" \",'Colour Contrast Analysis'!FH4)))=1,\"\",\"s\")&\" of foreground and background colours do\"&IF(VALUE(LEFT('Colour Contrast Analysis'!FH4,FIND(\" \",'Colour Contrast Analysis'!FH4)))=1,\"es\",\"\")&\" not have sufficient contrast.\"&IF(VALUE(LEFT(RIGHT('Colour Contrast Analysis'!FH4,LEN('Colour Contrast Analysis'!FH4)-FIND(\"+\",'Colour Contrast Analysis'!FH4)-2),LEN(RIGHT('Colour Contrast Analysis'!FH4,LEN('Colour Contrast Analysis'!FH4)-FIND(\"+\",'Colour Contrast Analysis'!FH4)-2))-11))=0,\"\",IF(VALUE(LEFT(RIGHT('Colour Contrast Analysis'!FH4,LEN('Colour Contrast Analysis'!FH4)-FIND(\"+\",'Colour Contrast Analysis'!FH4)-2),LEN(RIGHT('Colour Contrast Analysis'!FH4,LEN('Colour Contrast Analysis'!FH4)-FIND(\"+\",'Colour Contrast Analysis'!FH4)-2))-11))=1,CHAR(10)&VALUE(LEFT(RIGHT('Colour Contrast Analysis'!FH4,LEN('Colour Contrast Analysis'!FH4)-FIND(\"+\",'Colour Contrast Analysis'!FH4)-2),LEN(RIGHT('Colour Contrast Analysis'!FH4,LEN('Colour Contrast Analysis'!FH4)-FIND(\"+\",'Colour Contrast Analysis'!FH4)-2))-11)) & \" combination of foreground and background colours is technically conformant, but its contrast should be increased.\",CHAR(10)&VALUE(LEFT(RIGHT('Colour Contrast Analysis'!FH4,LEN('Colour Contrast Analysis'!FH4)-FIND(\"+\",'Colour Contrast Analysis'!FH4)-2),LEN(RIGHT('Colour Contrast Analysis'!FH4,LEN('Colour Contrast Analysis'!FH4)-FIND(\"+\",'Colour Contrast Analysis'!FH4)-2))-11)) & \" combinations of foreground and background colours are technically conformant, but their contrast should be increased.\")) & CHAR(10) & \"Please see the Colour Contrast Analysis worksheet.\"","v":"0 combinations of foreground and background colours do not have sufficient contrast.\nPlease see the Colour Contrast Analysis worksheet."},{"$f":"LEFT('Colour Contrast Analysis'!FI4,FIND(\" \",'Colour Contrast Analysis'!FI4)-1)&\" combination\"&IF(VALUE(LEFT('Colour Contrast Analysis'!FI4,FIND(\" \",'Colour Contrast Analysis'!FI4)))=1,\"\",\"s\")&\" of foreground and background colours do\"&IF(VALUE(LEFT('Colour Contrast Analysis'!FI4,FIND(\" \",'Colour Contrast Analysis'!FI4)))=1,\"es\",\"\")&\" not have sufficient contrast.\"&IF(VALUE(LEFT(RIGHT('Colour Contrast Analysis'!FI4,LEN('Colour Contrast Analysis'!FI4)-FIND(\"+\",'Colour Contrast Analysis'!FI4)-2),LEN(RIGHT('Colour Contrast Analysis'!FI4,LEN('Colour Contrast Analysis'!FI4)-FIND(\"+\",'Colour Contrast Analysis'!FI4)-2))-11))=0,\"\",IF(VALUE(LEFT(RIGHT('Colour Contrast Analysis'!FI4,LEN('Colour Contrast Analysis'!FI4)-FIND(\"+\",'Colour Contrast Analysis'!FI4)-2),LEN(RIGHT('Colour Contrast Analysis'!FI4,LEN('Colour Contrast Analysis'!FI4)-FIND(\"+\",'Colour Contrast Analysis'!FI4)-2))-11))=1,CHAR(10)&VALUE(LEFT(RIGHT('Colour Contrast Analysis'!FI4,LEN('Colour Contrast Analysis'!FI4)-FIND(\"+\",'Colour Contrast Analysis'!FI4)-2),LEN(RIGHT('Colour Contrast Analysis'!FI4,LEN('Colour Contrast Analysis'!FI4)-FIND(\"+\",'Colour Contrast Analysis'!FI4)-2))-11)) & \" combination of foreground and background colours is technically conformant, but its contrast should be increased.\",CHAR(10)&VALUE(LEFT(RIGHT('Colour Contrast Analysis'!FI4,LEN('Colour Contrast Analysis'!FI4)-FIND(\"+\",'Colour Contrast Analysis'!FI4)-2),LEN(RIGHT('Colour Contrast Analysis'!FI4,LEN('Colour Contrast Analysis'!FI4)-FIND(\"+\",'Colour Contrast Analysis'!FI4)-2))-11)) & \" combinations of foreground and background colours are technically conformant, but their contrast should be increased.\")) & CHAR(10) & \"Please see the Colour Contrast Analysis worksheet.\"","v":"0 combinations of foreground and background colours do not have sufficient contrast.\nPlease see the Colour Contrast Analysis worksheet."},{"$f":"LEFT('Colour Contrast Analysis'!FJ4,FIND(\" \",'Colour Contrast Analysis'!FJ4)-1)&\" combination\"&IF(VALUE(LEFT('Colour Contrast Analysis'!FJ4,FIND(\" \",'Colour Contrast Analysis'!FJ4)))=1,\"\",\"s\")&\" of foreground and background colours do\"&IF(VALUE(LEFT('Colour Contrast Analysis'!FJ4,FIND(\" \",'Colour Contrast Analysis'!FJ4)))=1,\"es\",\"\")&\" not have sufficient contrast.\"&IF(VALUE(LEFT(RIGHT('Colour Contrast Analysis'!FJ4,LEN('Colour Contrast Analysis'!FJ4)-FIND(\"+\",'Colour Contrast Analysis'!FJ4)-2),LEN(RIGHT('Colour Contrast Analysis'!FJ4,LEN('Colour Contrast Analysis'!FJ4)-FIND(\"+\",'Colour Contrast Analysis'!FJ4)-2))-11))=0,\"\",IF(VALUE(LEFT(RIGHT('Colour Contrast Analysis'!FJ4,LEN('Colour Contrast Analysis'!FJ4)-FIND(\"+\",'Colour Contrast Analysis'!FJ4)-2),LEN(RIGHT('Colour Contrast Analysis'!FJ4,LEN('Colour Contrast Analysis'!FJ4)-FIND(\"+\",'Colour Contrast Analysis'!FJ4)-2))-11))=1,CHAR(10)&VALUE(LEFT(RIGHT('Colour Contrast Analysis'!FJ4,LEN('Colour Contrast Analysis'!FJ4)-FIND(\"+\",'Colour Contrast Analysis'!FJ4)-2),LEN(RIGHT('Colour Contrast Analysis'!FJ4,LEN('Colour Contrast Analysis'!FJ4)-FIND(\"+\",'Colour Contrast Analysis'!FJ4)-2))-11)) & \" combination of foreground and background colours is technically conformant, but its contrast should be increased.\",CHAR(10)&VALUE(LEFT(RIGHT('Colour Contrast Analysis'!FJ4,LEN('Colour Contrast Analysis'!FJ4)-FIND(\"+\",'Colour Contrast Analysis'!FJ4)-2),LEN(RIGHT('Colour Contrast Analysis'!FJ4,LEN('Colour Contrast Analysis'!FJ4)-FIND(\"+\",'Colour Contrast Analysis'!FJ4)-2))-11)) & \" combinations of foreground and background colours are technically conformant, but their contrast should be increased.\")) & CHAR(10) & \"Please see the Colour Contrast Analysis worksheet.\"","v":"0 combinations of foreground and background colours do not have sufficient contrast.\nPlease see the Colour Contrast Analysis worksheet."},{"$f":"LEFT('Colour Contrast Analysis'!FK4,FIND(\" \",'Colour Contrast Analysis'!FK4)-1)&\" combination\"&IF(VALUE(LEFT('Colour Contrast Analysis'!FK4,FIND(\" \",'Colour Contrast Analysis'!FK4)))=1,\"\",\"s\")&\" of foreground and background colours do\"&IF(VALUE(LEFT('Colour Contrast Analysis'!FK4,FIND(\" \",'Colour Contrast Analysis'!FK4)))=1,\"es\",\"\")&\" not have sufficient contrast.\"&IF(VALUE(LEFT(RIGHT('Colour Contrast Analysis'!FK4,LEN('Colour Contrast Analysis'!FK4)-FIND(\"+\",'Colour Contrast Analysis'!FK4)-2),LEN(RIGHT('Colour Contrast Analysis'!FK4,LEN('Colour Contrast Analysis'!FK4)-FIND(\"+\",'Colour Contrast Analysis'!FK4)-2))-11))=0,\"\",IF(VALUE(LEFT(RIGHT('Colour Contrast Analysis'!FK4,LEN('Colour Contrast Analysis'!FK4)-FIND(\"+\",'Colour Contrast Analysis'!FK4)-2),LEN(RIGHT('Colour Contrast Analysis'!FK4,LEN('Colour Contrast Analysis'!FK4)-FIND(\"+\",'Colour Contrast Analysis'!FK4)-2))-11))=1,CHAR(10)&VALUE(LEFT(RIGHT('Colour Contrast Analysis'!FK4,LEN('Colour Contrast Analysis'!FK4)-FIND(\"+\",'Colour Contrast Analysis'!FK4)-2),LEN(RIGHT('Colour Contrast Analysis'!FK4,LEN('Colour Contrast Analysis'!FK4)-FIND(\"+\",'Colour Contrast Analysis'!FK4)-2))-11)) & \" combination of foreground and background colours is technically conformant, but its contrast should be increased.\",CHAR(10)&VALUE(LEFT(RIGHT('Colour Contrast Analysis'!FK4,LEN('Colour Contrast Analysis'!FK4)-FIND(\"+\",'Colour Contrast Analysis'!FK4)-2),LEN(RIGHT('Colour Contrast Analysis'!FK4,LEN('Colour Contrast Analysis'!FK4)-FIND(\"+\",'Colour Contrast Analysis'!FK4)-2))-11)) & \" combinations of foreground and background colours are technically conformant, but their contrast should be increased.\")) & CHAR(10) & \"Please see the Colour Contrast Analysis worksheet.\"","v":"0 combinations of foreground and background colours do not have sufficient contrast.\nPlease see the Colour Contrast Analysis worksheet."},{"$f":"LEFT('Colour Contrast Analysis'!FL4,FIND(\" \",'Colour Contrast Analysis'!FL4)-1)&\" combination\"&IF(VALUE(LEFT('Colour Contrast Analysis'!FL4,FIND(\" \",'Colour Contrast Analysis'!FL4)))=1,\"\",\"s\")&\" of foreground and background colours do\"&IF(VALUE(LEFT('Colour Contrast Analysis'!FL4,FIND(\" \",'Colour Contrast Analysis'!FL4)))=1,\"es\",\"\")&\" not have sufficient contrast.\"&IF(VALUE(LEFT(RIGHT('Colour Contrast Analysis'!FL4,LEN('Colour Contrast Analysis'!FL4)-FIND(\"+\",'Colour Contrast Analysis'!FL4)-2),LEN(RIGHT('Colour Contrast Analysis'!FL4,LEN('Colour Contrast Analysis'!FL4)-FIND(\"+\",'Colour Contrast Analysis'!FL4)-2))-11))=0,\"\",IF(VALUE(LEFT(RIGHT('Colour Contrast Analysis'!FL4,LEN('Colour Contrast Analysis'!FL4)-FIND(\"+\",'Colour Contrast Analysis'!FL4)-2),LEN(RIGHT('Colour Contrast Analysis'!FL4,LEN('Colour Contrast Analysis'!FL4)-FIND(\"+\",'Colour Contrast Analysis'!FL4)-2))-11))=1,CHAR(10)&VALUE(LEFT(RIGHT('Colour Contrast Analysis'!FL4,LEN('Colour Contrast Analysis'!FL4)-FIND(\"+\",'Colour Contrast Analysis'!FL4)-2),LEN(RIGHT('Colour Contrast Analysis'!FL4,LEN('Colour Contrast Analysis'!FL4)-FIND(\"+\",'Colour Contrast Analysis'!FL4)-2))-11)) & \" combination of foreground and background colours is technically conformant, but its contrast should be increased.\",CHAR(10)&VALUE(LEFT(RIGHT('Colour Contrast Analysis'!FL4,LEN('Colour Contrast Analysis'!FL4)-FIND(\"+\",'Colour Contrast Analysis'!FL4)-2),LEN(RIGHT('Colour Contrast Analysis'!FL4,LEN('Colour Contrast Analysis'!FL4)-FIND(\"+\",'Colour Contrast Analysis'!FL4)-2))-11)) & \" combinations of foreground and background colours are technically conformant, but their contrast should be increased.\")) & CHAR(10) & \"Please see the Colour Contrast Analysis worksheet.\"","v":"0 combinations of foreground and background colours do not have sufficient contrast.\nPlease see the Colour Contrast Analysis worksheet."},{"$f":"LEFT('Colour Contrast Analysis'!FM4,FIND(\" \",'Colour Contrast Analysis'!FM4)-1)&\" combination\"&IF(VALUE(LEFT('Colour Contrast Analysis'!FM4,FIND(\" \",'Colour Contrast Analysis'!FM4)))=1,\"\",\"s\")&\" of foreground and background colours do\"&IF(VALUE(LEFT('Colour Contrast Analysis'!FM4,FIND(\" \",'Colour Contrast Analysis'!FM4)))=1,\"es\",\"\")&\" not have sufficient contrast.\"&IF(VALUE(LEFT(RIGHT('Colour Contrast Analysis'!FM4,LEN('Colour Contrast Analysis'!FM4)-FIND(\"+\",'Colour Contrast Analysis'!FM4)-2),LEN(RIGHT('Colour Contrast Analysis'!FM4,LEN('Colour Contrast Analysis'!FM4)-FIND(\"+\",'Colour Contrast Analysis'!FM4)-2))-11))=0,\"\",IF(VALUE(LEFT(RIGHT('Colour Contrast Analysis'!FM4,LEN('Colour Contrast Analysis'!FM4)-FIND(\"+\",'Colour Contrast Analysis'!FM4)-2),LEN(RIGHT('Colour Contrast Analysis'!FM4,LEN('Colour Contrast Analysis'!FM4)-FIND(\"+\",'Colour Contrast Analysis'!FM4)-2))-11))=1,CHAR(10)&VALUE(LEFT(RIGHT('Colour Contrast Analysis'!FM4,LEN('Colour Contrast Analysis'!FM4)-FIND(\"+\",'Colour Contrast Analysis'!FM4)-2),LEN(RIGHT('Colour Contrast Analysis'!FM4,LEN('Colour Contrast Analysis'!FM4)-FIND(\"+\",'Colour Contrast Analysis'!FM4)-2))-11)) & \" combination of foreground and background colours is technically conformant, but its contrast should be increased.\",CHAR(10)&VALUE(LEFT(RIGHT('Colour Contrast Analysis'!FM4,LEN('Colour Contrast Analysis'!FM4)-FIND(\"+\",'Colour Contrast Analysis'!FM4)-2),LEN(RIGHT('Colour Contrast Analysis'!FM4,LEN('Colour Contrast Analysis'!FM4)-FIND(\"+\",'Colour Contrast Analysis'!FM4)-2))-11)) & \" combinations of foreground and background colours are technically conformant, but their contrast should be increased.\")) & CHAR(10) & \"Please see the Colour Contrast Analysis worksheet.\"","v":"0 combinations of foreground and background colours do not have sufficient contrast.\nPlease see the Colour Contrast Analysis worksheet."},{"$f":"LEFT('Colour Contrast Analysis'!FN4,FIND(\" \",'Colour Contrast Analysis'!FN4)-1)&\" combination\"&IF(VALUE(LEFT('Colour Contrast Analysis'!FN4,FIND(\" \",'Colour Contrast Analysis'!FN4)))=1,\"\",\"s\")&\" of foreground and background colours do\"&IF(VALUE(LEFT('Colour Contrast Analysis'!FN4,FIND(\" \",'Colour Contrast Analysis'!FN4)))=1,\"es\",\"\")&\" not have sufficient contrast.\"&IF(VALUE(LEFT(RIGHT('Colour Contrast Analysis'!FN4,LEN('Colour Contrast Analysis'!FN4)-FIND(\"+\",'Colour Contrast Analysis'!FN4)-2),LEN(RIGHT('Colour Contrast Analysis'!FN4,LEN('Colour Contrast Analysis'!FN4)-FIND(\"+\",'Colour Contrast Analysis'!FN4)-2))-11))=0,\"\",IF(VALUE(LEFT(RIGHT('Colour Contrast Analysis'!FN4,LEN('Colour Contrast Analysis'!FN4)-FIND(\"+\",'Colour Contrast Analysis'!FN4)-2),LEN(RIGHT('Colour Contrast Analysis'!FN4,LEN('Colour Contrast Analysis'!FN4)-FIND(\"+\",'Colour Contrast Analysis'!FN4)-2))-11))=1,CHAR(10)&VALUE(LEFT(RIGHT('Colour Contrast Analysis'!FN4,LEN('Colour Contrast Analysis'!FN4)-FIND(\"+\",'Colour Contrast Analysis'!FN4)-2),LEN(RIGHT('Colour Contrast Analysis'!FN4,LEN('Colour Contrast Analysis'!FN4)-FIND(\"+\",'Colour Contrast Analysis'!FN4)-2))-11)) & \" combination of foreground and background colours is technically conformant, but its contrast should be increased.\",CHAR(10)&VALUE(LEFT(RIGHT('Colour Contrast Analysis'!FN4,LEN('Colour Contrast Analysis'!FN4)-FIND(\"+\",'Colour Contrast Analysis'!FN4)-2),LEN(RIGHT('Colour Contrast Analysis'!FN4,LEN('Colour Contrast Analysis'!FN4)-FIND(\"+\",'Colour Contrast Analysis'!FN4)-2))-11)) & \" combinations of foreground and background colours are technically conformant, but their contrast should be increased.\")) & CHAR(10) & \"Please see the Colour Contrast Analysis worksheet.\"","v":"0 combinations of foreground and background colours do not have sufficient contrast.\nPlease see the Colour Contrast Analysis worksheet."},{"$f":"LEFT('Colour Contrast Analysis'!FO4,FIND(\" \",'Colour Contrast Analysis'!FO4)-1)&\" combination\"&IF(VALUE(LEFT('Colour Contrast Analysis'!FO4,FIND(\" \",'Colour Contrast Analysis'!FO4)))=1,\"\",\"s\")&\" of foreground and background colours do\"&IF(VALUE(LEFT('Colour Contrast Analysis'!FO4,FIND(\" \",'Colour Contrast Analysis'!FO4)))=1,\"es\",\"\")&\" not have sufficient contrast.\"&IF(VALUE(LEFT(RIGHT('Colour Contrast Analysis'!FO4,LEN('Colour Contrast Analysis'!FO4)-FIND(\"+\",'Colour Contrast Analysis'!FO4)-2),LEN(RIGHT('Colour Contrast Analysis'!FO4,LEN('Colour Contrast Analysis'!FO4)-FIND(\"+\",'Colour Contrast Analysis'!FO4)-2))-11))=0,\"\",IF(VALUE(LEFT(RIGHT('Colour Contrast Analysis'!FO4,LEN('Colour Contrast Analysis'!FO4)-FIND(\"+\",'Colour Contrast Analysis'!FO4)-2),LEN(RIGHT('Colour Contrast Analysis'!FO4,LEN('Colour Contrast Analysis'!FO4)-FIND(\"+\",'Colour Contrast Analysis'!FO4)-2))-11))=1,CHAR(10)&VALUE(LEFT(RIGHT('Colour Contrast Analysis'!FO4,LEN('Colour Contrast Analysis'!FO4)-FIND(\"+\",'Colour Contrast Analysis'!FO4)-2),LEN(RIGHT('Colour Contrast Analysis'!FO4,LEN('Colour Contrast Analysis'!FO4)-FIND(\"+\",'Colour Contrast Analysis'!FO4)-2))-11)) & \" combination of foreground and background colours is technically conformant, but its contrast should be increased.\",CHAR(10)&VALUE(LEFT(RIGHT('Colour Contrast Analysis'!FO4,LEN('Colour Contrast Analysis'!FO4)-FIND(\"+\",'Colour Contrast Analysis'!FO4)-2),LEN(RIGHT('Colour Contrast Analysis'!FO4,LEN('Colour Contrast Analysis'!FO4)-FIND(\"+\",'Colour Contrast Analysis'!FO4)-2))-11)) & \" combinations of foreground and background colours are technically conformant, but their contrast should be increased.\")) & CHAR(10) & \"Please see the Colour Contrast Analysis worksheet.\"","v":"0 combinations of foreground and background colours do not have sufficient contrast.\nPlease see the Colour Contrast Analysis worksheet."},{"$f":"LEFT('Colour Contrast Analysis'!FP4,FIND(\" \",'Colour Contrast Analysis'!FP4)-1)&\" combination\"&IF(VALUE(LEFT('Colour Contrast Analysis'!FP4,FIND(\" \",'Colour Contrast Analysis'!FP4)))=1,\"\",\"s\")&\" of foreground and background colours do\"&IF(VALUE(LEFT('Colour Contrast Analysis'!FP4,FIND(\" \",'Colour Contrast Analysis'!FP4)))=1,\"es\",\"\")&\" not have sufficient contrast.\"&IF(VALUE(LEFT(RIGHT('Colour Contrast Analysis'!FP4,LEN('Colour Contrast Analysis'!FP4)-FIND(\"+\",'Colour Contrast Analysis'!FP4)-2),LEN(RIGHT('Colour Contrast Analysis'!FP4,LEN('Colour Contrast Analysis'!FP4)-FIND(\"+\",'Colour Contrast Analysis'!FP4)-2))-11))=0,\"\",IF(VALUE(LEFT(RIGHT('Colour Contrast Analysis'!FP4,LEN('Colour Contrast Analysis'!FP4)-FIND(\"+\",'Colour Contrast Analysis'!FP4)-2),LEN(RIGHT('Colour Contrast Analysis'!FP4,LEN('Colour Contrast Analysis'!FP4)-FIND(\"+\",'Colour Contrast Analysis'!FP4)-2))-11))=1,CHAR(10)&VALUE(LEFT(RIGHT('Colour Contrast Analysis'!FP4,LEN('Colour Contrast Analysis'!FP4)-FIND(\"+\",'Colour Contrast Analysis'!FP4)-2),LEN(RIGHT('Colour Contrast Analysis'!FP4,LEN('Colour Contrast Analysis'!FP4)-FIND(\"+\",'Colour Contrast Analysis'!FP4)-2))-11)) & \" combination of foreground and background colours is technically conformant, but its contrast should be increased.\",CHAR(10)&VALUE(LEFT(RIGHT('Colour Contrast Analysis'!FP4,LEN('Colour Contrast Analysis'!FP4)-FIND(\"+\",'Colour Contrast Analysis'!FP4)-2),LEN(RIGHT('Colour Contrast Analysis'!FP4,LEN('Colour Contrast Analysis'!FP4)-FIND(\"+\",'Colour Contrast Analysis'!FP4)-2))-11)) & \" combinations of foreground and background colours are technically conformant, but their contrast should be increased.\")) & CHAR(10) & \"Please see the Colour Contrast Analysis worksheet.\"","v":"0 combinations of foreground and background colours do not have sufficient contrast.\nPlease see the Colour Contrast Analysis worksheet."},{"$f":"LEFT('Colour Contrast Analysis'!FQ4,FIND(\" \",'Colour Contrast Analysis'!FQ4)-1)&\" combination\"&IF(VALUE(LEFT('Colour Contrast Analysis'!FQ4,FIND(\" \",'Colour Contrast Analysis'!FQ4)))=1,\"\",\"s\")&\" of foreground and background colours do\"&IF(VALUE(LEFT('Colour Contrast Analysis'!FQ4,FIND(\" \",'Colour Contrast Analysis'!FQ4)))=1,\"es\",\"\")&\" not have sufficient contrast.\"&IF(VALUE(LEFT(RIGHT('Colour Contrast Analysis'!FQ4,LEN('Colour Contrast Analysis'!FQ4)-FIND(\"+\",'Colour Contrast Analysis'!FQ4)-2),LEN(RIGHT('Colour Contrast Analysis'!FQ4,LEN('Colour Contrast Analysis'!FQ4)-FIND(\"+\",'Colour Contrast Analysis'!FQ4)-2))-11))=0,\"\",IF(VALUE(LEFT(RIGHT('Colour Contrast Analysis'!FQ4,LEN('Colour Contrast Analysis'!FQ4)-FIND(\"+\",'Colour Contrast Analysis'!FQ4)-2),LEN(RIGHT('Colour Contrast Analysis'!FQ4,LEN('Colour Contrast Analysis'!FQ4)-FIND(\"+\",'Colour Contrast Analysis'!FQ4)-2))-11))=1,CHAR(10)&VALUE(LEFT(RIGHT('Colour Contrast Analysis'!FQ4,LEN('Colour Contrast Analysis'!FQ4)-FIND(\"+\",'Colour Contrast Analysis'!FQ4)-2),LEN(RIGHT('Colour Contrast Analysis'!FQ4,LEN('Colour Contrast Analysis'!FQ4)-FIND(\"+\",'Colour Contrast Analysis'!FQ4)-2))-11)) & \" combination of foreground and background colours is technically conformant, but its contrast should be increased.\",CHAR(10)&VALUE(LEFT(RIGHT('Colour Contrast Analysis'!FQ4,LEN('Colour Contrast Analysis'!FQ4)-FIND(\"+\",'Colour Contrast Analysis'!FQ4)-2),LEN(RIGHT('Colour Contrast Analysis'!FQ4,LEN('Colour Contrast Analysis'!FQ4)-FIND(\"+\",'Colour Contrast Analysis'!FQ4)-2))-11)) & \" combinations of foreground and background colours are technically conformant, but their contrast should be increased.\")) & CHAR(10) & \"Please see the Colour Contrast Analysis worksheet.\"","v":"0 combinations of foreground and background colours do not have sufficient contrast.\nPlease see the Colour Contrast Analysis worksheet."},{"$f":"LEFT('Colour Contrast Analysis'!FR4,FIND(\" \",'Colour Contrast Analysis'!FR4)-1)&\" combination\"&IF(VALUE(LEFT('Colour Contrast Analysis'!FR4,FIND(\" \",'Colour Contrast Analysis'!FR4)))=1,\"\",\"s\")&\" of foreground and background colours do\"&IF(VALUE(LEFT('Colour Contrast Analysis'!FR4,FIND(\" \",'Colour Contrast Analysis'!FR4)))=1,\"es\",\"\")&\" not have sufficient contrast.\"&IF(VALUE(LEFT(RIGHT('Colour Contrast Analysis'!FR4,LEN('Colour Contrast Analysis'!FR4)-FIND(\"+\",'Colour Contrast Analysis'!FR4)-2),LEN(RIGHT('Colour Contrast Analysis'!FR4,LEN('Colour Contrast Analysis'!FR4)-FIND(\"+\",'Colour Contrast Analysis'!FR4)-2))-11))=0,\"\",IF(VALUE(LEFT(RIGHT('Colour Contrast Analysis'!FR4,LEN('Colour Contrast Analysis'!FR4)-FIND(\"+\",'Colour Contrast Analysis'!FR4)-2),LEN(RIGHT('Colour Contrast Analysis'!FR4,LEN('Colour Contrast Analysis'!FR4)-FIND(\"+\",'Colour Contrast Analysis'!FR4)-2))-11))=1,CHAR(10)&VALUE(LEFT(RIGHT('Colour Contrast Analysis'!FR4,LEN('Colour Contrast Analysis'!FR4)-FIND(\"+\",'Colour Contrast Analysis'!FR4)-2),LEN(RIGHT('Colour Contrast Analysis'!FR4,LEN('Colour Contrast Analysis'!FR4)-FIND(\"+\",'Colour Contrast Analysis'!FR4)-2))-11)) & \" combination of foreground and background colours is technically conformant, but its contrast should be increased.\",CHAR(10)&VALUE(LEFT(RIGHT('Colour Contrast Analysis'!FR4,LEN('Colour Contrast Analysis'!FR4)-FIND(\"+\",'Colour Contrast Analysis'!FR4)-2),LEN(RIGHT('Colour Contrast Analysis'!FR4,LEN('Colour Contrast Analysis'!FR4)-FIND(\"+\",'Colour Contrast Analysis'!FR4)-2))-11)) & \" combinations of foreground and background colours are technically conformant, but their contrast should be increased.\")) & CHAR(10) & \"Please see the Colour Contrast Analysis worksheet.\"","v":"0 combinations of foreground and background colours do not have sufficient contrast.\nPlease see the Colour Contrast Analysis worksheet."},{"$f":"LEFT('Colour Contrast Analysis'!FS4,FIND(\" \",'Colour Contrast Analysis'!FS4)-1)&\" combination\"&IF(VALUE(LEFT('Colour Contrast Analysis'!FS4,FIND(\" \",'Colour Contrast Analysis'!FS4)))=1,\"\",\"s\")&\" of foreground and background colours do\"&IF(VALUE(LEFT('Colour Contrast Analysis'!FS4,FIND(\" \",'Colour Contrast Analysis'!FS4)))=1,\"es\",\"\")&\" not have sufficient contrast.\"&IF(VALUE(LEFT(RIGHT('Colour Contrast Analysis'!FS4,LEN('Colour Contrast Analysis'!FS4)-FIND(\"+\",'Colour Contrast Analysis'!FS4)-2),LEN(RIGHT('Colour Contrast Analysis'!FS4,LEN('Colour Contrast Analysis'!FS4)-FIND(\"+\",'Colour Contrast Analysis'!FS4)-2))-11))=0,\"\",IF(VALUE(LEFT(RIGHT('Colour Contrast Analysis'!FS4,LEN('Colour Contrast Analysis'!FS4)-FIND(\"+\",'Colour Contrast Analysis'!FS4)-2),LEN(RIGHT('Colour Contrast Analysis'!FS4,LEN('Colour Contrast Analysis'!FS4)-FIND(\"+\",'Colour Contrast Analysis'!FS4)-2))-11))=1,CHAR(10)&VALUE(LEFT(RIGHT('Colour Contrast Analysis'!FS4,LEN('Colour Contrast Analysis'!FS4)-FIND(\"+\",'Colour Contrast Analysis'!FS4)-2),LEN(RIGHT('Colour Contrast Analysis'!FS4,LEN('Colour Contrast Analysis'!FS4)-FIND(\"+\",'Colour Contrast Analysis'!FS4)-2))-11)) & \" combination of foreground and background colours is technically conformant, but its contrast should be increased.\",CHAR(10)&VALUE(LEFT(RIGHT('Colour Contrast Analysis'!FS4,LEN('Colour Contrast Analysis'!FS4)-FIND(\"+\",'Colour Contrast Analysis'!FS4)-2),LEN(RIGHT('Colour Contrast Analysis'!FS4,LEN('Colour Contrast Analysis'!FS4)-FIND(\"+\",'Colour Contrast Analysis'!FS4)-2))-11)) & \" combinations of foreground and background colours are technically conformant, but their contrast should be increased.\")) & CHAR(10) & \"Please see the Colour Contrast Analysis worksheet.\"","v":"0 combinations of foreground and background colours do not have sufficient contrast.\nPlease see the Colour Contrast Analysis worksheet."}]
[null,null,null,"Comments:",null,null,null,null,null,null,"The contrast non-conformances all relate to the CAPTCHA. Consider using ",null,null,null,null,null,null,null,"Third party map content is exempt from PSBAR, as long as there is a text equivalent. Add the address for Our Sutton.",null,"Third party map content is exempt from PSBAR, as long as there is a text equivalent. Add the address for Our Sutton."]
["1.4.4","AA","Resize Text","Except for captions and images of text, text can be resized without assistive technology up to 200 percent without loss of content or functionality.","PASS","PASS","PASS","PASS","PASS","PASS","PASS","PASS","PASS","PASS","PASS","PASS","PASS","PASS","PASS","PASS","PASS","PASS","PASS","PASS","NOT TESTED","NOT TESTED","NOT TESTED","NOT TESTED","NOT TESTED","NOT TESTED","NOT TESTED","NOT TESTED","NOT TESTED","NOT TESTED","NOT TESTED","NOT TESTED","NOT TESTED","NOT TESTED","NOT TESTED","NOT TESTED","NOT TESTED","NOT TESTED","NOT TESTED","NOT TESTED"]
[]
["1.4.5","AA","Images of Text","If the technologies being used can achieve the visual presentation, text is used to convey information rather than images of text except for the following:","PASS","PASS","PASS","N/A","N/A","N/A","N/A","N/A","N/A","N/A","N/A","N/A","N/A","N/A","N/A","N/A","N/A","N/A","N/A","N/A","NOT TESTED","NOT TESTED","NOT TESTED","NOT TESTED","NOT TESTED","NOT TESTED","NOT TESTED","NOT TESTED","NOT TESTED","NOT TESTED","NOT TESTED","NOT TESTED","NOT TESTED","NOT TESTED","NOT TESTED","NOT TESTED","NOT TESTED","NOT TESTED","NOT TESTED","NOT TESTED"]
[null,null,null,"\nCustomizable: The image of text can be visually customized to the user's requirements;\nEssential: A particular presentation of text is essential to the information being conveyed.\n",null,null,null,"There are no images of text.","There are no images of text.","There are no images of text.","There are no images of text.","There are no images of text.","There are no images of text.","There are no images of text.","There are no images of text.","There are no images of text.","There are no images of text.","There are no images of text.","There are no images of text.","There are no images of text.","There are no images of text.","There are no images of text.","There are no images of text.","There are no images of text."]
["1.4.10","AA","Reflow","Content can be presented without loss of information or functionality, and without requiring scrolling in two dimensions for:","PASS","PASS","PASS","PASS","PASS","PASS","PASS","PASS","PASS","PASS","PASS","PASS","PASS","PASS","PASS","PASS","NON CONFORMANT","PASS","PASS","PASS","NOT TESTED","NOT TESTED","NOT TESTED","NOT TESTED","NOT TESTED","NOT TESTED","NOT TESTED","NOT TESTED","NOT TESTED","NOT TESTED","NOT TESTED","NOT TESTED","NOT TESTED","NOT TESTED","NOT TESTED","NOT TESTED","NOT TESTED","NOT TESTED","NOT TESTED","NOT TESTED"]
[null,null,null,"\nVertical scrolling content at a width equivalent to 320 CSS pixels;\nHorizontal scrolling content at a height equivalent to 256 CSS pixels.\nExcept for parts of the content which require two-dimensional layout for usage or meaning.\n\nNote: WCAG requires that this success criterion is tested at 400% browser zoom with the browser window width set to 1280px",null,null,null,null,null,null,null,null,null,null,null,"Data table is exempt from this success criterion.","Data table is exempt from this success criterion.","Data table is exempt from this success criterion.","Data table is exempt from this success criterion.","Data table is exempt from this success criterion.","Some website urls for venues are cropped when the browser zoom level is at 400% such as \"adultlearning.islington.gov.uk\" below the heading \"Adult and Community Learning Service\".","Table is an exception to this success criterion.","Table is an exception to this success criterion.","Table is an exception to this success criterion."]
["1.4.11","AA","Non-text Contrast","The visual presentation of the following have a contrast ratio of at least 3:1 against adjacent colour(s):",{"$f":"IF('Non-text Contrast'!AA4=\"0 Faults\",\"PASS\",\"NON CONFORMANT\")","v":"PASS"},{"$f":"IF('Non-text Contrast'!AB4=\"0 Faults\",\"PASS\",\"NON CONFORMANT\")","v":"NON CONFORMANT"},{"$f":"IF('Non-text Contrast'!AC4=\"0 Faults\",\"PASS\",\"NON CONFORMANT\")","v":"PASS"},{"$f":"IF('Non-text Contrast'!AD4=\"0 Faults\",\"PASS\",\"NON CONFORMANT\")","v":"PASS"},{"$f":"IF('Non-text Contrast'!AE4=\"0 Faults\",\"PASS\",\"NON CONFORMANT\")","v":"PASS"},{"$f":"IF('Non-text Contrast'!AF4=\"0 Faults\",\"PASS\",\"NON CONFORMANT\")","v":"PASS"},{"$f":"IF('Non-text Contrast'!AG4=\"0 Faults\",\"PASS\",\"NON CONFORMANT\")","v":"NON CONFORMANT"},{"$f":"IF('Non-text Contrast'!AH4=\"0 Faults\",\"PASS\",\"NON CONFORMANT\")","v":"NON CONFORMANT"},{"$f":"IF('Non-text Contrast'!AI4=\"0 Faults\",\"PASS\",\"NON CONFORMANT\")","v":"PASS"},{"$f":"IF('Non-text Contrast'!AJ4=\"0 Faults\",\"PASS\",\"NON CONFORMANT\")","v":"PASS"},{"$f":"IF('Non-text Contrast'!AK4=\"0 Faults\",\"PASS\",\"NON CONFORMANT\")","v":"PASS"},{"$f":"IF('Non-text Contrast'!AL4=\"0 Faults\",\"PASS\",\"NON CONFORMANT\")","v":"PASS"},{"$f":"IF('Non-text Contrast'!AM4=\"0 Faults\",\"PASS\",\"NON CONFORMANT\")","v":"PASS"},{"$f":"IF('Non-text Contrast'!AN4=\"0 Faults\",\"PASS\",\"NON CONFORMANT\")","v":"PASS"},{"$f":"IF('Non-text Contrast'!AO4=\"0 Faults\",\"PASS\",\"NON CONFORMANT\")","v":"NON CONFORMANT"},{"$f":"IF('Non-text Contrast'!AP4=\"0 Faults\",\"PASS\",\"NON CONFORMANT\")","v":"PASS"},{"$f":"IF('Non-text Contrast'!AQ4=\"0 Faults\",\"PASS\",\"NON CONFORMANT\")","v":"PASS"},{"$f":"IF('Non-text Contrast'!AR4=\"0 Faults\",\"PASS\",\"NON CONFORMANT\")","v":"PASS"},{"$f":"IF('Non-text Contrast'!AS4=\"0 Faults\",\"PASS\",\"NON CONFORMANT\")","v":"PASS"},{"$f":"IF('Non-text Contrast'!AT4=\"0 Faults\",\"PASS\",\"NON CONFORMANT\")","v":"NON CONFORMANT"},{"$f":"IF('Non-text Contrast'!AU4=\"0 Faults\",\"PASS\",\"NON CONFORMANT\")","v":"PASS"},{"$f":"IF('Non-text Contrast'!AV4=\"0 Faults\",\"PASS\",\"NON CONFORMANT\")","v":"PASS"},{"$f":"IF('Non-text Contrast'!AW4=\"0 Faults\",\"PASS\",\"NON CONFORMANT\")","v":"PASS"},{"$f":"IF('Non-text Contrast'!AX4=\"0 Faults\",\"PASS\",\"NON CONFORMANT\")","v":"PASS"},{"$f":"IF('Non-text Contrast'!AY4=\"0 Faults\",\"PASS\",\"NON CONFORMANT\")","v":"PASS"},{"$f":"IF('Non-text Contrast'!AZ4=\"0 Faults\",\"PASS\",\"NON CONFORMANT\")","v":"PASS"},{"$f":"IF('Non-text Contrast'!BA4=\"0 Faults\",\"PASS\",\"NON CONFORMANT\")","v":"PASS"},{"$f":"IF('Non-text Contrast'!BB4=\"0 Faults\",\"PASS\",\"NON CONFORMANT\")","v":"PASS"},{"$f":"IF('Non-text Contrast'!BC4=\"0 Faults\",\"PASS\",\"NON CONFORMANT\")","v":"PASS"},{"$f":"IF('Non-text Contrast'!BD4=\"0 Faults\",\"PASS\",\"NON CONFORMANT\")","v":"PASS"},{"$f":"IF('Non-text Contrast'!BE4=\"0 Faults\",\"PASS\",\"NON CONFORMANT\")","v":"PASS"},{"$f":"IF('Non-text Contrast'!BF4=\"0 Faults\",\"PASS\",\"NON CONFORMANT\")","v":"PASS"},{"$f":"IF('Non-text Contrast'!BG4=\"0 Faults\",\"PASS\",\"NON CONFORMANT\")","v":"PASS"},{"$f":"IF('Non-text Contrast'!BH4=\"0 Faults\",\"PASS\",\"NON CONFORMANT\")","v":"PASS"},{"$f":"IF('Non-text Contrast'!BI4=\"0 Faults\",\"PASS\",\"NON CONFORMANT\")","v":"PASS"},{"$f":"IF('Non-text Contrast'!BJ4=\"0 Faults\",\"PASS\",\"NON CONFORMANT\")","v":"PASS"},{"$f":"IF('Non-text Contrast'!BK4=\"0 Faults\",\"PASS\",\"NON CONFORMANT\")","v":"PASS"},{"$f":"IF('Non-text Contrast'!BL4=\"0 Faults\",\"PASS\",\"NON CONFORMANT\")","v":"PASS"},{"$f":"IF('Non-text Contrast'!BM4=\"0 Faults\",\"PASS\",\"NON CONFORMANT\")","v":"PASS"},{"$f":"IF('Non-text Contrast'!BN4=\"0 Faults\",\"PASS\",\"NON CONFORMANT\")","v":"PASS"},{"$f":"IF('Non-text Contrast'!BO4=\"0 Faults\",\"PASS\",\"NON CONFORMANT\")","v":"PASS"},{"$f":"IF('Non-text Contrast'!BP4=\"0 Faults\",\"PASS\",\"NON CONFORMANT\")","v":"PASS"},{"$f":"IF('Non-text Contrast'!BQ4=\"0 Faults\",\"PASS\",\"NON CONFORMANT\")","v":"PASS"},{"$f":"IF('Non-text Contrast'!BR4=\"0 Faults\",\"PASS\",\"NON CONFORMANT\")","v":"PASS"},{"$f":"IF('Non-text Contrast'!BS4=\"0 Faults\",\"PASS\",\"NON CONFORMANT\")","v":"PASS"},{"$f":"IF('Non-text Contrast'!BT4=\"0 Faults\",\"PASS\",\"NON CONFORMANT\")","v":"PASS"},{"$f":"IF('Non-text Contrast'!BU4=\"0 Faults\",\"PASS\",\"NON CONFORMANT\")","v":"PASS"},{"$f":"IF('Non-text Contrast'!BV4=\"0 Faults\",\"PASS\",\"NON CONFORMANT\")","v":"PASS"},{"$f":"IF('Non-text Contrast'!BW4=\"0 Faults\",\"PASS\",\"NON CONFORMANT\")","v":"PASS"},{"$f":"IF('Non-text Contrast'!BX4=\"0 Faults\",\"PASS\",\"NON CONFORMANT\")","v":"PASS"},{"$f":"IF('Non-text Contrast'!BY4=\"0 Faults\",\"PASS\",\"NON CONFORMANT\")","v":"PASS"},{"$f":"IF('Non-text Contrast'!BZ4=\"0 Faults\",\"PASS\",\"NON CONFORMANT\")","v":"PASS"},{"$f":"IF('Non-text Contrast'!CA4=\"0 Faults\",\"PASS\",\"NON CONFORMANT\")","v":"PASS"},{"$f":"IF('Non-text Contrast'!CB4=\"0 Faults\",\"PASS\",\"NON CONFORMANT\")","v":"PASS"},{"$f":"IF('Non-text Contrast'!CC4=\"0 Faults\",\"PASS\",\"NON CONFORMANT\")","v":"PASS"},{"$f":"IF('Non-text Contrast'!CD4=\"0 Faults\",\"PASS\",\"NON CONFORMANT\")","v":"PASS"},{"$f":"IF('Non-text Contrast'!CE4=\"0 Faults\",\"PASS\",\"NON CONFORMANT\")","v":"PASS"},{"$f":"IF('Non-text Contrast'!CF4=\"0 Faults\",\"PASS\",\"NON CONFORMANT\")","v":"PASS"},{"$f":"IF('Non-text Contrast'!CG4=\"0 Faults\",\"PASS\",\"NON CONFORMANT\")","v":"PASS"},{"$f":"IF('Non-text Contrast'!CH4=\"0 Faults\",\"PASS\",\"NON CONFORMANT\")","v":"PASS"},{"$f":"IF('Non-text Contrast'!CI4=\"0 Faults\",\"PASS\",\"NON CONFORMANT\")","v":"PASS"},{"$f":"IF('Non-text Contrast'!CJ4=\"0 Faults\",\"PASS\",\"NON CONFORMANT\")","v":"PASS"},{"$f":"IF('Non-text Contrast'!CK4=\"0 Faults\",\"PASS\",\"NON CONFORMANT\")","v":"PASS"},{"$f":"IF('Non-text Contrast'!CL4=\"0 Faults\",\"PASS\",\"NON CONFORMANT\")","v":"PASS"},{"$f":"IF('Non-text Contrast'!CM4=\"0 Faults\",\"PASS\",\"NON CONFORMANT\")","v":"PASS"},{"$f":"IF('Non-text Contrast'!CN4=\"0 Faults\",\"PASS\",\"NON CONFORMANT\")","v":"PASS"},{"$f":"IF('Non-text Contrast'!CO4=\"0 Faults\",\"PASS\",\"NON CONFORMANT\")","v":"PASS"},{"$f":"IF('Non-text Contrast'!CP4=\"0 Faults\",\"PASS\",\"NON CONFORMANT\")","v":"PASS"},{"$f":"IF('Non-text Contrast'!CQ4=\"0 Faults\",\"PASS\",\"NON CONFORMANT\")","v":"PASS"},{"$f":"IF('Non-text Contrast'!CR4=\"0 Faults\",\"PASS\",\"NON CONFORMANT\")","v":"PASS"},{"$f":"IF('Non-text Contrast'!CS4=\"0 Faults\",\"PASS\",\"NON CONFORMANT\")","v":"PASS"},{"$f":"IF('Non-text Contrast'!CT4=\"0 Faults\",\"PASS\",\"NON CONFORMANT\")","v":"PASS"},{"$f":"IF('Non-text Contrast'!CU4=\"0 Faults\",\"PASS\",\"NON CONFORMANT\")","v":"PASS"},{"$f":"IF('Non-text Contrast'!CV4=\"0 Faults\",\"PASS\",\"NON CONFORMANT\")","v":"PASS"},{"$f":"IF('Non-text Contrast'!CW4=\"0 Faults\",\"PASS\",\"NON CONFORMANT\")","v":"PASS"},{"$f":"IF('Non-text Contrast'!CX4=\"0 Faults\",\"PASS\",\"NON CONFORMANT\")","v":"PASS"},{"$f":"IF('Non-text Contrast'!CY4=\"0 Faults\",\"PASS\",\"NON CONFORMANT\")","v":"PASS"},{"$f":"IF('Non-text Contrast'!CZ4=\"0 Faults\",\"PASS\",\"NON CONFORMANT\")","v":"PASS"},{"$f":"IF('Non-text Contrast'!DA4=\"0 Faults\",\"PASS\",\"NON CONFORMANT\")","v":"PASS"},{"$f":"IF('Non-text Contrast'!DB4=\"0 Faults\",\"PASS\",\"NON CONFORMANT\")","v":"PASS"},{"$f":"IF('Non-text Contrast'!DC4=\"0 Faults\",\"PASS\",\"NON CONFORMANT\")","v":"PASS"},{"$f":"IF('Non-text Contrast'!DD4=\"0 Faults\",\"PASS\",\"NON CONFORMANT\")","v":"PASS"},{"$f":"IF('Non-text Contrast'!DE4=\"0 Faults\",\"PASS\",\"NON CONFORMANT\")","v":"PASS"},{"$f":"IF('Non-text Contrast'!DF4=\"0 Faults\",\"PASS\",\"NON CONFORMANT\")","v":"PASS"},{"$f":"IF('Non-text Contrast'!DG4=\"0 Faults\",\"PASS\",\"NON CONFORMANT\")","v":"PASS"},{"$f":"IF('Non-text Contrast'!DH4=\"0 Faults\",\"PASS\",\"NON CONFORMANT\")","v":"PASS"},{"$f":"IF('Non-text Contrast'!DI4=\"0 Faults\",\"PASS\",\"NON CONFORMANT\")","v":"PASS"},{"$f":"IF('Non-text Contrast'!DJ4=\"0 Faults\",\"PASS\",\"NON CONFORMANT\")","v":"PASS"},{"$f":"IF('Non-text Contrast'!DK4=\"0 Faults\",\"PASS\",\"NON CONFORMANT\")","v":"PASS"},{"$f":"IF('Non-text Contrast'!DL4=\"0 Faults\",\"PASS\",\"NON CONFORMANT\")","v":"PASS"},{"$f":"IF('Non-text Contrast'!DM4=\"0 Faults\",\"PASS\",\"NON CONFORMANT\")","v":"PASS"},{"$f":"IF('Non-text Contrast'!DN4=\"0 Faults\",\"PASS\",\"NON CONFORMANT\")","v":"PASS"},{"$f":"IF('Non-text Contrast'!DO4=\"0 Faults\",\"PASS\",\"NON CONFORMANT\")","v":"PASS"},{"$f":"IF('Non-text Contrast'!DP4=\"0 Faults\",\"PASS\",\"NON CONFORMANT\")","v":"PASS"},{"$f":"IF('Non-text Contrast'!DQ4=\"0 Faults\",\"PASS\",\"NON CONFORMANT\")","v":"PASS"},{"$f":"IF('Non-text Contrast'!DR4=\"0 Faults\",\"PASS\",\"NON CONFORMANT\")","v":"PASS"},{"$f":"IF('Non-text Contrast'!DS4=\"0 Faults\",\"PASS\",\"NON CONFORMANT\")","v":"PASS"},{"$f":"IF('Non-text Contrast'!DT4=\"0 Faults\",\"PASS\",\"NON CONFORMANT\")","v":"PASS"},{"$f":"IF('Non-text Contrast'!DU4=\"0 Faults\",\"PASS\",\"NON CONFORMANT\")","v":"PASS"},{"$f":"IF('Non-text Contrast'!DV4=\"0 Faults\",\"PASS\",\"NON CONFORMANT\")","v":"PASS"},{"$f":"IF('Non-text Contrast'!DW4=\"0 Faults\",\"PASS\",\"NON CONFORMANT\")","v":"PASS"},{"$f":"IF('Non-text Contrast'!DX4=\"0 Faults\",\"PASS\",\"NON CONFORMANT\")","v":"PASS"},{"$f":"IF('Non-text Contrast'!DY4=\"0 Faults\",\"PASS\",\"NON CONFORMANT\")","v":"PASS"},{"$f":"IF('Non-text Contrast'!DZ4=\"0 Faults\",\"PASS\",\"NON CONFORMANT\")","v":"PASS"},{"$f":"IF('Non-text Contrast'!EA4=\"0 Faults\",\"PASS\",\"NON CONFORMANT\")","v":"PASS"},{"$f":"IF('Non-text Contrast'!EB4=\"0 Faults\",\"PASS\",\"NON CONFORMANT\")","v":"PASS"},{"$f":"IF('Non-text Contrast'!EC4=\"0 Faults\",\"PASS\",\"NON CONFORMANT\")","v":"PASS"},{"$f":"IF('Non-text Contrast'!ED4=\"0 Faults\",\"PASS\",\"NON CONFORMANT\")","v":"PASS"},{"$f":"IF('Non-text Contrast'!EE4=\"0 Faults\",\"PASS\",\"NON CONFORMANT\")","v":"PASS"},{"$f":"IF('Non-text Contrast'!EF4=\"0 Faults\",\"PASS\",\"NON CONFORMANT\")","v":"PASS"},{"$f":"IF('Non-text Contrast'!EG4=\"0 Faults\",\"PASS\",\"NON CONFORMANT\")","v":"PASS"},{"$f":"IF('Non-text Contrast'!EH4=\"0 Faults\",\"PASS\",\"NON CONFORMANT\")","v":"PASS"},{"$f":"IF('Non-text Contrast'!EI4=\"0 Faults\",\"PASS\",\"NON CONFORMANT\")","v":"PASS"},{"$f":"IF('Non-text Contrast'!EJ4=\"0 Faults\",\"PASS\",\"NON CONFORMANT\")","v":"PASS"},{"$f":"IF('Non-text Contrast'!EK4=\"0 Faults\",\"PASS\",\"NON CONFORMANT\")","v":"PASS"},{"$f":"IF('Non-text Contrast'!EL4=\"0 Faults\",\"PASS\",\"NON CONFORMANT\")","v":"PASS"},{"$f":"IF('Non-text Contrast'!EM4=\"0 Faults\",\"PASS\",\"NON CONFORMANT\")","v":"PASS"},{"$f":"IF('Non-text Contrast'!EN4=\"0 Faults\",\"PASS\",\"NON CONFORMANT\")","v":"PASS"},{"$f":"IF('Non-text Contrast'!EO4=\"0 Faults\",\"PASS\",\"NON CONFORMANT\")","v":"PASS"},{"$f":"IF('Non-text Contrast'!EP4=\"0 Faults\",\"PASS\",\"NON CONFORMANT\")","v":"PASS"},{"$f":"IF('Non-text Contrast'!EQ4=\"0 Faults\",\"PASS\",\"NON CONFORMANT\")","v":"PASS"},{"$f":"IF('Non-text Contrast'!ER4=\"0 Faults\",\"PASS\",\"NON CONFORMANT\")","v":"PASS"},{"$f":"IF('Non-text Contrast'!ES4=\"0 Faults\",\"PASS\",\"NON CONFORMANT\")","v":"PASS"},{"$f":"IF('Non-text Contrast'!ET4=\"0 Faults\",\"PASS\",\"NON CONFORMANT\")","v":"PASS"},{"$f":"IF('Non-text Contrast'!EU4=\"0 Faults\",\"PASS\",\"NON CONFORMANT\")","v":"PASS"},{"$f":"IF('Non-text Contrast'!EV4=\"0 Faults\",\"PASS\",\"NON CONFORMANT\")","v":"PASS"},{"$f":"IF('Non-text Contrast'!EW4=\"0 Faults\",\"PASS\",\"NON CONFORMANT\")","v":"PASS"},{"$f":"IF('Non-text Contrast'!EX4=\"0 Faults\",\"PASS\",\"NON CONFORMANT\")","v":"PASS"},{"$f":"IF('Non-text Contrast'!EY4=\"0 Faults\",\"PASS\",\"NON CONFORMANT\")","v":"PASS"},{"$f":"IF('Non-text Contrast'!EZ4=\"0 Faults\",\"PASS\",\"NON CONFORMANT\")","v":"PASS"},{"$f":"IF('Non-text Contrast'!FA4=\"0 Faults\",\"PASS\",\"NON CONFORMANT\")","v":"PASS"},{"$f":"IF('Non-text Contrast'!FB4=\"0 Faults\",\"PASS\",\"NON CONFORMANT\")","v":"PASS"},{"$f":"IF('Non-text Contrast'!FC4=\"0 Faults\",\"PASS\",\"NON CONFORMANT\")","v":"PASS"},{"$f":"IF('Non-text Contrast'!FD4=\"0 Faults\",\"PASS\",\"NON CONFORMANT\")","v":"PASS"},{"$f":"IF('Non-text Contrast'!FE4=\"0 Faults\",\"PASS\",\"NON CONFORMANT\")","v":"PASS"},{"$f":"IF('Non-text Contrast'!FF4=\"0 Faults\",\"PASS\",\"NON CONFORMANT\")","v":"PASS"},{"$f":"IF('Non-text Contrast'!FG4=\"0 Faults\",\"PASS\",\"NON CONFORMANT\")","v":"PASS"},{"$f":"IF('Non-text Contrast'!FH4=\"0 Faults\",\"PASS\",\"NON CONFORMANT\")","v":"PASS"},{"$f":"IF('Non-text Contrast'!FI4=\"0 Faults\",\"PASS\",\"NON CONFORMANT\")","v":"PASS"},{"$f":"IF('Non-text Contrast'!FJ4=\"0 Faults\",\"PASS\",\"NON CONFORMANT\")","v":"PASS"},{"$f":"IF('Non-text Contrast'!FK4=\"0 Faults\",\"PASS\",\"NON CONFORMANT\")","v":"PASS"},{"$f":"IF('Non-text Contrast'!FL4=\"0 Faults\",\"PASS\",\"NON CONFORMANT\")","v":"PASS"},{"$f":"IF('Non-text Contrast'!FM4=\"0 Faults\",\"PASS\",\"NON CONFORMANT\")","v":"PASS"},{"$f":"IF('Non-text Contrast'!FN4=\"0 Faults\",\"PASS\",\"NON CONFORMANT\")","v":"PASS"},{"$f":"IF('Non-text Contrast'!FO4=\"0 Faults\",\"PASS\",\"NON CONFORMANT\")","v":"PASS"},{"$f":"IF('Non-text Contrast'!FP4=\"0 Faults\",\"PASS\",\"NON CONFORMANT\")","v":"PASS"},{"$f":"IF('Non-text Contrast'!FQ4=\"0 Faults\",\"PASS\",\"NON CONFORMANT\")","v":"PASS"},{"$f":"IF('Non-text Contrast'!FR4=\"0 Faults\",\"PASS\",\"NON CONFORMANT\")","v":"PASS"},{"$f":"IF('Non-text Contrast'!FS4=\"0 Faults\",\"PASS\",\"NON CONFORMANT\")","v":"PASS"},{"$f":"IF('Non-text Contrast'!FT4=\"0 Faults\",\"PASS\",\"NON CONFORMANT\")","v":"PASS"}]
[null,null,null,"\nUser Interface Components: Visual information required to identify user interface components and states, except for inactive components or where the appearance of the component is determined by the user agent and not modified by the author;\nGraphical Objects: Parts of graphics required to understand the content, except when a particular presentation of graphics is essential to the information being conveyed.",{"$f":"IF('Non-text Contrast'!AA4=\"0 Faults\",\"\",LEFT('Non-text Contrast'!AA4,FIND(\" \",'Non-text Contrast'!AA4)-1) &\" combination\" & IF('Non-text Contrast'!AA4=\"1 Fault\",\"\",\"s\") & \" of adjacent colours do\" & IF('Non-text Contrast'!AA4=\"1 Fault\",\"es\",\"\") & \" not have sufficient contrast. Please see the Non-text Contrast worksheet.\")","v":""},{"$f":"IF('Non-text Contrast'!AB4=\"0 Faults\",\"\",LEFT('Non-text Contrast'!AB4,FIND(\" \",'Non-text Contrast'!AB4)-1) &\" combination\" & IF('Non-text Contrast'!AB4=\"1 Fault\",\"\",\"s\") & \" of adjacent colours do\" & IF('Non-text Contrast'!AB4=\"1 Fault\",\"es\",\"\") & \" not have sufficient contrast. Please see the Non-text Contrast worksheet.\")","v":"1 combination of adjacent colours does not have sufficient contrast. Please see the Non-text Contrast worksheet."},{"$f":"IF('Non-text Contrast'!AC4=\"0 Faults\",\"\",LEFT('Non-text Contrast'!AC4,FIND(\" \",'Non-text Contrast'!AC4)-1) &\" combination\" & IF('Non-text Contrast'!AC4=\"1 Fault\",\"\",\"s\") & \" of adjacent colours do\" & IF('Non-text Contrast'!AC4=\"1 Fault\",\"es\",\"\") & \" not have sufficient contrast. Please see the Non-text Contrast worksheet.\")","v":""},{"$f":"IF('Non-text Contrast'!AD4=\"0 Faults\",\"\",LEFT('Non-text Contrast'!AD4,FIND(\" \",'Non-text Contrast'!AD4)-1) &\" combination\" & IF('Non-text Contrast'!AD4=\"1 Fault\",\"\",\"s\") & \" of adjacent colours do\" & IF('Non-text Contrast'!AD4=\"1 Fault\",\"es\",\"\") & \" not have sufficient contrast. Please see the Non-text Contrast worksheet.\")","v":""},{"$f":"IF('Non-text Contrast'!AE4=\"0 Faults\",\"\",LEFT('Non-text Contrast'!AE4,FIND(\" \",'Non-text Contrast'!AE4)-1) &\" combination\" & IF('Non-text Contrast'!AE4=\"1 Fault\",\"\",\"s\") & \" of adjacent colours do\" & IF('Non-text Contrast'!AE4=\"1 Fault\",\"es\",\"\") & \" not have sufficient contrast. Please see the Non-text Contrast worksheet.\")","v":""},{"$f":"IF('Non-text Contrast'!AF4=\"0 Faults\",\"\",LEFT('Non-text Contrast'!AF4,FIND(\" \",'Non-text Contrast'!AF4)-1) &\" combination\" & IF('Non-text Contrast'!AF4=\"1 Fault\",\"\",\"s\") & \" of adjacent colours do\" & IF('Non-text Contrast'!AF4=\"1 Fault\",\"es\",\"\") & \" not have sufficient contrast. Please see the Non-text Contrast worksheet.\")","v":""},{"$f":"IF('Non-text Contrast'!AG4=\"0 Faults\",\"\",LEFT('Non-text Contrast'!AG4,FIND(\" \",'Non-text Contrast'!AG4)-1) &\" combination\" & IF('Non-text Contrast'!AG4=\"1 Fault\",\"\",\"s\") & \" of adjacent colours do\" & IF('Non-text Contrast'!AG4=\"1 Fault\",\"es\",\"\") & \" not have sufficient contrast. Please see the Non-text Contrast worksheet.\")","v":"4 combinations of adjacent colours do not have sufficient contrast. Please see the Non-text Contrast worksheet."},{"$f":"IF('Non-text Contrast'!AH4=\"0 Faults\",\"\",LEFT('Non-text Contrast'!AH4,FIND(\" \",'Non-text Contrast'!AH4)-1) &\" combination\" & IF('Non-text Contrast'!AH4=\"1 Fault\",\"\",\"s\") & \" of adjacent colours do\" & IF('Non-text Contrast'!AH4=\"1 Fault\",\"es\",\"\") & \" not have sufficient contrast. Please see the Non-text Contrast worksheet.\")","v":"2 combinations of adjacent colours do not have sufficient contrast. Please see the Non-text Contrast worksheet."},{"$f":"IF('Non-text Contrast'!AI4=\"0 Faults\",\"\",LEFT('Non-text Contrast'!AI4,FIND(\" \",'Non-text Contrast'!AI4)-1) &\" combination\" & IF('Non-text Contrast'!AI4=\"1 Fault\",\"\",\"s\") & \" of adjacent colours do\" & IF('Non-text Contrast'!AI4=\"1 Fault\",\"es\",\"\") & \" not have sufficient contrast. Please see the Non-text Contrast worksheet.\")","v":""},{"$f":"IF('Non-text Contrast'!AJ4=\"0 Faults\",\"\",LEFT('Non-text Contrast'!AJ4,FIND(\" \",'Non-text Contrast'!AJ4)-1) &\" combination\" & IF('Non-text Contrast'!AJ4=\"1 Fault\",\"\",\"s\") & \" of adjacent colours do\" & IF('Non-text Contrast'!AJ4=\"1 Fault\",\"es\",\"\") & \" not have sufficient contrast. Please see the Non-text Contrast worksheet.\")","v":""},{"$f":"IF('Non-text Contrast'!AK4=\"0 Faults\",\"\",LEFT('Non-text Contrast'!AK4,FIND(\" \",'Non-text Contrast'!AK4)-1) &\" combination\" & IF('Non-text Contrast'!AK4=\"1 Fault\",\"\",\"s\") & \" of adjacent colours do\" & IF('Non-text Contrast'!AK4=\"1 Fault\",\"es\",\"\") & \" not have sufficient contrast. Please see the Non-text Contrast worksheet.\")","v":""},{"$f":"IF('Non-text Contrast'!AL4=\"0 Faults\",\"\",LEFT('Non-text Contrast'!AL4,FIND(\" \",'Non-text Contrast'!AL4)-1) &\" combination\" & IF('Non-text Contrast'!AL4=\"1 Fault\",\"\",\"s\") & \" of adjacent colours do\" & IF('Non-text Contrast'!AL4=\"1 Fault\",\"es\",\"\") & \" not have sufficient contrast. Please see the Non-text Contrast worksheet.\")","v":""},{"$f":"IF('Non-text Contrast'!AM4=\"0 Faults\",\"\",LEFT('Non-text Contrast'!AM4,FIND(\" \",'Non-text Contrast'!AM4)-1) &\" combination\" & IF('Non-text Contrast'!AM4=\"1 Fault\",\"\",\"s\") & \" of adjacent colours do\" & IF('Non-text Contrast'!AM4=\"1 Fault\",\"es\",\"\") & \" not have sufficient contrast. Please see the Non-text Contrast worksheet.\")","v":""},{"$f":"IF('Non-text Contrast'!AN4=\"0 Faults\",\"\",LEFT('Non-text Contrast'!AN4,FIND(\" \",'Non-text Contrast'!AN4)-1) &\" combination\" & IF('Non-text Contrast'!AN4=\"1 Fault\",\"\",\"s\") & \" of adjacent colours do\" & IF('Non-text Contrast'!AN4=\"1 Fault\",\"es\",\"\") & \" not have sufficient contrast. Please see the Non-text Contrast worksheet.\")","v":""},{"$f":"IF('Non-text Contrast'!AO4=\"0 Faults\",\"\",LEFT('Non-text Contrast'!AO4,FIND(\" \",'Non-text Contrast'!AO4)-1) &\" combination\" & IF('Non-text Contrast'!AO4=\"1 Fault\",\"\",\"s\") & \" of adjacent colours do\" & IF('Non-text Contrast'!AO4=\"1 Fault\",\"es\",\"\") & \" not have sufficient contrast. Please see the Non-text Contrast worksheet.\")","v":"1 combination of adjacent colours does not have sufficient contrast. Please see the Non-text Contrast worksheet."},{"$f":"IF('Non-text Contrast'!AP4=\"0 Faults\",\"\",LEFT('Non-text Contrast'!AP4,FIND(\" \",'Non-text Contrast'!AP4)-1) &\" combination\" & IF('Non-text Contrast'!AP4=\"1 Fault\",\"\",\"s\") & \" of adjacent colours do\" & IF('Non-text Contrast'!AP4=\"1 Fault\",\"es\",\"\") & \" not have sufficient contrast. Please see the Non-text Contrast worksheet.\")","v":""},{"$f":"IF('Non-text Contrast'!AQ4=\"0 Faults\",\"\",LEFT('Non-text Contrast'!AQ4,FIND(\" \",'Non-text Contrast'!AQ4)-1) &\" combination\" & IF('Non-text Contrast'!AQ4=\"1 Fault\",\"\",\"s\") & \" of adjacent colours do\" & IF('Non-text Contrast'!AQ4=\"1 Fault\",\"es\",\"\") & \" not have sufficient contrast. Please see the Non-text Contrast worksheet.\")","v":""},{"$f":"IF('Non-text Contrast'!AR4=\"0 Faults\",\"\",LEFT('Non-text Contrast'!AR4,FIND(\" \",'Non-text Contrast'!AR4)-1) &\" combination\" & IF('Non-text Contrast'!AR4=\"1 Fault\",\"\",\"s\") & \" of adjacent colours do\" & IF('Non-text Contrast'!AR4=\"1 Fault\",\"es\",\"\") & \" not have sufficient contrast. Please see the Non-text Contrast worksheet.\")","v":""},{"$f":"IF('Non-text Contrast'!AS4=\"0 Faults\",\"\",LEFT('Non-text Contrast'!AS4,FIND(\" \",'Non-text Contrast'!AS4)-1) &\" combination\" & IF('Non-text Contrast'!AS4=\"1 Fault\",\"\",\"s\") & \" of adjacent colours do\" & IF('Non-text Contrast'!AS4=\"1 Fault\",\"es\",\"\") & \" not have sufficient contrast. Please see the Non-text Contrast worksheet.\")","v":""},{"$f":"IF('Non-text Contrast'!AT4=\"0 Faults\",\"\",LEFT('Non-text Contrast'!AT4,FIND(\" \",'Non-text Contrast'!AT4)-1) &\" combination\" & IF('Non-text Contrast'!AT4=\"1 Fault\",\"\",\"s\") & \" of adjacent colours do\" & IF('Non-text Contrast'!AT4=\"1 Fault\",\"es\",\"\") & \" not have sufficient contrast. Please see the Non-text Contrast worksheet.\")","v":"1 combination of adjacent colours does not have sufficient contrast. Please see the Non-text Contrast worksheet."},{"$f":"IF('Non-text Contrast'!AU4=\"0 Faults\",\"\",LEFT('Non-text Contrast'!AU4,FIND(\" \",'Non-text Contrast'!AU4)-1) &\" combination\" & IF('Non-text Contrast'!AU4=\"1 Fault\",\"\",\"s\") & \" of adjacent colours do\" & IF('Non-text Contrast'!AU4=\"1 Fault\",\"es\",\"\") & \" not have sufficient contrast. Please see the Non-text Contrast worksheet.\")","v":""},{"$f":"IF('Non-text Contrast'!AV4=\"0 Faults\",\"\",LEFT('Non-text Contrast'!AV4,FIND(\" \",'Non-text Contrast'!AV4)-1) &\" combination\" & IF('Non-text Contrast'!AV4=\"1 Fault\",\"\",\"s\") & \" of adjacent colours do\" & IF('Non-text Contrast'!AV4=\"1 Fault\",\"es\",\"\") & \" not have sufficient contrast. Please see the Non-text Contrast worksheet.\")","v":""},{"$f":"IF('Non-text Contrast'!AW4=\"0 Faults\",\"\",LEFT('Non-text Contrast'!AW4,FIND(\" \",'Non-text Contrast'!AW4)-1) &\" combination\" & IF('Non-text Contrast'!AW4=\"1 Fault\",\"\",\"s\") & \" of adjacent colours do\" & IF('Non-text Contrast'!AW4=\"1 Fault\",\"es\",\"\") & \" not have sufficient contrast. Please see the Non-text Contrast worksheet.\")","v":""},{"$f":"IF('Non-text Contrast'!AX4=\"0 Faults\",\"\",LEFT('Non-text Contrast'!AX4,FIND(\" \",'Non-text Contrast'!AX4)-1) &\" combination\" & IF('Non-text Contrast'!AX4=\"1 Fault\",\"\",\"s\") & \" of adjacent colours do\" & IF('Non-text Contrast'!AX4=\"1 Fault\",\"es\",\"\") & \" not have sufficient contrast. Please see the Non-text Contrast worksheet.\")","v":""},{"$f":"IF('Non-text Contrast'!AY4=\"0 Faults\",\"\",LEFT('Non-text Contrast'!AY4,FIND(\" \",'Non-text Contrast'!AY4)-1) &\" combination\" & IF('Non-text Contrast'!AY4=\"1 Fault\",\"\",\"s\") & \" of adjacent colours do\" & IF('Non-text Contrast'!AY4=\"1 Fault\",\"es\",\"\") & \" not have sufficient contrast. Please see the Non-text Contrast worksheet.\")","v":""},{"$f":"IF('Non-text Contrast'!AZ4=\"0 Faults\",\"\",LEFT('Non-text Contrast'!AZ4,FIND(\" \",'Non-text Contrast'!AZ4)-1) &\" combination\" & IF('Non-text Contrast'!AZ4=\"1 Fault\",\"\",\"s\") & \" of adjacent colours do\" & IF('Non-text Contrast'!AZ4=\"1 Fault\",\"es\",\"\") & \" not have sufficient contrast. Please see the Non-text Contrast worksheet.\")","v":""},{"$f":"IF('Non-text Contrast'!BA4=\"0 Faults\",\"\",LEFT('Non-text Contrast'!BA4,FIND(\" \",'Non-text Contrast'!BA4)-1) &\" combination\" & IF('Non-text Contrast'!BA4=\"1 Fault\",\"\",\"s\") & \" of adjacent colours do\" & IF('Non-text Contrast'!BA4=\"1 Fault\",\"es\",\"\") & \" not have sufficient contrast. Please see the Non-text Contrast worksheet.\")","v":""},{"$f":"IF('Non-text Contrast'!BB4=\"0 Faults\",\"\",LEFT('Non-text Contrast'!BB4,FIND(\" \",'Non-text Contrast'!BB4)-1) &\" combination\" & IF('Non-text Contrast'!BB4=\"1 Fault\",\"\",\"s\") & \" of adjacent colours do\" & IF('Non-text Contrast'!BB4=\"1 Fault\",\"es\",\"\") & \" not have sufficient contrast. Please see the Non-text Contrast worksheet.\")","v":""},{"$f":"IF('Non-text Contrast'!BC4=\"0 Faults\",\"\",LEFT('Non-text Contrast'!BC4,FIND(\" \",'Non-text Contrast'!BC4)-1) &\" combination\" & IF('Non-text Contrast'!BC4=\"1 Fault\",\"\",\"s\") & \" of adjacent colours do\" & IF('Non-text Contrast'!BC4=\"1 Fault\",\"es\",\"\") & \" not have sufficient contrast. Please see the Non-text Contrast worksheet.\")","v":""},{"$f":"IF('Non-text Contrast'!BD4=\"0 Faults\",\"\",LEFT('Non-text Contrast'!BD4,FIND(\" \",'Non-text Contrast'!BD4)-1) &\" combination\" & IF('Non-text Contrast'!BD4=\"1 Fault\",\"\",\"s\") & \" of adjacent colours do\" & IF('Non-text Contrast'!BD4=\"1 Fault\",\"es\",\"\") & \" not have sufficient contrast. Please see the Non-text Contrast worksheet.\")","v":""},{"$f":"IF('Non-text Contrast'!BE4=\"0 Faults\",\"\",LEFT('Non-text Contrast'!BE4,FIND(\" \",'Non-text Contrast'!BE4)-1) &\" combination\" & IF('Non-text Contrast'!BE4=\"1 Fault\",\"\",\"s\") & \" of adjacent colours do\" & IF('Non-text Contrast'!BE4=\"1 Fault\",\"es\",\"\") & \" not have sufficient contrast. Please see the Non-text Contrast worksheet.\")","v":""},{"$f":"IF('Non-text Contrast'!BF4=\"0 Faults\",\"\",LEFT('Non-text Contrast'!BF4,FIND(\" \",'Non-text Contrast'!BF4)-1) &\" combination\" & IF('Non-text Contrast'!BF4=\"1 Fault\",\"\",\"s\") & \" of adjacent colours do\" & IF('Non-text Contrast'!BF4=\"1 Fault\",\"es\",\"\") & \" not have sufficient contrast. Please see the Non-text Contrast worksheet.\")","v":""},{"$f":"IF('Non-text Contrast'!BG4=\"0 Faults\",\"\",LEFT('Non-text Contrast'!BG4,FIND(\" \",'Non-text Contrast'!BG4)-1) &\" combination\" & IF('Non-text Contrast'!BG4=\"1 Fault\",\"\",\"s\") & \" of adjacent colours do\" & IF('Non-text Contrast'!BG4=\"1 Fault\",\"es\",\"\") & \" not have sufficient contrast. Please see the Non-text Contrast worksheet.\")","v":""},{"$f":"IF('Non-text Contrast'!BH4=\"0 Faults\",\"\",LEFT('Non-text Contrast'!BH4,FIND(\" \",'Non-text Contrast'!BH4)-1) &\" combination\" & IF('Non-text Contrast'!BH4=\"1 Fault\",\"\",\"s\") & \" of adjacent colours do\" & IF('Non-text Contrast'!BH4=\"1 Fault\",\"es\",\"\") & \" not have sufficient contrast. Please see the Non-text Contrast worksheet.\")","v":""},{"$f":"IF('Non-text Contrast'!BI4=\"0 Faults\",\"\",LEFT('Non-text Contrast'!BI4,FIND(\" \",'Non-text Contrast'!BI4)-1) &\" combination\" & IF('Non-text Contrast'!BI4=\"1 Fault\",\"\",\"s\") & \" of adjacent colours do\" & IF('Non-text Contrast'!BI4=\"1 Fault\",\"es\",\"\") & \" not have sufficient contrast. Please see the Non-text Contrast worksheet.\")","v":""},{"$f":"IF('Non-text Contrast'!BJ4=\"0 Faults\",\"\",LEFT('Non-text Contrast'!BJ4,FIND(\" \",'Non-text Contrast'!BJ4)-1) &\" combination\" & IF('Non-text Contrast'!BJ4=\"1 Fault\",\"\",\"s\") & \" of adjacent colours do\" & IF('Non-text Contrast'!BJ4=\"1 Fault\",\"es\",\"\") & \" not have sufficient contrast. Please see the Non-text Contrast worksheet.\")","v":""},{"$f":"IF('Non-text Contrast'!BK4=\"0 Faults\",\"\",LEFT('Non-text Contrast'!BK4,FIND(\" \",'Non-text Contrast'!BK4)-1) &\" combination\" & IF('Non-text Contrast'!BK4=\"1 Fault\",\"\",\"s\") & \" of adjacent colours do\" & IF('Non-text Contrast'!BK4=\"1 Fault\",\"es\",\"\") & \" not have sufficient contrast. Please see the Non-text Contrast worksheet.\")","v":""},{"$f":"IF('Non-text Contrast'!BL4=\"0 Faults\",\"\",LEFT('Non-text Contrast'!BL4,FIND(\" \",'Non-text Contrast'!BL4)-1) &\" combination\" & IF('Non-text Contrast'!BL4=\"1 Fault\",\"\",\"s\") & \" of adjacent colours do\" & IF('Non-text Contrast'!BL4=\"1 Fault\",\"es\",\"\") & \" not have sufficient contrast. Please see the Non-text Contrast worksheet.\")","v":""},{"$f":"IF('Non-text Contrast'!BM4=\"0 Faults\",\"\",LEFT('Non-text Contrast'!BM4,FIND(\" \",'Non-text Contrast'!BM4)-1) &\" combination\" & IF('Non-text Contrast'!BM4=\"1 Fault\",\"\",\"s\") & \" of adjacent colours do\" & IF('Non-text Contrast'!BM4=\"1 Fault\",\"es\",\"\") & \" not have sufficient contrast. Please see the Non-text Contrast worksheet.\")","v":""},{"$f":"IF('Non-text Contrast'!BN4=\"0 Faults\",\"\",LEFT('Non-text Contrast'!BN4,FIND(\" \",'Non-text Contrast'!BN4)-1) &\" combination\" & IF('Non-text Contrast'!BN4=\"1 Fault\",\"\",\"s\") & \" of adjacent colours do\" & IF('Non-text Contrast'!BN4=\"1 Fault\",\"es\",\"\") & \" not have sufficient contrast. Please see the Non-text Contrast worksheet.\")","v":""},{"$f":"IF('Non-text Contrast'!BO4=\"0 Faults\",\"\",LEFT('Non-text Contrast'!BO4,FIND(\" \",'Non-text Contrast'!BO4)-1) &\" combination\" & IF('Non-text Contrast'!BO4=\"1 Fault\",\"\",\"s\") & \" of adjacent colours do\" & IF('Non-text Contrast'!BO4=\"1 Fault\",\"es\",\"\") & \" not have sufficient contrast. Please see the Non-text Contrast worksheet.\")","v":""},{"$f":"IF('Non-text Contrast'!BP4=\"0 Faults\",\"\",LEFT('Non-text Contrast'!BP4,FIND(\" \",'Non-text Contrast'!BP4)-1) &\" combination\" & IF('Non-text Contrast'!BP4=\"1 Fault\",\"\",\"s\") & \" of adjacent colours do\" & IF('Non-text Contrast'!BP4=\"1 Fault\",\"es\",\"\") & \" not have sufficient contrast. Please see the Non-text Contrast worksheet.\")","v":""},{"$f":"IF('Non-text Contrast'!BQ4=\"0 Faults\",\"\",LEFT('Non-text Contrast'!BQ4,FIND(\" \",'Non-text Contrast'!BQ4)-1) &\" combination\" & IF('Non-text Contrast'!BQ4=\"1 Fault\",\"\",\"s\") & \" of adjacent colours do\" & IF('Non-text Contrast'!BQ4=\"1 Fault\",\"es\",\"\") & \" not have sufficient contrast. Please see the Non-text Contrast worksheet.\")","v":""},{"$f":"IF('Non-text Contrast'!BR4=\"0 Faults\",\"\",LEFT('Non-text Contrast'!BR4,FIND(\" \",'Non-text Contrast'!BR4)-1) &\" combination\" & IF('Non-text Contrast'!BR4=\"1 Fault\",\"\",\"s\") & \" of adjacent colours do\" & IF('Non-text Contrast'!BR4=\"1 Fault\",\"es\",\"\") & \" not have sufficient contrast. Please see the Non-text Contrast worksheet.\")","v":""},{"$f":"IF('Non-text Contrast'!BS4=\"0 Faults\",\"\",LEFT('Non-text Contrast'!BS4,FIND(\" \",'Non-text Contrast'!BS4)-1) &\" combination\" & IF('Non-text Contrast'!BS4=\"1 Fault\",\"\",\"s\") & \" of adjacent colours do\" & IF('Non-text Contrast'!BS4=\"1 Fault\",\"es\",\"\") & \" not have sufficient contrast. Please see the Non-text Contrast worksheet.\")","v":""},{"$f":"IF('Non-text Contrast'!BT4=\"0 Faults\",\"\",LEFT('Non-text Contrast'!BT4,FIND(\" \",'Non-text Contrast'!BT4)-1) &\" combination\" & IF('Non-text Contrast'!BT4=\"1 Fault\",\"\",\"s\") & \" of adjacent colours do\" & IF('Non-text Contrast'!BT4=\"1 Fault\",\"es\",\"\") & \" not have sufficient contrast. Please see the Non-text Contrast worksheet.\")","v":""},{"$f":"IF('Non-text Contrast'!BU4=\"0 Faults\",\"\",LEFT('Non-text Contrast'!BU4,FIND(\" \",'Non-text Contrast'!BU4)-1) &\" combination\" & IF('Non-text Contrast'!BU4=\"1 Fault\",\"\",\"s\") & \" of adjacent colours do\" & IF('Non-text Contrast'!BU4=\"1 Fault\",\"es\",\"\") & \" not have sufficient contrast. Please see the Non-text Contrast worksheet.\")","v":""},{"$f":"IF('Non-text Contrast'!BV4=\"0 Faults\",\"\",LEFT('Non-text Contrast'!BV4,FIND(\" \",'Non-text Contrast'!BV4)-1) &\" combination\" & IF('Non-text Contrast'!BV4=\"1 Fault\",\"\",\"s\") & \" of adjacent colours do\" & IF('Non-text Contrast'!BV4=\"1 Fault\",\"es\",\"\") & \" not have sufficient contrast. Please see the Non-text Contrast worksheet.\")","v":""},{"$f":"IF('Non-text Contrast'!BW4=\"0 Faults\",\"\",LEFT('Non-text Contrast'!BW4,FIND(\" \",'Non-text Contrast'!BW4)-1) &\" combination\" & IF('Non-text Contrast'!BW4=\"1 Fault\",\"\",\"s\") & \" of adjacent colours do\" & IF('Non-text Contrast'!BW4=\"1 Fault\",\"es\",\"\") & \" not have sufficient contrast. Please see the Non-text Contrast worksheet.\")","v":""},{"$f":"IF('Non-text Contrast'!BX4=\"0 Faults\",\"\",LEFT('Non-text Contrast'!BX4,FIND(\" \",'Non-text Contrast'!BX4)-1) &\" combination\" & IF('Non-text Contrast'!BX4=\"1 Fault\",\"\",\"s\") & \" of adjacent colours do\" & IF('Non-text Contrast'!BX4=\"1 Fault\",\"es\",\"\") & \" not have sufficient contrast. Please see the Non-text Contrast worksheet.\")","v":""},{"$f":"IF('Non-text Contrast'!BY4=\"0 Faults\",\"\",LEFT('Non-text Contrast'!BY4,FIND(\" \",'Non-text Contrast'!BY4)-1) &\" combination\" & IF('Non-text Contrast'!BY4=\"1 Fault\",\"\",\"s\") & \" of adjacent colours do\" & IF('Non-text Contrast'!BY4=\"1 Fault\",\"es\",\"\") & \" not have sufficient contrast. Please see the Non-text Contrast worksheet.\")","v":""},{"$f":"IF('Non-text Contrast'!BZ4=\"0 Faults\",\"\",LEFT('Non-text Contrast'!BZ4,FIND(\" \",'Non-text Contrast'!BZ4)-1) &\" combination\" & IF('Non-text Contrast'!BZ4=\"1 Fault\",\"\",\"s\") & \" of adjacent colours do\" & IF('Non-text Contrast'!BZ4=\"1 Fault\",\"es\",\"\") & \" not have sufficient contrast. Please see the Non-text Contrast worksheet.\")","v":""},{"$f":"IF('Non-text Contrast'!CA4=\"0 Faults\",\"\",LEFT('Non-text Contrast'!CA4,FIND(\" \",'Non-text Contrast'!CA4)-1) &\" combination\" & IF('Non-text Contrast'!CA4=\"1 Fault\",\"\",\"s\") & \" of adjacent colours do\" & IF('Non-text Contrast'!CA4=\"1 Fault\",\"es\",\"\") & \" not have sufficient contrast. Please see the Non-text Contrast worksheet.\")","v":""},{"$f":"IF('Non-text Contrast'!CB4=\"0 Faults\",\"\",LEFT('Non-text Contrast'!CB4,FIND(\" \",'Non-text Contrast'!CB4)-1) &\" combination\" & IF('Non-text Contrast'!CB4=\"1 Fault\",\"\",\"s\") & \" of adjacent colours do\" & IF('Non-text Contrast'!CB4=\"1 Fault\",\"es\",\"\") & \" not have sufficient contrast. Please see the Non-text Contrast worksheet.\")","v":""},{"$f":"IF('Non-text Contrast'!CC4=\"0 Faults\",\"\",LEFT('Non-text Contrast'!CC4,FIND(\" \",'Non-text Contrast'!CC4)-1) &\" combination\" & IF('Non-text Contrast'!CC4=\"1 Fault\",\"\",\"s\") & \" of adjacent colours do\" & IF('Non-text Contrast'!CC4=\"1 Fault\",\"es\",\"\") & \" not have sufficient contrast. Please see the Non-text Contrast worksheet.\")","v":""},{"$f":"IF('Non-text Contrast'!CD4=\"0 Faults\",\"\",LEFT('Non-text Contrast'!CD4,FIND(\" \",'Non-text Contrast'!CD4)-1) &\" combination\" & IF('Non-text Contrast'!CD4=\"1 Fault\",\"\",\"s\") & \" of adjacent colours do\" & IF('Non-text Contrast'!CD4=\"1 Fault\",\"es\",\"\") & \" not have sufficient contrast. Please see the Non-text Contrast worksheet.\")","v":""},{"$f":"IF('Non-text Contrast'!CE4=\"0 Faults\",\"\",LEFT('Non-text Contrast'!CE4,FIND(\" \",'Non-text Contrast'!CE4)-1) &\" combination\" & IF('Non-text Contrast'!CE4=\"1 Fault\",\"\",\"s\") & \" of adjacent colours do\" & IF('Non-text Contrast'!CE4=\"1 Fault\",\"es\",\"\") & \" not have sufficient contrast. Please see the Non-text Contrast worksheet.\")","v":""},{"$f":"IF('Non-text Contrast'!CF4=\"0 Faults\",\"\",LEFT('Non-text Contrast'!CF4,FIND(\" \",'Non-text Contrast'!CF4)-1) &\" combination\" & IF('Non-text Contrast'!CF4=\"1 Fault\",\"\",\"s\") & \" of adjacent colours do\" & IF('Non-text Contrast'!CF4=\"1 Fault\",\"es\",\"\") & \" not have sufficient contrast. Please see the Non-text Contrast worksheet.\")","v":""},{"$f":"IF('Non-text Contrast'!CG4=\"0 Faults\",\"\",LEFT('Non-text Contrast'!CG4,FIND(\" \",'Non-text Contrast'!CG4)-1) &\" combination\" & IF('Non-text Contrast'!CG4=\"1 Fault\",\"\",\"s\") & \" of adjacent colours do\" & IF('Non-text Contrast'!CG4=\"1 Fault\",\"es\",\"\") & \" not have sufficient contrast. Please see the Non-text Contrast worksheet.\")","v":""},{"$f":"IF('Non-text Contrast'!CH4=\"0 Faults\",\"\",LEFT('Non-text Contrast'!CH4,FIND(\" \",'Non-text Contrast'!CH4)-1) &\" combination\" & IF('Non-text Contrast'!CH4=\"1 Fault\",\"\",\"s\") & \" of adjacent colours do\" & IF('Non-text Contrast'!CH4=\"1 Fault\",\"es\",\"\") & \" not have sufficient contrast. Please see the Non-text Contrast worksheet.\")","v":""},{"$f":"IF('Non-text Contrast'!CI4=\"0 Faults\",\"\",LEFT('Non-text Contrast'!CI4,FIND(\" \",'Non-text Contrast'!CI4)-1) &\" combination\" & IF('Non-text Contrast'!CI4=\"1 Fault\",\"\",\"s\") & \" of adjacent colours do\" & IF('Non-text Contrast'!CI4=\"1 Fault\",\"es\",\"\") & \" not have sufficient contrast. Please see the Non-text Contrast worksheet.\")","v":""},{"$f":"IF('Non-text Contrast'!CJ4=\"0 Faults\",\"\",LEFT('Non-text Contrast'!CJ4,FIND(\" \",'Non-text Contrast'!CJ4)-1) &\" combination\" & IF('Non-text Contrast'!CJ4=\"1 Fault\",\"\",\"s\") & \" of adjacent colours do\" & IF('Non-text Contrast'!CJ4=\"1 Fault\",\"es\",\"\") & \" not have sufficient contrast. Please see the Non-text Contrast worksheet.\")","v":""},{"$f":"IF('Non-text Contrast'!CK4=\"0 Faults\",\"\",LEFT('Non-text Contrast'!CK4,FIND(\" \",'Non-text Contrast'!CK4)-1) &\" combination\" & IF('Non-text Contrast'!CK4=\"1 Fault\",\"\",\"s\") & \" of adjacent colours do\" & IF('Non-text Contrast'!CK4=\"1 Fault\",\"es\",\"\") & \" not have sufficient contrast. Please see the Non-text Contrast worksheet.\")","v":""},{"$f":"IF('Non-text Contrast'!CL4=\"0 Faults\",\"\",LEFT('Non-text Contrast'!CL4,FIND(\" \",'Non-text Contrast'!CL4)-1) &\" combination\" & IF('Non-text Contrast'!CL4=\"1 Fault\",\"\",\"s\") & \" of adjacent colours do\" & IF('Non-text Contrast'!CL4=\"1 Fault\",\"es\",\"\") & \" not have sufficient contrast. Please see the Non-text Contrast worksheet.\")","v":""},{"$f":"IF('Non-text Contrast'!CM4=\"0 Faults\",\"\",LEFT('Non-text Contrast'!CM4,FIND(\" \",'Non-text Contrast'!CM4)-1) &\" combination\" & IF('Non-text Contrast'!CM4=\"1 Fault\",\"\",\"s\") & \" of adjacent colours do\" & IF('Non-text Contrast'!CM4=\"1 Fault\",\"es\",\"\") & \" not have sufficient contrast. Please see the Non-text Contrast worksheet.\")","v":""},{"$f":"IF('Non-text Contrast'!CN4=\"0 Faults\",\"\",LEFT('Non-text Contrast'!CN4,FIND(\" \",'Non-text Contrast'!CN4)-1) &\" combination\" & IF('Non-text Contrast'!CN4=\"1 Fault\",\"\",\"s\") & \" of adjacent colours do\" & IF('Non-text Contrast'!CN4=\"1 Fault\",\"es\",\"\") & \" not have sufficient contrast. Please see the Non-text Contrast worksheet.\")","v":""},{"$f":"IF('Non-text Contrast'!CO4=\"0 Faults\",\"\",LEFT('Non-text Contrast'!CO4,FIND(\" \",'Non-text Contrast'!CO4)-1) &\" combination\" & IF('Non-text Contrast'!CO4=\"1 Fault\",\"\",\"s\") & \" of adjacent colours do\" & IF('Non-text Contrast'!CO4=\"1 Fault\",\"es\",\"\") & \" not have sufficient contrast. Please see the Non-text Contrast worksheet.\")","v":""},{"$f":"IF('Non-text Contrast'!CP4=\"0 Faults\",\"\",LEFT('Non-text Contrast'!CP4,FIND(\" \",'Non-text Contrast'!CP4)-1) &\" combination\" & IF('Non-text Contrast'!CP4=\"1 Fault\",\"\",\"s\") & \" of adjacent colours do\" & IF('Non-text Contrast'!CP4=\"1 Fault\",\"es\",\"\") & \" not have sufficient contrast. Please see the Non-text Contrast worksheet.\")","v":""},{"$f":"IF('Non-text Contrast'!CQ4=\"0 Faults\",\"\",LEFT('Non-text Contrast'!CQ4,FIND(\" \",'Non-text Contrast'!CQ4)-1) &\" combination\" & IF('Non-text Contrast'!CQ4=\"1 Fault\",\"\",\"s\") & \" of adjacent colours do\" & IF('Non-text Contrast'!CQ4=\"1 Fault\",\"es\",\"\") & \" not have sufficient contrast. Please see the Non-text Contrast worksheet.\")","v":""},{"$f":"IF('Non-text Contrast'!CR4=\"0 Faults\",\"\",LEFT('Non-text Contrast'!CR4,FIND(\" \",'Non-text Contrast'!CR4)-1) &\" combination\" & IF('Non-text Contrast'!CR4=\"1 Fault\",\"\",\"s\") & \" of adjacent colours do\" & IF('Non-text Contrast'!CR4=\"1 Fault\",\"es\",\"\") & \" not have sufficient contrast. Please see the Non-text Contrast worksheet.\")","v":""},{"$f":"IF('Non-text Contrast'!CS4=\"0 Faults\",\"\",LEFT('Non-text Contrast'!CS4,FIND(\" \",'Non-text Contrast'!CS4)-1) &\" combination\" & IF('Non-text Contrast'!CS4=\"1 Fault\",\"\",\"s\") & \" of adjacent colours do\" & IF('Non-text Contrast'!CS4=\"1 Fault\",\"es\",\"\") & \" not have sufficient contrast. Please see the Non-text Contrast worksheet.\")","v":""},{"$f":"IF('Non-text Contrast'!CT4=\"0 Faults\",\"\",LEFT('Non-text Contrast'!CT4,FIND(\" \",'Non-text Contrast'!CT4)-1) &\" combination\" & IF('Non-text Contrast'!CT4=\"1 Fault\",\"\",\"s\") & \" of adjacent colours do\" & IF('Non-text Contrast'!CT4=\"1 Fault\",\"es\",\"\") & \" not have sufficient contrast. Please see the Non-text Contrast worksheet.\")","v":""},{"$f":"IF('Non-text Contrast'!CU4=\"0 Faults\",\"\",LEFT('Non-text Contrast'!CU4,FIND(\" \",'Non-text Contrast'!CU4)-1) &\" combination\" & IF('Non-text Contrast'!CU4=\"1 Fault\",\"\",\"s\") & \" of adjacent colours do\" & IF('Non-text Contrast'!CU4=\"1 Fault\",\"es\",\"\") & \" not have sufficient contrast. Please see the Non-text Contrast worksheet.\")","v":""},{"$f":"IF('Non-text Contrast'!CV4=\"0 Faults\",\"\",LEFT('Non-text Contrast'!CV4,FIND(\" \",'Non-text Contrast'!CV4)-1) &\" combination\" & IF('Non-text Contrast'!CV4=\"1 Fault\",\"\",\"s\") & \" of adjacent colours do\" & IF('Non-text Contrast'!CV4=\"1 Fault\",\"es\",\"\") & \" not have sufficient contrast. Please see the Non-text Contrast worksheet.\")","v":""},{"$f":"IF('Non-text Contrast'!CW4=\"0 Faults\",\"\",LEFT('Non-text Contrast'!CW4,FIND(\" \",'Non-text Contrast'!CW4)-1) &\" combination\" & IF('Non-text Contrast'!CW4=\"1 Fault\",\"\",\"s\") & \" of adjacent colours do\" & IF('Non-text Contrast'!CW4=\"1 Fault\",\"es\",\"\") & \" not have sufficient contrast. Please see the Non-text Contrast worksheet.\")","v":""},{"$f":"IF('Non-text Contrast'!CX4=\"0 Faults\",\"\",LEFT('Non-text Contrast'!CX4,FIND(\" \",'Non-text Contrast'!CX4)-1) &\" combination\" & IF('Non-text Contrast'!CX4=\"1 Fault\",\"\",\"s\") & \" of adjacent colours do\" & IF('Non-text Contrast'!CX4=\"1 Fault\",\"es\",\"\") & \" not have sufficient contrast. Please see the Non-text Contrast worksheet.\")","v":""},{"$f":"IF('Non-text Contrast'!CY4=\"0 Faults\",\"\",LEFT('Non-text Contrast'!CY4,FIND(\" \",'Non-text Contrast'!CY4)-1) &\" combination\" & IF('Non-text Contrast'!CY4=\"1 Fault\",\"\",\"s\") & \" of adjacent colours do\" & IF('Non-text Contrast'!CY4=\"1 Fault\",\"es\",\"\") & \" not have sufficient contrast. Please see the Non-text Contrast worksheet.\")","v":""},{"$f":"IF('Non-text Contrast'!CZ4=\"0 Faults\",\"\",LEFT('Non-text Contrast'!CZ4,FIND(\" \",'Non-text Contrast'!CZ4)-1) &\" combination\" & IF('Non-text Contrast'!CZ4=\"1 Fault\",\"\",\"s\") & \" of adjacent colours do\" & IF('Non-text Contrast'!CZ4=\"1 Fault\",\"es\",\"\") & \" not have sufficient contrast. Please see the Non-text Contrast worksheet.\")","v":""},{"$f":"IF('Non-text Contrast'!DA4=\"0 Faults\",\"\",LEFT('Non-text Contrast'!DA4,FIND(\" \",'Non-text Contrast'!DA4)-1) &\" combination\" & IF('Non-text Contrast'!DA4=\"1 Fault\",\"\",\"s\") & \" of adjacent colours do\" & IF('Non-text Contrast'!DA4=\"1 Fault\",\"es\",\"\") & \" not have sufficient contrast. Please see the Non-text Contrast worksheet.\")","v":""},{"$f":"IF('Non-text Contrast'!DB4=\"0 Faults\",\"\",LEFT('Non-text Contrast'!DB4,FIND(\" \",'Non-text Contrast'!DB4)-1) &\" combination\" & IF('Non-text Contrast'!DB4=\"1 Fault\",\"\",\"s\") & \" of adjacent colours do\" & IF('Non-text Contrast'!DB4=\"1 Fault\",\"es\",\"\") & \" not have sufficient contrast. Please see the Non-text Contrast worksheet.\")","v":""},{"$f":"IF('Non-text Contrast'!DC4=\"0 Faults\",\"\",LEFT('Non-text Contrast'!DC4,FIND(\" \",'Non-text Contrast'!DC4)-1) &\" combination\" & IF('Non-text Contrast'!DC4=\"1 Fault\",\"\",\"s\") & \" of adjacent colours do\" & IF('Non-text Contrast'!DC4=\"1 Fault\",\"es\",\"\") & \" not have sufficient contrast. Please see the Non-text Contrast worksheet.\")","v":""},{"$f":"IF('Non-text Contrast'!DD4=\"0 Faults\",\"\",LEFT('Non-text Contrast'!DD4,FIND(\" \",'Non-text Contrast'!DD4)-1) &\" combination\" & IF('Non-text Contrast'!DD4=\"1 Fault\",\"\",\"s\") & \" of adjacent colours do\" & IF('Non-text Contrast'!DD4=\"1 Fault\",\"es\",\"\") & \" not have sufficient contrast. Please see the Non-text Contrast worksheet.\")","v":""},{"$f":"IF('Non-text Contrast'!DE4=\"0 Faults\",\"\",LEFT('Non-text Contrast'!DE4,FIND(\" \",'Non-text Contrast'!DE4)-1) &\" combination\" & IF('Non-text Contrast'!DE4=\"1 Fault\",\"\",\"s\") & \" of adjacent colours do\" & IF('Non-text Contrast'!DE4=\"1 Fault\",\"es\",\"\") & \" not have sufficient contrast. Please see the Non-text Contrast worksheet.\")","v":""},{"$f":"IF('Non-text Contrast'!DF4=\"0 Faults\",\"\",LEFT('Non-text Contrast'!DF4,FIND(\" \",'Non-text Contrast'!DF4)-1) &\" combination\" & IF('Non-text Contrast'!DF4=\"1 Fault\",\"\",\"s\") & \" of adjacent colours do\" & IF('Non-text Contrast'!DF4=\"1 Fault\",\"es\",\"\") & \" not have sufficient contrast. Please see the Non-text Contrast worksheet.\")","v":""},{"$f":"IF('Non-text Contrast'!DG4=\"0 Faults\",\"\",LEFT('Non-text Contrast'!DG4,FIND(\" \",'Non-text Contrast'!DG4)-1) &\" combination\" & IF('Non-text Contrast'!DG4=\"1 Fault\",\"\",\"s\") & \" of adjacent colours do\" & IF('Non-text Contrast'!DG4=\"1 Fault\",\"es\",\"\") & \" not have sufficient contrast. Please see the Non-text Contrast worksheet.\")","v":""},{"$f":"IF('Non-text Contrast'!DH4=\"0 Faults\",\"\",LEFT('Non-text Contrast'!DH4,FIND(\" \",'Non-text Contrast'!DH4)-1) &\" combination\" & IF('Non-text Contrast'!DH4=\"1 Fault\",\"\",\"s\") & \" of adjacent colours do\" & IF('Non-text Contrast'!DH4=\"1 Fault\",\"es\",\"\") & \" not have sufficient contrast. Please see the Non-text Contrast worksheet.\")","v":""},{"$f":"IF('Non-text Contrast'!DI4=\"0 Faults\",\"\",LEFT('Non-text Contrast'!DI4,FIND(\" \",'Non-text Contrast'!DI4)-1) &\" combination\" & IF('Non-text Contrast'!DI4=\"1 Fault\",\"\",\"s\") & \" of adjacent colours do\" & IF('Non-text Contrast'!DI4=\"1 Fault\",\"es\",\"\") & \" not have sufficient contrast. Please see the Non-text Contrast worksheet.\")","v":""},{"$f":"IF('Non-text Contrast'!DJ4=\"0 Faults\",\"\",LEFT('Non-text Contrast'!DJ4,FIND(\" \",'Non-text Contrast'!DJ4)-1) &\" combination\" & IF('Non-text Contrast'!DJ4=\"1 Fault\",\"\",\"s\") & \" of adjacent colours do\" & IF('Non-text Contrast'!DJ4=\"1 Fault\",\"es\",\"\") & \" not have sufficient contrast. Please see the Non-text Contrast worksheet.\")","v":""},{"$f":"IF('Non-text Contrast'!DK4=\"0 Faults\",\"\",LEFT('Non-text Contrast'!DK4,FIND(\" \",'Non-text Contrast'!DK4)-1) &\" combination\" & IF('Non-text Contrast'!DK4=\"1 Fault\",\"\",\"s\") & \" of adjacent colours do\" & IF('Non-text Contrast'!DK4=\"1 Fault\",\"es\",\"\") & \" not have sufficient contrast. Please see the Non-text Contrast worksheet.\")","v":""},{"$f":"IF('Non-text Contrast'!DL4=\"0 Faults\",\"\",LEFT('Non-text Contrast'!DL4,FIND(\" \",'Non-text Contrast'!DL4)-1) &\" combination\" & IF('Non-text Contrast'!DL4=\"1 Fault\",\"\",\"s\") & \" of adjacent colours do\" & IF('Non-text Contrast'!DL4=\"1 Fault\",\"es\",\"\") & \" not have sufficient contrast. Please see the Non-text Contrast worksheet.\")","v":""},{"$f":"IF('Non-text Contrast'!DM4=\"0 Faults\",\"\",LEFT('Non-text Contrast'!DM4,FIND(\" \",'Non-text Contrast'!DM4)-1) &\" combination\" & IF('Non-text Contrast'!DM4=\"1 Fault\",\"\",\"s\") & \" of adjacent colours do\" & IF('Non-text Contrast'!DM4=\"1 Fault\",\"es\",\"\") & \" not have sufficient contrast. Please see the Non-text Contrast worksheet.\")","v":""},{"$f":"IF('Non-text Contrast'!DN4=\"0 Faults\",\"\",LEFT('Non-text Contrast'!DN4,FIND(\" \",'Non-text Contrast'!DN4)-1) &\" combination\" & IF('Non-text Contrast'!DN4=\"1 Fault\",\"\",\"s\") & \" of adjacent colours do\" & IF('Non-text Contrast'!DN4=\"1 Fault\",\"es\",\"\") & \" not have sufficient contrast. Please see the Non-text Contrast worksheet.\")","v":""},{"$f":"IF('Non-text Contrast'!DO4=\"0 Faults\",\"\",LEFT('Non-text Contrast'!DO4,FIND(\" \",'Non-text Contrast'!DO4)-1) &\" combination\" & IF('Non-text Contrast'!DO4=\"1 Fault\",\"\",\"s\") & \" of adjacent colours do\" & IF('Non-text Contrast'!DO4=\"1 Fault\",\"es\",\"\") & \" not have sufficient contrast. Please see the Non-text Contrast worksheet.\")","v":""},{"$f":"IF('Non-text Contrast'!DP4=\"0 Faults\",\"\",LEFT('Non-text Contrast'!DP4,FIND(\" \",'Non-text Contrast'!DP4)-1) &\" combination\" & IF('Non-text Contrast'!DP4=\"1 Fault\",\"\",\"s\") & \" of adjacent colours do\" & IF('Non-text Contrast'!DP4=\"1 Fault\",\"es\",\"\") & \" not have sufficient contrast. Please see the Non-text Contrast worksheet.\")","v":""},{"$f":"IF('Non-text Contrast'!DQ4=\"0 Faults\",\"\",LEFT('Non-text Contrast'!DQ4,FIND(\" \",'Non-text Contrast'!DQ4)-1) &\" combination\" & IF('Non-text Contrast'!DQ4=\"1 Fault\",\"\",\"s\") & \" of adjacent colours do\" & IF('Non-text Contrast'!DQ4=\"1 Fault\",\"es\",\"\") & \" not have sufficient contrast. Please see the Non-text Contrast worksheet.\")","v":""},{"$f":"IF('Non-text Contrast'!DR4=\"0 Faults\",\"\",LEFT('Non-text Contrast'!DR4,FIND(\" \",'Non-text Contrast'!DR4)-1) &\" combination\" & IF('Non-text Contrast'!DR4=\"1 Fault\",\"\",\"s\") & \" of adjacent colours do\" & IF('Non-text Contrast'!DR4=\"1 Fault\",\"es\",\"\") & \" not have sufficient contrast. Please see the Non-text Contrast worksheet.\")","v":""},{"$f":"IF('Non-text Contrast'!DS4=\"0 Faults\",\"\",LEFT('Non-text Contrast'!DS4,FIND(\" \",'Non-text Contrast'!DS4)-1) &\" combination\" & IF('Non-text Contrast'!DS4=\"1 Fault\",\"\",\"s\") & \" of adjacent colours do\" & IF('Non-text Contrast'!DS4=\"1 Fault\",\"es\",\"\") & \" not have sufficient contrast. Please see the Non-text Contrast worksheet.\")","v":""},{"$f":"IF('Non-text Contrast'!DT4=\"0 Faults\",\"\",LEFT('Non-text Contrast'!DT4,FIND(\" \",'Non-text Contrast'!DT4)-1) &\" combination\" & IF('Non-text Contrast'!DT4=\"1 Fault\",\"\",\"s\") & \" of adjacent colours do\" & IF('Non-text Contrast'!DT4=\"1 Fault\",\"es\",\"\") & \" not have sufficient contrast. Please see the Non-text Contrast worksheet.\")","v":""},{"$f":"IF('Non-text Contrast'!DU4=\"0 Faults\",\"\",LEFT('Non-text Contrast'!DU4,FIND(\" \",'Non-text Contrast'!DU4)-1) &\" combination\" & IF('Non-text Contrast'!DU4=\"1 Fault\",\"\",\"s\") & \" of adjacent colours do\" & IF('Non-text Contrast'!DU4=\"1 Fault\",\"es\",\"\") & \" not have sufficient contrast. Please see the Non-text Contrast worksheet.\")","v":""},{"$f":"IF('Non-text Contrast'!DV4=\"0 Faults\",\"\",LEFT('Non-text Contrast'!DV4,FIND(\" \",'Non-text Contrast'!DV4)-1) &\" combination\" & IF('Non-text Contrast'!DV4=\"1 Fault\",\"\",\"s\") & \" of adjacent colours do\" & IF('Non-text Contrast'!DV4=\"1 Fault\",\"es\",\"\") & \" not have sufficient contrast. Please see the Non-text Contrast worksheet.\")","v":""},{"$f":"IF('Non-text Contrast'!DW4=\"0 Faults\",\"\",LEFT('Non-text Contrast'!DW4,FIND(\" \",'Non-text Contrast'!DW4)-1) &\" combination\" & IF('Non-text Contrast'!DW4=\"1 Fault\",\"\",\"s\") & \" of adjacent colours do\" & IF('Non-text Contrast'!DW4=\"1 Fault\",\"es\",\"\") & \" not have sufficient contrast. Please see the Non-text Contrast worksheet.\")","v":""},{"$f":"IF('Non-text Contrast'!DX4=\"0 Faults\",\"\",LEFT('Non-text Contrast'!DX4,FIND(\" \",'Non-text Contrast'!DX4)-1) &\" combination\" & IF('Non-text Contrast'!DX4=\"1 Fault\",\"\",\"s\") & \" of adjacent colours do\" & IF('Non-text Contrast'!DX4=\"1 Fault\",\"es\",\"\") & \" not have sufficient contrast. Please see the Non-text Contrast worksheet.\")","v":""},{"$f":"IF('Non-text Contrast'!DY4=\"0 Faults\",\"\",LEFT('Non-text Contrast'!DY4,FIND(\" \",'Non-text Contrast'!DY4)-1) &\" combination\" & IF('Non-text Contrast'!DY4=\"1 Fault\",\"\",\"s\") & \" of adjacent colours do\" & IF('Non-text Contrast'!DY4=\"1 Fault\",\"es\",\"\") & \" not have sufficient contrast. Please see the Non-text Contrast worksheet.\")","v":""},{"$f":"IF('Non-text Contrast'!DZ4=\"0 Faults\",\"\",LEFT('Non-text Contrast'!DZ4,FIND(\" \",'Non-text Contrast'!DZ4)-1) &\" combination\" & IF('Non-text Contrast'!DZ4=\"1 Fault\",\"\",\"s\") & \" of adjacent colours do\" & IF('Non-text Contrast'!DZ4=\"1 Fault\",\"es\",\"\") & \" not have sufficient contrast. Please see the Non-text Contrast worksheet.\")","v":""},{"$f":"IF('Non-text Contrast'!EA4=\"0 Faults\",\"\",LEFT('Non-text Contrast'!EA4,FIND(\" \",'Non-text Contrast'!EA4)-1) &\" combination\" & IF('Non-text Contrast'!EA4=\"1 Fault\",\"\",\"s\") & \" of adjacent colours do\" & IF('Non-text Contrast'!EA4=\"1 Fault\",\"es\",\"\") & \" not have sufficient contrast. Please see the Non-text Contrast worksheet.\")","v":""},{"$f":"IF('Non-text Contrast'!EB4=\"0 Faults\",\"\",LEFT('Non-text Contrast'!EB4,FIND(\" \",'Non-text Contrast'!EB4)-1) &\" combination\" & IF('Non-text Contrast'!EB4=\"1 Fault\",\"\",\"s\") & \" of adjacent colours do\" & IF('Non-text Contrast'!EB4=\"1 Fault\",\"es\",\"\") & \" not have sufficient contrast. Please see the Non-text Contrast worksheet.\")","v":""},{"$f":"IF('Non-text Contrast'!EC4=\"0 Faults\",\"\",LEFT('Non-text Contrast'!EC4,FIND(\" \",'Non-text Contrast'!EC4)-1) &\" combination\" & IF('Non-text Contrast'!EC4=\"1 Fault\",\"\",\"s\") & \" of adjacent colours do\" & IF('Non-text Contrast'!EC4=\"1 Fault\",\"es\",\"\") & \" not have sufficient contrast. Please see the Non-text Contrast worksheet.\")","v":""},{"$f":"IF('Non-text Contrast'!ED4=\"0 Faults\",\"\",LEFT('Non-text Contrast'!ED4,FIND(\" \",'Non-text Contrast'!ED4)-1) &\" combination\" & IF('Non-text Contrast'!ED4=\"1 Fault\",\"\",\"s\") & \" of adjacent colours do\" & IF('Non-text Contrast'!ED4=\"1 Fault\",\"es\",\"\") & \" not have sufficient contrast. Please see the Non-text Contrast worksheet.\")","v":""},{"$f":"IF('Non-text Contrast'!EE4=\"0 Faults\",\"\",LEFT('Non-text Contrast'!EE4,FIND(\" \",'Non-text Contrast'!EE4)-1) &\" combination\" & IF('Non-text Contrast'!EE4=\"1 Fault\",\"\",\"s\") & \" of adjacent colours do\" & IF('Non-text Contrast'!EE4=\"1 Fault\",\"es\",\"\") & \" not have sufficient contrast. Please see the Non-text Contrast worksheet.\")","v":""},{"$f":"IF('Non-text Contrast'!EF4=\"0 Faults\",\"\",LEFT('Non-text Contrast'!EF4,FIND(\" \",'Non-text Contrast'!EF4)-1) &\" combination\" & IF('Non-text Contrast'!EF4=\"1 Fault\",\"\",\"s\") & \" of adjacent colours do\" & IF('Non-text Contrast'!EF4=\"1 Fault\",\"es\",\"\") & \" not have sufficient contrast. Please see the Non-text Contrast worksheet.\")","v":""},{"$f":"IF('Non-text Contrast'!EG4=\"0 Faults\",\"\",LEFT('Non-text Contrast'!EG4,FIND(\" \",'Non-text Contrast'!EG4)-1) &\" combination\" & IF('Non-text Contrast'!EG4=\"1 Fault\",\"\",\"s\") & \" of adjacent colours do\" & IF('Non-text Contrast'!EG4=\"1 Fault\",\"es\",\"\") & \" not have sufficient contrast. Please see the Non-text Contrast worksheet.\")","v":""},{"$f":"IF('Non-text Contrast'!EH4=\"0 Faults\",\"\",LEFT('Non-text Contrast'!EH4,FIND(\" \",'Non-text Contrast'!EH4)-1) &\" combination\" & IF('Non-text Contrast'!EH4=\"1 Fault\",\"\",\"s\") & \" of adjacent colours do\" & IF('Non-text Contrast'!EH4=\"1 Fault\",\"es\",\"\") & \" not have sufficient contrast. Please see the Non-text Contrast worksheet.\")","v":""},{"$f":"IF('Non-text Contrast'!EI4=\"0 Faults\",\"\",LEFT('Non-text Contrast'!EI4,FIND(\" \",'Non-text Contrast'!EI4)-1) &\" combination\" & IF('Non-text Contrast'!EI4=\"1 Fault\",\"\",\"s\") & \" of adjacent colours do\" & IF('Non-text Contrast'!EI4=\"1 Fault\",\"es\",\"\") & \" not have sufficient contrast. Please see the Non-text Contrast worksheet.\")","v":""},{"$f":"IF('Non-text Contrast'!EJ4=\"0 Faults\",\"\",LEFT('Non-text Contrast'!EJ4,FIND(\" \",'Non-text Contrast'!EJ4)-1) &\" combination\" & IF('Non-text Contrast'!EJ4=\"1 Fault\",\"\",\"s\") & \" of adjacent colours do\" & IF('Non-text Contrast'!EJ4=\"1 Fault\",\"es\",\"\") & \" not have sufficient contrast. Please see the Non-text Contrast worksheet.\")","v":""},{"$f":"IF('Non-text Contrast'!EK4=\"0 Faults\",\"\",LEFT('Non-text Contrast'!EK4,FIND(\" \",'Non-text Contrast'!EK4)-1) &\" combination\" & IF('Non-text Contrast'!EK4=\"1 Fault\",\"\",\"s\") & \" of adjacent colours do\" & IF('Non-text Contrast'!EK4=\"1 Fault\",\"es\",\"\") & \" not have sufficient contrast. Please see the Non-text Contrast worksheet.\")","v":""},{"$f":"IF('Non-text Contrast'!EL4=\"0 Faults\",\"\",LEFT('Non-text Contrast'!EL4,FIND(\" \",'Non-text Contrast'!EL4)-1) &\" combination\" & IF('Non-text Contrast'!EL4=\"1 Fault\",\"\",\"s\") & \" of adjacent colours do\" & IF('Non-text Contrast'!EL4=\"1 Fault\",\"es\",\"\") & \" not have sufficient contrast. Please see the Non-text Contrast worksheet.\")","v":""},{"$f":"IF('Non-text Contrast'!EM4=\"0 Faults\",\"\",LEFT('Non-text Contrast'!EM4,FIND(\" \",'Non-text Contrast'!EM4)-1) &\" combination\" & IF('Non-text Contrast'!EM4=\"1 Fault\",\"\",\"s\") & \" of adjacent colours do\" & IF('Non-text Contrast'!EM4=\"1 Fault\",\"es\",\"\") & \" not have sufficient contrast. Please see the Non-text Contrast worksheet.\")","v":""},{"$f":"IF('Non-text Contrast'!EN4=\"0 Faults\",\"\",LEFT('Non-text Contrast'!EN4,FIND(\" \",'Non-text Contrast'!EN4)-1) &\" combination\" & IF('Non-text Contrast'!EN4=\"1 Fault\",\"\",\"s\") & \" of adjacent colours do\" & IF('Non-text Contrast'!EN4=\"1 Fault\",\"es\",\"\") & \" not have sufficient contrast. Please see the Non-text Contrast worksheet.\")","v":""},{"$f":"IF('Non-text Contrast'!EO4=\"0 Faults\",\"\",LEFT('Non-text Contrast'!EO4,FIND(\" \",'Non-text Contrast'!EO4)-1) &\" combination\" & IF('Non-text Contrast'!EO4=\"1 Fault\",\"\",\"s\") & \" of adjacent colours do\" & IF('Non-text Contrast'!EO4=\"1 Fault\",\"es\",\"\") & \" not have sufficient contrast. Please see the Non-text Contrast worksheet.\")","v":""},{"$f":"IF('Non-text Contrast'!EP4=\"0 Faults\",\"\",LEFT('Non-text Contrast'!EP4,FIND(\" \",'Non-text Contrast'!EP4)-1) &\" combination\" & IF('Non-text Contrast'!EP4=\"1 Fault\",\"\",\"s\") & \" of adjacent colours do\" & IF('Non-text Contrast'!EP4=\"1 Fault\",\"es\",\"\") & \" not have sufficient contrast. Please see the Non-text Contrast worksheet.\")","v":""},{"$f":"IF('Non-text Contrast'!EQ4=\"0 Faults\",\"\",LEFT('Non-text Contrast'!EQ4,FIND(\" \",'Non-text Contrast'!EQ4)-1) &\" combination\" & IF('Non-text Contrast'!EQ4=\"1 Fault\",\"\",\"s\") & \" of adjacent colours do\" & IF('Non-text Contrast'!EQ4=\"1 Fault\",\"es\",\"\") & \" not have sufficient contrast. Please see the Non-text Contrast worksheet.\")","v":""},{"$f":"IF('Non-text Contrast'!ER4=\"0 Faults\",\"\",LEFT('Non-text Contrast'!ER4,FIND(\" \",'Non-text Contrast'!ER4)-1) &\" combination\" & IF('Non-text Contrast'!ER4=\"1 Fault\",\"\",\"s\") & \" of adjacent colours do\" & IF('Non-text Contrast'!ER4=\"1 Fault\",\"es\",\"\") & \" not have sufficient contrast. Please see the Non-text Contrast worksheet.\")","v":""},{"$f":"IF('Non-text Contrast'!ES4=\"0 Faults\",\"\",LEFT('Non-text Contrast'!ES4,FIND(\" \",'Non-text Contrast'!ES4)-1) &\" combination\" & IF('Non-text Contrast'!ES4=\"1 Fault\",\"\",\"s\") & \" of adjacent colours do\" & IF('Non-text Contrast'!ES4=\"1 Fault\",\"es\",\"\") & \" not have sufficient contrast. Please see the Non-text Contrast worksheet.\")","v":""},{"$f":"IF('Non-text Contrast'!ET4=\"0 Faults\",\"\",LEFT('Non-text Contrast'!ET4,FIND(\" \",'Non-text Contrast'!ET4)-1) &\" combination\" & IF('Non-text Contrast'!ET4=\"1 Fault\",\"\",\"s\") & \" of adjacent colours do\" & IF('Non-text Contrast'!ET4=\"1 Fault\",\"es\",\"\") & \" not have sufficient contrast. Please see the Non-text Contrast worksheet.\")","v":""},{"$f":"IF('Non-text Contrast'!EU4=\"0 Faults\",\"\",LEFT('Non-text Contrast'!EU4,FIND(\" \",'Non-text Contrast'!EU4)-1) &\" combination\" & IF('Non-text Contrast'!EU4=\"1 Fault\",\"\",\"s\") & \" of adjacent colours do\" & IF('Non-text Contrast'!EU4=\"1 Fault\",\"es\",\"\") & \" not have sufficient contrast. Please see the Non-text Contrast worksheet.\")","v":""},{"$f":"IF('Non-text Contrast'!EV4=\"0 Faults\",\"\",LEFT('Non-text Contrast'!EV4,FIND(\" \",'Non-text Contrast'!EV4)-1) &\" combination\" & IF('Non-text Contrast'!EV4=\"1 Fault\",\"\",\"s\") & \" of adjacent colours do\" & IF('Non-text Contrast'!EV4=\"1 Fault\",\"es\",\"\") & \" not have sufficient contrast. Please see the Non-text Contrast worksheet.\")","v":""},{"$f":"IF('Non-text Contrast'!EW4=\"0 Faults\",\"\",LEFT('Non-text Contrast'!EW4,FIND(\" \",'Non-text Contrast'!EW4)-1) &\" combination\" & IF('Non-text Contrast'!EW4=\"1 Fault\",\"\",\"s\") & \" of adjacent colours do\" & IF('Non-text Contrast'!EW4=\"1 Fault\",\"es\",\"\") & \" not have sufficient contrast. Please see the Non-text Contrast worksheet.\")","v":""},{"$f":"IF('Non-text Contrast'!EX4=\"0 Faults\",\"\",LEFT('Non-text Contrast'!EX4,FIND(\" \",'Non-text Contrast'!EX4)-1) &\" combination\" & IF('Non-text Contrast'!EX4=\"1 Fault\",\"\",\"s\") & \" of adjacent colours do\" & IF('Non-text Contrast'!EX4=\"1 Fault\",\"es\",\"\") & \" not have sufficient contrast. Please see the Non-text Contrast worksheet.\")","v":""},{"$f":"IF('Non-text Contrast'!EY4=\"0 Faults\",\"\",LEFT('Non-text Contrast'!EY4,FIND(\" \",'Non-text Contrast'!EY4)-1) &\" combination\" & IF('Non-text Contrast'!EY4=\"1 Fault\",\"\",\"s\") & \" of adjacent colours do\" & IF('Non-text Contrast'!EY4=\"1 Fault\",\"es\",\"\") & \" not have sufficient contrast. Please see the Non-text Contrast worksheet.\")","v":""},{"$f":"IF('Non-text Contrast'!EZ4=\"0 Faults\",\"\",LEFT('Non-text Contrast'!EZ4,FIND(\" \",'Non-text Contrast'!EZ4)-1) &\" combination\" & IF('Non-text Contrast'!EZ4=\"1 Fault\",\"\",\"s\") & \" of adjacent colours do\" & IF('Non-text Contrast'!EZ4=\"1 Fault\",\"es\",\"\") & \" not have sufficient contrast. Please see the Non-text Contrast worksheet.\")","v":""},{"$f":"IF('Non-text Contrast'!FA4=\"0 Faults\",\"\",LEFT('Non-text Contrast'!FA4,FIND(\" \",'Non-text Contrast'!FA4)-1) &\" combination\" & IF('Non-text Contrast'!FA4=\"1 Fault\",\"\",\"s\") & \" of adjacent colours do\" & IF('Non-text Contrast'!FA4=\"1 Fault\",\"es\",\"\") & \" not have sufficient contrast. Please see the Non-text Contrast worksheet.\")","v":""},{"$f":"IF('Non-text Contrast'!FB4=\"0 Faults\",\"\",LEFT('Non-text Contrast'!FB4,FIND(\" \",'Non-text Contrast'!FB4)-1) &\" combination\" & IF('Non-text Contrast'!FB4=\"1 Fault\",\"\",\"s\") & \" of adjacent colours do\" & IF('Non-text Contrast'!FB4=\"1 Fault\",\"es\",\"\") & \" not have sufficient contrast. Please see the Non-text Contrast worksheet.\")","v":""},{"$f":"IF('Non-text Contrast'!FC4=\"0 Faults\",\"\",LEFT('Non-text Contrast'!FC4,FIND(\" \",'Non-text Contrast'!FC4)-1) &\" combination\" & IF('Non-text Contrast'!FC4=\"1 Fault\",\"\",\"s\") & \" of adjacent colours do\" & IF('Non-text Contrast'!FC4=\"1 Fault\",\"es\",\"\") & \" not have sufficient contrast. Please see the Non-text Contrast worksheet.\")","v":""},{"$f":"IF('Non-text Contrast'!FD4=\"0 Faults\",\"\",LEFT('Non-text Contrast'!FD4,FIND(\" \",'Non-text Contrast'!FD4)-1) &\" combination\" & IF('Non-text Contrast'!FD4=\"1 Fault\",\"\",\"s\") & \" of adjacent colours do\" & IF('Non-text Contrast'!FD4=\"1 Fault\",\"es\",\"\") & \" not have sufficient contrast. Please see the Non-text Contrast worksheet.\")","v":""},{"$f":"IF('Non-text Contrast'!FE4=\"0 Faults\",\"\",LEFT('Non-text Contrast'!FE4,FIND(\" \",'Non-text Contrast'!FE4)-1) &\" combination\" & IF('Non-text Contrast'!FE4=\"1 Fault\",\"\",\"s\") & \" of adjacent colours do\" & IF('Non-text Contrast'!FE4=\"1 Fault\",\"es\",\"\") & \" not have sufficient contrast. Please see the Non-text Contrast worksheet.\")","v":""},{"$f":"IF('Non-text Contrast'!FF4=\"0 Faults\",\"\",LEFT('Non-text Contrast'!FF4,FIND(\" \",'Non-text Contrast'!FF4)-1) &\" combination\" & IF('Non-text Contrast'!FF4=\"1 Fault\",\"\",\"s\") & \" of adjacent colours do\" & IF('Non-text Contrast'!FF4=\"1 Fault\",\"es\",\"\") & \" not have sufficient contrast. Please see the Non-text Contrast worksheet.\")","v":""},{"$f":"IF('Non-text Contrast'!FG4=\"0 Faults\",\"\",LEFT('Non-text Contrast'!FG4,FIND(\" \",'Non-text Contrast'!FG4)-1) &\" combination\" & IF('Non-text Contrast'!FG4=\"1 Fault\",\"\",\"s\") & \" of adjacent colours do\" & IF('Non-text Contrast'!FG4=\"1 Fault\",\"es\",\"\") & \" not have sufficient contrast. Please see the Non-text Contrast worksheet.\")","v":""},{"$f":"IF('Non-text Contrast'!FH4=\"0 Faults\",\"\",LEFT('Non-text Contrast'!FH4,FIND(\" \",'Non-text Contrast'!FH4)-1) &\" combination\" & IF('Non-text Contrast'!FH4=\"1 Fault\",\"\",\"s\") & \" of adjacent colours do\" & IF('Non-text Contrast'!FH4=\"1 Fault\",\"es\",\"\") & \" not have sufficient contrast. Please see the Non-text Contrast worksheet.\")","v":""},{"$f":"IF('Non-text Contrast'!FI4=\"0 Faults\",\"\",LEFT('Non-text Contrast'!FI4,FIND(\" \",'Non-text Contrast'!FI4)-1) &\" combination\" & IF('Non-text Contrast'!FI4=\"1 Fault\",\"\",\"s\") & \" of adjacent colours do\" & IF('Non-text Contrast'!FI4=\"1 Fault\",\"es\",\"\") & \" not have sufficient contrast. Please see the Non-text Contrast worksheet.\")","v":""},{"$f":"IF('Non-text Contrast'!FJ4=\"0 Faults\",\"\",LEFT('Non-text Contrast'!FJ4,FIND(\" \",'Non-text Contrast'!FJ4)-1) &\" combination\" & IF('Non-text Contrast'!FJ4=\"1 Fault\",\"\",\"s\") & \" of adjacent colours do\" & IF('Non-text Contrast'!FJ4=\"1 Fault\",\"es\",\"\") & \" not have sufficient contrast. Please see the Non-text Contrast worksheet.\")","v":""},{"$f":"IF('Non-text Contrast'!FK4=\"0 Faults\",\"\",LEFT('Non-text Contrast'!FK4,FIND(\" \",'Non-text Contrast'!FK4)-1) &\" combination\" & IF('Non-text Contrast'!FK4=\"1 Fault\",\"\",\"s\") & \" of adjacent colours do\" & IF('Non-text Contrast'!FK4=\"1 Fault\",\"es\",\"\") & \" not have sufficient contrast. Please see the Non-text Contrast worksheet.\")","v":""},{"$f":"IF('Non-text Contrast'!FL4=\"0 Faults\",\"\",LEFT('Non-text Contrast'!FL4,FIND(\" \",'Non-text Contrast'!FL4)-1) &\" combination\" & IF('Non-text Contrast'!FL4=\"1 Fault\",\"\",\"s\") & \" of adjacent colours do\" & IF('Non-text Contrast'!FL4=\"1 Fault\",\"es\",\"\") & \" not have sufficient contrast. Please see the Non-text Contrast worksheet.\")","v":""},{"$f":"IF('Non-text Contrast'!FM4=\"0 Faults\",\"\",LEFT('Non-text Contrast'!FM4,FIND(\" \",'Non-text Contrast'!FM4)-1) &\" combination\" & IF('Non-text Contrast'!FM4=\"1 Fault\",\"\",\"s\") & \" of adjacent colours do\" & IF('Non-text Contrast'!FM4=\"1 Fault\",\"es\",\"\") & \" not have sufficient contrast. Please see the Non-text Contrast worksheet.\")","v":""},{"$f":"IF('Non-text Contrast'!FN4=\"0 Faults\",\"\",LEFT('Non-text Contrast'!FN4,FIND(\" \",'Non-text Contrast'!FN4)-1) &\" combination\" & IF('Non-text Contrast'!FN4=\"1 Fault\",\"\",\"s\") & \" of adjacent colours do\" & IF('Non-text Contrast'!FN4=\"1 Fault\",\"es\",\"\") & \" not have sufficient contrast. Please see the Non-text Contrast worksheet.\")","v":""},{"$f":"IF('Non-text Contrast'!FO4=\"0 Faults\",\"\",LEFT('Non-text Contrast'!FO4,FIND(\" \",'Non-text Contrast'!FO4)-1) &\" combination\" & IF('Non-text Contrast'!FO4=\"1 Fault\",\"\",\"s\") & \" of adjacent colours do\" & IF('Non-text Contrast'!FO4=\"1 Fault\",\"es\",\"\") & \" not have sufficient contrast. Please see the Non-text Contrast worksheet.\")","v":""},{"$f":"IF('Non-text Contrast'!FP4=\"0 Faults\",\"\",LEFT('Non-text Contrast'!FP4,FIND(\" \",'Non-text Contrast'!FP4)-1) &\" combination\" & IF('Non-text Contrast'!FP4=\"1 Fault\",\"\",\"s\") & \" of adjacent colours do\" & IF('Non-text Contrast'!FP4=\"1 Fault\",\"es\",\"\") & \" not have sufficient contrast. Please see the Non-text Contrast worksheet.\")","v":""},{"$f":"IF('Non-text Contrast'!FQ4=\"0 Faults\",\"\",LEFT('Non-text Contrast'!FQ4,FIND(\" \",'Non-text Contrast'!FQ4)-1) &\" combination\" & IF('Non-text Contrast'!FQ4=\"1 Fault\",\"\",\"s\") & \" of adjacent colours do\" & IF('Non-text Contrast'!FQ4=\"1 Fault\",\"es\",\"\") & \" not have sufficient contrast. Please see the Non-text Contrast worksheet.\")","v":""},{"$f":"IF('Non-text Contrast'!FR4=\"0 Faults\",\"\",LEFT('Non-text Contrast'!FR4,FIND(\" \",'Non-text Contrast'!FR4)-1) &\" combination\" & IF('Non-text Contrast'!FR4=\"1 Fault\",\"\",\"s\") & \" of adjacent colours do\" & IF('Non-text Contrast'!FR4=\"1 Fault\",\"es\",\"\") & \" not have sufficient contrast. Please see the Non-text Contrast worksheet.\")","v":""},{"$f":"IF('Non-text Contrast'!FS4=\"0 Faults\",\"\",LEFT('Non-text Contrast'!FS4,FIND(\" \",'Non-text Contrast'!FS4)-1) &\" combination\" & IF('Non-text Contrast'!FS4=\"1 Fault\",\"\",\"s\") & \" of adjacent colours do\" & IF('Non-text Contrast'!FS4=\"1 Fault\",\"es\",\"\") & \" not have sufficient contrast. Please see the Non-text Contrast worksheet.\")","v":""},{"$f":"IF('Non-text Contrast'!FT4=\"0 Faults\",\"\",LEFT('Non-text Contrast'!FT4,FIND(\" \",'Non-text Contrast'!FT4)-1) &\" combination\" & IF('Non-text Contrast'!FT4=\"1 Fault\",\"\",\"s\") & \" of adjacent colours do\" & IF('Non-text Contrast'!FT4=\"1 Fault\",\"es\",\"\") & \" not have sufficient contrast. Please see the Non-text Contrast worksheet.\")","v":""}]
[null,null,null,"Comments:",null,null,null,null,null,null,null,null,null,null,null,null,null,null,"Third party map content is exempt from PSBAR, as long as there is a text equivalent. Add the address for Our Sutton."]
["1.4.12","AA","Text Spacing","In content implemented using mark-up languages that support the following text style properties, no loss of content or functionality occurs by setting all of the following and by changing no other style property:","PASS","PASS","PASS","PASS","PASS","PASS","PASS","PASS","PASS","PASS","PASS","PASS","PASS","PASS","PASS","PASS","PASS","PASS","PASS","PASS","NOT TESTED","NOT TESTED","NOT TESTED","NOT TESTED","NOT TESTED","NOT TESTED","NOT TESTED","NOT TESTED","NOT TESTED","NOT TESTED","NOT TESTED","NOT TESTED","NOT TESTED","NOT TESTED","NOT TESTED","NOT TESTED","NOT TESTED","NOT TESTED","NOT TESTED","NOT TESTED"]
[null,null,null,"Line height (line spacing) to at least 1.5 times the font size;\nSpacing following paragraphs to at least 2 times the font size;\nLetter spacing (tracking) to at least 0.12 times the font size;\nWord spacing to at least 0.16 times the font size.\nException: Human languages and scripts that do not make use of one or more of these text style properties in written text can conform using only the properties that exist for that combination of language and script."]
["1.4.13","AA","Content on Hover or Focus","Where receiving and then removing pointer hover or keyboard focus triggers additional content to become visible and then hidden, the following are true:","N/A","N/A","N/A","N/A","N/A","N/A","N/A","N/A","N/A","N/A","N/A","N/A","N/A","N/A","N/A","N/A","N/A","N/A","N/A","N/A","NOT TESTED","NOT TESTED","NOT TESTED","NOT TESTED","NOT TESTED","NOT TESTED","NOT TESTED","NOT TESTED","NOT TESTED","NOT TESTED","NOT TESTED","NOT TESTED","NOT TESTED","NOT TESTED","NOT TESTED","NOT TESTED","NOT TESTED","NOT TESTED","NOT TESTED","NOT TESTED"]
[null,null,null,"\nDismissable: A mechanism is available to dismiss the additional content without moving pointer hover or keyboard focus, unless the additional content communicates an input error or does not obscure or replace other content;\nHoverable: If pointer hover can trigger the additional content, then the pointer can be moved over the additional content without the additional content disappearing;\nPersistent: The additional content remains visible until the hover or focus trigger is removed, the user dismisses it, or its information is no longer valid.\nException: The visual presentation of the additional content is controlled by the user agent and is not modified by the author.\n","No content becomes visible or hidden upon receiving or removing hover or focus.","No content becomes visible or hidden upon receiving or removing hover or focus.","No content becomes visible or hidden upon receiving or removing hover or focus.","No content becomes visible or hidden upon receiving or removing hover or focus.","No content becomes visible or hidden upon receiving or removing hover or focus.","No content becomes visible or hidden upon receiving or removing hover or focus.","No content becomes visible or hidden upon receiving or removing hover or focus.","No content becomes visible or hidden upon receiving or removing hover or focus.","No content becomes visible or hidden upon receiving or removing hover or focus.","No content becomes visible or hidden upon receiving or removing hover or focus.","No content becomes visible or hidden upon receiving or removing hover or focus.","No content becomes visible or hidden upon receiving or removing hover or focus.","No content becomes visible or hidden upon receiving or removing hover or focus.","No content becomes visible or hidden upon receiving or removing hover or focus.","No content becomes visible or hidden upon receiving or removing hover or focus.","No content becomes visible or hidden upon receiving or removing hover or focus.","No content becomes visible or hidden upon receiving or removing hover or focus.","No content becomes visible or hidden upon receiving or removing hover or focus.","No content becomes visible or hidden upon receiving or removing hover or focus.","No content becomes visible or hidden upon receiving or removing hover or focus."]
["W3C Ref.","Level","Name","Principle 2: Operable - User interface components and navigation must be operable."]
["2.4.5","AA","Multiple Ways","More than one way is available to locate a Web page within a set of Web pages except where the Web Page is the result of, or a step in, a process. ","N/A","N/A","N/A","N/A","N/A","N/A","PASS","PASS","PASS","PASS","PASS","PASS","PASS","PASS","PASS","PASS","PASS","PASS","PASS","PASS","NOT TESTED","NOT TESTED","NOT TESTED","NOT TESTED","NOT TESTED","NOT TESTED","NOT TESTED","NOT TESTED","NOT TESTED","NOT TESTED","NOT TESTED","NOT TESTED","NOT TESTED","NOT TESTED","NOT TESTED","NOT TESTED","NOT TESTED","NOT TESTED","NOT TESTED","NOT TESTED"]
[null,null,null,null,"Does not apply to components.","Does not apply to components.","Does not apply to components.","Does not apply to components.","Does not apply to components.","Does not apply to components."]
["2.4.6","AA","Headings and Labels","Headings and labels describe topic or purpose.","PASS","PASS","PASS","PASS","PASS","PASS","PASS","PASS","PASS","PASS","PASS","PASS","PASS","PASS","PASS","PASS","PASS","PASS","PASS","PASS","NOT TESTED","NOT TESTED","NOT TESTED","NOT TESTED","NOT TESTED","NOT TESTED","NOT TESTED","NOT TESTED","NOT TESTED","NOT TESTED","NOT TESTED","NOT TESTED","NOT TESTED","NOT TESTED","NOT TESTED","NOT TESTED","NOT TESTED","NOT TESTED","NOT TESTED","NOT TESTED"]
[]
["2.4.7","AA","Focus Visible","Any keyboard operable user interface has a mode of operation where the keyboard focus indicator is visible.","PASS","PASS","PASS","PASS","PASS","PASS","PASS","PASS","PASS","PASS","PASS","PASS","PASS","PASS","PASS","PASS","PASS","PASS","PASS","PASS","NOT TESTED","NOT TESTED","NOT TESTED","NOT TESTED","NOT TESTED","NOT TESTED","NOT TESTED","NOT TESTED","NOT TESTED","NOT TESTED","NOT TESTED","NOT TESTED","NOT TESTED","NOT TESTED","NOT TESTED","NOT TESTED","NOT TESTED","NOT TESTED","NOT TESTED","NOT TESTED"]
[]
["2.4.11","AA","Focus Not Obscured (Minimum)","When a user interface component receives keyboard focus, the component is not entirely hidden due to author-created content.","PASS","PASS","PASS","PASS","PASS","PASS","PASS","PASS","PASS","PASS","PASS","PASS","PASS","PASS","PASS","PASS","PASS","PASS","PASS","PASS","PASS","PASS","PASS","PASS","PASS","PASS","PASS","PASS","PASS","PASS","PASS","PASS","PASS","PASS","PASS","PASS","PASS","PASS","PASS","PASS"]
[]
["2.5.7","AA","Dragging Movements","All functionality that uses a dragging movement for operation can be achieved by a single pointer without dragging, unless dragging is essential or the functionality is determined by the user agent and not modified by the author.","N/A","N/A","N/A","N/A","N/A","N/A","N/A","N/A","N/A","N/A","N/A","N/A","N/A","N/A","N/A","N/A","N/A","N/A","N/A","N/A","N/A","N/A","N/A","N/A","N/A","N/A","N/A","N/A","N/A","N/A","N/A","N/A","N/A","N/A","N/A","N/A","N/A","N/A","N/A","N/A"]
[null,null,null,null,"There is no functionality that uses a dragging movement for operation.","There is no functionality that uses a dragging movement for operation.","There is no functionality that uses a dragging movement for operation.","There is no functionality that uses a dragging movement for operation.","There is no functionality that uses a dragging movement for operation.","There is no functionality that uses a dragging movement for operation.","There is no functionality that uses a dragging movement for operation.","There is no functionality that uses a dragging movement for operation.","There is no functionality that uses a dragging movement for operation.","There is no functionality that uses a dragging movement for operation.","There is no functionality that uses a dragging movement for operation.","There is no functionality that uses a dragging movement for operation.","There is no functionality that uses a dragging movement for operation.","There is no functionality that uses a dragging movement for operation.","There is no functionality that uses a dragging movement for operation.","There is no functionality that uses a dragging movement for operation.","There is no functionality that uses a dragging movement for operation.","There is no functionality that uses a dragging movement for operation.","There is no functionality that uses a dragging movement for operation.","There is no functionality that uses a dragging movement for operation.","There is no functionality that uses a dragging movement for operation.","There is no functionality that uses a dragging movement for operation.","There is no functionality that uses a dragging movement for operation.","There is no functionality that uses a dragging movement for operation.","There is no functionality that uses a dragging movement for operation.","There is no functionality that uses a dragging movement for operation.","There is no functionality that uses a dragging movement for operation.","There is no functionality that uses a dragging movement for operation.","There is no functionality that uses a dragging movement for operation.","There is no functionality that uses a dragging movement for operation.","There is no functionality that uses a dragging movement for operation.","There is no functionality that uses a dragging movement for operation.","There is no functionality that uses a dragging movement for operation.","There is no functionality that uses a dragging movement for operation.","There is no functionality that uses a dragging movement for operation.","There is no functionality that uses a dragging movement for operation.","There is no functionality that uses a dragging movement for operation.","There is no functionality that uses a dragging movement for operation.","There is no functionality that uses a dragging movement for operation.","There is no functionality that uses a dragging movement for operation."]
["2.5.8","AA","Target Size (Minimum)","The size of the target for pointer inputs is at least 24 by 24 CSS pixels, except where:","PASS","PASS","PASS","PASS","PASS","PASS","PASS","PASS","PASS","PASS","PASS","PASS","PASS","PASS","PASS","PASS","PASS","PASS","PASS","PASS","PASS","PASS","PASS","PASS","PASS","PASS","PASS","PASS","PASS","PASS","PASS","PASS","PASS","PASS","PASS","PASS","PASS","PASS","PASS","PASS"]
[null,null,null,"\nSpacing: Undersized targets (those less than 24 by 24 CSS pixels) are positioned so that if a 24 CSS pixel diameter circle is centered on the bounding box of each, the circles do not intersect another target or the circle for another undersized target;\nEquivalent: The function can be achieved through a different control on the same page that meets this criterion;\nInline: The target is in a sentence or its size is otherwise constrained by the line-height of non-target text;\nUser agent control: The size of the target is determined by the user agent and is not modified by the author;\nEssential: A particular presentation of the target is essential or is legally required for the information being conveyed.",null,null,null,null,null,null,null,null,null,null,null,null,null,null,null,null,null,null,null,null,null,null,null,null,null,null,null,null,null,null,null,null,null,null,"CAPTCHA privacy and text link to right side of \"I'm not a robot\" checkbox."]
["W3C Ref.","Level","Name","Principle 3: Understandable - Information and the operation of user interface must be understandable."]
["3.1.2","AA","Language of Parts","The human language of each passage or phrase in the content can be programmatically determined except for proper names, technical terms, words of indeterminate language, and words or phrases that have become part of the vernacular of the immediately surrounding text.","N/A","N/A","N/A","N/A","N/A","N/A","N/A","N/A","N/A","N/A","N/A","N/A","N/A","N/A","N/A","N/A","N/A","N/A","N/A","N/A","NOT TESTED","NOT TESTED","NOT TESTED","NOT TESTED","NOT TESTED","NOT TESTED","NOT TESTED","NOT TESTED","NOT TESTED","NOT TESTED","NOT TESTED","NOT TESTED","NOT TESTED","NOT TESTED","NOT TESTED","NOT TESTED","NOT TESTED","NOT TESTED","NOT TESTED","NOT TESTED"]
[null,null,null,null,"The human language does not change.","The human language does not change.","The human language does not change.","The human language does not change.","The human language does not change.","The human language does not change.","The human language does not change.","The human language does not change.","The human language does not change.","The human language does not change.","The human language does not change.","The human language does not change.","The human language does not change.","The human language does not change.","The human language does not change.","The human language does not change.","The human language does not change.","The human language does not change.","The human language does not change.","The human language does not change."]
["3.2.3","AA","Consistent Navigation","Navigational mechanisms that are repeated on multiple Web pages within a set of Web pages occur in the same relative order each time they are repeated, unless a change is initiated by the user.","PASS","PASS","N/A","N/A","PASS","PASS","PASS","PASS","PASS","PASS","PASS","PASS","PASS","PASS","PASS","PASS","PASS","PASS","PASS","PASS","NOT TESTED","NOT TESTED","NOT TESTED","NOT TESTED","NOT TESTED","NOT TESTED","NOT TESTED","NOT TESTED","NOT TESTED","NOT TESTED","NOT TESTED","NOT TESTED","NOT TESTED","NOT TESTED","NOT TESTED","NOT TESTED","NOT TESTED","NOT TESTED","NOT TESTED","NOT TESTED"]
[null,null,null,null,null,null,"There are no navigational mechanisms.","There are no navigational mechanisms."]
["3.2.4","AA","Consistent Identification","Components that have the same functionality within a set of Web pages are identified consistently.","PASS","PASS","PASS","PASS","PASS","PASS","PASS","PASS","PASS","PASS","PASS","PASS","PASS","PASS","PASS","PASS","PASS","PASS","PASS","PASS","NOT TESTED","NOT TESTED","NOT TESTED","NOT TESTED","NOT TESTED","NOT TESTED","NOT TESTED","NOT TESTED","NOT TESTED","NOT TESTED","NOT TESTED","NOT TESTED","NOT TESTED","NOT TESTED","NOT TESTED","NOT TESTED","NOT TESTED","NOT TESTED","NOT TESTED","NOT TESTED"]
[]
["3.3.3","AA","Error Suggestion","If an input error is automatically detected and suggestions for correction are known, then the suggestions are provided to the user, unless it would jeopardize the security or purpose of the content.","N/A","N/A","N/A","N/A","N/A","N/A","PASS","N/A","N/A","PASS","PASS","N/A","N/A","N/A","N/A","N/A","N/A","N/A","N/A","N/A","NOT TESTED","NOT TESTED","NOT TESTED","NOT TESTED","NOT TESTED","NOT TESTED","NOT TESTED","NOT TESTED","NOT TESTED","NOT TESTED","NOT TESTED","NOT TESTED","NOT TESTED","NOT TESTED","NOT TESTED","NOT TESTED","NOT TESTED","NOT TESTED","NOT TESTED","NOT TESTED"]
[null,null,null,null,"No input errors can occur.","No input errors can occur.","No input errors can occur.","No input errors can occur.","No input errors can occur.","No input errors can occur.",null,"No input errors can occur.","No input errors can occur.",null,null,"No input errors can occur.","No input errors can occur.","No input errors can occur.","No input errors can occur.","No input errors can occur.","No input errors can occur.","No input errors can occur.","No input errors can occur.","No input errors can occur."]
["3.3.4","AA","Error Prevention (Legal, Financial, Data)","For Web pages that cause legal commitments or financial transactions for the user to occur, that modify or delete user-controllable data in data storage systems, or that submit user test responses, at least one of the following is true: Reversible, Checked, Confirmed.","N/A","N/A","N/A","N/A","N/A","N/A","N/A","N/A","N/A","N/A","N/A","N/A","N/A","N/A","N/A","N/A","N/A","N/A","N/A","N/A","NOT TESTED","NOT TESTED","NOT TESTED","NOT TESTED","NOT TESTED","NOT TESTED","NOT TESTED","NOT TESTED","NOT TESTED","NOT TESTED","NOT TESTED","NOT TESTED","NOT TESTED","NOT TESTED","NOT TESTED","NOT TESTED","NOT TESTED","NOT TESTED","NOT TESTED","NOT TESTED"]
[null,null,null,null,"No legal commitments or financial transactions for the user occur, user-controllable data is not modified or deleted in data storage systems, and no user test responses are submitted.","No legal commitments or financial transactions for the user occur, user-controllable data is not modified or deleted in data storage systems, and no user test responses are submitted.","No legal commitments or financial transactions for the user occur, user-controllable data is not modified or deleted in data storage systems, and no user test responses are submitted.","No legal commitments or financial transactions for the user occur, user-controllable data is not modified or deleted in data storage systems, and no user test responses are submitted.","No legal commitments or financial transactions for the user occur, user-controllable data is not modified or deleted in data storage systems, and no user test responses are submitted.","No legal commitments or financial transactions for the user occur, user-controllable data is not modified or deleted in data storage systems, and no user test responses are submitted.","No legal commitments or financial transactions for the user occur, user-controllable data is not modified or deleted in data storage systems, and no user test responses are submitted.","No legal commitments or financial transactions for the user occur, user-controllable data is not modified or deleted in data storage systems, and no user test responses are submitted.","No legal commitments or financial transactions for the user occur, user-controllable data is not modified or deleted in data storage systems, and no user test responses are submitted.","No legal commitments or financial transactions for the user occur, user-controllable data is not modified or deleted in data storage systems, and no user test responses are submitted.","No legal commitments or financial transactions for the user occur, user-controllable data is not modified or deleted in data storage systems, and no user test responses are submitted.","No legal commitments or financial transactions for the user occur, user-controllable data is not modified or deleted in data storage systems, and no user test responses are submitted.","No legal commitments or financial transactions for the user occur, user-controllable data is not modified or deleted in data storage systems, and no user test responses are submitted.","No legal commitments or financial transactions for the user occur, user-controllable data is not modified or deleted in data storage systems, and no user test responses are submitted.","No legal commitments or financial transactions for the user occur, user-controllable data is not modified or deleted in data storage systems, and no user test responses are submitted.","No legal commitments or financial transactions for the user occur, user-controllable data is not modified or deleted in data storage systems, and no user test responses are submitted.","No legal commitments or financial transactions for the user occur, user-controllable data is not modified or deleted in data storage systems, and no user test responses are submitted.","No legal commitments or financial transactions for the user occur, user-controllable data is not modified or deleted in data storage systems, and no user test responses are submitted.","No legal commitments or financial transactions for the user occur, user-controllable data is not modified or deleted in data storage systems, and no user test responses are submitted.","No legal commitments or financial transactions for the user occur, user-controllable data is not modified or deleted in data storage systems, and no user test responses are submitted."]
["3.3.8","AA","Accessible Authentication (Minimum)","A cognitive function test (such as remembering a password or solving a puzzle) is not required for any step in an authentication process unless that step provides at least one of the following:","N/A","N/A","N/A","N/A","N/A","N/A","N/A","N/A","N/A","N/A","N/A","N/A","N/A","N/A","N/A","N/A","N/A","N/A","N/A","N/A","N/A","N/A","N/A","N/A","N/A","N/A","N/A","N/A","N/A","N/A","N/A","N/A","N/A","N/A","N/A","N/A","N/A","N/A","N/A","N/A"]
[null,null,null,"\nAlternative: Another authentication method that does not rely on a cognitive function test.\nMechanism: A mechanism is available to assist the user in completing the cognitive function test.\nObject Recognition: The cognitive function test is to recognize objects.\nPersonal Content: The cognitive function test is to identify non-text content the user provided to the Web site.","There is no authentication process.","There is no authentication process.","There is no authentication process.","There is no authentication process.","There is no authentication process.","There is no authentication process.","There is no authentication process.","There is no authentication process.","There is no authentication process.","There is no authentication process.","There is no authentication process.","There is no authentication process.","There is no authentication process.","There is no authentication process.","There is no authentication process.","There is no authentication process.","There is no authentication process.","There is no authentication process.","There is no authentication process.","There is no authentication process.","There is no authentication process.","There is no authentication process.","There is no authentication process.","There is no authentication process.","There is no authentication process.","There is no authentication process.","There is no authentication process.","There is no authentication process.","There is no authentication process.","There is no authentication process.","There is no authentication process.","There is no authentication process.","There is no authentication process.","                                                                                                                                                                                                                                                                                                         ","                                                                                                                                                                                                                                                                                                         ","                                                                                                                                                                                                                                                                                                         ","                                                                                                                                                                                                                                                                                                         ","                                                                                                                                                                                                                                                                                                         ","                                                                                                                                                                                                                                                                                                         ","                                                                                                                                                                                                                                                                                                         "]
["W3C Ref.","Level","Name","Guideline 4.1 Compatible: Maximize compatibility with current and future user agents, including assistive technologies."]
["4.1.3","AA","Status Messages","In content implemented using mark-up languages, status messages can be programmatically determined through role or properties such that they can be presented to the user by assistive technologies without receiving focus.","N/A","N/A","N/A","N/A","N/A","N/A","PASS","N/A","N/A","PASS","PASS","N/A","N/A","N/A","N/A","N/A","N/A","N/A","N/A","N/A","NOT TESTED","NOT TESTED","NOT TESTED","NOT TESTED","NOT TESTED","NOT TESTED","NOT TESTED","NOT TESTED","NOT TESTED","NOT TESTED","NOT TESTED","NOT TESTED","NOT TESTED","NOT TESTED","NOT TESTED","NOT TESTED","NOT TESTED","NOT TESTED","NOT TESTED","NOT TESTED"]
[null,null,null,null,"There are no status messages.","There are no status messages.","There are no status messages.","There are no status messages.","There are no status messages.","There are no status messages.",null,"There are no status messages.","There are no status messages.",null,null,"There are no status messages.","There are no status messages.","There are no status messages.","There are no status messages.","There are no status messages.","There are no status messages.","There are no status messages.","There are no status messages.","There are no status messages."]
[]
["Level AAA Success Criteria"]
["W3C Ref.","Level","Name","Principle 1: Perceivable - Information and user interface components must be presentable to users in ways they can perceive."]
["1.2.6","AAA","Sign Language (Prerecorded)","Sign language interpretation is provided for all prerecorded audio content in synchronized media."]
[]
["1.2.7","AAA","Extended Audio Description (Prerecorded)","Where pauses in foreground audio are insufficient to allow audio descriptions to convey the sense of the video, extended audio description is provided for all prerecorded video content in synchronized media."]
[]
["1.2.8","AAA","Media Alternative (Prerecorded)","An alternative for time-based media is provided for all prerecorded synchronized media and for all prerecorded video-only media."]
[]
["1.2.9","AAA","Audio-only (Live)","An alternative for time-based media that presents equivalent information for live audio-only content is provided."]
[]
["1.3.6","AAA","Identify Purpose","In content implemented using markup languages, the purpose of User Interface Components, icons, and regions can be programmatically determined."]
[]
["1.4.6","AAA","Contrast (Enhanced)","The visual presentation of text and images of text has a contrast ratio of at least 7:1, except for the following:"]
[null,null,null,"\nLarge Text: Large-scale text and images of large-scale text have a contrast ratio of at least 4.5:1;\nIncidental: Text or images of text that are part of an inactive user interface component, that are pure decoration, that are not visible to anyone, or that are part of a picture that contains significant other visual content, have no contrast requirement.\nLogotypes: Text that is part of a logo or brand name has no contrast requirement."]
["1.4.7","AAA","Low or No Background Audio","For prerecorded audio-only content that (1) contains primarily speech in the foreground, (2) is not an audio CAPTCHA or audio logo, and (3) is not vocalization intended to be primarily musical expression such as singing or rapping, at least one of the following is true:"]
[null,null,null,"\nNo Background: The audio does not contain background sounds.\nTurn Off: The background sounds can be turned off.\n20 dB: The background sounds are at least 20 decibels lower than the foreground speech content, with the exception of occasional sounds that last for only one or two seconds.\n"]
["1.4.8","AAA","Visual Presentation","For the visual presentation of blocks of text, a mechanism is available to achieve the following:"]
[null,null,null,"\na) Foreground and background colors can be selected by the user.\nb) Width is no more than 80 characters or glyphs (40 if CJK).\nc) Text is not justified (aligned to both the left and the right margins).\nd) Line spacing (leading) is at least space-and-a-half within paragraphs, and paragraph spacing is at least 1.5 times larger than the line spacing.\ne) Text can be resized without assistive technology up to 200 percent in a way that does not require the user to scroll horizontally to read a line of text on a full-screen window."]
["1.4.9","AAA","Images of Text (No Exception)","Images of text are only used for pure decoration or where a particular presentation of text is essential to the information being conveyed."]
[]
["2.1.3","AAA","Keyboard (No Exception)","All functionality of the content is operable through a keyboard interface without requiring specific timings for individual keystrokes."]
[]
["2.2.3","AAA","No Timing","Timing is not an essential part of the event or activity presented by the content, except for non-interactive synchronized media and real-time events."]
[]
["2.2.4","AAA","Interruptions","Interruptions can be postponed or suppressed by the user, except interruptions involving an emergency."]
[]
["2.2.5","AAA","Re-authenticating","When an authenticated session expires, the user can continue the activity without loss of data after re-authenticating."]
[]
["2.2.6","AAA","Timeouts","Users are warned of the duration of any user inactivity that could cause data loss, unless the data is preserved for more than 20 hours when the user does not take any actions."]
[]
["2.3.2","AAA","Three Flashes","Web pages do not contain anything that flashes more than three times in any one second period."]
[]
["2.3.3","AAA","Animation from Interactions","Motion animation triggered by interaction can be disabled, unless the animation is essential to the functionality or the information being conveyed."]
[]
["2.4.8","AAA","Location","Information about the user's location within a set of Web pages is available."]
[]
["2.4.9","AAA","Link Purpose (Link Only)","A mechanism is available to allow the purpose of each link to be identified from link text alone, except where the purpose of the link would be ambiguous to users in general."]
[]
["2.4.10","AAA","Section Headings","Section headings are used to organize the content."]
[]
["2.4.12","AAA","Focus Not Obscured (Enhanced)","When a user interface component receives keyboard focus, no part of the component is hidden by author-created content."]
[]
["2.4.13","AAA","Focus Appearance","When the keyboard focus indicator is visible, an area of the focus indicator meets all the following:"]
[null,null,null,"\n • is at least as large as the area of a 2 CSS pixel thick perimeter of the unfocused component or sub-component, and\n • has a contrast ratio of at least 3:1 between the same pixels in the focused and unfocused states.\nExceptions:\n • The focus indicator is determined by the user agent and cannot be adjusted by the author, or\n • The focus indicator and the indicator's background color are not modified by the author."]
["2.5.5","AAA","Target Size","The size of the target for pointer inputs is at least 44 by 44 CSS pixels except when:"]
[null,null,null,"\nEquivalent: The target is available through an equivalent link or control on the same page that is at least 44 by 44 CSS pixels;\nInline: The target is in a sentence or block of text;\nUser Agent Control: The size of the target is determined by the user agent and is not modified by the author;\nEssential: A particular presentation of the target is essential to the information being conveyed.\n"]
["2.5.6","AAA","Concurrent Input Mechanisms","Web content does not restrict use of input modalities available on a platform except where the restriction is essential, required to ensure the security of the content, or required to respect user settings."]
[]
["3.1.3","AAA","Unusual Words","A mechanism is available for identifying specific definitions of words or phrases used in an unusual or restricted way, including idioms and jargon."]
[]
["3.1.4","AAA","Abbreviations","A mechanism for identifying the expanded form or meaning of abbreviations is available."]
[]
["3.1.5","AAA","Reading Level","When text requires reading ability more advanced than the lower secondary education level after removal of proper names and titles, supplemental content, or a version that does not require reading ability more advanced than the lower secondary education level, is available."]
[]
["3.1.6","AAA","Pronunciation","A mechanism is available for identifying specific pronunciation of words where meaning of the words, in context, is ambiguous without knowing the pronunciation."]
[]
["3.2.5","AAA","Change on Request","Changes of context are initiated only by user request or a mechanism is available to turn off such changes."]
[]
["3.3.5","AAA","Help","Context-sensitive help is available."]
[]
["3.3.6","AAA","Error Prevention (All)","For Web pages that require the user to submit information, at least one of the following is true:"]
[null,null,null,"\nReversible: Submissions are reversible.\nChecked: Data entered by the user is checked for input errors and the user is provided an opportunity to correct them.\nConfirmed: A mechanism is available for reviewing, confirming, and correcting information before finalizing the submission.\n"]
["3.3.9","AAA","Accessible Authentication (Enhanced)","A cognitive function test (such as remembering a password or solving a puzzle) is not required for any step in an authentication process unless that step provides at least one of the following:"]
[null,null,null,"\nAlternative: Another authentication method that does not rely on a cognitive function test.\nMechanism: A mechanism is available to assist the user in completing the cognitive function test."]
["End of content."]

{"sheet":"Colour Contrast Analysis","index":6,"n_rows":136,"n_cols":176,"rows_kept":136,"cut":false,"hidden":false,"merged":[[0,0,1,21]]}
["Colour Contrast Analysis for combinations of\ntext and background colours (level AA)",null,null,null,null,null,null,null,null,null,null,null,null,null,null,null,null,null,null,null,null,null,null,null,null,{"$f":"IF(INDIRECT(\"'Statistics'!\" & ADDRESS(COLUMN()-11,2))=\"\",\"\",INDIRECT(\"'Statistics'!\" & ADDRESS(COLUMN()-11,2)))","v":"Header"},"Footer","Cookie banner","Cookie dialog","Search","Share this page","Home page","Search results","Contact City Hall or the Mayor","Contact us","Priorities for London","FOI - London Living Rent [Jan 2024]","GLA Economics publications","Case study: Skills and resource sharing with organisations","Oru Sutton (London Borough of Sutton)","Early years childcare in London report","Find adult learning opportunities near you","Public Meetings","Agenda and minutes","Meetings OPDC Board","Accessibility (WCAG 2.2 criteria only)","City Hall Blog (WCAG 2.2 criteria only)","Working at City Hall (WCAG 2.2 criteria only)","Take part (WCAG 2.2 criteria only)","Events landing page (WCAG 2.2 criteria only)","Event (WCAG 2.2 criteria only)","London Unseen: self-guided walks (WCAG 2.2 criteria only)","You've seen on the screen, now love the locations (WCAG 2.2 criteria only)","DD1482 GLA Records Management Policy (WCAG 2.2 criteria only)","Mayor's annual report (WCAG 2.2 criteria only)","Mayor’s Equality Report 2020/22 (WCAG 2.2 criteria only)","Press release (WCAG 2.2 criteria only)",{"$f":"IF(INDIRECT(\"'Statistics'!\" & ADDRESS(COLUMN()-11,2))=\"\",\"\",INDIRECT(\"'Statistics'!\" & ADDRESS(COLUMN()-11,2)))","v":"Let's do London (WCAG 2.2 criteria only)"},"Infrastructure Mapping Application (WCAG 2.2 criteria only)","Sign up to a termly newsletter for schools (WCAG 2.2 criteria only)","User login (WCAG 2.2 criteria only)","Current vacancies (WCAG 2.2 criteria only)","Profile - Zoe Oliver - Watts (WCAG 2.2 criteria only)","View cookies (WCAG 2.2 criteria only)","Terms and conditions for the use of our website and Talk London website (WCAG 2.2 criteria only)","Page 41","Page 42","Page 43","Page 44","Page 45","Page 46","Page 47","Page 48","Page 49","Page 50","Page 51","Page 52","Page 53","Page 54","Page 55","Page 56","Page 57","Page 58","Page 59","Page 60","Page 61","Page 62","Page 63","Page 64",{"$f":"IF(INDIRECT(\"'Statistics'!\" & ADDRESS(COLUMN()-11,2))=\"\",\"\",INDIRECT(\"'Statistics'!\" & ADDRESS(COLUMN()-11,2)))","v":"Page 65"},"Page 66","Page 67","Page 68","Page 69","Page 70","Page 71","Page 72","Page 73","Page 74","Page 75","Page 76","Page 77","Page 78","Page 79","Page 80","Page 81","Page 82","Page 83","Page 84","Page 85","Page 86","Page 87","Page 88","Page 89","Page 90","Page 91","Page 92","Page 93","Page 94","Page 95","Page 96",{"$f":"IF(INDIRECT(\"'Statistics'!\" & ADDRESS(COLUMN()-11,2))=\"\",\"\",INDIRECT(\"'Statistics'!\" & ADDRESS(COLUMN()-11,2)))","v":"Page 97"},"Page 98","Page 99","Page 100","Page 101","Page 102","Page 103","Page 104","Page 105","Page 106","Page 107","Page 108","Page 109","Page 110","Page 111","Page 112","Page 113","Page 114","Page 115","Page 116","Page 117","Page 118","Page 119","Page 120","Page 121","Page 122","Page 123","Page 124","Page 125","Page 126","Page 127","Page 128",{"$f":"IF(INDIRECT(\"'Statistics'!\" & ADDRESS(COLUMN()-11,2))=\"\",\"\",INDIRECT(\"'Statistics'!\" & ADDRESS(COLUMN()-11,2)))","v":"Page 129"},"Page 130","Page 131","Page 132","Page 133","Page 134","Page 135","Page 136","Page 137","Page 138","Page 139","Page 140","Page 141","Page 142","Page 143","Page 144","Page 145","Page 146","Page 147","Page 148","Page 149","Page 150","End of content."]
[null,null,null,null,null,null,null,null,null,null,null,null,null,null,null,null,null,null,null,null,null,null,null,null,null,{"$f":"IF(INDIRECT(\"'Statistics'!\" & ADDRESS(COLUMN()-11,3))=\"\",\"\",INDIRECT(\"'Statistics'!\" & ADDRESS(COLUMN()-11,3)))","v":"https://www.london.gov.uk/"},"https://www.london.gov.uk/","https://www.london.gov.uk/","https://www.london.gov.uk/","https://www.london.gov.uk/","https://www.london.gov.uk/","https://www.london.gov.uk/","https://www.london.gov.uk/search?query=london","https://www.london.gov.uk/who-we-are/what-mayor-does/contact-city-hall-or-mayor","https://www.london.gov.uk/contact-us-form","https://www.london.gov.uk/who-we-are/what-mayor-does/priorities-london","https://www.london.gov.uk/who-we-are/governance-and-spending/sharing-our-information/foi-disclosure-log/foi-london-living-rent-jan-2024","https://www.london.gov.uk/programmes-strategies/research-and-analysis/gla-economics-publications","https://www.london.gov.uk/programmes-strategies/arts-and-culture/space-culture/cultural-infrastructure-plan-and-toolbox/support-culture-and-community-spaces-risk/case-study-skills-and-resource-sharing-organisations","https://www.london.gov.uk/programmes-strategies/shaping-local-spaces/regeneration-projects/oru-sutton-london-borough-sutton","https://www.london.gov.uk/who-we-are/what-london-assembly-does/london-assembly-work/london-assembly-publications/early-years-childcare-london-report","https://www.london.gov.uk/programmes-strategies/jobs-and-skills/find-adult-learning-providers-near-me","https://www.london.gov.uk/about-us/londonassembly/meetings/mgCalendarMonthView.aspx?GL=1&bcr=1","https://www.london.gov.uk/about-us/londonassembly/meetings/ieListDocuments.aspx?CId=305&MId=7434","https://www.london.gov.uk/moderngovopdc/ieListMeetings.aspx?CommitteeId=378","https://www.london.gov.uk/programmes-strategies/accessibility","https://www.london.gov.uk/who-we-are/city-hall-blog","https://www.london.gov.uk/take-part/working-city-hall","https://www.london.gov.uk/take-part","https://www.london.gov.uk/events","https://www.london.gov.uk/events/st-patricks-day-2025","https://www.london.gov.uk/programmes-strategies/arts-and-culture/diversity-public-realm/london-unseen-amplifying-community-histories-public-realm/london-unseen-self-guided-walks","https://www.london.gov.uk/programmes-strategies/arts-and-culture/make-date-london-0/london-music-video-locations-love","https://www.london.gov.uk/decisions/dd1482-gla-records-management-policy","https://www.london.gov.uk/publications/mayor-londons-annual-report-2020-2021","https://www.london.gov.uk/programmes-strategies/communities-and-social-justice/mayors-strategy-equality-diversity-and-inclusion/mayors-annual-equality-report-2020-22","https://www.london.gov.uk/cross-party-statement-london-assembly-planned-protests-capital",{"$f":"IF(INDIRECT(\"'Statistics'!\" & ADDRESS(COLUMN()-11,3))=\"\",\"\",INDIRECT(\"'Statistics'!\" & ADDRESS(COLUMN()-11,3)))","v":"https://www.london.gov.uk/programmes-strategies/arts-and-culture/lets-do-london"},"https://www.london.gov.uk/programmes-strategies/better-infrastructure/data-and-innovation-tools/infrastructure-mapping-application","https://www.london.gov.uk/programmes-strategies/education-and-youth/improving-standards-schools-and-teaching/sign-termly-newsletter-schools","https://www.london.gov.uk/user/login?destination=/programmes-strategies/communities-and-social-justice/get-help-cost-living#guest-login","https://www.london.gov.uk/take-part/working-city-hall/current-vacancies","https://www.london.gov.uk/who-we-are/governance-and-spending/promoting-good-governance/senior-staff/zoe-oliver-watts","https://www.london.gov.uk/","https://www.london.gov.uk/terms-and-conditions/terms-and-conditions-use-our-website-and-talk-london-website","URL 41","URL 42","URL 43","URL 44","URL 45","URL 46","URL 47","URL 48","URL 49","URL 50","URL 51","URL 52","URL 53","URL 54","URL 55","URL 56","URL 57","URL 58","URL 59","URL 60","URL 61","URL 62","URL 63","URL 64",{"$f":"IF(INDIRECT(\"'Statistics'!\" & ADDRESS(COLUMN()-11,3))=\"\",\"\",INDIRECT(\"'Statistics'!\" & ADDRESS(COLUMN()-11,3)))","v":"URL 65"},"URL 66","URL 67","URL 68","URL 69","URL 70","URL 71","URL 72","URL 73","URL 74","URL 75","URL 76","URL 77","URL 78","URL 79","URL 80","URL 81","URL 82","URL 83","URL 84","URL 85","URL 86","URL 87","URL 88","URL 89","URL 90","URL 91","URL 92","URL 93","URL 94","URL 95","URL 96",{"$f":"IF(INDIRECT(\"'Statistics'!\" & ADDRESS(COLUMN()-11,3))=\"\",\"\",INDIRECT(\"'Statistics'!\" & ADDRESS(COLUMN()-11,3)))","v":"URL 97"},"URL 98","URL 99","URL 100","URL 101","URL 102","URL 103","URL 104","URL 105","URL 106","URL 107","URL 108","URL 109","URL 110","URL 111","URL 112","URL 113","URL 114","URL 115","URL 116","URL 117","URL 118","URL 119","URL 120","URL 121","URL 122","URL 123","URL 124","URL 125","URL 126","URL 127","URL 128",{"$f":"IF(INDIRECT(\"'Statistics'!\" & ADDRESS(COLUMN()-11,3))=\"\",\"\",INDIRECT(\"'Statistics'!\" & ADDRESS(COLUMN()-11,3)))","v":"URL 129"},"URL 130","URL 131","URL 132","URL 133","URL 134","URL 135","URL 136","URL 137","URL 138","URL 139","URL 140","URL 141","URL 142","URL 143","URL 144","URL 145","URL 146","URL 147","URL 148","URL 149","URL 150"]
[null,null,null,null,null,null,null,null,null,null,null,null,null,null,null,null,null,null,null,null,null,null,"Fail Only",null,null,"Page #1","Page #2","Page #3","Page #4","Page #5","Page #6","Page #7","Page #8","Page #9","Page #10","Page #11","Page #12","Page #13","Page #14","Page #15","Page #16","Page #17","Page #18","Page #19","Page #20","Page #21","Page #22","Page #23","Page #24","Page #25","Page #26","Page #27","Page #28","Page #29","Page #30","Page #31","Page #32","Page #33","Page #34","Page #35","Page #36","Page #37","Page #38","Page #39","Page #40","Page #41","Page #42","Page #43","Page #44","Page #45","Page #46","Page #47","Page #48","Page #49","Page #50","Page #51","Page #52","Page #53","Page #54","Page #55","Page #56","Page #57","Page #58","Page #59","Page #60","Page #61","Page #62","Page #63","Page #64","Page #65","Page #66","Page #67","Page #68","Page #69","Page #70","Page #71","Page #72","Page #73","Page #74","Page #75","Page #76","Page #77","Page #78","Page #79","Page #80","Page #81","Page #82","Page #83","Page #84","Page #85","Page #86","Page #87","Page #88","Page #89","Page #90","Page #91","Page #92","Page #93","Page #94","Page #95","Page #96","Page #97","Page #98","Page #99","Page #100","Page #101","Page #102","Page #103","Page #104","Page #105","Page #106","Page #107","Page #108","Page #109","Page #110","Page #111","Page #112","Page #113","Page #114","Page #115","Page #116","Page #117","Page #118","Page #119","Page #120","Page #121","Page #122","Page #123","Page #124","Page #125","Page #126","Page #127","Page #128","Page #129","Page #130","Page #131","Page #132","Page #133","Page #134","Page #135","Page #136","Page #137","Page #138","Page #139","Page #140","Page #141","Page #142","Page #143","Page #144","Page #145","Page #146","Page #147","Page #148","Page #149","Page #150"]
["Page Area","Image","Text \nColour","Back.\nColour","Large (18pt or 14pt bold)","Valid","R RGB","Fail Only","G RGB","G","B RGB","B","Luminance","Valid","R RGB","R","G RGB","G","B RGB","B","Luminance","Contrast Ratio","Exempt","All Results","Image / Text / Video",{"$f":"COUNTIF(Z5:Z1062,\"Fail\") & \" Fault\" & IF(COUNTIF(Z5:Z1062,\"Fail\")=1,\"\",\"s\") & \" + \" & CHAR(10) & COUNTIF(Z5:Z1062,\"Should Fix\") & \" Should Fix\"","v":"0 Faults + \n0 Should Fix"},"0 Faults + \n0 Should Fix","0 Faults + \n0 Should Fix","1 Fault + \n0 Should Fix","0 Faults + \n0 Should Fix","0 Faults + \n0 Should Fix","4 Faults + \n0 Should Fix","0 Faults + \n0 Should Fix","0 Faults + \n0 Should Fix","1 Fault + \n0 Should Fix","0 Faults + \n0 Should Fix","0 Faults + \n0 Should Fix","0 Faults + \n0 Should Fix","0 Faults + \n0 Should Fix","1 Fault + \n0 Should Fix","0 Faults + \n0 Should Fix","1 Fault + \n0 Should Fix","0 Faults + \n0 Should Fix","0 Faults + \n0 Should Fix","0 Faults + \n0 Should Fix","0 Faults + \n0 Should Fix","0 Faults + \n0 Should Fix","0 Faults + \n0 Should Fix","0 Faults + \n0 Should Fix","0 Faults + \n0 Should Fix","0 Faults + \n0 Should Fix","0 Faults + \n0 Should Fix","0 Faults + \n0 Should Fix","0 Faults + \n0 Should Fix","0 Faults + \n0 Should Fix","0 Faults + \n0 Should Fix","0 Faults + \n0 Should Fix",{"$f":"COUNTIF(BF5:BF1062,\"Fail\") & \" Fault\" & IF(COUNTIF(BF5:BF1062,\"Fail\")=1,\"\",\"s\") & \" + \" & CHAR(10) & COUNTIF(BF5:BF1062,\"Should Fix\") & \" Should Fix\"","v":"0 Faults + \n0 Should Fix"},"0 Faults + \n0 Should Fix","0 Faults + \n0 Should Fix","0 Faults + \n0 Should Fix","0 Faults + \n0 Should Fix","0 Faults + \n0 Should Fix","0 Faults + \n0 Should Fix","0 Faults + \n0 Should Fix","0 Faults + \n0 Should Fix","0 Faults + \n0 Should Fix","0 Faults + \n0 Should Fix","0 Faults + \n0 Should Fix","0 Faults + \n0 Should Fix","0 Faults + \n0 Should Fix","0 Faults + \n0 Should Fix","0 Faults + \n0 Should Fix","0 Faults + \n0 Should Fix","0 Faults + \n0 Should Fix","0 Faults + \n0 Should Fix","0 Faults + \n0 Should Fix","0 Faults + \n0 Should Fix","0 Faults + \n0 Should Fix","0 Faults + \n0 Should Fix","0 Faults + \n0 Should Fix","0 Faults + \n0 Should Fix","0 Faults + \n0 Should Fix","0 Faults + \n0 Should Fix","0 Faults + \n0 Should Fix","0 Faults + \n0 Should Fix","0 Faults + \n0 Should Fix","0 Faults + \n0 Should Fix","0 Faults + \n0 Should Fix",{"$f":"COUNTIF(CL5:CL1062,\"Fail\") & \" Fault\" & IF(COUNTIF(CL5:CL1062,\"Fail\")=1,\"\",\"s\") & \" + \" & CHAR(10) & COUNTIF(CL5:CL1062,\"Should Fix\") & \" Should Fix\"","v":"0 Faults + \n0 Should Fix"},"0 Faults + \n0 Should Fix","0 Faults + \n0 Should Fix","0 Faults + \n0 Should Fix","0 Faults + \n0 Should Fix","0 Faults + \n0 Should Fix","0 Faults + \n0 Should Fix","0 Faults + \n0 Should Fix","0 Faults + \n0 Should Fix","0 Faults + \n0 Should Fix","0 Faults + \n0 Should Fix","0 Faults + \n0 Should Fix","0 Faults + \n0 Should Fix","0 Faults + \n0 Should Fix","0 Faults + \n0 Should Fix","0 Faults + \n0 Should Fix","0 Faults + \n0 Should Fix","0 Faults + \n0 Should Fix","0 Faults + \n0 Should Fix","0 Faults + \n0 Should Fix","0 Faults + \n0 Should Fix","0 Faults + \n0 Should Fix","0 Faults + \n0 Should Fix","0 Faults + \n0 Should Fix","0 Faults + \n0 Should Fix","0 Faults + \n0 Should Fix","0 Faults + \n0 Should Fix","0 Faults + \n0 Should Fix","0 Faults + \n0 Should Fix","0 Faults + \n0 Should Fix","0 Faults + \n0 Should Fix","0 Faults + \n0 Should Fix",{"$f":"COUNTIF(DR5:DR1062,\"Fail\") & \" Fault\" & IF(COUNTIF(DR5:DR1062,\"Fail\")=1,\"\",\"s\") & \" + \" & CHAR(10) & COUNTIF(DR5:DR1062,\"Should Fix\") & \" Should Fix\"","v":"0 Faults + \n0 Should Fix"},"0 Faults + \n0 Should Fix","0 Faults + \n0 Should Fix","0 Faults + \n0 Should Fix","0 Faults + \n0 Should Fix","0 Faults + \n0 Should Fix","0 Faults + \n0 Should Fix","0 Faults + \n0 Should Fix","0 Faults + \n0 Should Fix","0 Faults + \n0 Should Fix","0 Faults + \n0 Should Fix","0 Faults + \n0 Should Fix","0 Faults + \n0 Should Fix","0 Faults + \n0 Should Fix","0 Faults + \n0 Should Fix","0 Faults + \n0 Should Fix","0 Faults + \n0 Should Fix","0 Faults + \n0 Should Fix","0 Faults + \n0 Should Fix","0 Faults + \n0 Should Fix","0 Faults + \n0 Should Fix","0 Faults + \n0 Should Fix","0 Faults + \n0 Should Fix","0 Faults + \n0 Should Fix","0 Faults + \n0 Should Fix","0 Faults + \n0 Should Fix","0 Faults + \n0 Should Fix","0 Faults + \n0 Should Fix","0 Faults + \n0 Should Fix","0 Faults + \n0 Should Fix","0 Faults + \n0 Should Fix","0 Faults + \n0 Should Fix",{"$f":"COUNTIF(EX5:EX1062,\"Fail\") & \" Fault\" & IF(COUNTIF(EX5:EX1062,\"Fail\")=1,\"\",\"s\") & \" + \" & CHAR(10) & COUNTIF(EX5:EX1062,\"Should Fix\") & \" Should Fix\"","v":"0 Faults + \n0 Should Fix"},"0 Faults + \n0 Should Fix","0 Faults + \n0 Should Fix","0 Faults + \n0 Should Fix","0 Faults + \n0 Should Fix","0 Faults + \n0 Should Fix","0 Faults + \n0 Should Fix","0 Faults + \n0 Should Fix","0 Faults + \n0 Should Fix","0 Faults + \n0 Should Fix","0 Faults + \n0 Should Fix","0 Faults + \n0 Should Fix","0 Faults + \n0 Should Fix","0 Faults + \n0 Should Fix","0 Faults + \n0 Should Fix","0 Faults + \n0 Should Fix","0 Faults + \n0 Should Fix","0 Faults + \n0 Should Fix","0 Faults + \n0 Should Fix","0 Faults + \n0 Should Fix","0 Faults + \n0 Should Fix","0 Faults + \n0 Should Fix"]
["Link text (Normal, Hover, Focus)",null,"#FFFFFF","#353D42","Small",{"$f":"IF(LEN(D5)=0,\"\",AND(LEFT(D5,1)=\"#\",LEN(D5)=7))","v":true},{"$f":"HEX2DEC(RIGHT(LEFT(D5,3),2))","v":53},{"$f":"IF(G5/255<= 0.03928,G5/(255*12.92),(((G5/255)+0.055)/1.055)^2.4)","v":3.5601314875020329E-2},{"$f":"HEX2DEC(RIGHT(LEFT(D5,5),2))","v":61},{"$f":"IF(I5/255<= 0.03928,I5/(255*12.92),(((I5/255)+0.055)/1.055)^2.4)","v":4.6665086336880102E-2},{"$f":"HEX2DEC(RIGHT(D5,2))","v":66},{"$f":"IF(K5/255<= 0.03928,K5/(255*12.92),(((K5/255)+0.055)/1.055)^2.4)","v":5.4480276442442369E-2},{"$f":"(0.2126*H5)+(0.7152*J5)+(0.0722*L5)","v":4.4877185249710308E-2},{"$f":"IF(LEN(C5)=0,\"\",AND(LEFT(C5,1)=\"#\",LEN(C5)=7))","v":true},{"$f":"HEX2DEC(RIGHT(LEFT(C5,3),2))","v":255},{"$f":"IF(O5/255<= 0.03928,O5/(255*12.92),(((O5/255)+0.055)/1.055)^2.4)","v":1},{"$f":"HEX2DEC(RIGHT(LEFT(C5,5),2))","v":255},{"$f":"IF(Q5/255<= 0.03928,Q5/(255*12.92),(((Q5/255)+0.055)/1.055)^2.4)","v":1},{"$f":"HEX2DEC(RIGHT(C5,2))","v":255},{"$f":"IF(S5/255<= 0.03928,S5/(255*12.92),(((S5/255)+0.055)/1.055)^2.4)","v":1},{"$f":"(0.2126*P5)+(0.7152*R5)+(0.0722*T5)","v":1},{"$f":"IF(OR(F5=\"\",N5=\"\")=TRUE,\"\",IF(OR(F5=FALSE,N5=FALSE)=TRUE,\"ERROR\",ROUND(IF(M5>U5,(M5+0.05)/(U5+0.05),(U5+0.05)/(M5+0.05)),2)))","v":11.07},"No",{"$f":"IF(W5=\"Rendered Colours\",\"Should Fix\",IF(OR(W5=\"\",W5=\"No\")=TRUE,IF(V5=\"\",\"\",IF(V5>=Comboboxes!A$5,\"Pass\",IF(AND(V5>=Comboboxes!A$6,E5=\"Large\"),\"Pass (large text)\",\"Fail\"))),\"Exempt\"))","v":"Pass"},"Text","Pass","N/A","N/A","N/A","N/A","N/A","N/A","N/A","N/A","N/A","N/A","N/A","N/A","N/A","N/A","N/A","N/A","N/A","N/A","N/A","N/A","N/A","N/A","N/A","N/A","N/A","N/A","N/A","N/A","N/A","N/A","N/A","N/A","N/A","N/A","N/A","N/A","N/A","N/A","N/A"]
["Button text (Normal, Hover, Focus)",null,"#FFFFFF","#353D42","Small",{"$f":"IF(LEN(D6)=0,\"\",AND(LEFT(D6,1)=\"#\",LEN(D6)=7))","v":true},{"$f":"HEX2DEC(RIGHT(LEFT(D6,3),2))","v":53},3.5601314875020329E-2,{"$f":"HEX2DEC(RIGHT(LEFT(D6,5),2))","v":61},4.6665086336880102E-2,{"$f":"HEX2DEC(RIGHT(D6,2))","v":66},5.4480276442442369E-2,4.4877185249710308E-2,{"$f":"IF(LEN(C6)=0,\"\",AND(LEFT(C6,1)=\"#\",LEN(C6)=7))","v":true},{"$f":"HEX2DEC(RIGHT(LEFT(C6,3),2))","v":255},1,{"$f":"HEX2DEC(RIGHT(LEFT(C6,5),2))","v":255},1,{"$f":"HEX2DEC(RIGHT(C6,2))","v":255},1,1,11.07,"No",{"$f":"IF(W6=\"Rendered Colours\",\"Should Fix\",IF(OR(W6=\"\",W6=\"No\")=TRUE,IF(V6=\"\",\"\",IF(V6>=Comboboxes!A$5,\"Pass\",IF(AND(V6>=Comboboxes!A$6,E6=\"Large\"),\"Pass (large text)\",\"Fail\"))),\"Exempt\"))","v":"Pass"},"Text","Pass","N/A","N/A","N/A","N/A","N/A","N/A","N/A","N/A","N/A","N/A","N/A","N/A","N/A","N/A","N/A","N/A","N/A","N/A","N/A","N/A","N/A","N/A","N/A","N/A","N/A","N/A","N/A","N/A","N/A","N/A","N/A","N/A","N/A","N/A","N/A","N/A","N/A","N/A","N/A"]
["Skip to content link text (Normal, Hover, Focus)",null,"#FFFFFF","#000000","Small",{"$f":"IF(LEN(D7)=0,\"\",AND(LEFT(D7,1)=\"#\",LEN(D7)=7))","v":true},{"$f":"HEX2DEC(RIGHT(LEFT(D7,3),2))","v":0},0,{"$f":"HEX2DEC(RIGHT(LEFT(D7,5),2))","v":0},0,{"$f":"HEX2DEC(RIGHT(D7,2))","v":0},0,0,{"$f":"IF(LEN(C7)=0,\"\",AND(LEFT(C7,1)=\"#\",LEN(C7)=7))","v":true},{"$f":"HEX2DEC(RIGHT(LEFT(C7,3),2))","v":255},1,{"$f":"HEX2DEC(RIGHT(LEFT(C7,5),2))","v":255},1,{"$f":"HEX2DEC(RIGHT(C7,2))","v":255},1,1,21,"No",{"$f":"IF(W7=\"Rendered Colours\",\"Should Fix\",IF(OR(W7=\"\",W7=\"No\")=TRUE,IF(V7=\"\",\"\",IF(V7>=Comboboxes!A$5,\"Pass\",IF(AND(V7>=Comboboxes!A$6,E7=\"Large\"),\"Pass (large text)\",\"Fail\"))),\"Exempt\"))","v":"Pass"},"Text","Pass","N/A","N/A","N/A","N/A","N/A","N/A","N/A","N/A","N/A","N/A","N/A","N/A","N/A","N/A","N/A","N/A","N/A","N/A","N/A","N/A","N/A","N/A","N/A","N/A","N/A","N/A","N/A","N/A","N/A","N/A","N/A","N/A","N/A","N/A","N/A","N/A","N/A","N/A","N/A"]
["Heading text",null,"#FFFFFF","#1A1E21","Small",{"$f":"IF(LEN(D8)=0,\"\",AND(LEFT(D8,1)=\"#\",LEN(D8)=7))","v":true},{"$f":"HEX2DEC(RIGHT(LEFT(D8,3),2))","v":26},1.0329823029626938E-2,{"$f":"HEX2DEC(RIGHT(LEFT(D8,5),2))","v":30},1.2983032342173016E-2,{"$f":"HEX2DEC(RIGHT(D8,2))","v":33},1.5208514422912713E-2,1.2579639848555126E-2,{"$f":"IF(LEN(C8)=0,\"\",AND(LEFT(C8,1)=\"#\",LEN(C8)=7))","v":true},{"$f":"HEX2DEC(RIGHT(LEFT(C8,3),2))","v":255},1,{"$f":"HEX2DEC(RIGHT(LEFT(C8,5),2))","v":255},1,{"$f":"HEX2DEC(RIGHT(C8,2))","v":255},1,1,16.78,"No",{"$f":"IF(W8=\"Rendered Colours\",\"Should Fix\",IF(OR(W8=\"\",W8=\"No\")=TRUE,IF(V8=\"\",\"\",IF(V8>=Comboboxes!A$5,\"Pass\",IF(AND(V8>=Comboboxes!A$6,E8=\"Large\"),\"Pass (large text)\",\"Fail\"))),\"Exempt\"))","v":"Pass"},"Text","N/A","Pass","N/A","N/A","N/A","N/A","N/A","N/A","N/A","N/A","N/A","N/A","N/A","N/A","N/A","N/A","N/A","N/A","N/A","N/A","N/A","N/A","N/A","N/A","N/A","N/A","N/A","N/A","N/A","N/A","N/A","N/A","N/A","N/A","N/A","N/A","N/A","N/A","N/A","N/A"]
["Link text (Normal, Hover, Focus)",null,"#FFFFFF","#1A1E21","Small",{"$f":"IF(LEN(D9)=0,\"\",AND(LEFT(D9,1)=\"#\",LEN(D9)=7))","v":true},{"$f":"HEX2DEC(RIGHT(LEFT(D9,3),2))","v":26},1.0329823029626938E-2,{"$f":"HEX2DEC(RIGHT(LEFT(D9,5),2))","v":30},1.2983032342173016E-2,{"$f":"HEX2DEC(RIGHT(D9,2))","v":33},1.5208514422912713E-2,1.2579639848555126E-2,{"$f":"IF(LEN(C9)=0,\"\",AND(LEFT(C9,1)=\"#\",LEN(C9)=7))","v":true},{"$f":"HEX2DEC(RIGHT(LEFT(C9,3),2))","v":255},1,{"$f":"HEX2DEC(RIGHT(LEFT(C9,5),2))","v":255},1,{"$f":"HEX2DEC(RIGHT(C9,2))","v":255},1,1,16.78,"No",{"$f":"IF(W9=\"Rendered Colours\",\"Should Fix\",IF(OR(W9=\"\",W9=\"No\")=TRUE,IF(V9=\"\",\"\",IF(V9>=Comboboxes!A$5,\"Pass\",IF(AND(V9>=Comboboxes!A$6,E9=\"Large\"),\"Pass (large text)\",\"Fail\"))),\"Exempt\"))","v":"Pass"},"Text","N/A","Pass","N/A","N/A","N/A","N/A","N/A","N/A","N/A","N/A","N/A","N/A","N/A","N/A","N/A","N/A","N/A","N/A","N/A","N/A","N/A","N/A","N/A","N/A","N/A","N/A","N/A","N/A","N/A","N/A","N/A","N/A","N/A","N/A","N/A","N/A","N/A","N/A","N/A","N/A"]
["Link text (Normal, Hover, Focus)",null,"#BDBDBD","#1A1E21","Small",{"$f":"IF(LEN(D10)=0,\"\",AND(LEFT(D10,1)=\"#\",LEN(D10)=7))","v":true},{"$f":"HEX2DEC(RIGHT(LEFT(D10,3),2))","v":26},1.0329823029626938E-2,{"$f":"HEX2DEC(RIGHT(LEFT(D10,5),2))","v":30},1.2983032342173016E-2,{"$f":"HEX2DEC(RIGHT(D10,2))","v":33},1.5208514422912713E-2,1.2579639848555126E-2,{"$f":"IF(LEN(C10)=0,\"\",AND(LEFT(C10,1)=\"#\",LEN(C10)=7))","v":true},{"$f":"HEX2DEC(RIGHT(LEFT(C10,3),2))","v":189},0.50888132085493376,{"$f":"HEX2DEC(RIGHT(LEFT(C10,5),2))","v":189},0.50888132085493376,{"$f":"HEX2DEC(RIGHT(C10,2))","v":189},0.50888132085493376,0.50888132085493376,8.93,"No",{"$f":"IF(W10=\"Rendered Colours\",\"Should Fix\",IF(OR(W10=\"\",W10=\"No\")=TRUE,IF(V10=\"\",\"\",IF(V10>=Comboboxes!A$5,\"Pass\",IF(AND(V10>=Comboboxes!A$6,E10=\"Large\"),\"Pass (large text)\",\"Fail\"))),\"Exempt\"))","v":"Pass"},"Text","N/A","Pass","N/A","N/A","N/A","N/A","N/A","N/A","N/A","N/A","N/A","N/A","N/A","N/A","N/A","N/A","N/A","N/A","N/A","N/A","N/A","N/A","N/A","N/A","N/A","N/A","N/A","N/A","N/A","N/A","N/A","N/A","N/A","N/A","N/A","N/A","N/A","N/A","N/A","N/A"]
["Body text",null,"#FFFFFF","#1A1E21","Small",true,26,{"$f":"IF(G11/255<= 0.03928,G11/(255*12.92),(((G11/255)+0.055)/1.055)^2.4)","v":1.0329823029626938E-2},30,{"$f":"IF(I11/255<= 0.03928,I11/(255*12.92),(((I11/255)+0.055)/1.055)^2.4)","v":1.2983032342173016E-2},33,{"$f":"IF(K11/255<= 0.03928,K11/(255*12.92),(((K11/255)+0.055)/1.055)^2.4)","v":1.5208514422912713E-2},{"$f":"(0.2126*H11)+(0.7152*J11)+(0.0722*L11)","v":1.2579639848555126E-2},true,255,{"$f":"IF(O11/255<= 0.03928,O11/(255*12.92),(((O11/255)+0.055)/1.055)^2.4)","v":1},255,{"$f":"IF(Q11/255<= 0.03928,Q11/(255*12.92),(((Q11/255)+0.055)/1.055)^2.4)","v":1},255,{"$f":"IF(S11/255<= 0.03928,S11/(255*12.92),(((S11/255)+0.055)/1.055)^2.4)","v":1},{"$f":"(0.2126*P11)+(0.7152*R11)+(0.0722*T11)","v":1},{"$f":"IF(OR(F11=\"\",N11=\"\")=TRUE,\"\",IF(OR(F11=FALSE,N11=FALSE)=TRUE,\"ERROR\",ROUND(IF(M11>U11,(M11+0.05)/(U11+0.05),(U11+0.05)/(M11+0.05)),2)))","v":16.78},"No",{"$f":"IF(W11=\"Rendered Colours\",\"Should Fix\",IF(OR(W11=\"\",W11=\"No\")=TRUE,IF(V11=\"\",\"\",IF(V11>=Comboboxes!A$5,\"Pass\",IF(AND(V11>=Comboboxes!A$6,E11=\"Large\"),\"Pass (large text)\",\"Fail\"))),\"Exempt\"))","v":"Pass"},"Text","N/A","Pass","N/A","N/A","N/A","N/A","N/A","N/A","N/A","N/A","N/A","N/A","N/A","N/A","N/A","N/A","N/A","N/A","N/A","N/A","N/A","N/A","N/A","N/A","N/A","N/A","N/A","N/A","N/A","N/A","N/A","N/A","N/A","N/A","N/A","N/A","N/A","N/A","N/A","N/A"]
["Button (Normal)",null,"#FFFFFF","#E7135D","Small",true,231,{"$f":"IF(G12/255<= 0.03928,G12/(255*12.92),(((G12/255)+0.055)/1.055)^2.4)","v":0.79910273801440901},19,{"$f":"IF(I12/255<= 0.03928,I12/(255*12.92),(((I12/255)+0.055)/1.055)^2.4)","v":6.5120907925944761E-3},93,{"$f":"IF(K12/255<= 0.03928,K12/(255*12.92),(((K12/255)+0.055)/1.055)^2.4)","v":0.10946171077829935},{"$f":"(0.2126*H12)+(0.7152*J12)+(0.0722*L12)","v":0.18244982495492015},true,255,{"$f":"IF(O12/255<= 0.03928,O12/(255*12.92),(((O12/255)+0.055)/1.055)^2.4)","v":1},255,{"$f":"IF(Q12/255<= 0.03928,Q12/(255*12.92),(((Q12/255)+0.055)/1.055)^2.4)","v":1},255,{"$f":"IF(S12/255<= 0.03928,S12/(255*12.92),(((S12/255)+0.055)/1.055)^2.4)","v":1},{"$f":"(0.2126*P12)+(0.7152*R12)+(0.0722*T12)","v":1},{"$f":"IF(OR(F12=\"\",N12=\"\")=TRUE,\"\",IF(OR(F12=FALSE,N12=FALSE)=TRUE,\"ERROR\",ROUND(IF(M12>U12,(M12+0.05)/(U12+0.05),(U12+0.05)/(M12+0.05)),2)))","v":4.5199999999999996},"No",{"$f":"IF(W12=\"Rendered Colours\",\"Should Fix\",IF(OR(W12=\"\",W12=\"No\")=TRUE,IF(V12=\"\",\"\",IF(V12>=Comboboxes!A$5,\"Pass\",IF(AND(V12>=Comboboxes!A$6,E12=\"Large\"),\"Pass (large text)\",\"Fail\"))),\"Exempt\"))","v":"Pass"},"Text","N/A","Pass","N/A","Pass","N/A","N/A","N/A","N/A","N/A","N/A","N/A","N/A","N/A","N/A","N/A","N/A","N/A","N/A","N/A","N/A","N/A","N/A","N/A","N/A","N/A","N/A","N/A","N/A","N/A","N/A","N/A","N/A","N/A","N/A","N/A","N/A","N/A","N/A","N/A","N/A"]
["Button (Hover, Focus)",null,"#FFFFFF","#9E0059","Small",true,158,0.34191442490866097,0,0,89,9.9898728247113905E-2,7.9903694915022944E-2,true,255,1,255,1,255,1,1,8.08,"No",{"$f":"IF(W13=\"Rendered Colours\",\"Should Fix\",IF(OR(W13=\"\",W13=\"No\")=TRUE,IF(V13=\"\",\"\",IF(V13>=Comboboxes!A$5,\"Pass\",IF(AND(V13>=Comboboxes!A$6,E13=\"Large\"),\"Pass (large text)\",\"Fail\"))),\"Exempt\"))","v":"Pass"},"Text","N/A","Pass","N/A","Pass","N/A","N/A","N/A","N/A","N/A","N/A","N/A","N/A","N/A","N/A","N/A","N/A","N/A","N/A","N/A","N/A","N/A","N/A","N/A","N/A","N/A","N/A","N/A","N/A","N/A","N/A","N/A","N/A","N/A","N/A","N/A","N/A","N/A","N/A","N/A","N/A"]
["Heading text",null,"#333333","#F4F4F4","Small",true,244,0.90466117439114957,244,0.90466117439114957,244,0.90466117439114957,0.90466117439114957,true,51,3.3104766570885055E-2,51,3.3104766570885055E-2,51,3.3104766570885055E-2,3.3104766570885055E-2,11.49,"No",{"$f":"IF(W14=\"Rendered Colours\",\"Should Fix\",IF(OR(W14=\"\",W14=\"No\")=TRUE,IF(V14=\"\",\"\",IF(V14>=Comboboxes!A$5,\"Pass\",IF(AND(V14>=Comboboxes!A$6,E14=\"Large\"),\"Pass (large text)\",\"Fail\"))),\"Exempt\"))","v":"Pass"},"Text","N/A","N/A","Pass","Pass","N/A","N/A","N/A","N/A","N/A","N/A","N/A","N/A","N/A","N/A","N/A","N/A","N/A","N/A","N/A","N/A","N/A","N/A","N/A","N/A","N/A","N/A","N/A","N/A","N/A","N/A","N/A","N/A","N/A","N/A","N/A","N/A","N/A","N/A","N/A","N/A"]
["Paragraph text",null,"#797979","#F4F4F4","Small",true,244,0.90466117439114957,244,0.90466117439114957,244,0.90466117439114957,0.90466117439114957,true,121,0.19120168274079138,121,0.19120168274079138,121,0.19120168274079138,0.19120168274079136,3.96,"No",{"$f":"IF(W15=\"Rendered Colours\",\"Should Fix\",IF(OR(W15=\"\",W15=\"No\")=TRUE,IF(V15=\"\",\"\",IF(V15>=Comboboxes!A$5,\"Pass\",IF(AND(V15>=Comboboxes!A$6,E15=\"Large\"),\"Pass (large text)\",\"Fail\"))),\"Exempt\"))","v":"Fail"},"Text","N/A","N/A","N/A","N/A","N/A","N/A","N/A","N/A","N/A","N/A","N/A","N/A","N/A","N/A","N/A","N/A","N/A","N/A","N/A","N/A","N/A","N/A","N/A","N/A","N/A","N/A","N/A","N/A","N/A","N/A","N/A","N/A","N/A","N/A","N/A","N/A","N/A","N/A","N/A","N/A"]
["Paragraph text (Retested 10/10/24)",null,"#333333","#F4F4F4","Small",{"$f":"IF(LEN(D16)=0,\"\",AND(LEFT(D16,1)=\"#\",LEN(D16)=7))","v":true},{"$f":"HEX2DEC(RIGHT(LEFT(D16,3),2))","v":244},{"$f":"IF(G16/255<= 0.03928,G16/(255*12.92),(((G16/255)+0.055)/1.055)^2.4)","v":0.90466117439114957},{"$f":"HEX2DEC(RIGHT(LEFT(D16,5),2))","v":244},{"$f":"IF(I16/255<= 0.03928,I16/(255*12.92),(((I16/255)+0.055)/1.055)^2.4)","v":0.90466117439114957},{"$f":"HEX2DEC(RIGHT(D16,2))","v":244},{"$f":"IF(K16/255<= 0.03928,K16/(255*12.92),(((K16/255)+0.055)/1.055)^2.4)","v":0.90466117439114957},{"$f":"(0.2126*H16)+(0.7152*J16)+(0.0722*L16)","v":0.90466117439114957},{"$f":"IF(LEN(C16)=0,\"\",AND(LEFT(C16,1)=\"#\",LEN(C16)=7))","v":true},{"$f":"HEX2DEC(RIGHT(LEFT(C16,3),2))","v":51},{"$f":"IF(O16/255<= 0.03928,O16/(255*12.92),(((O16/255)+0.055)/1.055)^2.4)","v":3.3104766570885055E-2},{"$f":"HEX2DEC(RIGHT(LEFT(C16,5),2))","v":51},{"$f":"IF(Q16/255<= 0.03928,Q16/(255*12.92),(((Q16/255)+0.055)/1.055)^2.4)","v":3.3104766570885055E-2},{"$f":"HEX2DEC(RIGHT(C16,2))","v":51},{"$f":"IF(S16/255<= 0.03928,S16/(255*12.92),(((S16/255)+0.055)/1.055)^2.4)","v":3.3104766570885055E-2},{"$f":"(0.2126*P16)+(0.7152*R16)+(0.0722*T16)","v":3.3104766570885055E-2},{"$f":"IF(OR(F16=\"\",N16=\"\")=TRUE,\"\",IF(OR(F16=FALSE,N16=FALSE)=TRUE,\"ERROR\",ROUND(IF(M16>U16,(M16+0.05)/(U16+0.05),(U16+0.05)/(M16+0.05)),2)))","v":11.49},"No",{"$f":"IF(W16=\"Rendered Colours\",\"Should Fix\",IF(OR(W16=\"\",W16=\"No\")=TRUE,IF(V16=\"\",\"\",IF(V16>=Comboboxes!A$5,\"Pass\",IF(AND(V16>=Comboboxes!A$6,E16=\"Large\"),\"Pass (large text)\",\"Fail\"))),\"Exempt\"))","v":"Pass"},"Text","N/A","N/A","Pass","Pass","N/A","N/A","N/A","N/A","N/A","N/A","N/A","N/A","N/A","N/A","N/A","N/A","N/A","N/A","N/A","N/A","N/A","N/A","N/A","N/A","N/A","N/A","N/A","N/A","N/A","N/A","N/A","N/A","N/A","N/A","N/A","N/A","N/A","N/A","N/A","N/A"]
["Button (Normal, Focus)",null,"#000000","#F4F4F4","Small",true,244,0.90466117439114957,244,0.90466117439114957,244,0.90466117439114957,0.90466117439114957,true,0,0,0,0,0,0,0,19.09,"No",{"$f":"IF(W17=\"Rendered Colours\",\"Should Fix\",IF(OR(W17=\"\",W17=\"No\")=TRUE,IF(V17=\"\",\"\",IF(V17>=Comboboxes!A$5,\"Pass\",IF(AND(V17>=Comboboxes!A$6,E17=\"Large\"),\"Pass (large text)\",\"Fail\"))),\"Exempt\"))","v":"Pass"},"Text","N/A","N/A","Pass","Pass","N/A","N/A","N/A","N/A","N/A","N/A","N/A","N/A","N/A","N/A","N/A","N/A","N/A","N/A","N/A","N/A","N/A","N/A","N/A","N/A","N/A","N/A","N/A","N/A","N/A","N/A","N/A","N/A","N/A","N/A","N/A","N/A","N/A","N/A","N/A","N/A"]
["Button (Hover)",null,"#FFFFFF","#E7135D","Small",true,231,0.79910273801440901,19,6.5120907925944761E-3,93,0.10946171077829935,0.18244982495492015,true,255,1,255,1,255,1,1,4.5199999999999996,"No",{"$f":"IF(W18=\"Rendered Colours\",\"Should Fix\",IF(OR(W18=\"\",W18=\"No\")=TRUE,IF(V18=\"\",\"\",IF(V18>=Comboboxes!A$5,\"Pass\",IF(AND(V18>=Comboboxes!A$6,E18=\"Large\"),\"Pass (large text)\",\"Fail\"))),\"Exempt\"))","v":"Pass"},"Text","N/A","N/A","Pass","Pass","N/A","N/A","N/A","Pass","N/A","N/A","N/A","N/A","N/A","N/A","N/A","N/A","N/A","N/A","N/A","N/A","N/A","N/A","N/A","N/A","N/A","N/A","N/A","N/A","N/A","N/A","N/A","N/A","N/A","N/A","N/A","N/A","N/A","N/A","N/A","N/A"]
["Button text (Normal, Hover, Focus)",null,"#000000","#F4F4F4","Small",true,244,0.90466117439114957,244,0.90466117439114957,244,0.90466117439114957,0.90466117439114957,true,0,0,0,0,0,0,0,19.09,"No",{"$f":"IF(W19=\"Rendered Colours\",\"Should Fix\",IF(OR(W19=\"\",W19=\"No\")=TRUE,IF(V19=\"\",\"\",IF(V19>=Comboboxes!A$5,\"Pass\",IF(AND(V19>=Comboboxes!A$6,E19=\"Large\"),\"Pass (large text)\",\"Fail\"))),\"Exempt\"))","v":"Pass"},"Text","N/A","N/A","Pass","N/A","N/A","N/A","N/A","N/A","N/A","N/A","N/A","N/A","N/A","N/A","N/A","N/A","N/A","N/A","N/A","N/A","N/A","N/A","N/A","N/A","N/A","N/A","N/A","N/A","N/A","N/A","N/A","N/A","N/A","N/A","N/A","N/A","N/A","N/A","N/A","N/A"]
["Paragraph text",null,"#333333","#F4F4F4","Small",true,244,0.90466117439114957,244,0.90466117439114957,244,0.90466117439114957,0.90466117439114957,true,51,3.3104766570885055E-2,51,3.3104766570885055E-2,51,3.3104766570885055E-2,3.3104766570885055E-2,11.49,"No",{"$f":"IF(W20=\"Rendered Colours\",\"Should Fix\",IF(OR(W20=\"\",W20=\"No\")=TRUE,IF(V20=\"\",\"\",IF(V20>=Comboboxes!A$5,\"Pass\",IF(AND(V20>=Comboboxes!A$6,E20=\"Large\"),\"Pass (large text)\",\"Fail\"))),\"Exempt\"))","v":"Pass"},"Text","N/A","N/A","N/A","Pass","N/A","N/A","N/A","N/A","N/A","N/A","N/A","N/A","N/A","N/A","N/A","N/A","N/A","N/A","N/A","N/A","N/A","N/A","N/A","N/A","N/A","N/A","N/A","N/A","N/A","N/A","N/A","N/A","N/A","N/A","N/A","N/A","N/A","N/A","N/A","N/A"]
["Toggle button text (No state)",null,"#F7ADC6","#E7135D","Small",true,231,0.79910273801440901,19,6.5120907925944761E-3,93,0.10946171077829935,0.18244982495492015,true,247,0.93011085837542373,173,0.41788507084813747,198,0.56471150570492923,0.53738514187309894,2.5299999999999998,"No",{"$f":"IF(W21=\"Rendered Colours\",\"Should Fix\",IF(OR(W21=\"\",W21=\"No\")=TRUE,IF(V21=\"\",\"\",IF(V21>=Comboboxes!A$5,\"Pass\",IF(AND(V21>=Comboboxes!A$6,E21=\"Large\"),\"Pass (large text)\",\"Fail\"))),\"Exempt\"))","v":"Fail"},"Text","N/A","N/A","N/A","Fail","N/A","N/A","N/A","N/A","N/A","N/A","N/A","N/A","N/A","N/A","N/A","N/A","N/A","N/A","N/A","N/A","N/A","N/A","N/A","N/A","N/A","N/A","N/A","N/A","N/A","N/A","N/A","N/A","N/A","N/A","N/A","N/A","N/A","N/A","N/A","N/A"]
["Toggle button text (Yes state)",null,"#FFFFFF","#E7135D","Small",true,231,0.79910273801440901,19,6.5120907925944761E-3,93,0.10946171077829935,0.18244982495492015,true,255,1,255,1,255,1,1,4.5199999999999996,"No",{"$f":"IF(W22=\"Rendered Colours\",\"Should Fix\",IF(OR(W22=\"\",W22=\"No\")=TRUE,IF(V22=\"\",\"\",IF(V22>=Comboboxes!A$5,\"Pass\",IF(AND(V22>=Comboboxes!A$6,E22=\"Large\"),\"Pass (large text)\",\"Fail\"))),\"Exempt\"))","v":"Pass"},"Text","N/A","N/A","N/A","Pass","N/A","N/A","N/A","N/A","N/A","N/A","N/A","N/A","N/A","N/A","N/A","N/A","N/A","N/A","N/A","N/A","N/A","N/A","N/A","N/A","N/A","N/A","N/A","N/A","N/A","N/A","N/A","N/A","N/A","N/A","N/A","N/A","N/A","N/A","N/A","N/A"]
["Label text",null,"#FFFFFF","#1A1E21","Large",true,26,1.0329823029626938E-2,30,1.2983032342173016E-2,33,1.5208514422912713E-2,1.2579639848555126E-2,true,255,1,255,1,255,1,1,16.78,"No",{"$f":"IF(W23=\"Rendered Colours\",\"Should Fix\",IF(OR(W23=\"\",W23=\"No\")=TRUE,IF(V23=\"\",\"\",IF(V23>=Comboboxes!A$5,\"Pass\",IF(AND(V23>=Comboboxes!A$6,E23=\"Large\"),\"Pass (large text)\",\"Fail\"))),\"Exempt\"))","v":"Pass"},"Text","N/A","N/A","N/A","N/A","Pass","N/A","N/A","N/A","N/A","N/A","N/A","N/A","N/A","N/A","N/A","N/A","N/A","N/A","N/A","N/A","N/A","N/A","N/A","N/A","N/A","N/A","N/A","N/A","N/A","N/A","N/A","N/A","N/A","N/A","N/A","N/A","N/A","N/A","N/A","N/A"]
["Placeholder text",null,"#FFFFFF","#1F2427","Small",true,31,1.3702083047289692E-2,36,1.7641954488384088E-2,39,2.0288563056652397E-2,1.6995422958636392E-2,true,255,1,255,1,255,1,1,15.67,"No",{"$f":"IF(W24=\"Rendered Colours\",\"Should Fix\",IF(OR(W24=\"\",W24=\"No\")=TRUE,IF(V24=\"\",\"\",IF(V24>=Comboboxes!A$5,\"Pass\",IF(AND(V24>=Comboboxes!A$6,E24=\"Large\"),\"Pass (large text)\",\"Fail\"))),\"Exempt\"))","v":"Pass"},"Text","N/A","N/A","N/A","N/A","Pass","N/A","N/A","N/A","N/A","N/A","N/A","N/A","N/A","N/A","N/A","N/A","N/A","N/A","N/A","N/A","N/A","N/A","N/A","N/A","N/A","N/A","N/A","N/A","N/A","N/A","N/A","N/A","N/A","N/A","N/A","N/A","N/A","N/A","N/A","N/A"]
["Button (Normal)",null,"#FFFFFF","#1A1E21","Small",true,26,1.0329823029626938E-2,30,1.2983032342173016E-2,33,1.5208514422912713E-2,1.2579639848555126E-2,true,255,1,255,1,255,1,1,16.78,"No",{"$f":"IF(W25=\"Rendered Colours\",\"Should Fix\",IF(OR(W25=\"\",W25=\"No\")=TRUE,IF(V25=\"\",\"\",IF(V25>=Comboboxes!A$5,\"Pass\",IF(AND(V25>=Comboboxes!A$6,E25=\"Large\"),\"Pass (large text)\",\"Fail\"))),\"Exempt\"))","v":"Pass"},"Text","N/A","N/A","N/A","N/A","Pass","N/A","N/A","N/A","N/A","N/A","N/A","N/A","N/A","N/A","N/A","N/A","N/A","N/A","N/A","N/A","N/A","N/A","N/A","N/A","N/A","N/A","N/A","N/A","N/A","N/A","N/A","N/A","N/A","N/A","N/A","N/A","N/A","N/A","N/A","N/A"]
["Button (Hover, Focus)",null,"#FFFFFF","#E7135D","Small",true,231,0.79910273801440901,19,6.5120907925944761E-3,93,0.10946171077829935,0.18244982495492015,true,255,1,255,1,255,1,1,4.5199999999999996,"No",{"$f":"IF(W26=\"Rendered Colours\",\"Should Fix\",IF(OR(W26=\"\",W26=\"No\")=TRUE,IF(V26=\"\",\"\",IF(V26>=Comboboxes!A$5,\"Pass\",IF(AND(V26>=Comboboxes!A$6,E26=\"Large\"),\"Pass (large text)\",\"Fail\"))),\"Exempt\"))","v":"Pass"},"Text","N/A","N/A","N/A","N/A","Pass","N/A","N/A","N/A","N/A","N/A","N/A","N/A","N/A","N/A","N/A","N/A","N/A","N/A","N/A","N/A","N/A","N/A","N/A","N/A","N/A","N/A","N/A","N/A","N/A","N/A","N/A","N/A","N/A","N/A","N/A","N/A","N/A","N/A","N/A","N/A"]
["List item text",null,"#FFFFFF","#1A1E21","Small",true,26,1.0329823029626938E-2,30,1.2983032342173016E-2,33,1.5208514422912713E-2,1.2579639848555126E-2,true,255,1,255,1,255,1,1,16.78,"No",{"$f":"IF(W27=\"Rendered Colours\",\"Should Fix\",IF(OR(W27=\"\",W27=\"No\")=TRUE,IF(V27=\"\",\"\",IF(V27>=Comboboxes!A$5,\"Pass\",IF(AND(V27>=Comboboxes!A$6,E27=\"Large\"),\"Pass (large text)\",\"Fail\"))),\"Exempt\"))","v":"Pass"},"Text","N/A","N/A","N/A","N/A","Pass","N/A","N/A","N/A","N/A","N/A","N/A","N/A","N/A","N/A","N/A","N/A","N/A","N/A","N/A","N/A","N/A","N/A","N/A","N/A","N/A","N/A","N/A","N/A","N/A","N/A","N/A","N/A","N/A","N/A","N/A","N/A","N/A","N/A","N/A","N/A"]
["Link text (Normal)",null,"#FFFFFF","#1A1E21","Small",true,26,1.0329823029626938E-2,30,1.2983032342173016E-2,33,1.5208514422912713E-2,1.2579639848555126E-2,true,255,1,255,1,255,1,1,16.78,"No",{"$f":"IF(W28=\"Rendered Colours\",\"Should Fix\",IF(OR(W28=\"\",W28=\"No\")=TRUE,IF(V28=\"\",\"\",IF(V28>=Comboboxes!A$5,\"Pass\",IF(AND(V28>=Comboboxes!A$6,E28=\"Large\"),\"Pass (large text)\",\"Fail\"))),\"Exempt\"))","v":"Pass"},"Text","N/A","N/A","N/A","N/A","Pass","N/A","N/A","N/A","N/A","N/A","N/A","N/A","N/A","N/A","N/A","N/A","N/A","N/A","N/A","N/A","N/A","N/A","N/A","N/A","N/A","N/A","N/A","N/A","N/A","N/A","N/A","N/A","N/A","N/A","N/A","N/A","N/A","N/A","N/A","N/A"]
["Link text (Hover, Focus)",null,"#E7135D","#1A1E21","Large",true,26,1.0329823029626938E-2,30,1.2983032342173016E-2,33,1.5208514422912713E-2,1.2579639848555126E-2,true,231,0.79910273801440901,19,6.5120907925944761E-3,93,0.10946171077829935,0.18244982495492015,3.71,"No",{"$f":"IF(W29=\"Rendered Colours\",\"Should Fix\",IF(OR(W29=\"\",W29=\"No\")=TRUE,IF(V29=\"\",\"\",IF(V29>=Comboboxes!A$5,\"Pass\",IF(AND(V29>=Comboboxes!A$6,E29=\"Large\"),\"Pass (large text)\",\"Fail\"))),\"Exempt\"))","v":"Pass (large text)"},"Text","N/A","N/A","N/A","N/A","Pass \n(large text)","N/A","N/A","N/A","N/A","N/A","N/A","N/A","N/A","N/A","N/A","N/A","N/A","N/A","N/A","N/A","N/A","N/A","N/A","N/A","N/A","N/A","N/A","N/A","N/A","N/A","N/A","N/A","N/A","N/A","N/A","N/A","N/A","N/A","N/A","N/A"]
["Heading text",null,"#333333","#FFFFFF","Large",true,255,1,255,1,255,1,1,true,51,3.3104766570885055E-2,51,3.3104766570885055E-2,51,3.3104766570885055E-2,3.3104766570885055E-2,12.63,"No",{"$f":"IF(W30=\"Rendered Colours\",\"Should Fix\",IF(OR(W30=\"\",W30=\"No\")=TRUE,IF(V30=\"\",\"\",IF(V30>=Comboboxes!A$5,\"Pass\",IF(AND(V30>=Comboboxes!A$6,E30=\"Large\"),\"Pass (large text)\",\"Fail\"))),\"Exempt\"))","v":"Pass"},"Text","N/A","N/A","N/A","N/A","N/A","Pass","Pass","Pass","Pass","Pass","N/A","Pass","Pass","Pass","Pass","N/A","N/A","Pass","Pass","N/A","N/A","N/A","N/A","N/A","N/A","N/A","N/A","N/A","N/A","N/A","N/A","N/A","N/A","N/A","N/A","N/A","N/A","N/A","N/A","N/A"]
["Body text",null,"#333333","#FFFFFF","Small",true,255,1,255,1,255,1,{"$f":"(0.2126*H31)+(0.7152*J31)+(0.0722*L31)","v":1},true,51,3.3104766570885055E-2,51,3.3104766570885055E-2,51,3.3104766570885055E-2,{"$f":"(0.2126*P31)+(0.7152*R31)+(0.0722*T31)","v":3.3104766570885055E-2},12.63,"No",{"$f":"IF(W31=\"Rendered Colours\",\"Should Fix\",IF(OR(W31=\"\",W31=\"No\")=TRUE,IF(V31=\"\",\"\",IF(V31>=Comboboxes!A$5,\"Pass\",IF(AND(V31>=Comboboxes!A$6,E31=\"Large\"),\"Pass (large text)\",\"Fail\"))),\"Exempt\"))","v":"Pass"},"Text","N/A","N/A","N/A","N/A","N/A","N/A","Pass","N/A","N/A","Pass","N/A","N/A","N/A","N/A","N/A","N/A","N/A","N/A","N/A","N/A","N/A","N/A","N/A","N/A","N/A","N/A","N/A","N/A","N/A","N/A","N/A","N/A","N/A","N/A","N/A","N/A","N/A","N/A","N/A","N/A"]
["Link text (Normal)",null,"#333333","#FFFFFF","Small",true,255,1,255,1,255,1,1,true,51,3.3104766570885055E-2,51,3.3104766570885055E-2,51,3.3104766570885055E-2,3.3104766570885055E-2,12.63,"No",{"$f":"IF(W32=\"Rendered Colours\",\"Should Fix\",IF(OR(W32=\"\",W32=\"No\")=TRUE,IF(V32=\"\",\"\",IF(V32>=Comboboxes!A$5,\"Pass\",IF(AND(V32>=Comboboxes!A$6,E32=\"Large\"),\"Pass (large text)\",\"Fail\"))),\"Exempt\"))","v":"Pass"},"Text","N/A","N/A","N/A","N/A","N/A","Pass","Pass","N/A","N/A","N/A","N/A","N/A","N/A","N/A","N/A","N/A","N/A","N/A","Pass","N/A","N/A","N/A","N/A","N/A","N/A","N/A","N/A","N/A","N/A","N/A","N/A","N/A","N/A","N/A","N/A","N/A","N/A","N/A","N/A","N/A"]
["Link text (Hover, Focus)",null,"#FFFFFF","#E7135D","Small",true,231,0.79910273801440901,19,6.5120907925944761E-3,93,0.10946171077829935,0.18244982495492015,true,255,1,255,1,255,1,1,4.5199999999999996,"No",{"$f":"IF(W33=\"Rendered Colours\",\"Should Fix\",IF(OR(W33=\"\",W33=\"No\")=TRUE,IF(V33=\"\",\"\",IF(V33>=Comboboxes!A$5,\"Pass\",IF(AND(V33>=Comboboxes!A$6,E33=\"Large\"),\"Pass (large text)\",\"Fail\"))),\"Exempt\"))","v":"Pass"},"Text","N/A","N/A","N/A","N/A","N/A","N/A","Pass","N/A","N/A","N/A","N/A","N/A","N/A","N/A","N/A","N/A","N/A","N/A","N/A","N/A","N/A","N/A","N/A","N/A","N/A","N/A","N/A","N/A","N/A","N/A","N/A","N/A","N/A","N/A","N/A","N/A","N/A","N/A","N/A","N/A"]
["Link text (Normal, Hover, Focus)",null,"#000000","#FFFFFF","Large",true,255,1,255,1,255,1,1,true,0,0,0,0,0,0,0,21,"No",{"$f":"IF(W34=\"Rendered Colours\",\"Should Fix\",IF(OR(W34=\"\",W34=\"No\")=TRUE,IF(V34=\"\",\"\",IF(V34>=Comboboxes!A$5,\"Pass\",IF(AND(V34>=Comboboxes!A$6,E34=\"Large\"),\"Pass (large text)\",\"Fail\"))),\"Exempt\"))","v":"Pass"},"Text","N/A","N/A","N/A","N/A","N/A","N/A","Pass","N/A","N/A","N/A","N/A","N/A","N/A","N/A","N/A","N/A","N/A","N/A","N/A","N/A","N/A","N/A","N/A","N/A","N/A","N/A","N/A","N/A","N/A","N/A","N/A","N/A","N/A","N/A","N/A","N/A","N/A","N/A","N/A","N/A"]
["Link text (Normal, Hover, Focus)",null,"#000000","#FFFFFF","Small",true,255,1,255,1,255,1,1,true,0,0,0,0,0,0,0,21,"No",{"$f":"IF(W35=\"Rendered Colours\",\"Should Fix\",IF(OR(W35=\"\",W35=\"No\")=TRUE,IF(V35=\"\",\"\",IF(V35>=Comboboxes!A$5,\"Pass\",IF(AND(V35>=Comboboxes!A$6,E35=\"Large\"),\"Pass (large text)\",\"Fail\"))),\"Exempt\"))","v":"Pass"},"Text","N/A","N/A","N/A","N/A","N/A","N/A","Pass","N/A","N/A","N/A","N/A","N/A","N/A","N/A","N/A","N/A","N/A","N/A","N/A","N/A","N/A","N/A","N/A","N/A","N/A","N/A","N/A","N/A","N/A","N/A","N/A","N/A","N/A","N/A","N/A","N/A","N/A","N/A","N/A","N/A"]
["Heading text",null,"#FFFFFF","#353D42","Large",true,53,3.5601314875020329E-2,61,4.6665086336880102E-2,66,5.4480276442442369E-2,4.4877185249710308E-2,true,255,1,255,1,255,1,1,11.07,"No",{"$f":"IF(W36=\"Rendered Colours\",\"Should Fix\",IF(OR(W36=\"\",W36=\"No\")=TRUE,IF(V36=\"\",\"\",IF(V36>=Comboboxes!A$5,\"Pass\",IF(AND(V36>=Comboboxes!A$6,E36=\"Large\"),\"Pass (large text)\",\"Fail\"))),\"Exempt\"))","v":"Pass"},"Text","N/A","N/A","N/A","N/A","N/A","N/A","Pass","N/A","N/A","N/A","N/A","N/A","N/A","N/A","N/A","N/A","N/A","N/A","N/A","N/A","N/A","N/A","N/A","N/A","N/A","N/A","N/A","N/A","N/A","N/A","N/A","N/A","N/A","N/A","N/A","N/A","N/A","N/A","N/A","N/A"]
["Paragraph text",null,"#FFFFFF","#353D42","Small",true,53,3.5601314875020329E-2,61,4.6665086336880102E-2,66,5.4480276442442369E-2,4.4877185249710308E-2,true,255,1,255,1,255,1,1,11.07,"No",{"$f":"IF(W37=\"Rendered Colours\",\"Should Fix\",IF(OR(W37=\"\",W37=\"No\")=TRUE,IF(V37=\"\",\"\",IF(V37>=Comboboxes!A$5,\"Pass\",IF(AND(V37>=Comboboxes!A$6,E37=\"Large\"),\"Pass (large text)\",\"Fail\"))),\"Exempt\"))","v":"Pass"},"Text","N/A","N/A","N/A","N/A","N/A","N/A","Pass","N/A","N/A","N/A","N/A","N/A","N/A","N/A","N/A","N/A","N/A","N/A","N/A","N/A","N/A","N/A","N/A","N/A","N/A","N/A","N/A","N/A","N/A","N/A","N/A","N/A","N/A","N/A","N/A","N/A","N/A","N/A","N/A","N/A"]
["Link text (Normal)",null,"#FFFFFF","#353D42","Small",{"$f":"IF(LEN(D38)=0,\"\",AND(LEFT(D38,1)=\"#\",LEN(D38)=7))","v":true},{"$f":"HEX2DEC(RIGHT(LEFT(D38,3),2))","v":53},3.5601314875020329E-2,{"$f":"HEX2DEC(RIGHT(LEFT(D38,5),2))","v":61},4.6665086336880102E-2,{"$f":"HEX2DEC(RIGHT(D38,2))","v":66},5.4480276442442369E-2,4.4877185249710308E-2,{"$f":"IF(LEN(C38)=0,\"\",AND(LEFT(C38,1)=\"#\",LEN(C38)=7))","v":true},{"$f":"HEX2DEC(RIGHT(LEFT(C38,3),2))","v":255},1,{"$f":"HEX2DEC(RIGHT(LEFT(C38,5),2))","v":255},1,{"$f":"HEX2DEC(RIGHT(C38,2))","v":255},1,1,11.07,"No",{"$f":"IF(W38=\"Rendered Colours\",\"Should Fix\",IF(OR(W38=\"\",W38=\"No\")=TRUE,IF(V38=\"\",\"\",IF(V38>=Comboboxes!A$5,\"Pass\",IF(AND(V38>=Comboboxes!A$6,E38=\"Large\"),\"Pass (large text)\",\"Fail\"))),\"Exempt\"))","v":"Pass"},"Text","N/A","N/A","N/A","N/A","N/A","N/A","Pass","N/A","N/A","N/A","N/A","N/A","N/A","N/A","N/A","N/A","N/A","N/A","N/A","N/A","N/A","N/A","N/A","N/A","N/A","N/A","N/A","N/A","N/A","N/A","N/A","N/A","N/A","N/A","N/A","N/A","N/A","N/A","N/A","N/A"]
["Paragraph text",null,"#333333","#FFFFFF","Small",true,255,1,255,1,255,1,1,true,51,3.3104766570885055E-2,51,3.3104766570885055E-2,51,3.3104766570885055E-2,3.3104766570885055E-2,12.63,"No",{"$f":"IF(W39=\"Rendered Colours\",\"Should Fix\",IF(OR(W39=\"\",W39=\"No\")=TRUE,IF(V39=\"\",\"\",IF(V39>=Comboboxes!A$5,\"Pass\",IF(AND(V39>=Comboboxes!A$6,E39=\"Large\"),\"Pass (large text)\",\"Fail\"))),\"Exempt\"))","v":"Pass"},"Text","N/A","N/A","N/A","N/A","N/A","N/A","Pass","Pass","Pass","N/A","Pass","N/A","Pass","Pass","Pass","N/A","Pass","Pass","Pass","N/A","N/A","N/A","N/A","N/A","N/A","N/A","N/A","N/A","N/A","N/A","N/A","N/A","N/A","N/A","N/A","N/A","N/A","N/A","N/A","N/A"]
["Image text",null,"#FFFFFF","#333333","Small",true,51,3.3104766570885055E-2,51,3.3104766570885055E-2,51,3.3104766570885055E-2,3.3104766570885055E-2,true,255,1,255,1,255,1,1,12.63,"No",{"$f":"IF(W40=\"Rendered Colours\",\"Should Fix\",IF(OR(W40=\"\",W40=\"No\")=TRUE,IF(V40=\"\",\"\",IF(V40>=Comboboxes!A$5,\"Pass\",IF(AND(V40>=Comboboxes!A$6,E40=\"Large\"),\"Pass (large text)\",\"Fail\"))),\"Exempt\"))","v":"Pass"},"Image","N/A","N/A","N/A","N/A","N/A","N/A","Pass","N/A","N/A","N/A","N/A","N/A","N/A","N/A","N/A","N/A","N/A","N/A","N/A","N/A","N/A","N/A","N/A","N/A","N/A","N/A","N/A","N/A","N/A","N/A","N/A","N/A","N/A","N/A","N/A","N/A","N/A","N/A","N/A","N/A"]
["Image text",null,"#D0DE2C","#162070","Large",true,22,8.0231929853849943E-3,32,1.4443843596092543E-2,112,0.16202937563911096,2.3734488689762044E-2,true,208,0.63075713634614672,222,0.73046074009035356,44,2.5186859627361627E-2,0.65834297976490719,9.61,"No",{"$f":"IF(W41=\"Rendered Colours\",\"Should Fix\",IF(OR(W41=\"\",W41=\"No\")=TRUE,IF(V41=\"\",\"\",IF(V41>=Comboboxes!A$5,\"Pass\",IF(AND(V41>=Comboboxes!A$6,E41=\"Large\"),\"Pass (large text)\",\"Fail\"))),\"Exempt\"))","v":"Pass"},"Text","N/A","N/A","N/A","N/A","N/A","N/A","Pass","N/A","N/A","N/A","N/A","N/A","N/A","N/A","N/A","N/A","N/A","N/A","N/A","N/A","N/A","N/A","N/A","N/A","N/A","N/A","N/A","N/A","N/A","N/A","N/A","N/A","N/A","N/A","N/A","N/A","N/A","N/A","N/A","N/A"]
["Image text",null,"#162070","#FFFFFF","Large",true,255,1,255,1,255,1,1,true,22,8.0231929853849943E-3,32,1.4443843596092543E-2,112,0.16202937563911096,2.3734488689762044E-2,14.24,"No",{"$f":"IF(W42=\"Rendered Colours\",\"Should Fix\",IF(OR(W42=\"\",W42=\"No\")=TRUE,IF(V42=\"\",\"\",IF(V42>=Comboboxes!A$5,\"Pass\",IF(AND(V42>=Comboboxes!A$6,E42=\"Large\"),\"Pass (large text)\",\"Fail\"))),\"Exempt\"))","v":"Pass"},"Text","N/A","N/A","N/A","N/A","N/A","N/A","Pass","N/A","N/A","N/A","N/A","N/A","N/A","N/A","N/A","N/A","N/A","N/A","N/A","N/A","N/A","N/A","N/A","N/A","N/A","N/A","N/A","N/A","N/A","N/A","N/A","N/A","N/A","N/A","N/A","N/A","N/A","N/A","N/A","N/A"]
["Paragraph text",null,"#000000","#FFFFFF","Small",true,255,1,255,1,255,1,{"$f":"(0.2126*H43)+(0.7152*J43)+(0.0722*L43)","v":1},true,0,0,0,0,0,0,{"$f":"(0.2126*P43)+(0.7152*R43)+(0.0722*T43)","v":0},{"$f":"IF(OR(F43=\"\",N43=\"\")=TRUE,\"\",IF(OR(F43=FALSE,N43=FALSE)=TRUE,\"ERROR\",ROUND(IF(M43>U43,(M43+0.05)/(U43+0.05),(U43+0.05)/(M43+0.05)),2)))","v":21},"No",{"$f":"IF(W43=\"Rendered Colours\",\"Should Fix\",IF(OR(W43=\"\",W43=\"No\")=TRUE,IF(V43=\"\",\"\",IF(V43>=Comboboxes!A$5,\"Pass\",IF(AND(V43>=Comboboxes!A$6,E43=\"Large\"),\"Pass (large text)\",\"Fail\"))),\"Exempt\"))","v":"Pass"},"Text","N/A","N/A","N/A","N/A","N/A","N/A","Pass","N/A","N/A","N/A","N/A","N/A","N/A","N/A","N/A","N/A","N/A","N/A","N/A","N/A","N/A","N/A","N/A","N/A","N/A","N/A","N/A","N/A","N/A","N/A","N/A","N/A","N/A","N/A","N/A","N/A","N/A","N/A","N/A","N/A"]
["Label text",null,"#333333","#FFFFFF","Small",true,255,1,255,1,255,1,1,true,51,3.3104766570885055E-2,51,3.3104766570885055E-2,51,3.3104766570885055E-2,3.3104766570885055E-2,12.63,"No",{"$f":"IF(W44=\"Rendered Colours\",\"Should Fix\",IF(OR(W44=\"\",W44=\"No\")=TRUE,IF(V44=\"\",\"\",IF(V44>=Comboboxes!A$5,\"Pass\",IF(AND(V44>=Comboboxes!A$6,E44=\"Large\"),\"Pass (large text)\",\"Fail\"))),\"Exempt\"))","v":"Pass"},"Text","N/A","N/A","N/A","N/A","N/A","N/A","Pass","N/A","N/A","Pass","Pass","N/A","N/A","N/A","N/A","N/A","Pass","Pass","N/A","Pass","N/A","N/A","N/A","N/A","N/A","N/A","N/A","N/A","N/A","N/A","N/A","N/A","N/A","N/A","N/A","N/A","N/A","N/A","N/A","N/A"]
["CAPTCHA Label text",null,"#000000","#F9F9F9","Small",true,249,0.94730653673319987,249,0.94730653673319987,249,0.94730653673319987,0.94730653673319976,true,0,0,0,0,0,0,0,19.95,"No",{"$f":"IF(W45=\"Rendered Colours\",\"Should Fix\",IF(OR(W45=\"\",W45=\"No\")=TRUE,IF(V45=\"\",\"\",IF(V45>=Comboboxes!A$5,\"Pass\",IF(AND(V45>=Comboboxes!A$6,E45=\"Large\"),\"Pass (large text)\",\"Fail\"))),\"Exempt\"))","v":"Pass"},"Text","N/A","N/A","N/A","N/A","N/A","N/A","Pass","N/A","N/A","N/A","N/A","N/A","N/A","N/A","N/A","N/A","N/A","N/A","N/A","N/A","N/A","N/A","N/A","N/A","N/A","N/A","N/A","N/A","N/A","N/A","N/A","N/A","N/A","N/A","N/A","N/A","N/A","N/A","N/A","N/A"]
["CAPTCHA Link text (Normal, Hover, Focus)",null,"#555555","#F9F9F9","Small",true,249,0.94730653673319987,249,0.94730653673319987,249,0.94730653673319987,0.94730653673319976,true,85,9.084171118340767E-2,85,9.084171118340767E-2,85,9.084171118340767E-2,9.084171118340767E-2,7.08,"No",{"$f":"IF(W46=\"Rendered Colours\",\"Should Fix\",IF(OR(W46=\"\",W46=\"No\")=TRUE,IF(V46=\"\",\"\",IF(V46>=Comboboxes!A$5,\"Pass\",IF(AND(V46>=Comboboxes!A$6,E46=\"Large\"),\"Pass (large text)\",\"Fail\"))),\"Exempt\"))","v":"Pass"},"Text","N/A","N/A","N/A","N/A","N/A","N/A","Pass","N/A","N/A","N/A","N/A","N/A","N/A","N/A","N/A","N/A","N/A","N/A","N/A","N/A","N/A","N/A","N/A","N/A","N/A","N/A","N/A","N/A","N/A","N/A","N/A","N/A","N/A","N/A","N/A","N/A","N/A","N/A","N/A","N/A"]
["CAPTCHA Validation text",null,"#FC0017","#F9F9F9","Small",true,249,0.94730653673319987,249,0.94730653673319987,249,0.94730653673319987,0.94730653673319976,true,252,0.97344529039841254,0,0,23,8.5681256180693086E-3,0.20757308740832711,3.87,"No",{"$f":"IF(W47=\"Rendered Colours\",\"Should Fix\",IF(OR(W47=\"\",W47=\"No\")=TRUE,IF(V47=\"\",\"\",IF(V47>=Comboboxes!A$5,\"Pass\",IF(AND(V47>=Comboboxes!A$6,E47=\"Large\"),\"Pass (large text)\",\"Fail\"))),\"Exempt\"))","v":"Fail"},"Text","N/A","N/A","N/A","N/A","N/A","N/A","Fail","N/A","N/A","N/A","N/A","N/A","N/A","N/A","N/A","N/A","N/A","N/A","N/A","N/A","N/A","N/A","N/A","N/A","N/A","N/A","N/A","N/A","N/A","N/A","N/A","N/A","N/A","N/A","N/A","N/A","N/A","N/A","N/A","N/A"]
["CAPTCHA Body text",null,"#FFFFFF","#2175E5","Small",true,33,1.5208514422912713E-2,117,0.17788841598362914,229,0.78353779152619352,0.18703055382599396,true,255,1,255,1,255,1,1,4.43,"No",{"$f":"IF(W48=\"Rendered Colours\",\"Should Fix\",IF(OR(W48=\"\",W48=\"No\")=TRUE,IF(V48=\"\",\"\",IF(V48>=Comboboxes!A$5,\"Pass\",IF(AND(V48>=Comboboxes!A$6,E48=\"Large\"),\"Pass (large text)\",\"Fail\"))),\"Exempt\"))","v":"Fail"},"Text","N/A","N/A","N/A","N/A","N/A","N/A","Fail","N/A","N/A","N/A","N/A","N/A","N/A","N/A","N/A","N/A","N/A","N/A","N/A","N/A","N/A","N/A","N/A","N/A","N/A","N/A","N/A","N/A","N/A","N/A","N/A","N/A","N/A","N/A","N/A","N/A","N/A","N/A","N/A","N/A"]
["CAPTCHA Body text",null,"#FFFFFF","#2175E5","Small",true,33,1.5208514422912713E-2,117,0.17788841598362914,229,0.78353779152619352,0.18703055382599396,true,255,1,255,1,255,1,1,4.43,"No",{"$f":"IF(W49=\"Rendered Colours\",\"Should Fix\",IF(OR(W49=\"\",W49=\"No\")=TRUE,IF(V49=\"\",\"\",IF(V49>=Comboboxes!A$5,\"Pass\",IF(AND(V49>=Comboboxes!A$6,E49=\"Large\"),\"Pass (large text)\",\"Fail\"))),\"Exempt\"))","v":"Fail"},"Text","N/A","N/A","N/A","N/A","N/A","N/A","Fail","N/A","N/A","N/A","N/A","N/A","N/A","N/A","N/A","N/A","N/A","N/A","N/A","N/A","N/A","N/A","N/A","N/A","N/A","N/A","N/A","N/A","N/A","N/A","N/A","N/A","N/A","N/A","N/A","N/A","N/A","N/A","N/A","N/A"]
["CAPTCHA button text (Normal, Hover, Focus)",null,"#FFFFFF","#2175E5","Small",true,33,1.5208514422912713E-2,117,0.17788841598362914,229,0.78353779152619352,0.18703055382599396,true,255,1,255,1,255,1,1,4.43,"No",{"$f":"IF(W50=\"Rendered Colours\",\"Should Fix\",IF(OR(W50=\"\",W50=\"No\")=TRUE,IF(V50=\"\",\"\",IF(V50>=Comboboxes!A$5,\"Pass\",IF(AND(V50>=Comboboxes!A$6,E50=\"Large\"),\"Pass (large text)\",\"Fail\"))),\"Exempt\"))","v":"Fail"},"Text","N/A","N/A","N/A","N/A","N/A","N/A","Fail","N/A","N/A","N/A","N/A","N/A","N/A","N/A","N/A","N/A","N/A","N/A","N/A","N/A","N/A","N/A","N/A","N/A","N/A","N/A","N/A","N/A","N/A","N/A","N/A","N/A","N/A","N/A","N/A","N/A","N/A","N/A","N/A","N/A"]
["CAPTCHA Help text",null,"#000000","#FFFFFF","Small",true,255,1,255,1,255,1,1,true,0,0,0,0,0,0,0,21,"No",{"$f":"IF(W51=\"Rendered Colours\",\"Should Fix\",IF(OR(W51=\"\",W51=\"No\")=TRUE,IF(V51=\"\",\"\",IF(V51>=Comboboxes!A$5,\"Pass\",IF(AND(V51>=Comboboxes!A$6,E51=\"Large\"),\"Pass (large text)\",\"Fail\"))),\"Exempt\"))","v":"Pass"},"Text","N/A","N/A","N/A","N/A","N/A","N/A","Pass","N/A","N/A","N/A","N/A","N/A","N/A","N/A","N/A","N/A","N/A","N/A","N/A","N/A","N/A","N/A","N/A","N/A","N/A","N/A","N/A","N/A","N/A","N/A","N/A","N/A","N/A","N/A","N/A","N/A","N/A","N/A","N/A","N/A"]
["Link text (Hover, Focus)",null,"#E7135D","#FFFFFF","Small",true,255,1,255,1,255,1,1,true,231,0.79910273801440901,19,6.5120907925944761E-3,93,0.10946171077829935,0.18244982495492015,4.5199999999999996,"No",{"$f":"IF(W52=\"Rendered Colours\",\"Should Fix\",IF(OR(W52=\"\",W52=\"No\")=TRUE,IF(V52=\"\",\"\",IF(V52>=Comboboxes!A$5,\"Pass\",IF(AND(V52>=Comboboxes!A$6,E52=\"Large\"),\"Pass (large text)\",\"Fail\"))),\"Exempt\"))","v":"Pass"},"Text","N/A","N/A","N/A","N/A","N/A","N/A","Pass","N/A","N/A","N/A","N/A","N/A","N/A","N/A","N/A","N/A","N/A","Pass","N/A","N/A","N/A","N/A","N/A","N/A","N/A","N/A","N/A","N/A","N/A","N/A","N/A","N/A","N/A","N/A","N/A","N/A","N/A","N/A","N/A","N/A"]
["Button (Normal, Focus)",null,"#FFFFFF","#E4035E","Large",true,228,0.7758222183174236,3,9.1058095064651249E-4,94,0.11193242783690559,0.17367257240001124,true,255,1,255,1,255,1,1,4.6900000000000004,"No",{"$f":"IF(W53=\"Rendered Colours\",\"Should Fix\",IF(OR(W53=\"\",W53=\"No\")=TRUE,IF(V53=\"\",\"\",IF(V53>=Comboboxes!A$5,\"Pass\",IF(AND(V53>=Comboboxes!A$6,E53=\"Large\"),\"Pass (large text)\",\"Fail\"))),\"Exempt\"))","v":"Pass"},"Text","N/A","N/A","N/A","N/A","N/A","N/A","Pass","Pass","N/A","N/A","Pass","N/A","N/A","N/A","N/A","N/A","Pass","Pass","N/A","N/A","N/A","N/A","N/A","N/A","N/A","N/A","N/A","N/A","N/A","N/A","N/A","N/A","N/A","N/A","N/A","N/A","N/A","N/A","N/A","N/A"]
["Button (Focus)",null,"#FFFFFF","#9C0059","Large",true,156,0.33245153634617935,0,0,89,9.9898728247113905E-2,7.7891884806639361E-2,true,255,1,255,1,255,1,1,8.2100000000000009,"No",{"$f":"IF(W54=\"Rendered Colours\",\"Should Fix\",IF(OR(W54=\"\",W54=\"No\")=TRUE,IF(V54=\"\",\"\",IF(V54>=Comboboxes!A$5,\"Pass\",IF(AND(V54>=Comboboxes!A$6,E54=\"Large\"),\"Pass (large text)\",\"Fail\"))),\"Exempt\"))","v":"Pass"},"Text","N/A","N/A","N/A","N/A","N/A","N/A","Pass","N/A","N/A","N/A","Pass","N/A","N/A","N/A","N/A","N/A","N/A","N/A","N/A","N/A","N/A","N/A","N/A","N/A","N/A","N/A","N/A","N/A","N/A","N/A","N/A","N/A","N/A","N/A","N/A","N/A","N/A","N/A","N/A","N/A"]
["Button (Hover)",null,"#000000","#FFFFFF","Small",true,255,1,255,1,255,1,1,true,0,0,0,0,0,0,0,21,"No",{"$f":"IF(W55=\"Rendered Colours\",\"Should Fix\",IF(OR(W55=\"\",W55=\"No\")=TRUE,IF(V55=\"\",\"\",IF(V55>=Comboboxes!A$5,\"Pass\",IF(AND(V55>=Comboboxes!A$6,E55=\"Large\"),\"Pass (large text)\",\"Fail\"))),\"Exempt\"))","v":"Pass"},"Text","N/A","N/A","N/A","N/A","N/A","N/A","Pass","N/A","N/A","N/A","N/A","N/A","N/A","N/A","N/A","N/A","N/A","N/A","N/A","N/A","N/A","N/A","N/A","N/A","N/A","N/A","N/A","N/A","N/A","N/A","N/A","N/A","N/A","N/A","N/A","N/A","N/A","N/A","N/A","N/A"]
["Validation text",null,"#E80024","#FFFFFF","Large",true,255,1,255,1,255,1,1,true,232,0.8069522576692516,0,0,36,1.7641954488384088E-2,0.17283179909454424,4.71,"No",{"$f":"IF(W56=\"Rendered Colours\",\"Should Fix\",IF(OR(W56=\"\",W56=\"No\")=TRUE,IF(V56=\"\",\"\",IF(V56>=Comboboxes!A$5,\"Pass\",IF(AND(V56>=Comboboxes!A$6,E56=\"Large\"),\"Pass (large text)\",\"Fail\"))),\"Exempt\"))","v":"Pass"},"Text","N/A","N/A","N/A","N/A","N/A","N/A","Pass","N/A","N/A","Pass","N/A","N/A","N/A","N/A","N/A","N/A","N/A","N/A","N/A","N/A","N/A","N/A","N/A","N/A","N/A","N/A","N/A","N/A","N/A","N/A","N/A","N/A","N/A","N/A","N/A","N/A","N/A","N/A","N/A","N/A"]
["Link text (Normal, Hover, Focus)",null,"#117BCA","#FFFFFF","Large",true,255,1,255,1,255,1,1,true,17,5.6053916242027272E-3,123,0.19806931955994886,202,0.59061884091933692,0.18549356392295704,4.46,"No",{"$f":"IF(W57=\"Rendered Colours\",\"Should Fix\",IF(OR(W57=\"\",W57=\"No\")=TRUE,IF(V57=\"\",\"\",IF(V57>=Comboboxes!A$5,\"Pass\",IF(AND(V57>=Comboboxes!A$6,E57=\"Large\"),\"Pass (large text)\",\"Fail\"))),\"Exempt\"))","v":"Pass (large text)"},"Text","N/A","N/A","N/A","N/A","N/A","N/A","Pass \n(large text)","N/A","N/A","Pass \n(large text)","N/A","N/A","N/A","N/A","N/A","N/A","N/A","N/A","N/A","N/A","N/A","N/A","N/A","N/A","N/A","N/A","N/A","N/A","N/A","N/A","N/A","N/A","N/A","N/A","N/A","N/A","N/A","N/A","N/A","N/A"]
["Body text",null,"#9C0059","#FFFFFF","Small",true,255,1,255,1,255,1,1,true,156,0.33245153634617935,0,0,89,9.9898728247113905E-2,7.7891884806639361E-2,8.2100000000000009,"No",{"$f":"IF(W58=\"Rendered Colours\",\"Should Fix\",IF(OR(W58=\"\",W58=\"No\")=TRUE,IF(V58=\"\",\"\",IF(V58>=Comboboxes!A$5,\"Pass\",IF(AND(V58>=Comboboxes!A$6,E58=\"Large\"),\"Pass (large text)\",\"Fail\"))),\"Exempt\"))","v":"Pass"},"Text","N/A","N/A","N/A","N/A","N/A","N/A","N/A","Pass","N/A","N/A","N/A","N/A","N/A","N/A","N/A","N/A","N/A","N/A","N/A","N/A","N/A","N/A","N/A","N/A","N/A","N/A","N/A","N/A","N/A","N/A","N/A","N/A","N/A","N/A","N/A","N/A","N/A","N/A","N/A","N/A"]
["Placeholder text",null,"#6B727F","#FFFFFF","Small",true,255,1,255,1,255,1,1,true,107,0.14702726649759501,114,0.16826940018969078,127,0.21223075741405523,0.16692733255835032,4.84,"No",{"$f":"IF(W59=\"Rendered Colours\",\"Should Fix\",IF(OR(W59=\"\",W59=\"No\")=TRUE,IF(V59=\"\",\"\",IF(V59>=Comboboxes!A$5,\"Pass\",IF(AND(V59>=Comboboxes!A$6,E59=\"Large\"),\"Pass (large text)\",\"Fail\"))),\"Exempt\"))","v":"Pass"},"Text","N/A","N/A","N/A","N/A","N/A","N/A","N/A","Pass","N/A","N/A","N/A","N/A","N/A","N/A","N/A","N/A","N/A","N/A","N/A","N/A","N/A","N/A","N/A","N/A","N/A","N/A","N/A","N/A","N/A","N/A","N/A","N/A","N/A","N/A","N/A","N/A","N/A","N/A","N/A","N/A"]
["Paragraph text",null,"#9C0059","#FFFFFF","Small",true,255,1,255,1,255,1,1,true,156,0.33245153634617935,0,0,89,9.9898728247113905E-2,7.7891884806639361E-2,8.2100000000000009,"No",{"$f":"IF(W60=\"Rendered Colours\",\"Should Fix\",IF(OR(W60=\"\",W60=\"No\")=TRUE,IF(V60=\"\",\"\",IF(V60>=Comboboxes!A$5,\"Pass\",IF(AND(V60>=Comboboxes!A$6,E60=\"Large\"),\"Pass (large text)\",\"Fail\"))),\"Exempt\"))","v":"Pass"},"Text","N/A","N/A","N/A","N/A","N/A","N/A","N/A","Pass","N/A","N/A","N/A","N/A","N/A","N/A","N/A","N/A","N/A","N/A","N/A","N/A","N/A","N/A","N/A","N/A","N/A","N/A","N/A","N/A","N/A","N/A","N/A","N/A","N/A","N/A","N/A","N/A","N/A","N/A","N/A","N/A"]
["Pagination text link (Current page) (Normal, Hover, Focus)",null,"#9C0059","#FFFFFF","Small",{"$f":"IF(LEN(D61)=0,\"\",AND(LEFT(D61,1)=\"#\",LEN(D61)=7))","v":true},{"$f":"HEX2DEC(RIGHT(LEFT(D61,3),2))","v":255},{"$f":"IF(G61/255<= 0.03928,G61/(255*12.92),(((G61/255)+0.055)/1.055)^2.4)","v":1},{"$f":"HEX2DEC(RIGHT(LEFT(D61,5),2))","v":255},{"$f":"IF(I61/255<= 0.03928,I61/(255*12.92),(((I61/255)+0.055)/1.055)^2.4)","v":1},{"$f":"HEX2DEC(RIGHT(D61,2))","v":255},{"$f":"IF(K61/255<= 0.03928,K61/(255*12.92),(((K61/255)+0.055)/1.055)^2.4)","v":1},{"$f":"(0.2126*H61)+(0.7152*J61)+(0.0722*L61)","v":1},{"$f":"IF(LEN(C61)=0,\"\",AND(LEFT(C61,1)=\"#\",LEN(C61)=7))","v":true},{"$f":"HEX2DEC(RIGHT(LEFT(C61,3),2))","v":156},{"$f":"IF(O61/255<= 0.03928,O61/(255*12.92),(((O61/255)+0.055)/1.055)^2.4)","v":0.33245153634617935},{"$f":"HEX2DEC(RIGHT(LEFT(C61,5),2))","v":0},{"$f":"IF(Q61/255<= 0.03928,Q61/(255*12.92),(((Q61/255)+0.055)/1.055)^2.4)","v":0},{"$f":"HEX2DEC(RIGHT(C61,2))","v":89},{"$f":"IF(S61/255<= 0.03928,S61/(255*12.92),(((S61/255)+0.055)/1.055)^2.4)","v":9.9898728247113905E-2},{"$f":"(0.2126*P61)+(0.7152*R61)+(0.0722*T61)","v":7.7891884806639361E-2},{"$f":"IF(OR(F61=\"\",N61=\"\")=TRUE,\"\",IF(OR(F61=FALSE,N61=FALSE)=TRUE,\"ERROR\",ROUND(IF(M61>U61,(M61+0.05)/(U61+0.05),(U61+0.05)/(M61+0.05)),2)))","v":8.2100000000000009},"No",{"$f":"IF(W61=\"Rendered Colours\",\"Should Fix\",IF(OR(W61=\"\",W61=\"No\")=TRUE,IF(V61=\"\",\"\",IF(V61>=Comboboxes!A$5,\"Pass\",IF(AND(V61>=Comboboxes!A$6,E61=\"Large\"),\"Pass (large text)\",\"Fail\"))),\"Exempt\"))","v":"Pass"},"Text","N/A","N/A","N/A","N/A","N/A","N/A","N/A","Pass","N/A","N/A","N/A","N/A","N/A","N/A","N/A","N/A","Pass","N/A","N/A","N/A","N/A","N/A","N/A","N/A","N/A","N/A","N/A","N/A","N/A","N/A","N/A","N/A","N/A","N/A","N/A","N/A","N/A","N/A","N/A","N/A"]
["Pagination text (Non current page) (Normal, Hover, Focus)",null,"#333333","#FFFFFF","Small",true,255,1,255,1,255,1,1,true,51,3.3104766570885055E-2,51,3.3104766570885055E-2,51,3.3104766570885055E-2,3.3104766570885055E-2,12.63,"No",{"$f":"IF(W62=\"Rendered Colours\",\"Should Fix\",IF(OR(W62=\"\",W62=\"No\")=TRUE,IF(V62=\"\",\"\",IF(V62>=Comboboxes!A$5,\"Pass\",IF(AND(V62>=Comboboxes!A$6,E62=\"Large\"),\"Pass (large text)\",\"Fail\"))),\"Exempt\"))","v":"Pass"},"Text","N/A","N/A","N/A","N/A","N/A","N/A","N/A","Pass","N/A","N/A","N/A","N/A","N/A","N/A","N/A","N/A","Pass","N/A","N/A","N/A","N/A","N/A","N/A","N/A","N/A","N/A","N/A","N/A","N/A","N/A","N/A","N/A","N/A","N/A","N/A","N/A","N/A","N/A","N/A","N/A"]
["Heading text",null,"#333333","#EFEFEF","Small",true,239,0.86315721345410235,239,0.86315721345410235,239,0.86315721345410235,0.86315721345410223,true,51,3.3104766570885055E-2,51,3.3104766570885055E-2,51,3.3104766570885055E-2,3.3104766570885055E-2,10.99,"No",{"$f":"IF(W63=\"Rendered Colours\",\"Should Fix\",IF(OR(W63=\"\",W63=\"No\")=TRUE,IF(V63=\"\",\"\",IF(V63>=Comboboxes!A$5,\"Pass\",IF(AND(V63>=Comboboxes!A$6,E63=\"Large\"),\"Pass (large text)\",\"Fail\"))),\"Exempt\"))","v":"Pass"},"Text","N/A","N/A","N/A","N/A","N/A","N/A","N/A","Pass","Pass","N/A","N/A","Pass","N/A","N/A","N/A","N/A","N/A","N/A","N/A","N/A","N/A","N/A","N/A","N/A","N/A","N/A","N/A","N/A","N/A","N/A","N/A","N/A","N/A","N/A","N/A","N/A","N/A","N/A","N/A","N/A"]
["Button text (Normal, Hover, Focus)",null,"#333333","#EFEFEF","Small",true,239,0.86315721345410235,239,0.86315721345410235,239,0.86315721345410235,0.86315721345410223,true,51,3.3104766570885055E-2,51,3.3104766570885055E-2,51,3.3104766570885055E-2,3.3104766570885055E-2,10.99,"No",{"$f":"IF(W64=\"Rendered Colours\",\"Should Fix\",IF(OR(W64=\"\",W64=\"No\")=TRUE,IF(V64=\"\",\"\",IF(V64>=Comboboxes!A$5,\"Pass\",IF(AND(V64>=Comboboxes!A$6,E64=\"Large\"),\"Pass (large text)\",\"Fail\"))),\"Exempt\"))","v":"Pass"},"Text","N/A","N/A","N/A","N/A","N/A","N/A","N/A","Pass","N/A","N/A","N/A","N/A","N/A","N/A","N/A","N/A","N/A","N/A","N/A","N/A","N/A","N/A","N/A","N/A","N/A","N/A","N/A","N/A","N/A","N/A","N/A","N/A","N/A","N/A","N/A","N/A","N/A","N/A","N/A","N/A"]
["Button text (Normal)",null,"#333333","#FFFFFF","Small",true,255,1,255,1,255,1,1,true,51,3.3104766570885055E-2,51,3.3104766570885055E-2,51,3.3104766570885055E-2,3.3104766570885055E-2,12.63,"No",{"$f":"IF(W65=\"Rendered Colours\",\"Should Fix\",IF(OR(W65=\"\",W65=\"No\")=TRUE,IF(V65=\"\",\"\",IF(V65>=Comboboxes!A$5,\"Pass\",IF(AND(V65>=Comboboxes!A$6,E65=\"Large\"),\"Pass (large text)\",\"Fail\"))),\"Exempt\"))","v":"Pass"},"Text","N/A","N/A","N/A","N/A","N/A","N/A","N/A","Pass","N/A","N/A","N/A","N/A","N/A","N/A","N/A","N/A","Pass","N/A","N/A","N/A","N/A","N/A","N/A","N/A","N/A","N/A","N/A","N/A","N/A","N/A","N/A","N/A","N/A","N/A","N/A","N/A","N/A","N/A","N/A","N/A"]
["Label text",null,"#333333","#D6D6D6","Small",true,214,0.67244315695768753,214,0.67244315695768753,214,0.67244315695768753,0.67244315695768742,true,51,3.3104766570885055E-2,51,3.3104766570885055E-2,51,3.3104766570885055E-2,3.3104766570885055E-2,8.69,"No",{"$f":"IF(W66=\"Rendered Colours\",\"Should Fix\",IF(OR(W66=\"\",W66=\"No\")=TRUE,IF(V66=\"\",\"\",IF(V66>=Comboboxes!A$5,\"Pass\",IF(AND(V66>=Comboboxes!A$6,E66=\"Large\"),\"Pass (large text)\",\"Fail\"))),\"Exempt\"))","v":"Pass"},"Text","N/A","N/A","N/A","N/A","N/A","N/A","N/A","Pass","N/A","N/A","N/A","N/A","N/A","N/A","N/A","N/A","N/A","N/A","N/A","N/A","N/A","N/A","N/A","N/A","N/A","N/A","N/A","N/A","N/A","N/A","N/A","N/A","N/A","N/A","N/A","N/A","N/A","N/A","N/A","N/A"]
["Label text",null,"#333333","#D6D6D6","Large",true,214,0.67244315695768753,214,0.67244315695768753,214,0.67244315695768753,0.67244315695768742,true,51,3.3104766570885055E-2,51,3.3104766570885055E-2,51,3.3104766570885055E-2,3.3104766570885055E-2,8.69,"No",{"$f":"IF(W67=\"Rendered Colours\",\"Should Fix\",IF(OR(W67=\"\",W67=\"No\")=TRUE,IF(V67=\"\",\"\",IF(V67>=Comboboxes!A$5,\"Pass\",IF(AND(V67>=Comboboxes!A$6,E67=\"Large\"),\"Pass (large text)\",\"Fail\"))),\"Exempt\"))","v":"Pass"},"Text","N/A","N/A","N/A","N/A","N/A","N/A","N/A","Pass","N/A","N/A","N/A","N/A","N/A","N/A","N/A","N/A","N/A","N/A","N/A","N/A","N/A","N/A","N/A","N/A","N/A","N/A","N/A","N/A","N/A","N/A","N/A","N/A","N/A","N/A","N/A","N/A","N/A","N/A","N/A","N/A"]
["Link text (Hover)",null,"#FFFFFF","#E4035E","Small",true,228,0.7758222183174236,3,9.1058095064651249E-4,94,0.11193242783690559,0.17367257240001124,true,255,1,255,1,255,1,1,4.6900000000000004,"No",{"$f":"IF(W68=\"Rendered Colours\",\"Should Fix\",IF(OR(W68=\"\",W68=\"No\")=TRUE,IF(V68=\"\",\"\",IF(V68>=Comboboxes!A$5,\"Pass\",IF(AND(V68>=Comboboxes!A$6,E68=\"Large\"),\"Pass (large text)\",\"Fail\"))),\"Exempt\"))","v":"Pass"},"Text","N/A","N/A","N/A","N/A","N/A","Pass","N/A","N/A","N/A","N/A","N/A","N/A","N/A","N/A","N/A","N/A","N/A","N/A","N/A","N/A","N/A","N/A","N/A","N/A","N/A","N/A","N/A","N/A","N/A","N/A","N/A","N/A","N/A","N/A","N/A","N/A","N/A","N/A","N/A","N/A"]
["Link text (Focus)",null,"#333333","#FFFFFF","Small",true,255,1,255,1,255,1,1,true,51,3.3104766570885055E-2,51,3.3104766570885055E-2,51,3.3104766570885055E-2,3.3104766570885055E-2,12.63,"No",{"$f":"IF(W69=\"Rendered Colours\",\"Should Fix\",IF(OR(W69=\"\",W69=\"No\")=TRUE,IF(V69=\"\",\"\",IF(V69>=Comboboxes!A$5,\"Pass\",IF(AND(V69>=Comboboxes!A$6,E69=\"Large\"),\"Pass (large text)\",\"Fail\"))),\"Exempt\"))","v":"Pass"},"Text","N/A","N/A","N/A","N/A","N/A","Pass","N/A","N/A","N/A","N/A","N/A","N/A","N/A","N/A","N/A","N/A","N/A","N/A","N/A","Pass","N/A","N/A","N/A","N/A","N/A","N/A","N/A","N/A","N/A","N/A","N/A","N/A","N/A","N/A","N/A","N/A","N/A","N/A","N/A","N/A"]
["Breadcrumb link text (Normal)",null,"#333333","#FFFFFF","Small",true,255,1,255,1,255,1,{"$f":"(0.2126*H70)+(0.7152*J70)+(0.0722*L70)","v":1},true,51,3.3104766570885055E-2,51,3.3104766570885055E-2,51,3.3104766570885055E-2,{"$f":"(0.2126*P70)+(0.7152*R70)+(0.0722*T70)","v":3.3104766570885055E-2},{"$f":"IF(OR(F70=\"\",N70=\"\")=TRUE,\"\",IF(OR(F70=FALSE,N70=FALSE)=TRUE,\"ERROR\",ROUND(IF(M70>U70,(M70+0.05)/(U70+0.05),(U70+0.05)/(M70+0.05)),2)))","v":12.63},"No",{"$f":"IF(W70=\"Rendered Colours\",\"Should Fix\",IF(OR(W70=\"\",W70=\"No\")=TRUE,IF(V70=\"\",\"\",IF(V70>=Comboboxes!A$5,\"Pass\",IF(AND(V70>=Comboboxes!A$6,E70=\"Large\"),\"Pass (large text)\",\"Fail\"))),\"Exempt\"))","v":"Pass"},"Text","N/A","N/A","N/A","N/A","N/A","N/A","N/A","N/A","Pass","Pass","Pass","Pass","Pass","Pass","Pass","Pass","Pass","Pass","Pass","Pass","N/A","N/A","N/A","N/A","N/A","N/A","N/A","N/A","N/A","N/A","N/A","N/A","N/A","N/A","N/A","N/A","N/A","N/A","N/A","N/A"]
["Breadcrumb link text (Hover, Focus)",null,"#E4035E","#FFFFFF","Small",true,255,1,255,1,255,1,{"$f":"(0.2126*H71)+(0.7152*J71)+(0.0722*L71)","v":1},true,228,0.7758222183174236,3,9.1058095064651249E-4,94,0.11193242783690559,{"$f":"(0.2126*P71)+(0.7152*R71)+(0.0722*T71)","v":0.17367257240001124},{"$f":"IF(OR(F71=\"\",N71=\"\")=TRUE,\"\",IF(OR(F71=FALSE,N71=FALSE)=TRUE,\"ERROR\",ROUND(IF(M71>U71,(M71+0.05)/(U71+0.05),(U71+0.05)/(M71+0.05)),2)))","v":4.6900000000000004},"No",{"$f":"IF(W71=\"Rendered Colours\",\"Should Fix\",IF(OR(W71=\"\",W71=\"No\")=TRUE,IF(V71=\"\",\"\",IF(V71>=Comboboxes!A$5,\"Pass\",IF(AND(V71>=Comboboxes!A$6,E71=\"Large\"),\"Pass (large text)\",\"Fail\"))),\"Exempt\"))","v":"Pass"},"Text","N/A","N/A","N/A","N/A","N/A","N/A","N/A","N/A","Pass","Pass","Pass","Pass","Pass","Pass","Pass","Pass","Pass","Pass","Pass","Pass","N/A","N/A","N/A","N/A","N/A","N/A","N/A","N/A","N/A","N/A","N/A","N/A","N/A","N/A","N/A","N/A","N/A","N/A","N/A","N/A"]
["Link text (Normal)",null,"#333333","#FFFFFF","Large",true,255,1,255,1,255,1,{"$f":"(0.2126*H72)+(0.7152*J72)+(0.0722*L72)","v":1},true,51,3.3104766570885055E-2,51,3.3104766570885055E-2,51,3.3104766570885055E-2,{"$f":"(0.2126*P72)+(0.7152*R72)+(0.0722*T72)","v":3.3104766570885055E-2},{"$f":"IF(OR(F72=\"\",N72=\"\")=TRUE,\"\",IF(OR(F72=FALSE,N72=FALSE)=TRUE,\"ERROR\",ROUND(IF(M72>U72,(M72+0.05)/(U72+0.05),(U72+0.05)/(M72+0.05)),2)))","v":12.63},"No",{"$f":"IF(W72=\"Rendered Colours\",\"Should Fix\",IF(OR(W72=\"\",W72=\"No\")=TRUE,IF(V72=\"\",\"\",IF(V72>=Comboboxes!A$5,\"Pass\",IF(AND(V72>=Comboboxes!A$6,E72=\"Large\"),\"Pass (large text)\",\"Fail\"))),\"Exempt\"))","v":"Pass"},"Text","N/A","N/A","N/A","N/A","N/A","N/A","N/A","N/A","Pass","Pass","Pass","Pass","Pass","Pass","Pass","Pass","N/A","Pass","Pass","Pass","N/A","N/A","N/A","N/A","N/A","N/A","N/A","N/A","N/A","N/A","N/A","N/A","N/A","N/A","N/A","N/A","N/A","N/A","N/A","N/A"]
["Link text (Hover, Focus)",null,"#E4035E","#FFFFFF","Small",true,255,1,255,1,255,1,1,true,228,0.7758222183174236,3,9.1058095064651249E-4,94,0.11193242783690559,0.17367257240001124,4.6900000000000004,"No",{"$f":"IF(W73=\"Rendered Colours\",\"Should Fix\",IF(OR(W73=\"\",W73=\"No\")=TRUE,IF(V73=\"\",\"\",IF(V73>=Comboboxes!A$5,\"Pass\",IF(AND(V73>=Comboboxes!A$6,E73=\"Large\"),\"Pass (large text)\",\"Fail\"))),\"Exempt\"))","v":"Pass"},"Text","N/A","N/A","N/A","N/A","N/A","N/A","N/A","N/A","Pass","Pass","Pass","Pass","N/A","N/A","N/A","N/A","N/A","N/A","N/A","Pass","N/A","N/A","N/A","N/A","N/A","N/A","N/A","N/A","N/A","N/A","N/A","N/A","N/A","N/A","N/A","N/A","N/A","N/A","N/A","N/A"]
["Link text (Normal, Hover, Focus)",null,"#333333","#EFEFEF","Small",true,239,0.86315721345410235,239,0.86315721345410235,239,0.86315721345410235,0.86315721345410223,true,51,3.3104766570885055E-2,51,3.3104766570885055E-2,51,3.3104766570885055E-2,3.3104766570885055E-2,10.99,"No",{"$f":"IF(W74=\"Rendered Colours\",\"Should Fix\",IF(OR(W74=\"\",W74=\"No\")=TRUE,IF(V74=\"\",\"\",IF(V74>=Comboboxes!A$5,\"Pass\",IF(AND(V74>=Comboboxes!A$6,E74=\"Large\"),\"Pass (large text)\",\"Fail\"))),\"Exempt\"))","v":"Pass"},"Text","N/A","N/A","N/A","N/A","N/A","N/A","N/A","N/A","Pass","N/A","N/A","N/A","Pass","Pass","Pass","N/A","Pass","N/A","N/A","N/A","N/A","N/A","N/A","N/A","N/A","N/A","N/A","N/A","N/A","N/A","N/A","N/A","N/A","N/A","N/A","N/A","N/A","N/A","N/A","N/A"]
["Progress text",null,"#FFFFFF","#E4035E","Small",true,228,0.7758222183174236,3,9.1058095064651249E-4,94,0.11193242783690559,0.17367257240001124,true,255,1,255,1,255,1,1,4.6900000000000004,"No",{"$f":"IF(W75=\"Rendered Colours\",\"Should Fix\",IF(OR(W75=\"\",W75=\"No\")=TRUE,IF(V75=\"\",\"\",IF(V75>=Comboboxes!A$5,\"Pass\",IF(AND(V75>=Comboboxes!A$6,E75=\"Large\"),\"Pass (large text)\",\"Fail\"))),\"Exempt\"))","v":"Pass"},"Text","N/A","N/A","N/A","N/A","N/A","N/A","N/A","N/A","N/A","Pass","N/A","N/A","N/A","N/A","N/A","N/A","N/A","N/A","N/A","N/A","N/A","N/A","N/A","N/A","N/A","N/A","N/A","N/A","N/A","N/A","N/A","N/A","N/A","N/A","N/A","N/A","N/A","N/A","N/A","N/A"]
["Progress text",null,"#FFFFFF","#777777","Large",true,119,0.18447499450044097,119,0.18447499450044097,119,0.18447499450044097,0.18447499450044097,true,255,1,255,1,255,1,1,4.4800000000000004,"No",{"$f":"IF(W76=\"Rendered Colours\",\"Should Fix\",IF(OR(W76=\"\",W76=\"No\")=TRUE,IF(V76=\"\",\"\",IF(V76>=Comboboxes!A$5,\"Pass\",IF(AND(V76>=Comboboxes!A$6,E76=\"Large\"),\"Pass (large text)\",\"Fail\"))),\"Exempt\"))","v":"Pass (large text)"},"Text","N/A","N/A","N/A","N/A","N/A","N/A","N/A","N/A","N/A","Pass \n(large text)","N/A","N/A","N/A","N/A","N/A","N/A","N/A","N/A","N/A","N/A","N/A","N/A","N/A","N/A","N/A","N/A","N/A","N/A","N/A","N/A","N/A","N/A","N/A","N/A","N/A","N/A","N/A","N/A","N/A","N/A"]
["Progress text",null,"#333333","#FFFFFF","Small",true,255,1,255,1,255,1,1,true,51,3.3104766570885055E-2,51,3.3104766570885055E-2,51,3.3104766570885055E-2,3.3104766570885055E-2,12.63,"No",{"$f":"IF(W77=\"Rendered Colours\",\"Should Fix\",IF(OR(W77=\"\",W77=\"No\")=TRUE,IF(V77=\"\",\"\",IF(V77>=Comboboxes!A$5,\"Pass\",IF(AND(V77>=Comboboxes!A$6,E77=\"Large\"),\"Pass (large text)\",\"Fail\"))),\"Exempt\"))","v":"Pass"},"Text","N/A","N/A","N/A","N/A","N/A","N/A","N/A","N/A","N/A","Pass","N/A","N/A","N/A","N/A","N/A","N/A","N/A","N/A","N/A","N/A","N/A","N/A","N/A","N/A","N/A","N/A","N/A","N/A","N/A","N/A","N/A","N/A","N/A","N/A","N/A","N/A","N/A","N/A","N/A","N/A"]
["Progress text",null,"#777777","#FFFFFF","Small",true,255,1,255,1,255,1,1,true,119,0.18447499450044097,119,0.18447499450044097,119,0.18447499450044097,0.18447499450044097,4.4800000000000004,"No",{"$f":"IF(W78=\"Rendered Colours\",\"Should Fix\",IF(OR(W78=\"\",W78=\"No\")=TRUE,IF(V78=\"\",\"\",IF(V78>=Comboboxes!A$5,\"Pass\",IF(AND(V78>=Comboboxes!A$6,E78=\"Large\"),\"Pass (large text)\",\"Fail\"))),\"Exempt\"))","v":"Fail"},"Text","N/A","N/A","N/A","N/A","N/A","N/A","N/A","N/A","N/A","Fail","N/A","N/A","N/A","N/A","N/A","N/A","N/A","N/A","N/A","N/A","N/A","N/A","N/A","N/A","N/A","N/A","N/A","N/A","N/A","N/A","N/A","N/A","N/A","N/A","N/A","N/A","N/A","N/A","N/A","N/A"]
["Heading text",null,"#FFFFFF","#0E0F12","Large",true,14,4.3914420374102934E-3,15,4.7769534806937283E-3,18,6.0488330228570539E-3,4.7868234507958624E-3,true,255,1,255,1,255,1,1,19.170000000000002,"No",{"$f":"IF(W79=\"Rendered Colours\",\"Should Fix\",IF(OR(W79=\"\",W79=\"No\")=TRUE,IF(V79=\"\",\"\",IF(V79>=Comboboxes!A$5,\"Pass\",IF(AND(V79>=Comboboxes!A$6,E79=\"Large\"),\"Pass (large text)\",\"Fail\"))),\"Exempt\"))","v":"Pass"},"Text","N/A","N/A","N/A","N/A","N/A","N/A","N/A","N/A","N/A","Pass","Pass","N/A","Pass","Pass","N/A","N/A","N/A","N/A","N/A","N/A","N/A","N/A","N/A","N/A","N/A","N/A","N/A","N/A","N/A","N/A","N/A","N/A","N/A","N/A","N/A","N/A","N/A","N/A","N/A","N/A"]
["Paragraph text",null,"#333333","#EFEFEF","Large",{"$f":"IF(LEN(D80)=0,\"\",AND(LEFT(D80,1)=\"#\",LEN(D80)=7))","v":true},{"$f":"HEX2DEC(RIGHT(LEFT(D80,3),2))","v":239},{"$f":"IF(G80/255<= 0.03928,G80/(255*12.92),(((G80/255)+0.055)/1.055)^2.4)","v":0.86315721345410235},{"$f":"HEX2DEC(RIGHT(LEFT(D80,5),2))","v":239},{"$f":"IF(I80/255<= 0.03928,I80/(255*12.92),(((I80/255)+0.055)/1.055)^2.4)","v":0.86315721345410235},{"$f":"HEX2DEC(RIGHT(D80,2))","v":239},{"$f":"IF(K80/255<= 0.03928,K80/(255*12.92),(((K80/255)+0.055)/1.055)^2.4)","v":0.86315721345410235},{"$f":"(0.2126*H80)+(0.7152*J80)+(0.0722*L80)","v":0.86315721345410223},{"$f":"IF(LEN(C80)=0,\"\",AND(LEFT(C80,1)=\"#\",LEN(C80)=7))","v":true},{"$f":"HEX2DEC(RIGHT(LEFT(C80,3),2))","v":51},{"$f":"IF(O80/255<= 0.03928,O80/(255*12.92),(((O80/255)+0.055)/1.055)^2.4)","v":3.3104766570885055E-2},{"$f":"HEX2DEC(RIGHT(LEFT(C80,5),2))","v":51},{"$f":"IF(Q80/255<= 0.03928,Q80/(255*12.92),(((Q80/255)+0.055)/1.055)^2.4)","v":3.3104766570885055E-2},{"$f":"HEX2DEC(RIGHT(C80,2))","v":51},{"$f":"IF(S80/255<= 0.03928,S80/(255*12.92),(((S80/255)+0.055)/1.055)^2.4)","v":3.3104766570885055E-2},{"$f":"(0.2126*P80)+(0.7152*R80)+(0.0722*T80)","v":3.3104766570885055E-2},{"$f":"IF(OR(F80=\"\",N80=\"\")=TRUE,\"\",IF(OR(F80=FALSE,N80=FALSE)=TRUE,\"ERROR\",ROUND(IF(M80>U80,(M80+0.05)/(U80+0.05),(U80+0.05)/(M80+0.05)),2)))","v":10.99},"No",{"$f":"IF(W80=\"Rendered Colours\",\"Should Fix\",IF(OR(W80=\"\",W80=\"No\")=TRUE,IF(V80=\"\",\"\",IF(V80>=Comboboxes!A$5,\"Pass\",IF(AND(V80>=Comboboxes!A$6,E80=\"Large\"),\"Pass (large text)\",\"Fail\"))),\"Exempt\"))","v":"Pass"},"Text","N/A","N/A","N/A","N/A","N/A","N/A","N/A","N/A","N/A","N/A","N/A","Pass","N/A","N/A","N/A","N/A","N/A","N/A","N/A","N/A","N/A","N/A","N/A","N/A","N/A","N/A","N/A","N/A","N/A","N/A","N/A","N/A","N/A","N/A","N/A","N/A","N/A","N/A","N/A","N/A"]
["Paragraph text",null,"#333333","#EFEFEF","Small",true,239,0.86315721345410235,239,0.86315721345410235,239,0.86315721345410235,{"$f":"(0.2126*H81)+(0.7152*J81)+(0.0722*L81)","v":0.86315721345410223},true,51,3.3104766570885055E-2,51,3.3104766570885055E-2,51,3.3104766570885055E-2,{"$f":"(0.2126*P81)+(0.7152*R81)+(0.0722*T81)","v":3.3104766570885055E-2},{"$f":"IF(OR(F81=\"\",N81=\"\")=TRUE,\"\",IF(OR(F81=FALSE,N81=FALSE)=TRUE,\"ERROR\",ROUND(IF(M81>U81,(M81+0.05)/(U81+0.05),(U81+0.05)/(M81+0.05)),2)))","v":10.99},"No",{"$f":"IF(W81=\"Rendered Colours\",\"Should Fix\",IF(OR(W81=\"\",W81=\"No\")=TRUE,IF(V81=\"\",\"\",IF(V81>=Comboboxes!A$5,\"Pass\",IF(AND(V81>=Comboboxes!A$6,E81=\"Large\"),\"Pass (large text)\",\"Fail\"))),\"Exempt\"))","v":"Pass"},"Text","N/A","N/A","N/A","N/A","N/A","N/A","N/A","N/A","N/A","N/A","N/A","Pass","N/A","N/A","N/A","N/A","N/A","N/A","N/A","N/A","N/A","N/A","N/A","N/A","N/A","N/A","N/A","N/A","N/A","N/A","N/A","N/A","N/A","N/A","N/A","N/A","N/A","N/A","N/A","N/A"]
["Table heading",null,"#FFFFFF","#353D42","Large",true,53,3.5601314875020329E-2,61,4.6665086336880102E-2,66,5.4480276442442369E-2,{"$f":"(0.2126*H82)+(0.7152*J82)+(0.0722*L82)","v":4.4877185249710308E-2},true,255,1,255,1,255,1,{"$f":"(0.2126*P82)+(0.7152*R82)+(0.0722*T82)","v":1},{"$f":"IF(OR(F82=\"\",N82=\"\")=TRUE,\"\",IF(OR(F82=FALSE,N82=FALSE)=TRUE,\"ERROR\",ROUND(IF(M82>U82,(M82+0.05)/(U82+0.05),(U82+0.05)/(M82+0.05)),2)))","v":11.07},"No",{"$f":"IF(W82=\"Rendered Colours\",\"Should Fix\",IF(OR(W82=\"\",W82=\"No\")=TRUE,IF(V82=\"\",\"\",IF(V82>=Comboboxes!A$5,\"Pass\",IF(AND(V82>=Comboboxes!A$6,E82=\"Large\"),\"Pass (large text)\",\"Fail\"))),\"Exempt\"))","v":"Pass"},"Text","N/A","N/A","N/A","N/A","N/A","N/A","N/A","N/A","N/A","N/A","N/A","Pass","N/A","N/A","N/A","N/A","N/A","N/A","N/A","N/A","N/A","N/A","N/A","N/A","N/A","N/A","N/A","N/A","N/A","N/A","N/A","N/A","N/A","N/A","N/A","N/A","N/A","N/A","N/A","N/A"]
["Table column text",null,"#333333","#FFFFFF","Small",true,255,1,255,1,255,1,{"$f":"(0.2126*H83)+(0.7152*J83)+(0.0722*L83)","v":1},true,51,3.3104766570885055E-2,51,3.3104766570885055E-2,51,3.3104766570885055E-2,{"$f":"(0.2126*P83)+(0.7152*R83)+(0.0722*T83)","v":3.3104766570885055E-2},{"$f":"IF(OR(F83=\"\",N83=\"\")=TRUE,\"\",IF(OR(F83=FALSE,N83=FALSE)=TRUE,\"ERROR\",ROUND(IF(M83>U83,(M83+0.05)/(U83+0.05),(U83+0.05)/(M83+0.05)),2)))","v":12.63},"No",{"$f":"IF(W83=\"Rendered Colours\",\"Should Fix\",IF(OR(W83=\"\",W83=\"No\")=TRUE,IF(V83=\"\",\"\",IF(V83>=Comboboxes!A$5,\"Pass\",IF(AND(V83>=Comboboxes!A$6,E83=\"Large\"),\"Pass (large text)\",\"Fail\"))),\"Exempt\"))","v":"Pass"},"Text","N/A","N/A","N/A","N/A","N/A","N/A","N/A","N/A","N/A","N/A","N/A","Pass","N/A","N/A","N/A","N/A","N/A","N/A","Pass","N/A","N/A","N/A","N/A","N/A","N/A","N/A","N/A","N/A","N/A","N/A","N/A","N/A","N/A","N/A","N/A","N/A","N/A","N/A","N/A","N/A"]
["Table column text",null,"#333333","#F5F5F5","Small",true,245,0.9130986517934192,245,0.9130986517934192,245,0.9130986517934192,0.91309865179341909,true,51,3.3104766570885055E-2,51,3.3104766570885055E-2,51,3.3104766570885055E-2,3.3104766570885055E-2,11.59,"No",{"$f":"IF(W84=\"Rendered Colours\",\"Should Fix\",IF(OR(W84=\"\",W84=\"No\")=TRUE,IF(V84=\"\",\"\",IF(V84>=Comboboxes!A$5,\"Pass\",IF(AND(V84>=Comboboxes!A$6,E84=\"Large\"),\"Pass (large text)\",\"Fail\"))),\"Exempt\"))","v":"Pass"},"Text","N/A","N/A","N/A","N/A","N/A","N/A","N/A","N/A","N/A","N/A","N/A","Pass","N/A","N/A","N/A","N/A","N/A","N/A","Pass","N/A","N/A","N/A","N/A","N/A","N/A","N/A","N/A","N/A","N/A","N/A","N/A","N/A","N/A","N/A","N/A","N/A","N/A","N/A","N/A","N/A"]
["Heading text",null,"#333333","#EFEFEF","Large",true,239,0.86315721345410235,239,0.86315721345410235,239,0.86315721345410235,0.86315721345410223,true,51,3.3104766570885055E-2,51,3.3104766570885055E-2,51,3.3104766570885055E-2,3.3104766570885055E-2,10.99,"No",{"$f":"IF(W85=\"Rendered Colours\",\"Should Fix\",IF(OR(W85=\"\",W85=\"No\")=TRUE,IF(V85=\"\",\"\",IF(V85>=Comboboxes!A$5,\"Pass\",IF(AND(V85>=Comboboxes!A$6,E85=\"Large\"),\"Pass (large text)\",\"Fail\"))),\"Exempt\"))","v":"Pass"},"Text","N/A","N/A","N/A","N/A","N/A","N/A","N/A","N/A","N/A","N/A","N/A","N/A","Pass","Pass","N/A","N/A","Pass","N/A","N/A","N/A","N/A","N/A","N/A","N/A","N/A","N/A","N/A","N/A","N/A","N/A","N/A","N/A","N/A","N/A","N/A","N/A","N/A","N/A","N/A","N/A"]
["Link text (Hover, Focus)",null,"#E4035E","#FFFFFF","Small",true,255,1,255,1,255,1,1,true,228,0.7758222183174236,3,9.1058095064651249E-4,94,0.11193242783690559,0.17367257240001124,4.6900000000000004,"No",{"$f":"IF(W86=\"Rendered Colours\",\"Should Fix\",IF(OR(W86=\"\",W86=\"No\")=TRUE,IF(V86=\"\",\"\",IF(V86>=Comboboxes!A$5,\"Pass\",IF(AND(V86>=Comboboxes!A$6,E86=\"Large\"),\"Pass (large text)\",\"Fail\"))),\"Exempt\"))","v":"Pass"},"Text","N/A","N/A","N/A","N/A","N/A","N/A","N/A","N/A","N/A","N/A","N/A","N/A","Pass","Pass","N/A","Pass","N/A","N/A","N/A","N/A","N/A","N/A","N/A","N/A","N/A","N/A","N/A","N/A","N/A","N/A","N/A","N/A","N/A","N/A","N/A","N/A","N/A","N/A","N/A","N/A"]
["Link text (Focus)",null,"#E4035E","#EFEFEF","Large",true,239,0.86315721345410235,239,0.86315721345410235,239,0.86315721345410235,0.86315721345410223,true,228,0.7758222183174236,3,9.1058095064651249E-4,94,0.11193242783690559,0.17367257240001124,4.08,"No",{"$f":"IF(W87=\"Rendered Colours\",\"Should Fix\",IF(OR(W87=\"\",W87=\"No\")=TRUE,IF(V87=\"\",\"\",IF(V87>=Comboboxes!A$5,\"Pass\",IF(AND(V87>=Comboboxes!A$6,E87=\"Large\"),\"Pass (large text)\",\"Fail\"))),\"Exempt\"))","v":"Pass (large text)"},"Text","N/A","N/A","N/A","N/A","N/A","N/A","N/A","N/A","N/A","N/A","N/A","N/A","Pass \n(large text)","Pass \n(large text)","N/A","N/A","N/A","N/A","N/A","N/A","N/A","N/A","N/A","N/A","N/A","N/A","N/A","N/A","N/A","N/A","N/A","N/A","N/A","N/A","N/A","N/A","N/A","N/A","N/A","N/A"]
["Map text",null,"#000000","#FFFFFF","Small",true,255,1,255,1,255,1,1,true,0,0,0,0,0,0,0,21,"No",{"$f":"IF(W88=\"Rendered Colours\",\"Should Fix\",IF(OR(W88=\"\",W88=\"No\")=TRUE,IF(V88=\"\",\"\",IF(V88>=Comboboxes!A$5,\"Pass\",IF(AND(V88>=Comboboxes!A$6,E88=\"Large\"),\"Pass (large text)\",\"Fail\"))),\"Exempt\"))","v":"Pass"},"Text","N/A","N/A","N/A","N/A","N/A","N/A","N/A","N/A","N/A","N/A","N/A","N/A","N/A","N/A","Pass","N/A","N/A","N/A","N/A","N/A","N/A","N/A","N/A","N/A","N/A","N/A","N/A","N/A","N/A","N/A","N/A","N/A","N/A","N/A","N/A","N/A","N/A","N/A","N/A","N/A"]
["Map text",null,"#5B5B5B","#FFFFFF","Small",true,255,1,255,1,255,1,1,true,91,0.10461648409110418,91,0.10461648409110418,91,0.10461648409110418,0.10461648409110418,6.79,"No",{"$f":"IF(W89=\"Rendered Colours\",\"Should Fix\",IF(OR(W89=\"\",W89=\"No\")=TRUE,IF(V89=\"\",\"\",IF(V89>=Comboboxes!A$5,\"Pass\",IF(AND(V89>=Comboboxes!A$6,E89=\"Large\"),\"Pass (large text)\",\"Fail\"))),\"Exempt\"))","v":"Pass"},"Text","N/A","N/A","N/A","N/A","N/A","N/A","N/A","N/A","N/A","N/A","N/A","N/A","N/A","N/A","Pass","N/A","N/A","N/A","N/A","N/A","N/A","N/A","N/A","N/A","N/A","N/A","N/A","N/A","N/A","N/A","N/A","N/A","N/A","N/A","N/A","N/A","N/A","N/A","N/A","N/A"]
["Map link (Normal, Hover, Focus)",null,"#1A73E8","#FFFFFF","Small",true,255,1,255,1,255,1,1,true,26,1.0329823029626938E-2,115,0.17144110073282262,232,0.8069522576692516,0.18307274862393338,4.51,"No",{"$f":"IF(W90=\"Rendered Colours\",\"Should Fix\",IF(OR(W90=\"\",W90=\"No\")=TRUE,IF(V90=\"\",\"\",IF(V90>=Comboboxes!A$5,\"Pass\",IF(AND(V90>=Comboboxes!A$6,E90=\"Large\"),\"Pass (large text)\",\"Fail\"))),\"Exempt\"))","v":"Pass"},"Text","N/A","N/A","N/A","N/A","N/A","N/A","N/A","N/A","N/A","N/A","N/A","N/A","N/A","N/A","Pass","N/A","N/A","N/A","N/A","N/A","N/A","N/A","N/A","N/A","N/A","N/A","N/A","N/A","N/A","N/A","N/A","N/A","N/A","N/A","N/A","N/A","N/A","N/A","N/A","N/A"]
["Map link (Normal, Hover, Focus)",null,"#000000","#F0F1F2","Small",true,240,0.87136711919879717,241,0.87962239688783173,242,0.88792311788196632,0.8784666369069194,true,0,0,0,0,0,0,0,18.57,"No",{"$f":"IF(W91=\"Rendered Colours\",\"Should Fix\",IF(OR(W91=\"\",W91=\"No\")=TRUE,IF(V91=\"\",\"\",IF(V91>=Comboboxes!A$5,\"Pass\",IF(AND(V91>=Comboboxes!A$6,E91=\"Large\"),\"Pass (large text)\",\"Fail\"))),\"Exempt\"))","v":"Pass"},"Text","N/A","N/A","N/A","N/A","N/A","N/A","N/A","N/A","N/A","N/A","N/A","N/A","N/A","N/A","Pass","N/A","N/A","N/A","N/A","N/A","N/A","N/A","N/A","N/A","N/A","N/A","N/A","N/A","N/A","N/A","N/A","N/A","N/A","N/A","N/A","N/A","N/A","N/A","N/A","N/A"]
["Map text",null,"#D36B19","#F9F9FA","Small",true,249,0.94730653673319987,249,0.94730653673319987,250,0.95597335324928612,{"$f":"(0.2126*H92)+(0.7152*J92)+(0.0722*L92)","v":0.94793228088566117},true,211,0.65140563741982416,107,0.14702726649759501,25,9.7212173202378457E-3,{"$f":"(0.2126*P92)+(0.7152*R92)+(0.0722*T92)","v":0.24434461140505576},{"$f":"IF(OR(F92=\"\",N92=\"\")=TRUE,\"\",IF(OR(F92=FALSE,N92=FALSE)=TRUE,\"ERROR\",ROUND(IF(M92>U92,(M92+0.05)/(U92+0.05),(U92+0.05)/(M92+0.05)),2)))","v":3.39},"No",{"$f":"IF(W92=\"Rendered Colours\",\"Should Fix\",IF(OR(W92=\"\",W92=\"No\")=TRUE,IF(V92=\"\",\"\",IF(V92>=Comboboxes!A$5,\"Pass\",IF(AND(V92>=Comboboxes!A$6,E92=\"Large\"),\"Pass (large text)\",\"Fail\"))),\"Exempt\"))","v":"Fail"},"Text","N/A","N/A","N/A","N/A","N/A","N/A","N/A","N/A","N/A","N/A","N/A","N/A","N/A","N/A","Fail","N/A","N/A","N/A","N/A","N/A","N/A","N/A","N/A","N/A","N/A","N/A","N/A","N/A","N/A","N/A","N/A","N/A","N/A","N/A","N/A","N/A","N/A","N/A","N/A","N/A"]
["Map text",null,"#556E79","#F6F8F8","Small",true,246,0.92158185627729461,248,0.938685728457888,248,0.938685728457888,{"$f":"(0.2126*H93)+(0.7152*J93)+(0.0722*L93)","v":0.93504944523229383},true,85,9.084171118340767E-2,110,0.15592646370782737,121,0.19120168274079138,{"$f":"(0.2126*P93)+(0.7152*R93)+(0.0722*T93)","v":0.14463631613531572},{"$f":"IF(OR(F93=\"\",N93=\"\")=TRUE,\"\",IF(OR(F93=FALSE,N93=FALSE)=TRUE,\"ERROR\",ROUND(IF(M93>U93,(M93+0.05)/(U93+0.05),(U93+0.05)/(M93+0.05)),2)))","v":5.0599999999999996},"No",{"$f":"IF(W93=\"Rendered Colours\",\"Should Fix\",IF(OR(W93=\"\",W93=\"No\")=TRUE,IF(V93=\"\",\"\",IF(V93>=Comboboxes!A$5,\"Pass\",IF(AND(V93>=Comboboxes!A$6,E93=\"Large\"),\"Pass (large text)\",\"Fail\"))),\"Exempt\"))","v":"Pass"},"Text","N/A","N/A","N/A","N/A","N/A","N/A","N/A","N/A","N/A","N/A","N/A","N/A","N/A","N/A","Pass","N/A","N/A","N/A","N/A","N/A","N/A","N/A","N/A","N/A","N/A","N/A","N/A","N/A","N/A","N/A","N/A","N/A","N/A","N/A","N/A","N/A","N/A","N/A","N/A","N/A"]
["Map text",null,"#4E5256","#FFFFFF","Small",true,255,1,255,1,255,1,1,true,78,7.6185381481307851E-2,82,8.437621154414883E-2,86,9.3058962846687465E-2,8.3261735716832125E-2,7.88,"No",{"$f":"IF(W94=\"Rendered Colours\",\"Should Fix\",IF(OR(W94=\"\",W94=\"No\")=TRUE,IF(V94=\"\",\"\",IF(V94>=Comboboxes!A$5,\"Pass\",IF(AND(V94>=Comboboxes!A$6,E94=\"Large\"),\"Pass (large text)\",\"Fail\"))),\"Exempt\"))","v":"Pass"},"Text","N/A","N/A","N/A","N/A","N/A","N/A","N/A","N/A","N/A","N/A","N/A","N/A","N/A","N/A","Pass","N/A","N/A","N/A","N/A","N/A","N/A","N/A","N/A","N/A","N/A","N/A","N/A","N/A","N/A","N/A","N/A","N/A","N/A","N/A","N/A","N/A","N/A","N/A","N/A","N/A"]
["Map text",null,"#000000","#F0F1F2","Small",true,240,0.87136711919879717,241,0.87962239688783173,242,0.88792311788196632,{"$f":"(0.2126*H95)+(0.7152*J95)+(0.0722*L95)","v":0.8784666369069194},true,0,0,0,0,0,0,{"$f":"(0.2126*P95)+(0.7152*R95)+(0.0722*T95)","v":0},{"$f":"IF(OR(F95=\"\",N95=\"\")=TRUE,\"\",IF(OR(F95=FALSE,N95=FALSE)=TRUE,\"ERROR\",ROUND(IF(M95>U95,(M95+0.05)/(U95+0.05),(U95+0.05)/(M95+0.05)),2)))","v":18.57},"No",{"$f":"IF(W95=\"Rendered Colours\",\"Should Fix\",IF(OR(W95=\"\",W95=\"No\")=TRUE,IF(V95=\"\",\"\",IF(V95>=Comboboxes!A$5,\"Pass\",IF(AND(V95>=Comboboxes!A$6,E95=\"Large\"),\"Pass (large text)\",\"Fail\"))),\"Exempt\"))","v":"Pass"},"Text","N/A","N/A","N/A","N/A","N/A","N/A","N/A","N/A","N/A","N/A","N/A","N/A","N/A","N/A","Pass","N/A","N/A","N/A","N/A","N/A","N/A","N/A","N/A","N/A","N/A","N/A","N/A","N/A","N/A","N/A","N/A","N/A","N/A","N/A","N/A","N/A","N/A","N/A","N/A","N/A"]
["Blockquote text",null,"#333333","#FFFFFF","Large",true,255,1,255,1,255,1,{"$f":"(0.2126*H96)+(0.7152*J96)+(0.0722*L96)","v":1},true,51,3.3104766570885055E-2,51,3.3104766570885055E-2,51,3.3104766570885055E-2,{"$f":"(0.2126*P96)+(0.7152*R96)+(0.0722*T96)","v":3.3104766570885055E-2},{"$f":"IF(OR(F96=\"\",N96=\"\")=TRUE,\"\",IF(OR(F96=FALSE,N96=FALSE)=TRUE,\"ERROR\",ROUND(IF(M96>U96,(M96+0.05)/(U96+0.05),(U96+0.05)/(M96+0.05)),2)))","v":12.63},"No",{"$f":"IF(W96=\"Rendered Colours\",\"Should Fix\",IF(OR(W96=\"\",W96=\"No\")=TRUE,IF(V96=\"\",\"\",IF(V96>=Comboboxes!A$5,\"Pass\",IF(AND(V96>=Comboboxes!A$6,E96=\"Large\"),\"Pass (large text)\",\"Fail\"))),\"Exempt\"))","v":"Pass"},"Text","N/A","N/A","N/A","N/A","N/A","N/A","N/A","N/A","N/A","N/A","N/A","N/A","N/A","N/A","Pass","N/A","N/A","N/A","N/A","N/A","N/A","N/A","N/A","N/A","N/A","N/A","N/A","N/A","N/A","N/A","N/A","N/A","N/A","N/A","N/A","N/A","N/A","N/A","N/A","N/A"]
["Blockquote text",null,"#333333","#FFFFFF","Small",true,255,1,255,1,255,1,1,true,51,3.3104766570885055E-2,51,3.3104766570885055E-2,51,3.3104766570885055E-2,3.3104766570885055E-2,12.63,"No",{"$f":"IF(W97=\"Rendered Colours\",\"Should Fix\",IF(OR(W97=\"\",W97=\"No\")=TRUE,IF(V97=\"\",\"\",IF(V97>=Comboboxes!A$5,\"Pass\",IF(AND(V97>=Comboboxes!A$6,E97=\"Large\"),\"Pass (large text)\",\"Fail\"))),\"Exempt\"))","v":"Pass"},"Text","N/A","N/A","N/A","N/A","N/A","N/A","N/A","N/A","N/A","N/A","N/A","N/A","N/A","N/A","Pass","N/A","N/A","N/A","N/A","N/A","N/A","N/A","N/A","N/A","N/A","N/A","N/A","N/A","N/A","N/A","N/A","N/A","N/A","N/A","N/A","N/A","N/A","N/A","N/A","N/A"]
["Body text",null,"#FFFFFF","#08587C","Large",true,8,2.4282158683907001E-3,88,9.7587347141862429E-2,124,0.20155625379439707,8.4863070893435338E-2,true,255,1,255,1,255,1,1,7.79,"No",{"$f":"IF(W98=\"Rendered Colours\",\"Should Fix\",IF(OR(W98=\"\",W98=\"No\")=TRUE,IF(V98=\"\",\"\",IF(V98>=Comboboxes!A$5,\"Pass\",IF(AND(V98>=Comboboxes!A$6,E98=\"Large\"),\"Pass (large text)\",\"Fail\"))),\"Exempt\"))","v":"Pass"},"Text","N/A","N/A","N/A","N/A","N/A","N/A","N/A","N/A","N/A","N/A","N/A","N/A","N/A","N/A","N/A","Pass","N/A","N/A","N/A","N/A","N/A","N/A","N/A","N/A","N/A","N/A","N/A","N/A","N/A","N/A","N/A","N/A","N/A","N/A","N/A","N/A","N/A","N/A","N/A","N/A"]
["Heading text",null,"#08587C","#FFFFFF","Large",true,255,1,255,1,255,1,1,true,8,2.4282158683907001E-3,88,9.7587347141862429E-2,124,0.20155625379439707,8.4863070893435338E-2,7.79,"No",{"$f":"IF(W99=\"Rendered Colours\",\"Should Fix\",IF(OR(W99=\"\",W99=\"No\")=TRUE,IF(V99=\"\",\"\",IF(V99>=Comboboxes!A$5,\"Pass\",IF(AND(V99>=Comboboxes!A$6,E99=\"Large\"),\"Pass (large text)\",\"Fail\"))),\"Exempt\"))","v":"Pass"},"Text","N/A","N/A","N/A","N/A","N/A","N/A","N/A","N/A","N/A","N/A","N/A","N/A","N/A","N/A","N/A","Pass","N/A","N/A","Pass","N/A","N/A","N/A","N/A","N/A","N/A","N/A","N/A","N/A","N/A","N/A","N/A","N/A","N/A","N/A","N/A","N/A","N/A","N/A","N/A","N/A"]
["Paragraph text",null,"#333333","#FFFFFF","Large",true,255,1,255,1,255,1,1,true,51,3.3104766570885055E-2,51,3.3104766570885055E-2,51,3.3104766570885055E-2,3.3104766570885055E-2,12.63,"No",{"$f":"IF(W100=\"Rendered Colours\",\"Should Fix\",IF(OR(W100=\"\",W100=\"No\")=TRUE,IF(V100=\"\",\"\",IF(V100>=Comboboxes!A$5,\"Pass\",IF(AND(V100>=Comboboxes!A$6,E100=\"Large\"),\"Pass (large text)\",\"Fail\"))),\"Exempt\"))","v":"Pass"},"Text","N/A","N/A","N/A","N/A","N/A","N/A","N/A","N/A","N/A","N/A","N/A","N/A","N/A","N/A","N/A","Pass","Pass","N/A","N/A","N/A","N/A","N/A","N/A","N/A","N/A","N/A","N/A","N/A","N/A","N/A","N/A","N/A","N/A","N/A","N/A","N/A","N/A","N/A","N/A","N/A"]
["Heading text",null,"#FFFFFF","#484848","Large",true,72,6.48032666929058E-2,72,6.48032666929058E-2,72,6.48032666929058E-2,6.48032666929058E-2,true,255,1,255,1,255,1,1,9.15,"No",{"$f":"IF(W101=\"Rendered Colours\",\"Should Fix\",IF(OR(W101=\"\",W101=\"No\")=TRUE,IF(V101=\"\",\"\",IF(V101>=Comboboxes!A$5,\"Pass\",IF(AND(V101>=Comboboxes!A$6,E101=\"Large\"),\"Pass (large text)\",\"Fail\"))),\"Exempt\"))","v":"Pass"},"Text","N/A","N/A","N/A","N/A","N/A","N/A","N/A","N/A","N/A","N/A","N/A","N/A","N/A","N/A","N/A","N/A","Pass","N/A","N/A","N/A","N/A","N/A","N/A","N/A","N/A","N/A","N/A","N/A","N/A","N/A","N/A","N/A","N/A","N/A","N/A","N/A","N/A","N/A","N/A","N/A"]
["Body text",null,"#333333","#EFEFEF","Small",true,239,0.86315721345410235,239,0.86315721345410235,239,0.86315721345410235,0.86315721345410223,true,51,3.3104766570885055E-2,51,3.3104766570885055E-2,51,3.3104766570885055E-2,3.3104766570885055E-2,10.99,"No",{"$f":"IF(W102=\"Rendered Colours\",\"Should Fix\",IF(OR(W102=\"\",W102=\"No\")=TRUE,IF(V102=\"\",\"\",IF(V102>=Comboboxes!A$5,\"Pass\",IF(AND(V102>=Comboboxes!A$6,E102=\"Large\"),\"Pass (large text)\",\"Fail\"))),\"Exempt\"))","v":"Pass"},"Text","N/A","N/A","N/A","N/A","N/A","N/A","N/A","N/A","N/A","N/A","N/A","N/A","N/A","N/A","N/A","N/A","Pass","N/A","N/A","N/A","N/A","N/A","N/A","N/A","N/A","N/A","N/A","N/A","N/A","N/A","N/A","N/A","N/A","N/A","N/A","N/A","N/A","N/A","N/A","N/A"]
["Button text (Normal, Hover, Focus)",null,"#333333","#EFEFEF","Large",true,239,0.86315721345410235,239,0.86315721345410235,239,0.86315721345410235,0.86315721345410223,true,51,3.3104766570885055E-2,51,3.3104766570885055E-2,51,3.3104766570885055E-2,3.3104766570885055E-2,10.99,"No",{"$f":"IF(W103=\"Rendered Colours\",\"Should Fix\",IF(OR(W103=\"\",W103=\"No\")=TRUE,IF(V103=\"\",\"\",IF(V103>=Comboboxes!A$5,\"Pass\",IF(AND(V103>=Comboboxes!A$6,E103=\"Large\"),\"Pass (large text)\",\"Fail\"))),\"Exempt\"))","v":"Pass"},"Text","N/A","N/A","N/A","N/A","N/A","N/A","N/A","N/A","N/A","N/A","N/A","N/A","N/A","N/A","N/A","N/A","Pass","N/A","N/A","N/A","N/A","N/A","N/A","N/A","N/A","N/A","N/A","N/A","N/A","N/A","N/A","N/A","N/A","N/A","N/A","N/A","N/A","N/A","N/A","N/A"]
["Dropdown text (Hover)",null,"#FFFFFF","#E4035E","Small",true,228,0.7758222183174236,3,9.1058095064651249E-4,94,0.11193242783690559,0.17367257240001124,true,255,1,255,1,255,1,1,4.6900000000000004,"No",{"$f":"IF(W104=\"Rendered Colours\",\"Should Fix\",IF(OR(W104=\"\",W104=\"No\")=TRUE,IF(V104=\"\",\"\",IF(V104>=Comboboxes!A$5,\"Pass\",IF(AND(V104>=Comboboxes!A$6,E104=\"Large\"),\"Pass (large text)\",\"Fail\"))),\"Exempt\"))","v":"Pass"},"Text","N/A","N/A","N/A","N/A","N/A","N/A","N/A","N/A","N/A","N/A","N/A","N/A","N/A","N/A","N/A","N/A","Pass","N/A","N/A","N/A","N/A","N/A","N/A","N/A","N/A","N/A","N/A","N/A","N/A","N/A","N/A","N/A","N/A","N/A","N/A","N/A","N/A","N/A","N/A","N/A"]
["Ordnance survey map text",null,"#999B9D","#E9E7E3","Small",true,233,0.81484657221610124,231,0.79910273801440901,227,0.7681511472475071,0.80021517231231831,true,153,0.31854677812509186,155,0.32777809805654212,157,0.33716361504833031,0.32649315376592292,2.2599999999999998,"No",{"$f":"IF(W105=\"Rendered Colours\",\"Should Fix\",IF(OR(W105=\"\",W105=\"No\")=TRUE,IF(V105=\"\",\"\",IF(V105>=Comboboxes!A$5,\"Pass\",IF(AND(V105>=Comboboxes!A$6,E105=\"Large\"),\"Pass (large text)\",\"Fail\"))),\"Exempt\"))","v":"Fail"},"Text","N/A","N/A","N/A","N/A","N/A","N/A","N/A","N/A","N/A","N/A","N/A","N/A","N/A","N/A","N/A","N/A","Fail","N/A","N/A","N/A","N/A","N/A","N/A","N/A","N/A","N/A","N/A","N/A","N/A","N/A","N/A","N/A","N/A","N/A","N/A","N/A","N/A","N/A","N/A","N/A"]
["Ordnance survey marker icon",null,"#333333","#97D771","Small",true,151,0.30946892281750848,215,0.67954246963309384,113,0.16513219450166761,{"$f":"(0.2126*H106)+(0.7152*J106)+(0.0722*L106)","v":0.56372441171561138},true,51,3.3104766570885055E-2,51,3.3104766570885055E-2,51,3.3104766570885055E-2,{"$f":"(0.2126*P106)+(0.7152*R106)+(0.0722*T106)","v":3.3104766570885055E-2},{"$f":"IF(OR(F106=\"\",N106=\"\")=TRUE,\"\",IF(OR(F106=FALSE,N106=FALSE)=TRUE,\"ERROR\",ROUND(IF(M106>U106,(M106+0.05)/(U106+0.05),(U106+0.05)/(M106+0.05)),2)))","v":7.38},"No",{"$f":"IF(W106=\"Rendered Colours\",\"Should Fix\",IF(OR(W106=\"\",W106=\"No\")=TRUE,IF(V106=\"\",\"\",IF(V106>=Comboboxes!A$5,\"Pass\",IF(AND(V106>=Comboboxes!A$6,E106=\"Large\"),\"Pass (large text)\",\"Fail\"))),\"Exempt\"))","v":"Pass"},"Text","N/A","N/A","N/A","N/A","N/A","N/A","N/A","N/A","N/A","N/A","N/A","N/A","N/A","N/A","N/A","N/A","Pass","N/A","N/A","N/A","N/A","N/A","N/A","N/A","N/A","N/A","N/A","N/A","N/A","N/A","N/A","N/A","N/A","N/A","N/A","N/A","N/A","N/A","N/A","N/A"]
["Ordnance survey marker icon",null,"#333333","#EECB56","Small",true,238,0.85499260812423383,203,0.59720178836376336,86,9.3058962846687465E-2,{"$f":"(0.2126*H107)+(0.7152*J107)+(0.0722*L107)","v":0.61560900464250656},true,51,3.3104766570885055E-2,51,3.3104766570885055E-2,51,3.3104766570885055E-2,{"$f":"(0.2126*P107)+(0.7152*R107)+(0.0722*T107)","v":3.3104766570885055E-2},{"$f":"IF(OR(F107=\"\",N107=\"\")=TRUE,\"\",IF(OR(F107=FALSE,N107=FALSE)=TRUE,\"ERROR\",ROUND(IF(M107>U107,(M107+0.05)/(U107+0.05),(U107+0.05)/(M107+0.05)),2)))","v":8.01},"No",{"$f":"IF(W107=\"Rendered Colours\",\"Should Fix\",IF(OR(W107=\"\",W107=\"No\")=TRUE,IF(V107=\"\",\"\",IF(V107>=Comboboxes!A$5,\"Pass\",IF(AND(V107>=Comboboxes!A$6,E107=\"Large\"),\"Pass (large text)\",\"Fail\"))),\"Exempt\"))","v":"Pass"},"Text","N/A","N/A","N/A","N/A","N/A","N/A","N/A","N/A","N/A","N/A","N/A","N/A","N/A","N/A","N/A","N/A","Pass","N/A","N/A","N/A","N/A","N/A","N/A","N/A","N/A","N/A","N/A","N/A","N/A","N/A","N/A","N/A","N/A","N/A","N/A","N/A","N/A","N/A","N/A","N/A"]
["Number of filter results text",null,"#FFFFFF","#9C0059","Small",{"$f":"IF(LEN(D108)=0,\"\",AND(LEFT(D108,1)=\"#\",LEN(D108)=7))","v":true},{"$f":"HEX2DEC(RIGHT(LEFT(D108,3),2))","v":156},{"$f":"IF(G108/255<= 0.03928,G108/(255*12.92),(((G108/255)+0.055)/1.055)^2.4)","v":0.33245153634617935},{"$f":"HEX2DEC(RIGHT(LEFT(D108,5),2))","v":0},{"$f":"IF(I108/255<= 0.03928,I108/(255*12.92),(((I108/255)+0.055)/1.055)^2.4)","v":0},{"$f":"HEX2DEC(RIGHT(D108,2))","v":89},{"$f":"IF(K108/255<= 0.03928,K108/(255*12.92),(((K108/255)+0.055)/1.055)^2.4)","v":9.9898728247113905E-2},{"$f":"(0.2126*H108)+(0.7152*J108)+(0.0722*L108)","v":7.7891884806639361E-2},{"$f":"IF(LEN(C108)=0,\"\",AND(LEFT(C108,1)=\"#\",LEN(C108)=7))","v":true},{"$f":"HEX2DEC(RIGHT(LEFT(C108,3),2))","v":255},{"$f":"IF(O108/255<= 0.03928,O108/(255*12.92),(((O108/255)+0.055)/1.055)^2.4)","v":1},{"$f":"HEX2DEC(RIGHT(LEFT(C108,5),2))","v":255},{"$f":"IF(Q108/255<= 0.03928,Q108/(255*12.92),(((Q108/255)+0.055)/1.055)^2.4)","v":1},{"$f":"HEX2DEC(RIGHT(C108,2))","v":255},{"$f":"IF(S108/255<= 0.03928,S108/(255*12.92),(((S108/255)+0.055)/1.055)^2.4)","v":1},{"$f":"(0.2126*P108)+(0.7152*R108)+(0.0722*T108)","v":1},{"$f":"IF(OR(F108=\"\",N108=\"\")=TRUE,\"\",IF(OR(F108=FALSE,N108=FALSE)=TRUE,\"ERROR\",ROUND(IF(M108>U108,(M108+0.05)/(U108+0.05),(U108+0.05)/(M108+0.05)),2)))","v":8.2100000000000009},"No",{"$f":"IF(W108=\"Rendered Colours\",\"Should Fix\",IF(OR(W108=\"\",W108=\"No\")=TRUE,IF(V108=\"\",\"\",IF(V108>=Comboboxes!A$5,\"Pass\",IF(AND(V108>=Comboboxes!A$6,E108=\"Large\"),\"Pass (large text)\",\"Fail\"))),\"Exempt\"))","v":"Pass"},"Text","N/A","N/A","N/A","N/A","N/A","N/A","N/A","N/A","N/A","N/A","N/A","N/A","N/A","N/A","N/A","N/A","Pass","N/A","N/A","N/A","N/A","N/A","N/A","N/A","N/A","N/A","N/A","N/A","N/A","N/A","N/A","N/A","N/A","N/A","N/A","N/A","N/A","N/A","N/A","N/A"]
["Button (Normal, Hover, Focus)",null,"#FFFFFF","#E4035E","Small",true,228,0.7758222183174236,3,9.1058095064651249E-4,94,0.11193242783690559,0.17367257240001124,true,255,1,255,1,255,1,1,4.6900000000000004,"No",{"$f":"IF(W109=\"Rendered Colours\",\"Should Fix\",IF(OR(W109=\"\",W109=\"No\")=TRUE,IF(V109=\"\",\"\",IF(V109>=Comboboxes!A$5,\"Pass\",IF(AND(V109>=Comboboxes!A$6,E109=\"Large\"),\"Pass (large text)\",\"Fail\"))),\"Exempt\"))","v":"Pass"},"Text","N/A","N/A","N/A","N/A","N/A","N/A","N/A","N/A","N/A","N/A","N/A","N/A","N/A","N/A","N/A","N/A","N/A","Pass","N/A","Pass","N/A","N/A","N/A","N/A","N/A","N/A","N/A","N/A","N/A","N/A","N/A","N/A","N/A","N/A","N/A","N/A","N/A","N/A","N/A","N/A"]
["Link text (Normal)",null,"#333333","#EDE8DD","Small",true,237,0.84687323150985805,232,0.8069522576692516,221,0.72305512892196921,0.80938208401221068,true,51,3.3104766570885055E-2,51,3.3104766570885055E-2,51,3.3104766570885055E-2,3.3104766570885055E-2,10.34,"No",{"$f":"IF(W110=\"Rendered Colours\",\"Should Fix\",IF(OR(W110=\"\",W110=\"No\")=TRUE,IF(V110=\"\",\"\",IF(V110>=Comboboxes!A$5,\"Pass\",IF(AND(V110>=Comboboxes!A$6,E110=\"Large\"),\"Pass (large text)\",\"Fail\"))),\"Exempt\"))","v":"Pass"},"Text","N/A","N/A","N/A","N/A","N/A","N/A","N/A","N/A","N/A","N/A","N/A","N/A","N/A","N/A","N/A","N/A","N/A","Pass","N/A","N/A","N/A","N/A","N/A","N/A","N/A","N/A","N/A","N/A","N/A","N/A","N/A","N/A","N/A","N/A","N/A","N/A","N/A","N/A","N/A","N/A"]
["Link text (Hover, Focus)",null,"#E4035E","#F3F3F3","Large",true,243,0.89626935337426639,243,0.89626935337426639,243,0.89626935337426639,0.89626935337426628,true,228,0.7758222183174236,3,9.1058095064651249E-4,94,0.11193242783690559,0.17367257240001124,4.2300000000000004,"No",{"$f":"IF(W111=\"Rendered Colours\",\"Should Fix\",IF(OR(W111=\"\",W111=\"No\")=TRUE,IF(V111=\"\",\"\",IF(V111>=Comboboxes!A$5,\"Pass\",IF(AND(V111>=Comboboxes!A$6,E111=\"Large\"),\"Pass (large text)\",\"Fail\"))),\"Exempt\"))","v":"Pass (large text)"},"Text","N/A","N/A","N/A","N/A","N/A","N/A","N/A","N/A","N/A","N/A","N/A","N/A","N/A","N/A","N/A","N/A","N/A","Pass \n(large text)","N/A","N/A","N/A","N/A","N/A","N/A","N/A","N/A","N/A","N/A","N/A","N/A","N/A","N/A","N/A","N/A","N/A","N/A","N/A","N/A","N/A","N/A"]
["Link text (Normal, Hover, Focus)",null,"#FFFFFF","#E4035E","Large",true,228,0.7758222183174236,3,9.1058095064651249E-4,94,0.11193242783690559,0.17367257240001124,true,255,1,255,1,255,1,1,4.6900000000000004,"No",{"$f":"IF(W112=\"Rendered Colours\",\"Should Fix\",IF(OR(W112=\"\",W112=\"No\")=TRUE,IF(V112=\"\",\"\",IF(V112>=Comboboxes!A$5,\"Pass\",IF(AND(V112>=Comboboxes!A$6,E112=\"Large\"),\"Pass (large text)\",\"Fail\"))),\"Exempt\"))","v":"Pass"},"Text","N/A","N/A","N/A","N/A","N/A","N/A","N/A","N/A","N/A","N/A","N/A","N/A","N/A","N/A","N/A","N/A","N/A","Pass","N/A","N/A","N/A","N/A","N/A","N/A","N/A","N/A","N/A","N/A","N/A","N/A","N/A","N/A","N/A","N/A","N/A","N/A","N/A","N/A","N/A","N/A"]
["Link text (Normal)",null,"#333333","#FFFFFF","Large",true,255,1,255,1,255,1,{"$f":"(0.2126*H113)+(0.7152*J113)+(0.0722*L113)","v":1},true,51,3.3104766570885055E-2,51,3.3104766570885055E-2,51,3.3104766570885055E-2,{"$f":"(0.2126*P113)+(0.7152*R113)+(0.0722*T113)","v":3.3104766570885055E-2},{"$f":"IF(OR(F113=\"\",N113=\"\")=TRUE,\"\",IF(OR(F113=FALSE,N113=FALSE)=TRUE,\"ERROR\",ROUND(IF(M113>U113,(M113+0.05)/(U113+0.05),(U113+0.05)/(M113+0.05)),2)))","v":12.63},"No",{"$f":"IF(W113=\"Rendered Colours\",\"Should Fix\",IF(OR(W113=\"\",W113=\"No\")=TRUE,IF(V113=\"\",\"\",IF(V113>=Comboboxes!A$5,\"Pass\",IF(AND(V113>=Comboboxes!A$6,E113=\"Large\"),\"Pass (large text)\",\"Fail\"))),\"Exempt\"))","v":"Pass"},"Text","N/A","N/A","N/A","N/A","N/A","N/A","N/A","N/A","N/A","N/A","N/A","N/A","N/A","N/A","N/A","N/A","N/A","Pass","N/A","N/A","N/A","N/A","N/A","N/A","N/A","N/A","N/A","N/A","N/A","N/A","N/A","N/A","N/A","N/A","N/A","N/A","N/A","N/A","N/A","N/A"]
["Link text (Hover, Focus)",null,"#E4035E","#FFFFFF","Small",{"$f":"IF(LEN(D114)=0,\"\",AND(LEFT(D114,1)=\"#\",LEN(D114)=7))","v":true},{"$f":"HEX2DEC(RIGHT(LEFT(D114,3),2))","v":255},1,{"$f":"HEX2DEC(RIGHT(LEFT(D114,5),2))","v":255},1,{"$f":"HEX2DEC(RIGHT(D114,2))","v":255},1,{"$f":"(0.2126*H114)+(0.7152*J114)+(0.0722*L114)","v":1},true,228,0.7758222183174236,3,9.1058095064651249E-4,94,0.11193242783690559,{"$f":"(0.2126*P114)+(0.7152*R114)+(0.0722*T114)","v":0.17367257240001124},{"$f":"IF(OR(F114=\"\",N114=\"\")=TRUE,\"\",IF(OR(F114=FALSE,N114=FALSE)=TRUE,\"ERROR\",ROUND(IF(M114>U114,(M114+0.05)/(U114+0.05),(U114+0.05)/(M114+0.05)),2)))","v":4.6900000000000004},"No",{"$f":"IF(W114=\"Rendered Colours\",\"Should Fix\",IF(OR(W114=\"\",W114=\"No\")=TRUE,IF(V114=\"\",\"\",IF(V114>=Comboboxes!A$5,\"Pass\",IF(AND(V114>=Comboboxes!A$6,E114=\"Large\"),\"Pass (large text)\",\"Fail\"))),\"Exempt\"))","v":"Pass"},"Text","N/A","N/A","N/A","N/A","N/A","N/A","N/A","N/A","N/A","N/A","N/A","N/A","N/A","N/A","N/A","N/A","N/A","Pass","N/A","N/A","N/A","N/A","N/A","N/A","N/A","N/A","N/A","N/A","N/A","N/A","N/A","N/A","N/A","N/A","N/A","N/A","N/A","N/A","N/A","N/A"]
["Date in table (Date passed)",null,"#808080","#FFFFFF","Large",{"$f":"IF(LEN(D115)=0,\"\",AND(LEFT(D115,1)=\"#\",LEN(D115)=7))","v":true},{"$f":"HEX2DEC(RIGHT(LEFT(D115,3),2))","v":255},{"$f":"IF(G115/255<= 0.03928,G115/(255*12.92),(((G115/255)+0.055)/1.055)^2.4)","v":1},{"$f":"HEX2DEC(RIGHT(LEFT(D115,5),2))","v":255},{"$f":"IF(I115/255<= 0.03928,I115/(255*12.92),(((I115/255)+0.055)/1.055)^2.4)","v":1},{"$f":"HEX2DEC(RIGHT(D115,2))","v":255},{"$f":"IF(K115/255<= 0.03928,K115/(255*12.92),(((K115/255)+0.055)/1.055)^2.4)","v":1},{"$f":"(0.2126*H115)+(0.7152*J115)+(0.0722*L115)","v":1},{"$f":"IF(LEN(C115)=0,\"\",AND(LEFT(C115,1)=\"#\",LEN(C115)=7))","v":true},{"$f":"HEX2DEC(RIGHT(LEFT(C115,3),2))","v":128},{"$f":"IF(O115/255<= 0.03928,O115/(255*12.92),(((O115/255)+0.055)/1.055)^2.4)","v":0.21586050011389923},{"$f":"HEX2DEC(RIGHT(LEFT(C115,5),2))","v":128},{"$f":"IF(Q115/255<= 0.03928,Q115/(255*12.92),(((Q115/255)+0.055)/1.055)^2.4)","v":0.21586050011389923},{"$f":"HEX2DEC(RIGHT(C115,2))","v":128},{"$f":"IF(S115/255<= 0.03928,S115/(255*12.92),(((S115/255)+0.055)/1.055)^2.4)","v":0.21586050011389923},{"$f":"(0.2126*P115)+(0.7152*R115)+(0.0722*T115)","v":0.21586050011389921},{"$f":"IF(OR(F115=\"\",N115=\"\")=TRUE,\"\",IF(OR(F115=FALSE,N115=FALSE)=TRUE,\"ERROR\",ROUND(IF(M115>U115,(M115+0.05)/(U115+0.05),(U115+0.05)/(M115+0.05)),2)))","v":3.95},"No",{"$f":"IF(W115=\"Rendered Colours\",\"Should Fix\",IF(OR(W115=\"\",W115=\"No\")=TRUE,IF(V115=\"\",\"\",IF(V115>=Comboboxes!A$5,\"Pass\",IF(AND(V115>=Comboboxes!A$6,E115=\"Large\"),\"Pass (large text)\",\"Fail\"))),\"Exempt\"))","v":"Pass (large text)"},"Text","N/A","N/A","N/A","N/A","N/A","N/A","N/A","N/A","N/A","N/A","N/A","N/A","N/A","N/A","N/A","N/A","N/A","Pass \n(large text)","N/A","N/A","N/A","N/A","N/A","N/A","N/A","N/A","N/A","N/A","N/A","N/A","N/A","N/A","N/A","N/A","N/A","N/A","N/A","N/A","N/A","N/A"]
["Date in table",null,"#333333","#FFFFFF","Large",{"$f":"IF(LEN(D116)=0,\"\",AND(LEFT(D116,1)=\"#\",LEN(D116)=7))","v":true},{"$f":"HEX2DEC(RIGHT(LEFT(D116,3),2))","v":255},1,{"$f":"HEX2DEC(RIGHT(LEFT(D116,5),2))","v":255},1,{"$f":"HEX2DEC(RIGHT(D116,2))","v":255},1,1,true,51,3.3104766570885055E-2,51,3.3104766570885055E-2,51,3.3104766570885055E-2,3.3104766570885055E-2,12.63,"No",{"$f":"IF(W116=\"Rendered Colours\",\"Should Fix\",IF(OR(W116=\"\",W116=\"No\")=TRUE,IF(V116=\"\",\"\",IF(V116>=Comboboxes!A$5,\"Pass\",IF(AND(V116>=Comboboxes!A$6,E116=\"Large\"),\"Pass (large text)\",\"Fail\"))),\"Exempt\"))","v":"Pass"},"Text","N/A","N/A","N/A","N/A","N/A","N/A","N/A","N/A","N/A","N/A","N/A","N/A","N/A","N/A","N/A","N/A","N/A","Pass","N/A","N/A","N/A","N/A","N/A","N/A","N/A","N/A","N/A","N/A","N/A","N/A","N/A","N/A","N/A","N/A","N/A","N/A","N/A","N/A","N/A","N/A"]
["Date in table (Current date)",null,"#E4035E","#FAE6E9","Large",true,250,0.95597335324928612,230,0.79129794033263023,233,0.81484657221610124,0.82800814434069792,true,228,0.7758222183174236,3,9.1058095064651249E-4,94,0.11193242783690559,0.17367257240001124,3.93,"No",{"$f":"IF(W117=\"Rendered Colours\",\"Should Fix\",IF(OR(W117=\"\",W117=\"No\")=TRUE,IF(V117=\"\",\"\",IF(V117>=Comboboxes!A$5,\"Pass\",IF(AND(V117>=Comboboxes!A$6,E117=\"Large\"),\"Pass (large text)\",\"Fail\"))),\"Exempt\"))","v":"Pass (large text)"},"Text","N/A","N/A","N/A","N/A","N/A","N/A","N/A","N/A","N/A","N/A","N/A","N/A","N/A","N/A","N/A","N/A","N/A","Pass \n(large text)","N/A","N/A","N/A","N/A","N/A","N/A","N/A","N/A","N/A","N/A","N/A","N/A","N/A","N/A","N/A","N/A","N/A","N/A","N/A","N/A","N/A","N/A"]
["Caption text",null,"#FFFFFF","#E4035E","Small",true,228,0.7758222183174236,3,9.1058095064651249E-4,94,0.11193242783690559,0.17367257240001124,true,255,1,255,1,255,1,1,4.6900000000000004,"No",{"$f":"IF(W118=\"Rendered Colours\",\"Should Fix\",IF(OR(W118=\"\",W118=\"No\")=TRUE,IF(V118=\"\",\"\",IF(V118>=Comboboxes!A$5,\"Pass\",IF(AND(V118>=Comboboxes!A$6,E118=\"Large\"),\"Pass (large text)\",\"Fail\"))),\"Exempt\"))","v":"Pass"},"Text","N/A","N/A","N/A","N/A","N/A","N/A","N/A","N/A","N/A","N/A","N/A","N/A","N/A","N/A","N/A","N/A","N/A","Pass","Pass","N/A","N/A","N/A","N/A","N/A","N/A","N/A","N/A","N/A","N/A","N/A","N/A","N/A","N/A","N/A","N/A","N/A","N/A","N/A","N/A","N/A"]
["Paragraph text",null,"#333333","#F5F5F5","Large",true,245,0.9130986517934192,245,0.9130986517934192,245,0.9130986517934192,0.91309865179341909,true,51,3.3104766570885055E-2,51,3.3104766570885055E-2,51,3.3104766570885055E-2,3.3104766570885055E-2,11.59,"No",{"$f":"IF(W119=\"Rendered Colours\",\"Should Fix\",IF(OR(W119=\"\",W119=\"No\")=TRUE,IF(V119=\"\",\"\",IF(V119>=Comboboxes!A$5,\"Pass\",IF(AND(V119>=Comboboxes!A$6,E119=\"Large\"),\"Pass (large text)\",\"Fail\"))),\"Exempt\"))","v":"Pass"},"Text","N/A","N/A","N/A","N/A","N/A","N/A","N/A","N/A","N/A","N/A","N/A","N/A","N/A","N/A","N/A","N/A","N/A","N/A","Pass","N/A","N/A","N/A","N/A","N/A","N/A","N/A","N/A","N/A","N/A","N/A","N/A","N/A","N/A","N/A","N/A","N/A","N/A","N/A","N/A","N/A"]
["Paragraph text",null,"#333333","#F5F5F5","Small",true,245,0.9130986517934192,245,0.9130986517934192,245,0.9130986517934192,{"$f":"(0.2126*H120)+(0.7152*J120)+(0.0722*L120)","v":0.91309865179341909},true,51,3.3104766570885055E-2,51,3.3104766570885055E-2,51,3.3104766570885055E-2,{"$f":"(0.2126*P120)+(0.7152*R120)+(0.0722*T120)","v":3.3104766570885055E-2},{"$f":"IF(OR(F120=\"\",N120=\"\")=TRUE,\"\",IF(OR(F120=FALSE,N120=FALSE)=TRUE,\"ERROR\",ROUND(IF(M120>U120,(M120+0.05)/(U120+0.05),(U120+0.05)/(M120+0.05)),2)))","v":11.59},"No",{"$f":"IF(W120=\"Rendered Colours\",\"Should Fix\",IF(OR(W120=\"\",W120=\"No\")=TRUE,IF(V120=\"\",\"\",IF(V120>=Comboboxes!A$5,\"Pass\",IF(AND(V120>=Comboboxes!A$6,E120=\"Large\"),\"Pass (large text)\",\"Fail\"))),\"Exempt\"))","v":"Pass"},"Text","N/A","N/A","N/A","N/A","N/A","N/A","N/A","N/A","N/A","N/A","N/A","N/A","N/A","N/A","N/A","N/A","N/A","N/A","Pass","N/A","N/A","N/A","N/A","N/A","N/A","N/A","N/A","N/A","N/A","N/A","N/A","N/A","N/A","N/A","N/A","N/A","N/A","N/A","N/A","N/A"]
["Link text (Normal, Hover, Focus)",null,"#555555","#F5F5F5","Small",true,245,0.9130986517934192,245,0.9130986517934192,245,0.9130986517934192,{"$f":"(0.2126*H121)+(0.7152*J121)+(0.0722*L121)","v":0.91309865179341909},true,85,9.084171118340767E-2,85,9.084171118340767E-2,85,9.084171118340767E-2,{"$f":"(0.2126*P121)+(0.7152*R121)+(0.0722*T121)","v":9.084171118340767E-2},{"$f":"IF(OR(F121=\"\",N121=\"\")=TRUE,\"\",IF(OR(F121=FALSE,N121=FALSE)=TRUE,\"ERROR\",ROUND(IF(M121>U121,(M121+0.05)/(U121+0.05),(U121+0.05)/(M121+0.05)),2)))","v":6.84},"No",{"$f":"IF(W121=\"Rendered Colours\",\"Should Fix\",IF(OR(W121=\"\",W121=\"No\")=TRUE,IF(V121=\"\",\"\",IF(V121>=Comboboxes!A$5,\"Pass\",IF(AND(V121>=Comboboxes!A$6,E121=\"Large\"),\"Pass (large text)\",\"Fail\"))),\"Exempt\"))","v":"Pass"},"Text","N/A","N/A","N/A","N/A","N/A","N/A","N/A","N/A","N/A","N/A","N/A","N/A","N/A","N/A","N/A","N/A","N/A","N/A","Pass","N/A","N/A","N/A","N/A","N/A","N/A","N/A","N/A","N/A","N/A","N/A","N/A","N/A","N/A","N/A","N/A","N/A","N/A","N/A","N/A","N/A"]
["Link text (Normal)",null,"#333333","#F5F5F5","Large",true,245,0.9130986517934192,245,0.9130986517934192,245,0.9130986517934192,0.91309865179341909,true,51,3.3104766570885055E-2,51,3.3104766570885055E-2,51,3.3104766570885055E-2,3.3104766570885055E-2,11.59,"No",{"$f":"IF(W122=\"Rendered Colours\",\"Should Fix\",IF(OR(W122=\"\",W122=\"No\")=TRUE,IF(V122=\"\",\"\",IF(V122>=Comboboxes!A$5,\"Pass\",IF(AND(V122>=Comboboxes!A$6,E122=\"Large\"),\"Pass (large text)\",\"Fail\"))),\"Exempt\"))","v":"Pass"},"Text","N/A","N/A","N/A","N/A","N/A","N/A","N/A","N/A","N/A","N/A","N/A","N/A","N/A","N/A","N/A","N/A","N/A","N/A","Pass","N/A","N/A","N/A","N/A","N/A","N/A","N/A","N/A","N/A","N/A","N/A","N/A","N/A","N/A","N/A","N/A","N/A","N/A","N/A","N/A","N/A"]
["Link text (Hover, Focus)",null,"#E4035E","#F5F5F5","Large",true,245,0.9130986517934192,245,0.9130986517934192,245,0.9130986517934192,0.91309865179341909,true,228,0.7758222183174236,3,9.1058095064651249E-4,94,0.11193242783690559,0.17367257240001124,4.3099999999999996,"No",{"$f":"IF(W123=\"Rendered Colours\",\"Should Fix\",IF(OR(W123=\"\",W123=\"No\")=TRUE,IF(V123=\"\",\"\",IF(V123>=Comboboxes!A$5,\"Pass\",IF(AND(V123>=Comboboxes!A$6,E123=\"Large\"),\"Pass (large text)\",\"Fail\"))),\"Exempt\"))","v":"Pass (large text)"},"Text","N/A","N/A","N/A","N/A","N/A","N/A","N/A","N/A","N/A","N/A","N/A","N/A","N/A","N/A","N/A","N/A","N/A","N/A","Pass \n(large text)","N/A","N/A","N/A","N/A","N/A","N/A","N/A","N/A","N/A","N/A","N/A","N/A","N/A","N/A","N/A","N/A","N/A","N/A","N/A","N/A","N/A"]
["Paragraph text",null,"#353D42","#FFFFFF","Small",true,255,1,255,1,255,1,1,true,53,3.5601314875020329E-2,61,4.6665086336880102E-2,66,5.4480276442442369E-2,4.4877185249710308E-2,11.07,"No",{"$f":"IF(W124=\"Rendered Colours\",\"Should Fix\",IF(OR(W124=\"\",W124=\"No\")=TRUE,IF(V124=\"\",\"\",IF(V124>=Comboboxes!A$5,\"Pass\",IF(AND(V124>=Comboboxes!A$6,E124=\"Large\"),\"Pass (large text)\",\"Fail\"))),\"Exempt\"))","v":"Pass"},"Text","N/A","N/A","N/A","N/A","N/A","N/A","N/A","N/A","N/A","N/A","N/A","N/A","N/A","N/A","N/A","N/A","N/A","N/A","Pass","N/A","N/A","N/A","N/A","N/A","N/A","N/A","N/A","N/A","N/A","N/A","N/A","N/A","N/A","N/A","N/A","N/A","N/A","N/A","N/A","N/A"]
["Link text (Normal)",null,"#353D42","#FFFFFF","Small",true,255,1,255,1,255,1,1,true,53,3.5601314875020329E-2,61,4.6665086336880102E-2,66,5.4480276442442369E-2,4.4877185249710308E-2,11.07,"No",{"$f":"IF(W125=\"Rendered Colours\",\"Should Fix\",IF(OR(W125=\"\",W125=\"No\")=TRUE,IF(V125=\"\",\"\",IF(V125>=Comboboxes!A$5,\"Pass\",IF(AND(V125>=Comboboxes!A$6,E125=\"Large\"),\"Pass (large text)\",\"Fail\"))),\"Exempt\"))","v":"Pass"},"Text","N/A","N/A","N/A","N/A","N/A","N/A","N/A","N/A","N/A","N/A","N/A","N/A","N/A","N/A","N/A","N/A","N/A","N/A","Pass","N/A","N/A","N/A","N/A","N/A","N/A","N/A","N/A","N/A","N/A","N/A","N/A","N/A","N/A","N/A","N/A","N/A","N/A","N/A","N/A","N/A"]
["Link text (Hover, Focus)",null,"#E4035E","#FFFFFF","Large",true,255,1,255,1,255,1,1,true,228,0.7758222183174236,3,9.1058095064651249E-4,94,0.11193242783690559,0.17367257240001124,4.6900000000000004,"No",{"$f":"IF(W126=\"Rendered Colours\",\"Should Fix\",IF(OR(W126=\"\",W126=\"No\")=TRUE,IF(V126=\"\",\"\",IF(V126>=Comboboxes!A$5,\"Pass\",IF(AND(V126>=Comboboxes!A$6,E126=\"Large\"),\"Pass (large text)\",\"Fail\"))),\"Exempt\"))","v":"Pass"},"Text","N/A","N/A","N/A","N/A","N/A","N/A","N/A","N/A","N/A","N/A","N/A","N/A","N/A","N/A","N/A","N/A","N/A","N/A","N/A","Pass","N/A","N/A","N/A","N/A","N/A","N/A","N/A","N/A","N/A","N/A","N/A","N/A","N/A","N/A","N/A","N/A","N/A","N/A","N/A","N/A"]
["Link text (Normal)",null,"#333333","#E8E8EE","Large",true,232,0.8069522576692516,232,0.8069522576692516,238,0.85499260812423383,{"$f":"(0.2126*H127)+(0.7152*J127)+(0.0722*L127)","v":0.81042077097210119},true,51,3.3104766570885055E-2,51,3.3104766570885055E-2,51,3.3104766570885055E-2,{"$f":"(0.2126*P127)+(0.7152*R127)+(0.0722*T127)","v":3.3104766570885055E-2},{"$f":"IF(OR(F127=\"\",N127=\"\")=TRUE,\"\",IF(OR(F127=FALSE,N127=FALSE)=TRUE,\"ERROR\",ROUND(IF(M127>U127,(M127+0.05)/(U127+0.05),(U127+0.05)/(M127+0.05)),2)))","v":10.35},"No",{"$f":"IF(W127=\"Rendered Colours\",\"Should Fix\",IF(OR(W127=\"\",W127=\"No\")=TRUE,IF(V127=\"\",\"\",IF(V127>=Comboboxes!A$5,\"Pass\",IF(AND(V127>=Comboboxes!A$6,E127=\"Large\"),\"Pass (large text)\",\"Fail\"))),\"Exempt\"))","v":"Pass"},"Text","N/A","N/A","N/A","N/A","N/A","N/A","N/A","N/A","N/A","N/A","N/A","N/A","N/A","N/A","N/A","N/A","N/A","N/A","N/A","Pass","N/A","N/A","N/A","N/A","N/A","N/A","N/A","N/A","N/A","N/A","N/A","N/A","N/A","N/A","N/A","N/A","N/A","N/A","N/A","N/A"]
["Link text (Hover, Focus)",null,"#E4035E","#E8E8EE","Large",true,232,0.8069522576692516,232,0.8069522576692516,238,0.85499260812423383,{"$f":"(0.2126*H128)+(0.7152*J128)+(0.0722*L128)","v":0.81042077097210119},true,228,0.7758222183174236,3,9.1058095064651249E-4,94,0.11193242783690559,{"$f":"(0.2126*P128)+(0.7152*R128)+(0.0722*T128)","v":0.17367257240001124},{"$f":"IF(OR(F128=\"\",N128=\"\")=TRUE,\"\",IF(OR(F128=FALSE,N128=FALSE)=TRUE,\"ERROR\",ROUND(IF(M128>U128,(M128+0.05)/(U128+0.05),(U128+0.05)/(M128+0.05)),2)))","v":3.85},"No",{"$f":"IF(W128=\"Rendered Colours\",\"Should Fix\",IF(OR(W128=\"\",W128=\"No\")=TRUE,IF(V128=\"\",\"\",IF(V128>=Comboboxes!A$5,\"Pass\",IF(AND(V128>=Comboboxes!A$6,E128=\"Large\"),\"Pass (large text)\",\"Fail\"))),\"Exempt\"))","v":"Pass (large text)"},"Text","N/A","N/A","N/A","N/A","N/A","N/A","N/A","N/A","N/A","N/A","N/A","N/A","N/A","N/A","N/A","N/A","N/A","N/A","N/A","Pass \n(large text)","N/A","N/A","N/A","N/A","N/A","N/A","N/A","N/A","N/A","N/A","N/A","N/A","N/A","N/A","N/A","N/A","N/A","N/A","N/A","N/A"]
["Body text",null,"#333333","#E8E8EE","Small",{"$f":"IF(LEN(D129)=0,\"\",AND(LEFT(D129,1)=\"#\",LEN(D129)=7))","v":true},{"$f":"HEX2DEC(RIGHT(LEFT(D129,3),2))","v":232},{"$f":"IF(G129/255<= 0.03928,G129/(255*12.92),(((G129/255)+0.055)/1.055)^2.4)","v":0.8069522576692516},{"$f":"HEX2DEC(RIGHT(LEFT(D129,5),2))","v":232},{"$f":"IF(I129/255<= 0.03928,I129/(255*12.92),(((I129/255)+0.055)/1.055)^2.4)","v":0.8069522576692516},{"$f":"HEX2DEC(RIGHT(D129,2))","v":238},{"$f":"IF(K129/255<= 0.03928,K129/(255*12.92),(((K129/255)+0.055)/1.055)^2.4)","v":0.85499260812423383},{"$f":"(0.2126*H129)+(0.7152*J129)+(0.0722*L129)","v":0.81042077097210119},{"$f":"IF(LEN(C129)=0,\"\",AND(LEFT(C129,1)=\"#\",LEN(C129)=7))","v":true},{"$f":"HEX2DEC(RIGHT(LEFT(C129,3),2))","v":51},{"$f":"IF(O129/255<= 0.03928,O129/(255*12.92),(((O129/255)+0.055)/1.055)^2.4)","v":3.3104766570885055E-2},{"$f":"HEX2DEC(RIGHT(LEFT(C129,5),2))","v":51},{"$f":"IF(Q129/255<= 0.03928,Q129/(255*12.92),(((Q129/255)+0.055)/1.055)^2.4)","v":3.3104766570885055E-2},{"$f":"HEX2DEC(RIGHT(C129,2))","v":51},{"$f":"IF(S129/255<= 0.03928,S129/(255*12.92),(((S129/255)+0.055)/1.055)^2.4)","v":3.3104766570885055E-2},{"$f":"(0.2126*P129)+(0.7152*R129)+(0.0722*T129)","v":3.3104766570885055E-2},{"$f":"IF(OR(F129=\"\",N129=\"\")=TRUE,\"\",IF(OR(F129=FALSE,N129=FALSE)=TRUE,\"ERROR\",ROUND(IF(M129>U129,(M129+0.05)/(U129+0.05),(U129+0.05)/(M129+0.05)),2)))","v":10.35},"No",{"$f":"IF(W129=\"Rendered Colours\",\"Should Fix\",IF(OR(W129=\"\",W129=\"No\")=TRUE,IF(V129=\"\",\"\",IF(V129>=Comboboxes!A$5,\"Pass\",IF(AND(V129>=Comboboxes!A$6,E129=\"Large\"),\"Pass (large text)\",\"Fail\"))),\"Exempt\"))","v":"Pass"},"Text","N/A","N/A","N/A","N/A","N/A","N/A","N/A","N/A","N/A","N/A","N/A","N/A","N/A","N/A","N/A","N/A","N/A","N/A","N/A","Pass","N/A","N/A","N/A","N/A","N/A","N/A","N/A","N/A","N/A","N/A","N/A","N/A","N/A","N/A","N/A","N/A","N/A","N/A","N/A","N/A"]
["Body text",null,"#333333","#FFFFFF","Small",true,255,1,255,1,255,1,{"$f":"(0.2126*H130)+(0.7152*J130)+(0.0722*L130)","v":1},true,51,3.3104766570885055E-2,51,3.3104766570885055E-2,51,3.3104766570885055E-2,{"$f":"(0.2126*P130)+(0.7152*R130)+(0.0722*T130)","v":3.3104766570885055E-2},{"$f":"IF(OR(F130=\"\",N130=\"\")=TRUE,\"\",IF(OR(F130=FALSE,N130=FALSE)=TRUE,\"ERROR\",ROUND(IF(M130>U130,(M130+0.05)/(U130+0.05),(U130+0.05)/(M130+0.05)),2)))","v":12.63},"No",{"$f":"IF(W130=\"Rendered Colours\",\"Should Fix\",IF(OR(W130=\"\",W130=\"No\")=TRUE,IF(V130=\"\",\"\",IF(V130>=Comboboxes!A$5,\"Pass\",IF(AND(V130>=Comboboxes!A$6,E130=\"Large\"),\"Pass (large text)\",\"Fail\"))),\"Exempt\"))","v":"Pass"},"Text","N/A","N/A","N/A","N/A","N/A","N/A","N/A","N/A","N/A","N/A","N/A","N/A","N/A","N/A","N/A","N/A","N/A","N/A","N/A","Pass","N/A","N/A","N/A","N/A","N/A","N/A","N/A","N/A","N/A","N/A","N/A","N/A","N/A","N/A","N/A","N/A","N/A","N/A","N/A","N/A"]
["Body text",null,"#FFFFFF","#E4035E","Small",{"$f":"IF(LEN(D131)=0,\"\",AND(LEFT(D131,1)=\"#\",LEN(D131)=7))","v":true},{"$f":"HEX2DEC(RIGHT(LEFT(D131,3),2))","v":228},{"$f":"IF(G131/255<= 0.03928,G131/(255*12.92),(((G131/255)+0.055)/1.055)^2.4)","v":0.7758222183174236},{"$f":"HEX2DEC(RIGHT(LEFT(D131,5),2))","v":3},{"$f":"IF(I131/255<= 0.03928,I131/(255*12.92),(((I131/255)+0.055)/1.055)^2.4)","v":9.1058095064651249E-4},{"$f":"HEX2DEC(RIGHT(D131,2))","v":94},{"$f":"IF(K131/255<= 0.03928,K131/(255*12.92),(((K131/255)+0.055)/1.055)^2.4)","v":0.11193242783690559},{"$f":"(0.2126*H131)+(0.7152*J131)+(0.0722*L131)","v":0.17367257240001124},{"$f":"IF(LEN(C131)=0,\"\",AND(LEFT(C131,1)=\"#\",LEN(C131)=7))","v":true},{"$f":"HEX2DEC(RIGHT(LEFT(C131,3),2))","v":255},{"$f":"IF(O131/255<= 0.03928,O131/(255*12.92),(((O131/255)+0.055)/1.055)^2.4)","v":1},{"$f":"HEX2DEC(RIGHT(LEFT(C131,5),2))","v":255},{"$f":"IF(Q131/255<= 0.03928,Q131/(255*12.92),(((Q131/255)+0.055)/1.055)^2.4)","v":1},{"$f":"HEX2DEC(RIGHT(C131,2))","v":255},{"$f":"IF(S131/255<= 0.03928,S131/(255*12.92),(((S131/255)+0.055)/1.055)^2.4)","v":1},{"$f":"(0.2126*P131)+(0.7152*R131)+(0.0722*T131)","v":1},{"$f":"IF(OR(F131=\"\",N131=\"\")=TRUE,\"\",IF(OR(F131=FALSE,N131=FALSE)=TRUE,\"ERROR\",ROUND(IF(M131>U131,(M131+0.05)/(U131+0.05),(U131+0.05)/(M131+0.05)),2)))","v":4.6900000000000004},"No",{"$f":"IF(W131=\"Rendered Colours\",\"Should Fix\",IF(OR(W131=\"\",W131=\"No\")=TRUE,IF(V131=\"\",\"\",IF(V131>=Comboboxes!A$5,\"Pass\",IF(AND(V131>=Comboboxes!A$6,E131=\"Large\"),\"Pass (large text)\",\"Fail\"))),\"Exempt\"))","v":"Pass"},"Text","N/A","N/A","N/A","N/A","N/A","N/A","N/A","N/A","N/A","N/A","N/A","N/A","N/A","N/A","N/A","N/A","N/A","N/A","N/A","Pass","N/A","N/A","N/A","N/A","N/A","N/A","N/A","N/A","N/A","N/A","N/A","N/A","N/A","N/A","N/A","N/A","N/A","N/A","N/A","N/A"]
[]
["Colour combinations shown in pink do not meet the contrast ratio (4.5:1 Minimum) recommended by W3C WCAG 2.0"]
[]
["Note that a contrast ratio of 3:1 is acceptable for large text e.g. 14 point bold or 18 point normal weight."]
["End of content."]

{"sheet":"Non-text Contrast","index":7,"n_rows":64,"n_cols":177,"rows_kept":64,"cut":false,"hidden":false,"merged":[[0,0,1,6]]}
["Colour Contrast Analysis for combinations\nof adjacent colours",null,null,null,null,null,null,null,null,null,null,null,null,null,null,null,null,null,null,null,null,null,null,null,null,null,{"$f":"IF(INDIRECT(\"'Statistics'!\" & ADDRESS(COLUMN()-12,2))=\"\",\"\",INDIRECT(\"'Statistics'!\" & ADDRESS(COLUMN()-12,2)))","v":"Header"},"Footer","Cookie banner","Cookie dialog","Search","Share this page","Home page","Search results","Contact City Hall or the Mayor","Contact us","Priorities for London","FOI - London Living Rent [Jan 2024]","GLA Economics publications","Case study: Skills and resource sharing with organisations","Oru Sutton (London Borough of Sutton)","Early years childcare in London report","Find adult learning opportunities near you","Public Meetings","Agenda and minutes","Meetings OPDC Board","Accessibility (WCAG 2.2 criteria only)","City Hall Blog (WCAG 2.2 criteria only)","Working at City Hall (WCAG 2.2 criteria only)","Take part (WCAG 2.2 criteria only)","Events landing page (WCAG 2.2 criteria only)","Event (WCAG 2.2 criteria only)","London Unseen: self-guided walks (WCAG 2.2 criteria only)","You've seen on the screen, now love the locations (WCAG 2.2 criteria only)","DD1482 GLA Records Management Policy (WCAG 2.2 criteria only)","Mayor's annual report (WCAG 2.2 criteria only)","Mayor’s Equality Report 2020/22 (WCAG 2.2 criteria only)","Press release (WCAG 2.2 criteria only)",{"$f":"IF(INDIRECT(\"'Statistics'!\" & ADDRESS(COLUMN()-12,2))=\"\",\"\",INDIRECT(\"'Statistics'!\" & ADDRESS(COLUMN()-12,2)))","v":"Let's do London (WCAG 2.2 criteria only)"},"Infrastructure Mapping Application (WCAG 2.2 criteria only)","Sign up to a termly newsletter for schools (WCAG 2.2 criteria only)","User login (WCAG 2.2 criteria only)","Current vacancies (WCAG 2.2 criteria only)","Profile - Zoe Oliver - Watts (WCAG 2.2 criteria only)","View cookies (WCAG 2.2 criteria only)","Terms and conditions for the use of our website and Talk London website (WCAG 2.2 criteria only)","Page 41","Page 42","Page 43","Page 44","Page 45","Page 46","Page 47","Page 48","Page 49","Page 50","Page 51","Page 52","Page 53","Page 54","Page 55","Page 56","Page 57","Page 58","Page 59","Page 60","Page 61","Page 62","Page 63","Page 64",{"$f":"IF(INDIRECT(\"'Statistics'!\" & ADDRESS(COLUMN()-12,2))=\"\",\"\",INDIRECT(\"'Statistics'!\" & ADDRESS(COLUMN()-12,2)))","v":"Page 65"},"Page 66","Page 67","Page 68","Page 69","Page 70","Page 71","Page 72","Page 73","Page 74","Page 75","Page 76","Page 77","Page 78","Page 79","Page 80","Page 81","Page 82","Page 83","Page 84","Page 85","Page 86","Page 87","Page 88","Page 89","Page 90","Page 91","Page 92","Page 93","Page 94","Page 95","Page 96",{"$f":"IF(INDIRECT(\"'Statistics'!\" & ADDRESS(COLUMN()-12,2))=\"\",\"\",INDIRECT(\"'Statistics'!\" & ADDRESS(COLUMN()-12,2)))","v":"Page 97"},"Page 98","Page 99","Page 100","Page 101","Page 102","Page 103","Page 104","Page 105","Page 106","Page 107","Page 108","Page 109","Page 110","Page 111","Page 112","Page 113","Page 114","Page 115","Page 116","Page 117","Page 118","Page 119","Page 120","Page 121","Page 122","Page 123","Page 124","Page 125","Page 126","Page 127","Page 128",{"$f":"IF(INDIRECT(\"'Statistics'!\" & ADDRESS(COLUMN()-12,2))=\"\",\"\",INDIRECT(\"'Statistics'!\" & ADDRESS(COLUMN()-12,2)))","v":"Page 129"},"Page 130","Page 131","Page 132","Page 133","Page 134","Page 135","Page 136","Page 137","Page 138","Page 139","Page 140","Page 141","Page 142","Page 143","Page 144","Page 145","Page 146","Page 147","Page 148","Page 149","Page 150","End of content."]
[null,null,null,null,null,null,null,null,null,null,null,null,null,null,null,null,null,null,null,null,null,null,null,null,null,null,{"$f":"IF(INDIRECT(\"'Statistics'!\" & ADDRESS(COLUMN()-12,3))=\"\",\"\",INDIRECT(\"'Statistics'!\" & ADDRESS(COLUMN()-12,3)))","v":"https://www.london.gov.uk/"},"https://www.london.gov.uk/","https://www.london.gov.uk/","https://www.london.gov.uk/","https://www.london.gov.uk/","https://www.london.gov.uk/","https://www.london.gov.uk/","https://www.london.gov.uk/search?query=london","https://www.london.gov.uk/who-we-are/what-mayor-does/contact-city-hall-or-mayor","https://www.london.gov.uk/contact-us-form","https://www.london.gov.uk/who-we-are/what-mayor-does/priorities-london","https://www.london.gov.uk/who-we-are/governance-and-spending/sharing-our-information/foi-disclosure-log/foi-london-living-rent-jan-2024","https://www.london.gov.uk/programmes-strategies/research-and-analysis/gla-economics-publications","https://www.london.gov.uk/programmes-strategies/arts-and-culture/space-culture/cultural-infrastructure-plan-and-toolbox/support-culture-and-community-spaces-risk/case-study-skills-and-resource-sharing-organisations","https://www.london.gov.uk/programmes-strategies/shaping-local-spaces/regeneration-projects/oru-sutton-london-borough-sutton","https://www.london.gov.uk/who-we-are/what-london-assembly-does/london-assembly-work/london-assembly-publications/early-years-childcare-london-report","https://www.london.gov.uk/programmes-strategies/jobs-and-skills/find-adult-learning-providers-near-me","https://www.london.gov.uk/about-us/londonassembly/meetings/mgCalendarMonthView.aspx?GL=1&bcr=1","https://www.london.gov.uk/about-us/londonassembly/meetings/ieListDocuments.aspx?CId=305&MId=7434","https://www.london.gov.uk/moderngovopdc/ieListMeetings.aspx?CommitteeId=378","https://www.london.gov.uk/programmes-strategies/accessibility","https://www.london.gov.uk/who-we-are/city-hall-blog","https://www.london.gov.uk/take-part/working-city-hall","https://www.london.gov.uk/take-part","https://www.london.gov.uk/events","https://www.london.gov.uk/events/st-patricks-day-2025","https://www.london.gov.uk/programmes-strategies/arts-and-culture/diversity-public-realm/london-unseen-amplifying-community-histories-public-realm/london-unseen-self-guided-walks","https://www.london.gov.uk/programmes-strategies/arts-and-culture/make-date-london-0/london-music-video-locations-love","https://www.london.gov.uk/decisions/dd1482-gla-records-management-policy","https://www.london.gov.uk/publications/mayor-londons-annual-report-2020-2021","https://www.london.gov.uk/programmes-strategies/communities-and-social-justice/mayors-strategy-equality-diversity-and-inclusion/mayors-annual-equality-report-2020-22","https://www.london.gov.uk/cross-party-statement-london-assembly-planned-protests-capital",{"$f":"IF(INDIRECT(\"'Statistics'!\" & ADDRESS(COLUMN()-12,3))=\"\",\"\",INDIRECT(\"'Statistics'!\" & ADDRESS(COLUMN()-12,3)))","v":"https://www.london.gov.uk/programmes-strategies/arts-and-culture/lets-do-london"},"https://www.london.gov.uk/programmes-strategies/better-infrastructure/data-and-innovation-tools/infrastructure-mapping-application","https://www.london.gov.uk/programmes-strategies/education-and-youth/improving-standards-schools-and-teaching/sign-termly-newsletter-schools","https://www.london.gov.uk/user/login?destination=/programmes-strategies/communities-and-social-justice/get-help-cost-living#guest-login","https://www.london.gov.uk/take-part/working-city-hall/current-vacancies","https://www.london.gov.uk/who-we-are/governance-and-spending/promoting-good-governance/senior-staff/zoe-oliver-watts","https://www.london.gov.uk/","https://www.london.gov.uk/terms-and-conditions/terms-and-conditions-use-our-website-and-talk-london-website","URL 41","URL 42","URL 43","URL 44","URL 45","URL 46","URL 47","URL 48","URL 49","URL 50","URL 51","URL 52","URL 53","URL 54","URL 55","URL 56","URL 57","URL 58","URL 59","URL 60","URL 61","URL 62","URL 63","URL 64",{"$f":"IF(INDIRECT(\"'Statistics'!\" & ADDRESS(COLUMN()-12,3))=\"\",\"\",INDIRECT(\"'Statistics'!\" & ADDRESS(COLUMN()-12,3)))","v":"URL 65"},"URL 66","URL 67","URL 68","URL 69","URL 70","URL 71","URL 72","URL 73","URL 74","URL 75","URL 76","URL 77","URL 78","URL 79","URL 80","URL 81","URL 82","URL 83","URL 84","URL 85","URL 86","URL 87","URL 88","URL 89","URL 90","URL 91","URL 92","URL 93","URL 94","URL 95","URL 96",{"$f":"IF(INDIRECT(\"'Statistics'!\" & ADDRESS(COLUMN()-12,3))=\"\",\"\",INDIRECT(\"'Statistics'!\" & ADDRESS(COLUMN()-12,3)))","v":"URL 97"},"URL 98","URL 99","URL 100","URL 101","URL 102","URL 103","URL 104","URL 105","URL 106","URL 107","URL 108","URL 109","URL 110","URL 111","URL 112","URL 113","URL 114","URL 115","URL 116","URL 117","URL 118","URL 119","URL 120","URL 121","URL 122","URL 123","URL 124","URL 125","URL 126","URL 127","URL 128",{"$f":"IF(INDIRECT(\"'Statistics'!\" & ADDRESS(COLUMN()-12,3))=\"\",\"\",INDIRECT(\"'Statistics'!\" & ADDRESS(COLUMN()-12,3)))","v":"URL 129"},"URL 130","URL 131","URL 132","URL 133","URL 134","URL 135","URL 136","URL 137","URL 138","URL 139","URL 140","URL 141","URL 142","URL 143","URL 144","URL 145","URL 146","URL 147","URL 148","URL 149","URL 150"]
[null,null,null,null,null,null,null,null,null,null,null,null,null,null,null,null,null,null,null,null,null,null,null,null,null,null,"Page #1","Page #2","Page #3","Page #4","Page #5","Page #6","Page #7","Page #8","Page #9","Page #10","Page #11","Page #12","Page #13","Page #14","Page #15","Page #16","Page #17","Page #18","Page #19","Page #20","Page #21","Page #22","Page #23","Page #24","Page #25","Page #26","Page #27","Page #28","Page #29","Page #30","Page #31","Page #32","Page #33","Page #34","Page #35","Page #36","Page #37","Page #38","Page #39","Page #40","Page #41","Page #42","Page #43","Page #44","Page #45","Page #46","Page #47","Page #48","Page #49","Page #50","Page #51","Page #52","Page #53","Page #54","Page #55","Page #56","Page #57","Page #58","Page #59","Page #60","Page #61","Page #62","Page #63","Page #64","Page #65","Page #66","Page #67","Page #68","Page #69","Page #70","Page #71","Page #72","Page #73","Page #74","Page #75","Page #76","Page #77","Page #78","Page #79","Page #80","Page #81","Page #82","Page #83","Page #84","Page #85","Page #86","Page #87","Page #88","Page #89","Page #90","Page #91","Page #92","Page #93","Page #94","Page #95","Page #96","Page #97","Page #98","Page #99","Page #100","Page #101","Page #102","Page #103","Page #104","Page #105","Page #106","Page #107","Page #108","Page #109","Page #110","Page #111","Page #112","Page #113","Page #114","Page #115","Page #116","Page #117","Page #118","Page #119","Page #120","Page #121","Page #122","Page #123","Page #124","Page #125","Page #126","Page #127","Page #128","Page #129","Page #130","Page #131","Page #132","Page #133","Page #134","Page #135","Page #136","Page #137","Page #138","Page #139","Page #140","Page #141","Page #142","Page #143","Page #144","Page #145","Page #146","Page #147","Page #148","Page #149","Page #150"]
["Page Area","What we are comparing","Image","Recommendation (image)","Recommendation (description)","Colour","Adjacent Colour","Adjacent Colour","Adjacent Colour","Adjacent Colour","Adjacent Colour","Adjacent Colour","Adjacent Colour","Adjacent Colour","Adjacent Colour","Adjacent Colour","Adjacent Colour","Adjacent Colour","Adjacent Colour","Adjacent Colour","Adjacent Colour","Adjacent Colour","Adjacent Colour","Contrast Ratio","Exempt","All Results",{"$f":"COUNTIF(AA5:AA990,\"Fail\") & \" Fault\" & IF(COUNTIF(AA5:AA990,\"Fail\")=1,\"\",\"s\")","v":"0 Faults"},"1 Fault","0 Faults","0 Faults","0 Faults","0 Faults","4 Faults","2 Faults","0 Faults","0 Faults","0 Faults","0 Faults","0 Faults","0 Faults","1 Fault","0 Faults","0 Faults","0 Faults","0 Faults","1 Fault","0 Faults","0 Faults","0 Faults","0 Faults","0 Faults","0 Faults","0 Faults","0 Faults","0 Faults","0 Faults","0 Faults","0 Faults",{"$f":"COUNTIF(BG5:BG990,\"Fail\") & \" Fault\" & IF(COUNTIF(BG5:BG990,\"Fail\")=1,\"\",\"s\")","v":"0 Faults"},"0 Faults","0 Faults","0 Faults","0 Faults","0 Faults","0 Faults","0 Faults","0 Faults","0 Faults","0 Faults","0 Faults","0 Faults","0 Faults","0 Faults","0 Faults","0 Faults","0 Faults","0 Faults","0 Faults","0 Faults","0 Faults","0 Faults","0 Faults","0 Faults","0 Faults","0 Faults","0 Faults","0 Faults","0 Faults","0 Faults","0 Faults",{"$f":"COUNTIF(CM5:CM990,\"Fail\") & \" Fault\" & IF(COUNTIF(CM5:CM990,\"Fail\")=1,\"\",\"s\")","v":"0 Faults"},"0 Faults","0 Faults","0 Faults","0 Faults","0 Faults","0 Faults","0 Faults","0 Faults","0 Faults","0 Faults","0 Faults","0 Faults","0 Faults","0 Faults","0 Faults","0 Faults","0 Faults","0 Faults","0 Faults","0 Faults","0 Faults","0 Faults","0 Faults","0 Faults","0 Faults","0 Faults","0 Faults","0 Faults","0 Faults","0 Faults","0 Faults",{"$f":"COUNTIF(DS5:DS990,\"Fail\") & \" Fault\" & IF(COUNTIF(DS5:DS990,\"Fail\")=1,\"\",\"s\")","v":"0 Faults"},"0 Faults","0 Faults","0 Faults","0 Faults","0 Faults","0 Faults","0 Faults","0 Faults","0 Faults","0 Faults","0 Faults","0 Faults","0 Faults","0 Faults","0 Faults","0 Faults","0 Faults","0 Faults","0 Faults","0 Faults","0 Faults","0 Faults","0 Faults","0 Faults","0 Faults","0 Faults","0 Faults","0 Faults","0 Faults","0 Faults","0 Faults",{"$f":"COUNTIF(EY5:EY990,\"Fail\") & \" Fault\" & IF(COUNTIF(EY5:EY990,\"Fail\")=1,\"\",\"s\")","v":"0 Faults"},"0 Faults","0 Faults","0 Faults","0 Faults","0 Faults","0 Faults","0 Faults","0 Faults","0 Faults","0 Faults","0 Faults","0 Faults","0 Faults","0 Faults","0 Faults","0 Faults","0 Faults","0 Faults","0 Faults","0 Faults","0 Faults"]
["Link (Focus) - All browsers","Dual coloured box shadows. Red box shadow against adjacent white box shadow.",null,"N/A","Use outline instead.","#E7135D","#FFFFFF",{"$f":"IF(LEN(F5)=0,\"\",AND(LEFT(F5,1)=\"#\",LEN(F5)=7))","v":true},{"$f":"HEX2DEC(RIGHT(LEFT(F5,3),2))","v":231},{"$f":"IF(I5/255<= 0.03928,I5/(255*12.92),(((I5/255)+0.055)/1.055)^2.4)","v":0.79910273801440901},{"$f":"HEX2DEC(RIGHT(LEFT(F5,5),2))","v":19},{"$f":"IF(K5/255<= 0.03928,K5/(255*12.92),(((K5/255)+0.055)/1.055)^2.4)","v":6.5120907925944761E-3},{"$f":"HEX2DEC(RIGHT(F5,2))","v":93},{"$f":"IF(M5/255<= 0.03928,M5/(255*12.92),(((M5/255)+0.055)/1.055)^2.4)","v":0.10946171077829935},{"$f":"(0.2126*J5)+(0.7152*L5)+(0.0722*N5)","v":0.18244982495492015},{"$f":"IF(LEN(G5)=0,\"\",AND(LEFT(G5,1)=\"#\",LEN(G5)=7))","v":true},{"$f":"HEX2DEC(RIGHT(LEFT(G5,3),2))","v":255},{"$f":"IF(Q5/255<= 0.03928,Q5/(255*12.92),(((Q5/255)+0.055)/1.055)^2.4)","v":1},{"$f":"HEX2DEC(RIGHT(LEFT(G5,5),2))","v":255},{"$f":"IF(S5/255<= 0.03928,S5/(255*12.92),(((S5/255)+0.055)/1.055)^2.4)","v":1},{"$f":"HEX2DEC(RIGHT(G5,2))","v":255},{"$f":"IF(U5/255<= 0.03928,U5/(255*12.92),(((U5/255)+0.055)/1.055)^2.4)","v":1},{"$f":"(0.2126*R5)+(0.7152*T5)+(0.0722*V5)","v":1},{"$f":"IF(OR(H5=\"\",P5=\"\")=TRUE,\"\",IF(OR(H5=FALSE,P5=FALSE)=TRUE,\"ERROR\",ROUND(IF(O5>W5,(O5+0.05)/(W5+0.05),(W5+0.05)/(O5+0.05)),2)))","v":4.5199999999999996},"No",{"$f":"IF(OR(Y5=\"\",Y5=\"No\")=TRUE,IF(X5=\"\",\"\",IF(X5>=3,\"Pass\",\"Fail\")),\"Exempt\")","v":"Pass"},"Pass","Pass","Pass","N/A","Pass","N/A","N/A","N/A","Pass","Pass","Pass","Pass","Pass","Pass","Pass","N/A","Pass","Pass","Pass","Pass","N/A","N/A","N/A","N/A","N/A","N/A","N/A","N/A","N/A","N/A","N/A","N/A","N/A","N/A","N/A","N/A","N/A","N/A","N/A","N/A"]
["Button (Focus) - All browsers","Dual coloured box shadows. Red box shadow against adjacent white box shadow.",null,"N/A","Use outline instead.","#E7135D","#FFFFFF",true,231,{"$f":"IF(I6/255<= 0.03928,I6/(255*12.92),(((I6/255)+0.055)/1.055)^2.4)","v":0.79910273801440901},19,{"$f":"IF(K6/255<= 0.03928,K6/(255*12.92),(((K6/255)+0.055)/1.055)^2.4)","v":6.5120907925944761E-3},93,{"$f":"IF(M6/255<= 0.03928,M6/(255*12.92),(((M6/255)+0.055)/1.055)^2.4)","v":0.10946171077829935},{"$f":"(0.2126*J6)+(0.7152*L6)+(0.0722*N6)","v":0.18244982495492015},true,255,{"$f":"IF(Q6/255<= 0.03928,Q6/(255*12.92),(((Q6/255)+0.055)/1.055)^2.4)","v":1},255,{"$f":"IF(S6/255<= 0.03928,S6/(255*12.92),(((S6/255)+0.055)/1.055)^2.4)","v":1},255,{"$f":"IF(U6/255<= 0.03928,U6/(255*12.92),(((U6/255)+0.055)/1.055)^2.4)","v":1},{"$f":"(0.2126*R6)+(0.7152*T6)+(0.0722*V6)","v":1},4.5199999999999996,"No","Pass","Pass","Pass","Pass","Pass","N/A","N/A","N/A","N/A","Pass","Pass","N/A","N/A","N/A","N/A","N/A","N/A","Pass","Pass","N/A","Pass","N/A","N/A","N/A","N/A","N/A","N/A","N/A","N/A","N/A","N/A","N/A","N/A","N/A","N/A","N/A","N/A","N/A","N/A","N/A","N/A"]
["Dropdown list","White border against black background",null,"N/A","N/A","#FFFFFF","#1A1E21",true,255,{"$f":"IF(I7/255<= 0.03928,I7/(255*12.92),(((I7/255)+0.055)/1.055)^2.4)","v":1},255,{"$f":"IF(K7/255<= 0.03928,K7/(255*12.92),(((K7/255)+0.055)/1.055)^2.4)","v":1},255,{"$f":"IF(M7/255<= 0.03928,M7/(255*12.92),(((M7/255)+0.055)/1.055)^2.4)","v":1},{"$f":"(0.2126*J7)+(0.7152*L7)+(0.0722*N7)","v":1},true,26,{"$f":"IF(Q7/255<= 0.03928,Q7/(255*12.92),(((Q7/255)+0.055)/1.055)^2.4)","v":1.0329823029626938E-2},30,{"$f":"IF(S7/255<= 0.03928,S7/(255*12.92),(((S7/255)+0.055)/1.055)^2.4)","v":1.2983032342173016E-2},33,{"$f":"IF(U7/255<= 0.03928,U7/(255*12.92),(((U7/255)+0.055)/1.055)^2.4)","v":1.5208514422912713E-2},{"$f":"(0.2126*R7)+(0.7152*T7)+(0.0722*V7)","v":1.2579639848555126E-2},16.78,"No","Pass","N/A","Pass","N/A","N/A","N/A","N/A","N/A","N/A","N/A","N/A","N/A","N/A","N/A","N/A","N/A","N/A","N/A","N/A","N/A","N/A","N/A","N/A","N/A","N/A","N/A","N/A","N/A","N/A","N/A","N/A","N/A","N/A","N/A","N/A","N/A","N/A","N/A","N/A","N/A","N/A"]
["Dropdown list- All browsers","Dual coloured box shadows. Red box shadow against adjacent white box shadow.",null,"N/A","Use outline instead.","#E7135D","#FFFFFF",{"$f":"IF(LEN(F8)=0,\"\",AND(LEFT(F8,1)=\"#\",LEN(F8)=7))","v":true},{"$f":"HEX2DEC(RIGHT(LEFT(F8,3),2))","v":231},{"$f":"IF(I8/255<= 0.03928,I8/(255*12.92),(((I8/255)+0.055)/1.055)^2.4)","v":0.79910273801440901},{"$f":"HEX2DEC(RIGHT(LEFT(F8,5),2))","v":19},{"$f":"IF(K8/255<= 0.03928,K8/(255*12.92),(((K8/255)+0.055)/1.055)^2.4)","v":6.5120907925944761E-3},{"$f":"HEX2DEC(RIGHT(F8,2))","v":93},{"$f":"IF(M8/255<= 0.03928,M8/(255*12.92),(((M8/255)+0.055)/1.055)^2.4)","v":0.10946171077829935},{"$f":"(0.2126*J8)+(0.7152*L8)+(0.0722*N8)","v":0.18244982495492015},{"$f":"IF(LEN(G8)=0,\"\",AND(LEFT(G8,1)=\"#\",LEN(G8)=7))","v":true},{"$f":"HEX2DEC(RIGHT(LEFT(G8,3),2))","v":255},{"$f":"IF(Q8/255<= 0.03928,Q8/(255*12.92),(((Q8/255)+0.055)/1.055)^2.4)","v":1},{"$f":"HEX2DEC(RIGHT(LEFT(G8,5),2))","v":255},{"$f":"IF(S8/255<= 0.03928,S8/(255*12.92),(((S8/255)+0.055)/1.055)^2.4)","v":1},{"$f":"HEX2DEC(RIGHT(G8,2))","v":255},{"$f":"IF(U8/255<= 0.03928,U8/(255*12.92),(((U8/255)+0.055)/1.055)^2.4)","v":1},{"$f":"(0.2126*R8)+(0.7152*T8)+(0.0722*V8)","v":1},{"$f":"IF(OR(H8=\"\",P8=\"\")=TRUE,\"\",IF(OR(H8=FALSE,P8=FALSE)=TRUE,\"ERROR\",ROUND(IF(O8>W8,(O8+0.05)/(W8+0.05),(W8+0.05)/(O8+0.05)),2)))","v":4.5199999999999996},"No",{"$f":"IF(OR(Y8=\"\",Y8=\"No\")=TRUE,IF(X8=\"\",\"\",IF(X8>=3,\"Pass\",\"Fail\")),\"Exempt\")","v":"Pass"},"N/A","Pass","N/A","N/A","N/A","N/A","N/A","N/A","N/A","N/A","N/A","N/A","N/A","N/A","N/A","N/A","N/A","N/A","N/A","N/A","N/A","N/A","N/A","N/A","N/A","N/A","N/A","N/A","N/A","N/A","N/A","N/A","N/A","N/A","N/A","N/A","N/A","N/A","N/A","N/A"]
["Button (Focus) - All browsers","Dual coloured box shadows. Red box shadow against adjacent white box shadow.",null,"N/A","Use outline instead.","#E7135D","#FFFFFF",true,231,0.79910273801440901,19,6.5120907925944761E-3,93,0.10946171077829935,0.18244982495492015,true,255,1,255,1,255,1,1,4.5199999999999996,"No","Pass","N/A","Pass","N/A","N/A","N/A","N/A","N/A","N/A","N/A","N/A","N/A","N/A","N/A","N/A","Pass","N/A","N/A","N/A","N/A","N/A","N/A","N/A","N/A","N/A","N/A","N/A","N/A","N/A","N/A","N/A","N/A","N/A","N/A","N/A","N/A","N/A","N/A","N/A","N/A","N/A"]
["Social media icon -(Twitter) (Normal)","White icon against blue background",null,null,"Use a darker shade of blue such as #1877F2.","#FFFFFF","#1DA1F2",true,255,1,255,1,255,1,1,true,29,1.2286488356915874E-2,161,0.35640014414594351,242,0.88792311788196632,0.32161753962893708,2.83,"No","Fail","N/A","Fail","N/A","N/A","N/A","N/A","N/A","N/A","N/A","N/A","N/A","N/A","N/A","N/A","N/A","N/A","N/A","N/A","N/A","N/A","N/A","N/A","N/A","N/A","N/A","N/A","N/A","N/A","N/A","N/A","N/A","N/A","N/A","N/A","N/A","N/A","N/A","N/A","N/A","N/A"]
["Social media icon -(Facebook) (Normal)","White icon against blue background",null,"N/A","N/A","#FFFFFF","#1877F2",true,255,1,255,1,255,1,1,true,24,9.1340587022207854E-3,119,0.18447499450044097,242,0.88792311788196632,0.19798646605788545,4.2300000000000004,"No","Pass","N/A","Pass","N/A","N/A","N/A","N/A","N/A","N/A","N/A","N/A","N/A","N/A","N/A","N/A","N/A","N/A","N/A","N/A","N/A","N/A","N/A","N/A","N/A","N/A","N/A","N/A","N/A","N/A","N/A","N/A","N/A","N/A","N/A","N/A","N/A","N/A","N/A","N/A","N/A","N/A"]
["Social media icon -(YouTube) (Normal)","White icon against red background",null,"N/A","N/A","#FFFFFF","#FF0000",true,255,1,255,1,255,1,1,true,255,1,0,0,0,0,0.21260000000000001,4,"No","Pass","N/A","Pass","N/A","N/A","N/A","N/A","N/A","N/A","N/A","N/A","N/A","N/A","N/A","N/A","N/A","N/A","N/A","N/A","N/A","N/A","N/A","N/A","N/A","N/A","N/A","N/A","N/A","N/A","N/A","N/A","N/A","N/A","N/A","N/A","N/A","N/A","N/A","N/A","N/A","N/A"]
["Social media icon -(LinkedIn) (Normal)","White icon against blue background",null,"N/A","N/A","#FFFFFF","#0A66C2",true,255,1,255,1,255,1,1,true,10,3.0352698354883748E-3,102,0.13286832155381798,194,0.53947948901210707,0.13462314104898956,5.69,"No","Pass","N/A","Pass","N/A","N/A","N/A","N/A","N/A","N/A","N/A","N/A","N/A","N/A","N/A","N/A","N/A","N/A","N/A","N/A","N/A","N/A","N/A","N/A","N/A","N/A","N/A","N/A","N/A","N/A","N/A","N/A","N/A","N/A","N/A","N/A","N/A","N/A","N/A","N/A","N/A","N/A"]
["Toggle button (No state)","Internal pink background of button against light grey border colour",null,"N/A","N/A","#E7135D","#F4F4F4",true,231,0.79910273801440901,19,6.5120907925944761E-3,93,0.10946171077829935,0.18244982495492015,true,244,0.90466117439114957,244,0.90466117439114957,244,0.90466117439114957,0.90466117439114957,4.1100000000000003,"No","Pass","N/A","N/A","N/A","Pass","N/A","N/A","N/A","N/A","N/A","N/A","N/A","N/A","N/A","N/A","N/A","N/A","N/A","N/A","N/A","N/A","N/A","N/A","N/A","N/A","N/A","N/A","N/A","N/A","N/A","N/A","N/A","N/A","N/A","N/A","N/A","N/A","N/A","N/A","N/A","N/A"]
["Toggle button (Yes state)","Internal pink background of button against light grey border colour",null,"N/A","N/A","#E7135D","#F4F4F4",true,231,0.79910273801440901,19,6.5120907925944761E-3,93,0.10946171077829935,0.18244982495492015,true,244,0.90466117439114957,244,0.90466117439114957,244,0.90466117439114957,0.90466117439114957,4.1100000000000003,"No","Pass","N/A","N/A","N/A","Pass","N/A","N/A","N/A","N/A","N/A","N/A","N/A","N/A","N/A","N/A","N/A","N/A","N/A","N/A","N/A","N/A","N/A","N/A","N/A","N/A","N/A","N/A","N/A","N/A","N/A","N/A","N/A","N/A","N/A","N/A","N/A","N/A","N/A","N/A","N/A","N/A"]
["Toggle button (No state)","White toggle within (#FFFFFF) contrasts with the internal background (#F4F4F4).",null,"N/A","N/A","#E7135D","#F4F4F4",true,231,0.79910273801440901,19,6.5120907925944761E-3,93,0.10946171077829935,0.18244982495492015,true,244,0.90466117439114957,244,0.90466117439114957,244,0.90466117439114957,0.90466117439114957,4.1100000000000003,"No","Pass","N/A","N/A","N/A","Pass","N/A","N/A","N/A","N/A","N/A","N/A","N/A","N/A","N/A","N/A","N/A","N/A","N/A","N/A","N/A","N/A","N/A","N/A","N/A","N/A","N/A","N/A","N/A","N/A","N/A","N/A","N/A","N/A","N/A","N/A","N/A","N/A","N/A","N/A","N/A","N/A"]
["Toggle button (Yes state)","White toggle within (#FFFFFF) contrasts with the internal background (#F4F4F4).",null,"N/A","N/A","#E7135D","#F4F4F4",true,231,0.79910273801440901,19,6.5120907925944761E-3,93,0.10946171077829935,0.18244982495492015,true,244,0.90466117439114957,244,0.90466117439114957,244,0.90466117439114957,0.90466117439114957,4.1100000000000003,"No","Pass","N/A","N/A","N/A","Pass","N/A","N/A","N/A","N/A","N/A","N/A","N/A","N/A","N/A","N/A","N/A","N/A","N/A","N/A","N/A","N/A","N/A","N/A","N/A","N/A","N/A","N/A","N/A","N/A","N/A","N/A","N/A","N/A","N/A","N/A","N/A","N/A","N/A","N/A","N/A","N/A"]
["Toggle button (No state) (Focus) - All browsers","Dual coloured box shadows. Red box shadow against adjacent white box shadow.",null,"N/A","Use outline instead.","#E7135D","#FFFFFF",true,231,0.79910273801440901,19,6.5120907925944761E-3,93,0.10946171077829935,0.18244982495492015,true,255,1,255,1,255,1,1,4.5199999999999996,"No","Pass","N/A","N/A","N/A","Pass","N/A","N/A","N/A","N/A","N/A","N/A","N/A","N/A","N/A","N/A","N/A","N/A","N/A","N/A","N/A","N/A","N/A","N/A","N/A","N/A","N/A","N/A","N/A","N/A","N/A","N/A","N/A","N/A","N/A","N/A","N/A","N/A","N/A","N/A","N/A","N/A"]
["Toggle button (Yes state) (Focus) - All browsers","Dual coloured box shadows. Red box shadow against adjacent white box shadow.",null,"N/A","Use outline instead.","#E7135D","#FFFFFF",true,231,0.79910273801440901,19,6.5120907925944761E-3,93,0.10946171077829935,0.18244982495492015,true,255,1,255,1,255,1,1,4.5199999999999996,"No","Pass","N/A","N/A","N/A","Pass","N/A","N/A","N/A","N/A","N/A","N/A","N/A","N/A","N/A","N/A","N/A","N/A","N/A","N/A","N/A","N/A","N/A","N/A","N/A","N/A","N/A","N/A","N/A","N/A","N/A","N/A","N/A","N/A","N/A","N/A","N/A","N/A","N/A","N/A","N/A","N/A"]
["Textbox (Focus) - All browsers","Dual coloured box shadows. Red box shadow against adjacent white box shadow.",null,"N/A","Use outline instead.","#E7135D","#FFFFFF",true,231,0.79910273801440901,19,6.5120907925944761E-3,93,0.10946171077829935,0.18244982495492015,true,255,1,255,1,255,1,1,4.5199999999999996,"No","Pass","N/A","N/A","N/A","N/A","Pass","N/A","N/A","N/A","N/A","N/A","N/A","N/A","N/A","N/A","N/A","N/A","N/A","N/A","N/A","N/A","N/A","N/A","N/A","N/A","N/A","N/A","N/A","N/A","N/A","N/A","N/A","N/A","N/A","N/A","N/A","N/A","N/A","N/A","N/A","N/A"]
["Body text","Red asterisk against white background",null,"N/A","N/A","#E80024","#FFFFFF",true,232,0.8069522576692516,0,0,36,1.7641954488384088E-2,0.17283179909454424,true,255,1,255,1,255,1,1,4.71,"No","Pass","N/A","N/A","N/A","N/A","N/A","N/A","Pass","N/A","N/A","N/A","N/A","N/A","N/A","N/A","N/A","N/A","N/A","N/A","N/A","N/A","N/A","N/A","N/A","N/A","N/A","N/A","N/A","N/A","N/A","N/A","N/A","N/A","N/A","N/A","N/A","N/A","N/A","N/A","N/A","N/A"]
["Label text","Red asterisk against white background",null,"N/A","N/A","#E80024","#FFFFFF",true,232,0.8069522576692516,0,0,36,1.7641954488384088E-2,0.17283179909454424,true,255,1,255,1,255,1,1,4.71,"No","Pass","N/A","N/A","N/A","N/A","N/A","N/A","Pass","N/A","N/A","Pass","Pass","N/A","N/A","N/A","N/A","N/A","N/A","N/A","N/A","N/A","N/A","N/A","N/A","N/A","N/A","N/A","N/A","N/A","N/A","N/A","N/A","N/A","N/A","N/A","N/A","N/A","N/A","N/A","N/A","N/A"]
["Textbox","Black border against white background",null,"N/A","N/A","#000000","#FFFFFF",true,0,0,0,0,0,0,0,true,255,1,255,1,255,1,1,21,"No","Pass","N/A","N/A","N/A","N/A","N/A","N/A","Pass","N/A","N/A","Pass","Pass","N/A","N/A","N/A","N/A","N/A","Pass","N/A","N/A","N/A","N/A","N/A","N/A","N/A","N/A","N/A","N/A","N/A","N/A","N/A","N/A","N/A","N/A","N/A","N/A","N/A","N/A","N/A","N/A","N/A"]
["Dropdown list","Black border against white background",null,"N/A","N/A","#000000","#FFFFFF",{"$f":"IF(LEN(F24)=0,\"\",AND(LEFT(F24,1)=\"#\",LEN(F24)=7))","v":true},{"$f":"HEX2DEC(RIGHT(LEFT(F24,3),2))","v":0},{"$f":"IF(I24/255<= 0.03928,I24/(255*12.92),(((I24/255)+0.055)/1.055)^2.4)","v":0},{"$f":"HEX2DEC(RIGHT(LEFT(F24,5),2))","v":0},{"$f":"IF(K24/255<= 0.03928,K24/(255*12.92),(((K24/255)+0.055)/1.055)^2.4)","v":0},{"$f":"HEX2DEC(RIGHT(F24,2))","v":0},{"$f":"IF(M24/255<= 0.03928,M24/(255*12.92),(((M24/255)+0.055)/1.055)^2.4)","v":0},{"$f":"(0.2126*J24)+(0.7152*L24)+(0.0722*N24)","v":0},{"$f":"IF(LEN(G24)=0,\"\",AND(LEFT(G24,1)=\"#\",LEN(G24)=7))","v":true},{"$f":"HEX2DEC(RIGHT(LEFT(G24,3),2))","v":255},{"$f":"IF(Q24/255<= 0.03928,Q24/(255*12.92),(((Q24/255)+0.055)/1.055)^2.4)","v":1},{"$f":"HEX2DEC(RIGHT(LEFT(G24,5),2))","v":255},{"$f":"IF(S24/255<= 0.03928,S24/(255*12.92),(((S24/255)+0.055)/1.055)^2.4)","v":1},{"$f":"HEX2DEC(RIGHT(G24,2))","v":255},{"$f":"IF(U24/255<= 0.03928,U24/(255*12.92),(((U24/255)+0.055)/1.055)^2.4)","v":1},{"$f":"(0.2126*R24)+(0.7152*T24)+(0.0722*V24)","v":1},{"$f":"IF(OR(H24=\"\",P24=\"\")=TRUE,\"\",IF(OR(H24=FALSE,P24=FALSE)=TRUE,\"ERROR\",ROUND(IF(O24>W24,(O24+0.05)/(W24+0.05),(W24+0.05)/(O24+0.05)),2)))","v":21},"No",{"$f":"IF(OR(Y24=\"\",Y24=\"No\")=TRUE,IF(X24=\"\",\"\",IF(X24>=3,\"Pass\",\"Fail\")),\"Exempt\")","v":"Pass"},"N/A","N/A","N/A","N/A","N/A","N/A","Pass","N/A","N/A","Pass","Pass","N/A","N/A","N/A","N/A","N/A","Pass","N/A","N/A","N/A","N/A","N/A","N/A","N/A","N/A","N/A","N/A","N/A","N/A","N/A","N/A","N/A","N/A","N/A","N/A","N/A","N/A","N/A","N/A","N/A"]
["Textbox (Focus) - All browsers","Dual coloured box shadows. Red box shadow against adjacent white box shadow.",null,"N/A","Use outline instead.","#E7135D","#FFFFFF",true,231,0.79910273801440901,19,6.5120907925944761E-3,93,0.10946171077829935,0.18244982495492015,true,255,1,255,1,255,1,1,4.5199999999999996,"No","Pass","N/A","N/A","N/A","N/A","N/A","N/A","Pass","N/A","N/A","Pass","Pass","N/A","N/A","N/A","N/A","N/A","Pass","N/A","N/A","N/A","N/A","N/A","N/A","N/A","N/A","N/A","N/A","N/A","N/A","N/A","N/A","N/A","N/A","N/A","N/A","N/A","N/A","N/A","N/A","N/A"]
["Dropdown list (Focus) - All browsers","Dual coloured box shadows. Red box shadow against adjacent white box shadow.",null,"N/A","Use outline instead.","#E7135D","#FFFFFF",true,231,0.79910273801440901,19,6.5120907925944761E-3,93,0.10946171077829935,0.18244982495492015,true,255,1,255,1,255,1,1,4.5199999999999996,"No","Pass","N/A","N/A","N/A","N/A","N/A","N/A","Pass","N/A","N/A","Pass","Pass","N/A","N/A","N/A","N/A","N/A","Pass","Pass","N/A","Pass","N/A","N/A","N/A","N/A","N/A","N/A","N/A","N/A","N/A","N/A","N/A","N/A","N/A","N/A","N/A","N/A","N/A","N/A","N/A","N/A"]
["Checkbox (Initial state)","Black border against white background",null,"N/A","N/A","#000000","#FFFFFF",true,0,0,0,0,0,0,0,true,255,1,255,1,255,1,1,21,"No","Pass","N/A","N/A","N/A","N/A","N/A","N/A","Pass","N/A","N/A","N/A","Pass","N/A","N/A","N/A","N/A","N/A","N/A","N/A","N/A","N/A","N/A","N/A","N/A","N/A","N/A","N/A","N/A","N/A","N/A","N/A","N/A","N/A","N/A","N/A","N/A","N/A","N/A","N/A","N/A","N/A"]
["Checkbox (Initial state) (Focus) - All browsers","Dual coloured box shadows. Red box shadow against adjacent white box shadow.",null,"N/A","Use outline instead.","#E7135D","#FFFFFF",true,231,0.79910273801440901,19,6.5120907925944761E-3,93,0.10946171077829935,0.18244982495492015,true,255,1,255,1,255,1,1,4.5199999999999996,"No","Pass","N/A","N/A","N/A","N/A","N/A","N/A","Pass","N/A","N/A","N/A","N/A","N/A","N/A","N/A","N/A","N/A","N/A","N/A","N/A","N/A","N/A","N/A","N/A","N/A","N/A","N/A","N/A","N/A","N/A","N/A","N/A","N/A","N/A","N/A","N/A","N/A","N/A","N/A","N/A","N/A"]
["Checkbox (Checked state state)","White tick against pink background",null,"N/A","N/A","#FFFFFF","#E4035E",true,255,1,255,1,255,1,1,true,228,0.7758222183174236,3,9.1058095064651249E-4,94,0.11193242783690559,0.17367257240001124,4.6900000000000004,"No","Pass","N/A","N/A","N/A","N/A","N/A","N/A","Pass","N/A","N/A","N/A","N/A","N/A","N/A","N/A","N/A","N/A","N/A","N/A","N/A","N/A","N/A","N/A","N/A","N/A","N/A","N/A","N/A","N/A","N/A","N/A","N/A","N/A","N/A","N/A","N/A","N/A","N/A","N/A","N/A","N/A"]
["Checkbox (Checked state) (Focus) - All browsers","Dual coloured box shadows. Red box shadow against adjacent white box shadow.",null,"N/A","Use outline instead.","#E7135D","#FFFFFF",true,231,0.79910273801440901,19,6.5120907925944761E-3,93,0.10946171077829935,0.18244982495492015,true,255,1,255,1,255,1,1,4.5199999999999996,"No","Pass","N/A","N/A","N/A","N/A","N/A","N/A","Pass","N/A","N/A","N/A","N/A","N/A","N/A","N/A","N/A","N/A","N/A","N/A","N/A","N/A","N/A","N/A","N/A","N/A","N/A","N/A","N/A","N/A","N/A","N/A","N/A","N/A","N/A","N/A","N/A","N/A","N/A","N/A","N/A","N/A"]
["CAPTCHA Checkbox (Unchecked state) (Normal)","Grey border against light grey background",null,null,"Use a darker shade of grey as the border such as #919191.","#C1C1C1","#F9F9F9",true,193,0.53327640401050524,193,0.53327640401050524,193,0.53327640401050524,0.53327640401050524,true,249,0.94730653673319987,249,0.94730653673319987,249,0.94730653673319987,0.94730653673319976,1.71,"No","Fail","N/A","N/A","N/A","N/A","N/A","N/A","Fail","N/A","N/A","N/A","N/A","N/A","N/A","N/A","N/A","N/A","N/A","N/A","N/A","N/A","N/A","N/A","N/A","N/A","N/A","N/A","N/A","N/A","N/A","N/A","N/A","N/A","N/A","N/A","N/A","N/A","N/A","N/A","N/A","N/A"]
["CAPTCHA Checkbox (Unchecked state) (Hover)","Grey border against light grey background",null,null,"Use a darker shade of grey as the border such as #919191.","#B2B2B2","#F9F9F9",true,178,0.44520119451622792,178,0.44520119451622792,178,0.44520119451622792,0.44520119451622797,true,249,0.94730653673319987,249,0.94730653673319987,249,0.94730653673319987,0.94730653673319976,2.0099999999999998,"No","Fail","N/A","N/A","N/A","N/A","N/A","N/A","Fail","N/A","N/A","N/A","N/A","N/A","N/A","N/A","N/A","N/A","N/A","N/A","N/A","N/A","N/A","N/A","N/A","N/A","N/A","N/A","N/A","N/A","N/A","N/A","N/A","N/A","N/A","N/A","N/A","N/A","N/A","N/A","N/A","N/A"]
["CAPTCHA Checkbox (Unchecked state) (Focus) - Chrome, Edge","Blue outline against light grey background",null,null,"Use black (#101010) 2px solid outline with a 2px outline offset.","#5092FB","#F9F9F9",{"$f":"IF(LEN(F33)=0,\"\",AND(LEFT(F33,1)=\"#\",LEN(F33)=7))","v":true},{"$f":"HEX2DEC(RIGHT(LEFT(F33,3),2))","v":80},8.0219820314468296E-2,{"$f":"HEX2DEC(RIGHT(LEFT(F33,5),2))","v":146},0.28744083772691742,{"$f":"HEX2DEC(RIGHT(F33,2))","v":251},0.96468624789446511,0.29228276803912767,{"$f":"IF(LEN(G33)=0,\"\",AND(LEFT(G33,1)=\"#\",LEN(G33)=7))","v":true},{"$f":"HEX2DEC(RIGHT(LEFT(G33,3),2))","v":249},0.94730653673319987,{"$f":"HEX2DEC(RIGHT(LEFT(G33,5),2))","v":249},0.94730653673319987,{"$f":"HEX2DEC(RIGHT(G33,2))","v":249},0.94730653673319987,0.94730653673319976,{"$f":"IF(OR(H33=\"\",P33=\"\")=TRUE,\"\",IF(OR(H33=FALSE,P33=FALSE)=TRUE,\"ERROR\",ROUND(IF(O33>W33,(O33+0.05)/(W33+0.05),(W33+0.05)/(O33+0.05)),2)))","v":2.91},"No","Fail","N/A","N/A","N/A","N/A","N/A","N/A","Fail","N/A","N/A","N/A","N/A","N/A","N/A","N/A","N/A","N/A","N/A","N/A","N/A","N/A","N/A","N/A","N/A","N/A","N/A","N/A","N/A","N/A","N/A","N/A","N/A","N/A","N/A","N/A","N/A","N/A","N/A","N/A","N/A","N/A"]
["CAPTCHA Link (Focus) - Chrome, Edge","Black outline against light grey background",null,"N/A","N/A","#101010","#F9F9F9",true,16,5.1815167023383868E-3,16,5.1815167023383868E-3,16,5.1815167023383868E-3,5.1815167023383868E-3,true,249,0.94730653673319987,249,0.94730653673319987,249,0.94730653673319987,0.94730653673319976,18.07,"No","Pass","N/A","N/A","N/A","N/A","N/A","N/A","Pass","N/A","N/A","N/A","N/A","N/A","N/A","N/A","N/A","N/A","N/A","N/A","N/A","N/A","N/A","N/A","N/A","N/A","N/A","N/A","N/A","N/A","N/A","N/A","N/A","N/A","N/A","N/A","N/A","N/A","N/A","N/A","N/A","N/A"]
["CAPTCHA Checkbox icon (Checked state)","Green icon against white background",null,"N/A","N/A","#179E58","#F9F9F9",true,23,8.5681256180693086E-3,158,0.34191442490866097,88,9.7587347141862429E-2,0.25340458666471832,true,249,0.94730653673319987,249,0.94730653673319987,249,0.94730653673319987,0.94730653673319976,3.29,"No","Pass","N/A","N/A","N/A","N/A","N/A","N/A","Pass","N/A","N/A","N/A","N/A","N/A","N/A","N/A","N/A","N/A","N/A","N/A","N/A","N/A","N/A","N/A","N/A","N/A","N/A","N/A","N/A","N/A","N/A","N/A","N/A","N/A","N/A","N/A","N/A","N/A","N/A","N/A","N/A","N/A"]
["CAPTCHA Checkbox (Invalid state) (Normal, Hover, Focus)","Red border against light grey background",null,"N/A","N/A","#FC0017","#F9F9F9",true,252,0.97344529039841254,0,0,23,8.5681256180693086E-3,0.20757308740832711,true,249,0.94730653673319987,249,0.94730653673319987,249,0.94730653673319987,0.94730653673319976,3.87,"No","Pass","N/A","N/A","N/A","N/A","N/A","N/A","Pass","N/A","N/A","N/A","N/A","N/A","N/A","N/A","N/A","N/A","N/A","N/A","N/A","N/A","N/A","N/A","N/A","N/A","N/A","N/A","N/A","N/A","N/A","N/A","N/A","N/A","N/A","N/A","N/A","N/A","N/A","N/A","N/A","N/A"]
["CAPTCHA button (Normal)","Grey icon against white background",null,"N/A","N/A","#737373","#FFFFFF",true,115,0.17144110073282262,115,0.17144110073282262,115,0.17144110073282262,0.17144110073282262,true,255,1,255,1,255,1,1,4.74,"No","Pass","N/A","N/A","N/A","N/A","N/A","N/A","Pass","N/A","N/A","N/A","N/A","N/A","N/A","N/A","N/A","N/A","N/A","N/A","N/A","N/A","N/A","N/A","N/A","N/A","N/A","N/A","N/A","N/A","N/A","N/A","N/A","N/A","N/A","N/A","N/A","N/A","N/A","N/A","N/A","N/A"]
["CAPTCHA button (Hover)","Black icon against white background",null,"N/A","N/A","#333333","#FFFFFF",true,51,3.3104766570885055E-2,51,3.3104766570885055E-2,51,3.3104766570885055E-2,3.3104766570885055E-2,true,255,1,255,1,255,1,1,12.63,"No","Pass","N/A","N/A","N/A","N/A","N/A","N/A","Pass","N/A","N/A","N/A","N/A","N/A","N/A","N/A","N/A","N/A","N/A","N/A","N/A","N/A","N/A","N/A","N/A","N/A","N/A","N/A","N/A","N/A","N/A","N/A","N/A","N/A","N/A","N/A","N/A","N/A","N/A","N/A","N/A","N/A"]
["CAPTCHA button (Focus)","Black icon against grey background",null,"N/A","N/A","#333333","#E0E0E0",true,51,3.3104766570885055E-2,51,3.3104766570885055E-2,51,3.3104766570885055E-2,3.3104766570885055E-2,true,224,0.74540420954038744,224,0.74540420954038744,224,0.74540420954038744,0.74540420954038744,9.57,"No","Pass","N/A","N/A","N/A","N/A","N/A","N/A","Pass","N/A","N/A","N/A","N/A","N/A","N/A","N/A","N/A","N/A","N/A","N/A","N/A","N/A","N/A","N/A","N/A","N/A","N/A","N/A","N/A","N/A","N/A","N/A","N/A","N/A","N/A","N/A","N/A","N/A","N/A","N/A","N/A","N/A"]
["CAPTCHA button (Focus)","Dark blue box shadow against blue button",null,null,"Use a white (#FFFFFF) 2px solid outline with a -4px outline offset. Disable the outline:0l property, webkit box shadow (0 0 0 2pt #185ABC; property, and the box shadow (0 0 0 2pt #185ABC; property from the .rc-button-default:focus selector.","#185ABC","#2175E5",true,24,9.1340587022207854E-3,90,0.10224173308810132,188,0.50288645803256871,0.11137359065465366,true,33,1.5208514422912713E-2,117,0.17788841598362914,229,0.78353779152619352,0.18703055382599396,1.47,"No","Fail","N/A","N/A","N/A","N/A","N/A","N/A","Fail","N/A","N/A","N/A","N/A","N/A","N/A","N/A","N/A","N/A","N/A","N/A","N/A","N/A","N/A","N/A","N/A","N/A","N/A","N/A","N/A","N/A","N/A","N/A","N/A","N/A","N/A","N/A","N/A","N/A","N/A","N/A","N/A","N/A"]
["Next / Previous link (Normal)","White icon against pink background",null,"N/A","N/A","#FFFFFF","#E4035E",true,255,1,255,1,255,1,1,true,228,0.7758222183174236,3,9.1058095064651249E-4,94,0.11193242783690559,0.17367257240001124,4.6900000000000004,"No","Pass","N/A","N/A","N/A","N/A","N/A","N/A","N/A","Pass","N/A","N/A","N/A","N/A","N/A","N/A","N/A","N/A","Pass","N/A","N/A","N/A","N/A","N/A","N/A","N/A","N/A","N/A","N/A","N/A","N/A","N/A","N/A","N/A","N/A","N/A","N/A","N/A","N/A","N/A","N/A","N/A"]
["Next / Previous link (hover)","White icon against pink background",null,"N/A","N/A","#FFFFFF","#9C0059",true,255,1,255,1,255,1,1,true,156,0.33245153634617935,0,0,89,9.9898728247113905E-2,7.7891884806639361E-2,8.2100000000000009,"No","Pass","N/A","N/A","N/A","N/A","N/A","N/A","N/A","Pass","N/A","N/A","N/A","N/A","N/A","N/A","N/A","N/A","Pass","N/A","N/A","N/A","N/A","N/A","N/A","N/A","N/A","N/A","N/A","N/A","N/A","N/A","N/A","N/A","N/A","N/A","N/A","N/A","N/A","N/A","N/A","N/A"]
["Next / Previous link (Focus) - All browsers","Dual coloured box shadows. Red box shadow against adjacent white box shadow.",null,"N/A","Use outline instead.","#E7135D","#FFFFFF",true,231,0.79910273801440901,19,6.5120907925944761E-3,93,0.10946171077829935,0.18244982495492015,true,255,1,255,1,255,1,1,4.5199999999999996,"No","Pass","N/A","N/A","N/A","N/A","N/A","N/A","N/A","Pass","N/A","N/A","N/A","N/A","N/A","N/A","N/A","N/A","Pass","N/A","N/A","N/A","N/A","N/A","N/A","N/A","N/A","N/A","N/A","N/A","N/A","N/A","N/A","N/A","N/A","N/A","N/A","N/A","N/A","N/A","N/A","N/A"]
["Button (Focus) - All browsers","Dual coloured box shadows. Red box shadow against adjacent white box shadow.",null,"N/A","Use outline instead.","#E7135D","#FFFFFF",true,231,0.79910273801440901,19,6.5120907925944761E-3,93,0.10946171077829935,0.18244982495492015,true,255,1,255,1,255,1,1,4.5199999999999996,"No","Pass","N/A","N/A","N/A","N/A","N/A","N/A","N/A","Pass","N/A","N/A","Pass","N/A","N/A","N/A","N/A","N/A","N/A","N/A","N/A","N/A","N/A","N/A","N/A","N/A","N/A","N/A","N/A","N/A","N/A","N/A","N/A","N/A","N/A","N/A","N/A","N/A","N/A","N/A","N/A","N/A"]
["Checkbox (Initial state)","Black border against grey background",null,"N/A","N/A","#000000","#D6D6D6",true,0,0,0,0,0,0,0,true,214,0.67244315695768753,214,0.67244315695768753,214,0.67244315695768753,0.67244315695768742,14.45,"No","Pass","N/A","N/A","N/A","N/A","N/A","N/A","N/A","Pass","N/A","N/A","N/A","N/A","N/A","N/A","N/A","N/A","N/A","N/A","N/A","N/A","N/A","N/A","N/A","N/A","N/A","N/A","N/A","N/A","N/A","N/A","N/A","N/A","N/A","N/A","N/A","N/A","N/A","N/A","N/A","N/A"]
["Social media icon -(Twitter) (Normal)","White icon against blue background",null,null,"Use a darker shade of blue such as #1877F2.","#FFFFFF","#28A2EF",true,255,1,255,1,255,1,1,true,40,2.1219010376003551E-2,162,0.3613067797835095,239,0.86315721345410235,0.32523772131849049,2.8,"No","Fail","N/A","N/A","N/A","N/A","N/A","N/A","N/A","Fail","N/A","N/A","N/A","N/A","N/A","N/A","N/A","N/A","N/A","N/A","N/A","N/A","N/A","N/A","N/A","N/A","N/A","N/A","N/A","N/A","N/A","N/A","N/A","N/A","N/A","N/A","N/A","N/A","N/A","N/A","N/A","N/A"]
["Social media icon -(Facebook) (Normal)","White icon against blue background",null,"N/A","N/A","#FFFFFF","#3C5A96",true,255,1,255,1,255,1,1,true,60,4.5186204385675541E-2,90,0.10224173308810132,150,0.30498731406988622,0.10474995863285046,6.79,"No","Pass","N/A","N/A","N/A","N/A","N/A","N/A","N/A","Pass","N/A","N/A","N/A","N/A","N/A","N/A","N/A","N/A","N/A","N/A","N/A","N/A","N/A","N/A","N/A","N/A","N/A","N/A","N/A","N/A","N/A","N/A","N/A","N/A","N/A","N/A","N/A","N/A","N/A","N/A","N/A","N/A"]
["Social media icon -(WhatsApp) (Normal)","White icon against green background",null,null,"Use a darker shade of green such as #196433.","#FFFFFF","#34D36A",true,255,1,255,1,255,1,1,true,52,3.4339806808682156E-2,211,0.65140563741982416,106,0.14412847085805777,0.48359203040613574,1.97,"No","Fail","N/A","N/A","N/A","N/A","N/A","N/A","N/A","Fail","N/A","N/A","N/A","N/A","N/A","N/A","N/A","N/A","N/A","N/A","N/A","N/A","N/A","N/A","N/A","N/A","N/A","N/A","N/A","N/A","N/A","N/A","N/A","N/A","N/A","N/A","N/A","N/A","N/A","N/A","N/A","N/A"]
["Social media icon -(LinkedIn) (Normal)","White icon against blue background",null,"N/A","N/A","#FFFFFF","#1078B3",true,255,1,255,1,255,1,1,true,16,5.1815167023383868E-3,120,0.18782077230067784,179,0.4507857828382234,0.16797774032128165,4.82,"No","Pass","N/A","N/A","N/A","N/A","N/A","N/A","N/A","Pass","N/A","N/A","N/A","N/A","N/A","N/A","N/A","N/A","N/A","N/A","N/A","N/A","N/A","N/A","N/A","N/A","N/A","N/A","N/A","N/A","N/A","N/A","N/A","N/A","N/A","N/A","N/A","N/A","N/A","N/A","N/A","N/A"]
["Radio button (Initial state)","Black border against white background",null,"N/A","N/A","#000000","#FFFFFF",true,0,0,0,0,0,0,0,true,255,1,255,1,255,1,1,21,"No","Pass","N/A","N/A","N/A","N/A","N/A","N/A","N/A","N/A","Pass","N/A","N/A","N/A","N/A","N/A","N/A","N/A","N/A","N/A","N/A","N/A","N/A","N/A","N/A","N/A","N/A","N/A","N/A","N/A","N/A","N/A","N/A","N/A","N/A","N/A","N/A","N/A","N/A","N/A","N/A","N/A"]
["Radio button (Selected state)","White circle against pink background",null,"N/A","N/A","#FFFFFF","#E4035E",true,255,1,255,1,255,1,1,true,228,0.7758222183174236,3,9.1058095064651249E-4,94,0.11193242783690559,0.17367257240001124,4.6900000000000004,"No","Pass","N/A","N/A","N/A","N/A","N/A","N/A","N/A","N/A","Pass","N/A","N/A","N/A","N/A","N/A","N/A","N/A","N/A","N/A","N/A","N/A","N/A","N/A","N/A","N/A","N/A","N/A","N/A","N/A","N/A","N/A","N/A","N/A","N/A","N/A","N/A","N/A","N/A","N/A","N/A","N/A"]
["Radio button (Selected state) (Focus) - All browsers","Dual coloured box shadows. Red box shadow against adjacent white box shadow.",null,"N/A","Use outline instead.","#E7135D","#FFFFFF",true,231,0.79910273801440901,19,6.5120907925944761E-3,93,0.10946171077829935,0.18244982495492015,true,255,1,255,1,255,1,1,4.5199999999999996,"No","Pass","N/A","N/A","N/A","N/A","N/A","N/A","N/A","N/A","N/A","N/A","N/A","N/A","N/A","N/A","N/A","N/A","N/A","N/A","N/A","N/A","N/A","N/A","N/A","N/A","N/A","N/A","N/A","N/A","N/A","N/A","N/A","N/A","N/A","N/A","N/A","N/A","N/A","N/A","N/A","N/A"]
["Zoom in icon","Grey icon against white background",null,"N/A","N/A","#666666","#FFFFFF",true,102,0.13286832155381798,102,0.13286832155381798,102,0.13286832155381798,0.13286832155381795,true,255,1,255,1,255,1,1,5.74,"No","Pass","N/A","N/A","N/A","N/A","N/A","N/A","N/A","N/A","N/A","N/A","N/A","N/A","N/A","N/A","Pass","N/A","N/A","N/A","N/A","N/A","N/A","N/A","N/A","N/A","N/A","N/A","N/A","N/A","N/A","N/A","N/A","N/A","N/A","N/A","N/A","N/A","N/A","N/A","N/A","N/A"]
["Map pin","Dark red circle against red background of the pin",null,null,"Use a white (#FFFFFF) circle instead.","#B10B19","#E83F3B",true,177,0.43965717384091879,11,3.3465357638991591E-3,25,9.7212173202378457E-3,9.6566429427441189E-2,true,232,0.8069522576692516,63,4.9706565984127239E-2,59,4.3735029256973472E-2,0.21026585508468421,1.78,"No","Fail","N/A","N/A","N/A","N/A","N/A","N/A","N/A","N/A","N/A","N/A","N/A","N/A","N/A","N/A","Fail","N/A","N/A","N/A","N/A","N/A","N/A","N/A","N/A","N/A","N/A","N/A","N/A","N/A","N/A","N/A","N/A","N/A","N/A","N/A","N/A","N/A","N/A","N/A","N/A","N/A"]
["Expand image button","White icon against pink background",null,"N/A","N/A","#FFFFFF","#E4035E",true,255,1,255,1,255,1,1,true,228,0.7758222183174236,3,9.1058095064651249E-4,94,0.11193242783690559,0.17367257240001124,4.6900000000000004,"No","Pass","N/A","N/A","N/A","N/A","N/A","N/A","N/A","N/A","N/A","N/A","N/A","N/A","N/A","N/A","Pass","N/A","N/A","N/A","N/A","N/A","N/A","N/A","N/A","N/A","N/A","N/A","N/A","N/A","N/A","N/A","N/A","N/A","N/A","N/A","N/A","N/A","N/A","N/A","N/A","N/A"]
["Previous / Next button","White icon against pink background",null,"N/A","N/A","#FFFFFF","#E4035E",{"$f":"IF(LEN(F56)=0,\"\",AND(LEFT(F56,1)=\"#\",LEN(F56)=7))","v":true},{"$f":"HEX2DEC(RIGHT(LEFT(F56,3),2))","v":255},{"$f":"IF(I56/255<= 0.03928,I56/(255*12.92),(((I56/255)+0.055)/1.055)^2.4)","v":1},{"$f":"HEX2DEC(RIGHT(LEFT(F56,5),2))","v":255},{"$f":"IF(K56/255<= 0.03928,K56/(255*12.92),(((K56/255)+0.055)/1.055)^2.4)","v":1},{"$f":"HEX2DEC(RIGHT(F56,2))","v":255},{"$f":"IF(M56/255<= 0.03928,M56/(255*12.92),(((M56/255)+0.055)/1.055)^2.4)","v":1},{"$f":"(0.2126*J56)+(0.7152*L56)+(0.0722*N56)","v":1},{"$f":"IF(LEN(G56)=0,\"\",AND(LEFT(G56,1)=\"#\",LEN(G56)=7))","v":true},{"$f":"HEX2DEC(RIGHT(LEFT(G56,3),2))","v":228},{"$f":"IF(Q56/255<= 0.03928,Q56/(255*12.92),(((Q56/255)+0.055)/1.055)^2.4)","v":0.7758222183174236},{"$f":"HEX2DEC(RIGHT(LEFT(G56,5),2))","v":3},{"$f":"IF(S56/255<= 0.03928,S56/(255*12.92),(((S56/255)+0.055)/1.055)^2.4)","v":9.1058095064651249E-4},{"$f":"HEX2DEC(RIGHT(G56,2))","v":94},{"$f":"IF(U56/255<= 0.03928,U56/(255*12.92),(((U56/255)+0.055)/1.055)^2.4)","v":0.11193242783690559},{"$f":"(0.2126*R56)+(0.7152*T56)+(0.0722*V56)","v":0.17367257240001124},{"$f":"IF(OR(H56=\"\",P56=\"\")=TRUE,\"\",IF(OR(H56=FALSE,P56=FALSE)=TRUE,\"ERROR\",ROUND(IF(O56>W56,(O56+0.05)/(W56+0.05),(W56+0.05)/(O56+0.05)),2)))","v":4.6900000000000004},"No",{"$f":"IF(OR(Y56=\"\",Y56=\"No\")=TRUE,IF(X56=\"\",\"\",IF(X56>=3,\"Pass\",\"Fail\")),\"Exempt\")","v":"Pass"},"N/A","N/A","N/A","N/A","N/A","N/A","N/A","N/A","N/A","N/A","N/A","N/A","N/A","N/A","Pass","N/A","N/A","N/A","N/A","N/A","N/A","N/A","N/A","N/A","N/A","N/A","N/A","N/A","N/A","N/A","N/A","N/A","N/A","N/A","N/A","N/A","N/A","N/A","N/A","N/A"]
["Link (Focus) - All browsers","Dual coloured box shadows. Blue box shadow against adjacent white box shadow.",null,"N/A","Use outline instead.","#08587C","#FFFFFF",true,8,2.4282158683907001E-3,88,9.7587347141862429E-2,124,0.20155625379439707,8.4863070893435338E-2,true,255,1,255,1,255,1,1,7.79,"No","Pass","N/A","N/A","N/A","N/A","N/A","N/A","N/A","N/A","N/A","N/A","N/A","N/A","N/A","N/A","N/A","Pass","N/A","N/A","N/A","N/A","N/A","N/A","N/A","N/A","N/A","N/A","N/A","N/A","N/A","N/A","N/A","N/A","N/A","N/A","N/A","N/A","N/A","N/A","N/A","N/A"]
["Zoom in icon (Normal)","Black icon against white background",null,"N/A","N/A","#000000","#FFFFFF",true,0,0,0,0,0,0,0,true,255,1,255,1,255,1,1,21,"No","Pass","N/A","N/A","N/A","N/A","N/A","N/A","N/A","N/A","N/A","N/A","N/A","N/A","N/A","N/A","N/A","N/A","Pass","N/A","N/A","N/A","N/A","N/A","N/A","N/A","N/A","N/A","N/A","N/A","N/A","N/A","N/A","N/A","N/A","N/A","N/A","N/A","N/A","N/A","N/A","N/A"]
["Zoom in icon (Hover, Focus)","Black icon against light grey background",null,"N/A","N/A","#000000","#F4F4F4",true,0,0,0,0,0,0,0,true,244,0.90466117439114957,244,0.90466117439114957,244,0.90466117439114957,0.90466117439114957,19.09,"No","Pass","N/A","N/A","N/A","N/A","N/A","N/A","N/A","N/A","N/A","N/A","N/A","N/A","N/A","N/A","N/A","N/A","Pass","N/A","N/A","N/A","N/A","N/A","N/A","N/A","N/A","N/A","N/A","N/A","N/A","N/A","N/A","N/A","N/A","N/A","N/A","N/A","N/A","N/A","N/A","N/A"]
["Zoom out icon (Unavailable state)","Grey icon against light grey background",null,"N/A","N/A","#BBBBBB","#F4F4F4",true,187,0.49693299506087041,187,0.49693299506087041,187,0.49693299506087041,0.49693299506087041,true,244,0.90466117439114957,244,0.90466117439114957,244,0.90466117439114957,0.90466117439114957,1.75,"Disabled state","Exempt","N/A","N/A","N/A","N/A","N/A","N/A","N/A","N/A","N/A","N/A","N/A","N/A","N/A","N/A","N/A","N/A","Exempt","N/A","N/A","N/A","N/A","N/A","N/A","N/A","N/A","N/A","N/A","N/A","N/A","N/A","N/A","N/A","N/A","N/A","N/A","N/A","N/A","N/A","N/A","N/A"]
["Dropdown list","Light grey border against white background",null,null,"Use a darker grey as a border such as #333333.","#BDBCBC","#FFFFFF",true,189,0.50888132085493376,188,0.50288645803256871,188,0.50288645803256871,0.50416096586860348,true,255,1,255,1,255,1,1,1.89,"No","Fail","N/A","N/A","N/A","N/A","N/A","N/A","N/A","N/A","N/A","N/A","N/A","N/A","N/A","N/A","N/A","N/A","N/A","N/A","N/A","Fail","N/A","N/A","N/A","N/A","N/A","N/A","N/A","N/A","N/A","N/A","N/A","N/A","N/A","N/A","N/A","N/A","N/A","N/A","N/A","N/A"]
[]
["Colour combinations shown in pink do not meet the contrast ratio (3:1 Minimum) recommended by W3C WCAG 2.1"]
["End of content."]

{"sheet":"Changelog","index":8,"n_rows":75,"n_cols":2,"rows_kept":75,"cut":false,"hidden":true,"merged":[]}
["Version","Changes"]
[3.2,"1. Set the results for all AAA success criteria to Not Tested. Added instruction to delete them all when testing for compliance with AAA.\n\n2. Added a combobox to the header of the Colour Contrast Analysis worksheet to switch between the different thresholds that apply at AA and AAA. The combobox setting automatically sets the appropriate thresholds in the formulae in the Results column.\n\n3. Hid the Cover worksheet. We should update it at some point but it is very low priority.\n\n4. Changed the Hyperlink style so the URL on the Statistics sheet is 11pt bold, the same as the other cells."]
[3.3,"1. Added examples in the Non-text Contrast worksheet.\n\n2. Added the \"What we are comparing\" and \"Recommendation (description) columns to the Non-text Contrast worksheet and reduced the width of most columns.\n\n3. Fixed the VBA so the Fail Only link works on the Non-text Contrast worksheet."]
[3.4,"Screenshots worksheet\n1. Added this worksheet. It's primarily for adding screenshots of components or mobile app screens, both as a record of what was tested and also to avoid any ambiguity because components and mobile app screens often do not have a unique or reliable means of identification.\n\nStatistics worksheet\n2. Added the \"Page or Component\" column. This will eventually be used to calculate the number of errors per page. The current means of calculation gives incorrect results if we have columns of results for the header and footer or any other common component.\n3. Added the Scope selector so the tester can specify whether they are testing to level A, AA or AAA. This does not do much now, but it will perform important functions in future versions of the report.\n\nSuccess Criteria worksheet\n4. Added \"Press Ctrl+Colon to enter today's date\" in row 2 to remind testers to record the date each page was tested.\n5. Added formulae in row 6 to calculate the number of non-compliances per page.\n6. Added formulae to automatically populate the results for the colour contrast and non-text contrast success criteria.\n7. Increased the width of the results columns to 250px on the Success Criteria worksheet so row 6 does not wrap.\n8. Added \"View screenshot\" links in row 5. These point to the corresponding heading on the Screenshots worksheet.\n\nColour Contrast Analysis worksheet\n9. Added formulae in row 3 to calculate the number of non-compliances per page.\n10. Changed the options in the dropdown for the results to just Pass, Pass (large text), Fail and N/A.\n\nNon-text Contrast worksheet\n11. Added formulae in row 3 to calculate the number of non-compliances per page.\n12. Removed the Initial State column from the Non-text Contrast worksheet and renamed the Focus State heading to Image. This is because we have been misinterpreting SC 1.4.11 - it only requires comparison of colours that are displayed at the same time.\n13. Changed the options in the dropdown for the results to just Pass, Fail and N/A.\n14. Corrected the heading to refer to \"adjacent colours\" instead of \"background and foreground colours\"."]
[3.5,"Statistics worksheet\n1. Changed cell I10 from \"Flash Version\" to \"Secondary Browser 3\". This is because Flash is pretty much deprecated and we ought to start testing with Microsoft Edge as well as Chrome, Firefox and Internet Explorer 11.\n2. Merged cell D12 with the cells to its left to improve the appearance.\n\nSuccess Criteria worksheet\n3. Reversed the order of the \"Foreground colour\" and \"Background colour\" columns so they are consistent with the order in all the major colour contrast analysers."]
[3.6,"Statistics worksheet\n1. Added 100 more rows to accommodate 150 pages.\n2. Changed the formulae in E14 to T163 to the same formulae we used in the last BEIS Registry report. This allows additional rows and colums to be added much more easily.\n3. Fixed the formulae for the totals.\n4. Added the Document option to the Page or Component listbox.\n5. Added \"Primary PDF Reader\" to the Test Environment column.\n\nSuccess Criteria worksheet\n6. Added 100 more columns to accommodate 150 pages.\n7. Changed the formulae in E3 to EX4 to the same formulae we used in the last BEIS Registry report.\n8. Added the page numbers in row 5.\n9. Deleted the \"View screenshot\" links from the columns for pages 51 to 150 to avoid having to add 100 more headings on the Screenshots worksheet. Ideally, all components and pages that require screenshots will be in the first 50 pages. Testers can add more \"View screenshot\" links if required for a specific project.\n\nColour Contrast Analysis worksheet\n10. Added 100 more columns to accommodate 150 pages.\n11. Changed the formulae in Y1 to FR2 to the same formulae we used in the last BEIS Registry report.\n12. Added the page numbers in row 3.\n\nNon-text Contrast worksheet\n13. Added 100 more columns to accommodate 150 pages.\n14. Changed the formulae in Z1 to FS2 to the same formulae we used in the last BEIS Registry report.\n15. Added the page numbers in row 3.\n\nScreenshots worksheet\n16. Increased the width of column A to 900 pixels.\n17. Added a blank row between each heading and set the height to 60 pixels."]
[3.7,"Statistics worksheet\n1. Added fields to record the report reviewer's name and date in addition to the tester's name and date.\n\nSuccess Criteria worksheet\n2. Fixed the formulae in E3 to EX4. They were wrong by 1 because a row was added to the Statistics worksheet in version 3.6.\n\nColour Contrast Analysis worksheet\n3. Fixed the formulae in Y1 to FR2. They were wrong by 1 because a row was added to the Statistics worksheet in version 3.6.\n4. Set all results colums to 69 pixels wide. Some had been erroneously set to 64 pixels.\n\nNon-text Contrast worksheet\n5. Fixed the formulae in Z1 to FS2. They were wrong by 1 because a row was added to the Statistics worksheet in version 3.6."]
["3.10","Screenshots worksheet\n1. Added formulae to automatically populate all 150 headings by pulling through the page numbers and names from the Statistics worksheet. Updated the instructions accordingly."]
["3.10\ncont.","Statistics worksheet\n2.Changed all instances of \"COMPLIANT\" to \"CONFORMANT\".\n3. Changed the options for the Page or Component comboboxes to HTML Page, HTML Component, Document, Mobile App Screen and Mobile App Overlay. Changed them to use the list on the Comboboxes worksheet instead of a hard coded list.\n4. Changed the options for the Scope to use the list on the Comboboxes worksheet instead of a hard coded list."]
["3.10\ncont.","Success Criteria worksheet\n5. Updated all the URLs in column A to point to the relevant WCAG 2.1 Understanding page.\n6. Split the definitions of SC 2.1.4, 2.5.2, 2.5.4, 1.3.5, 1.4.5, 1.4.10, 1.4.11, 1.4.12, 1.4.13, 1.4.6, 1.4.7, 1.4.8. 2.5.5 and 3.3.6 into two cells, so the Pass / Fail status cells are not stupidly tall.\n7. Changed all instances of \"COMPLIANT\" to \"CONFORMANT\" to match the changes on the Statistics worksheet.\n8. Changed the data validation of the results status from a list to an array in the Comboboxes worksheet.\n9. Deleted about a million Conditional Formatting rules and reinstated the 7 we actually need.\n10. Changed the Freeze Panes setting so the Page # is now visible all the time."]
["3.10\ncont.","Conformance Statement worksheet\n11. Added this worksheet. Where possible, the data is automatically pulled through from the Statistics worksheet to minimise the amount of effort required. This sheet contains the only new VBA, which is being used to protect cells you are not supposed to edit."]
["3.10\ncont.","Colour Contrast Analysis worksheet\n12. Changed the Image / Text / Flash column heading to Image / Text / Video and changed the combobox options in that column.\n13. Deleted a few Conditional Formatting rules and reinstated the 3 we actually need."]
["3.10\ncont.","Non-text Contrast worksheet\n14. Added an Exempt column. Set the combobox options in that column to Pass, Fail, N/A and Exempt. Added “Exempt” to the options in the Results column.\n15. Fixed the formulae in row 1 that broke when I added the column.\n16. Deleted a few hundred Conditional Formatting rules and reinstated the 3 we actually need. Set Exempt to tan.\n17. Added some examples to show how to report exempt colour combinations."]
["3.11","Introduction worksheet\n1. Added this worksheet, mainly for the benefit of screen reader users."]
["3.11\ncont.","Screenshots worksheet\n2. Deleted the first two empty rows.\n3. Added two rows for each screenshot, making a total of three. This will allow the page to scroll more smoothly when it contains large images.\n4. Added a border around the three cells for each screenshot.\n5. Set the background colour of the whole worksheet to white, so the grid cells are not visible.\n6. Increased the height of the cells containing headings to 45px and bottom-aligned the text."]
["3.11\ncont.","Statistics worksheet\n7. Updated the formulae in columns I to T to take account of the two extra rows added to the Success Criteria worksheet."]
["3.11\ncont.","Conformance Statement worksheet\n8.Hid this worksheet because we almost never use it. It can be unhidden if we need it for a project."]
["3.11\ncont.","Success Criteria worksheet\n9. Moved the Page # to row 1.\n10. Moved the total number of non-conformances to row 5, so it is always visible.\n11. Added the following to SC 4.1.1: \"This is tested using the Nu Html Checker at https://validator.w3.org/nu/. The results are then filtered using the bookmarklet at https://github.com/stevefaulkner/wcagparsing/\".\n12. Added extra rows for Colour Contrast and Non-text Contrast so we can add comments in addition to the automatically generated text.\n"]
["3.11\ncont.","Colour Contrast Analysis worksheet\n13. Changed the title to \"Colour Contrast Analysis for combinations of text and background colours\".\n14. Changed the \"large or small\" text options from Yes and No to Large and Small.\n15. Reduced the width of the Foreground Colour and Background Colour columns to 70px and changed their headings to \"Text Colour\" and \"Back. Colour\" to make room for an extra \"Exempt\" column.\n16. Added an Exempt column with options of No, Disabled, Incidental and Redundant..\n17. Updated the formula in the Results column to take account of the Exempt status.\n18. Added Exempt to the options for the results in columns Z to FS.\n19. Added conditional formatting so cells containing \"Exempt\" have a tan background.\n20. Removed the level AA / AAA combobox because it is not supported by Macs. Added \"(level AA)\" to the page title."]
["3.11\ncont.","Non-text Contrast worksheet\n21. Added \"Redundant\" as an option in the Exempt column."]
["3.11\ncont.","Success Criteria, Colour Contrast Analysis and Non-text Contrast worksheets\n22. Fixed the cells containing the page names and URLs because they displayed errors in Macs. The fix was to open the file on a Mac, then for each row, select the range of cells, press Ctrl+U, then Apple+Enter. This removes the curly brace symbols from the start and end of each cell. These brackets are how Excel recognises an array formula, but it is not clear why they were not displayed in Windows."]
["3.11\ncont.","All worksheets\nAdded cells containing \"End of content\" in column A and row 1 to indicate that there is no more content below or to the right."]
["3.12","Conformance Statement worksheet\n1. Moved the content from column C to column A to improve accessibility. Set the cell indent to match the previous appearance. Amended the VBA so it prevents the cells in column A from being edited."]
["3.12\ncont.","Success Criteria worksheet\n2. Changed the description for SC 2.2.1 because the previous description was for 2.2.\n3. Deleted all the Conditional Formatting rules.\n4. Added VBA to ThisWorkbook to run when the document is opened. It deletes all existing conditional formatting rules on this worksheet and adds the correct ones. This fixes the fragmentation of the rules that happens for a variety of reasons. "]
["3.12\ncont.","Colour Contrast Analysis worksheet\n5. Deleted all the Conditional Formatting rules.\n6. Added VBA to ThisWorkbook to run when the document is opened. It deletes all existing conditional formatting rules on this worksheet and adds the correct ones."]
["3.12\ncont.","Non-text Contrast worksheet\n7. Deleted all the Conditional Formatting rules.\n8. Added VBA to ThisWorkbook to run when the document is opened. It deletes all existing conditional formatting rules on this worksheet and adds the correct ones."]
["3.13","Introduction\n1. Updated the description of the Screenshots worksheet to reflect the change described below."]
["3.13\ncont.","Screenshots\n2. Changed the layout so the screenshots are laid out horizontally instead of vertically. This allows us to insert full-page screenshots without causing excessive scrolling. The focus now moves to the first row when the \"View screenshot\" link is clicked in the Success Criteria worksheet, which means that the screenshot will always be in view now (it wasn't always before).\n3. Added a textbox containing instructions."]
["3.13\ncont.","Statistics\n4. Changed the vertical alignment of rows 2 to 11 to be Top instead of Bottom.\n5. Added a Tidy Document button in cells V1 and W1. This hides columns V to AA, then scrolls all sheets to the top left, sets zoom to 100% and puts focus in A1. Then it displays the Statistics worksheet.\n6. Deleted the colons in column A and capitalised all the row headings in rows 7 to 10."]
["3.13\ncont.","Success Criteria\n7. Added VBA to automatically hide the level AAA success criteria when the Scope is not set to AAA on the Statistics worksheet.\n8. Redesigned the \"View screenshot\" links to point to the new destinations in the Screenshots worksheet."]
["3.13\ncont.","Comboboxes\n9. Added \"Video File\" to the list of options that appear in the \"Page or Component\" column of the Statistics worksheet."]
["3.14","Screenshots\n1. Set width of columns to 800px so this can be used to set the width of inserted images.\n2. Added new instructions for embedding screenshots."]
["3.14\ncont.","Statistics\n3. Added \"Notes\" in cell A11.\n4. Added the following in cell C11:\n\"Delete or edit as appropriate:\nWhen any of the 4 different YouTube video types are viewed as full screen, the appearance and behaviour are the same as the extra large version (page #16).\n\nIn principle, the Accessibility tool could be used to provide an \"alternate conforming version\" of pages that contain colour contrast and non-text contrast non-conformances. However, the link to the tool is only in the footer, so we do not consider it to be sufficiently prominent. The link would need to be moved to the page header in order for the tool to provide an \"alternate conforming version.\""]
["3.14\ncont.","Success Criteria\n5. Add the HTML Page / HTML Component value to each column.\n6. Changed the order of the first 6 rows to the following. Needed to split rows 3 and 4 to create the extra rows.\n     Page Name (formula)\n     URL (formula)\n     HTML Page / HTML Component value (formula)\n     View screenshot (formula)\n     Initially tested on (text)\n     Date (text) Page # (text)\n7. Reworked the Key so it no longer contains merged cells.\n8. Removed the dropdowns from the two colour contrast rows, so there is only the formula. This stops idiots changing the status manually.\n9. Set the default column width to 350px.\n10. Added the following to cell E95 on the Success Criteria worksheet:\n\"Delete or modify as required.\nThe website relies almost entirely on the browser's default focus indicator. This almost always has sufficient colour contrast against the background in Chrome, Edge and Firefox, but it never does in Safari. We therefore recommend that the focus indicator style is always specified explicitly. It should be a 2px solid outline in a suitable colour. In almost all cases it will be beneficial to apply an \"outline-offset\" value of 2px to space it away from the focused element.\""]
["3.14\ncont.","Colour Contrast Analysis\n11. Made the clickable area of cell X4 smaller so it does not expand when a row is added. "]
["3.14\ncont.","Non-text Contrast\n12. Set row heights to 56px."]
["3.14\ncont.","Default Comments\n13. Added this worksheet. Populated it with some comments that can be copied and pasted manually until the process is automated."]
["3.15","Screenshots\n1. Fixed the formulae in row 1 to pull through the page name from the Success Criteria worksheet instead of the page type. This was necessitated by the changed order of the rows of the Success Criteria worksheet as described in change #6 in version 3.14."]
["3.15\ncont.","Statistics\n2. Fixed the formulae in columns E to O to pull through the results from the correct rows of the Success Criteria worksheet. This was necessitated by the two rows that were added to the Success Criteria worksheet as described in change #6 in version 3.14."]
["3.15\ncont.","Default Comments\n3. Changed the default comments for SC 1.3.5 from \"The form does not collect information about the user.\" To \"The input fields do not collect information about the user.\""]
["3.16","Statistics\n1. Added PDF and MS Word to the page type list so we can have specific comments for the non-applicable success criteria."]
["3.16\ncont.","Success Criteria\n2. Modified the VBA to change the Conditional Formatting rule to apply to row 6 instead of row 2 on the Success Criteria sheet because the date cells moved in a previous version.\n3. Changed the date format in row 6 to display the dates as dd mmmm yyyy.\n4. Added buttons to jump to the start of level A, AA and AAA."]
["3.17","Statistics\n1. Added the HTML Page (full)\" and \"HTML Page (excluding components)\" options to the \"Page or Component\" column."]
["3.17\ncont.","Success Criteria\n2. Added a \"Show Default Comments\" button that is only visible when column X is visible on the Statistics worksheet. The button opens a popup window that contains default comments relating to the status of whichever success criterion currently has focus. These comments are pulled through from the Default Comments worksheet and can be copied and pasted into the Success Criteria worksheet.\n3. Added the full normative text for SC 2.2.2 \n4. Modified the formula that calculates the status for C 1.4.3 (Colour Contrast) so it now reports \"Pass with comments\" if there are any technically conformant colour combinations that ought to be made higher contrast. Additional comments are automatically added to the cell below."]
["3.17\ncont.","Colour Contrast Analysis\n5. Added a \"Rendered Colours\" option to the combobox in the Exempt column, which gives the result \"Should Fix\". This is to be used when the rendered colours are non-conformant but the author specified colours are not, in which case we will now record both values. This allows us to record a technical pass based on the author specified colours, while raising a \"Pass with comments\" based on the rendered colours. The column heading for each page now shows statistics for both."]
["3.17\ncont.","Default Comments\n6. Deleted all the formulae and blank rows. Converted column A to text because the VBA did not work with the formulae. Added NOT TESTED and TO DO columns to avoid VBA errors, even though we don't need these columns."]
["3.18","Statistics\n1. Added VBA so the Conformance Statement worksheet is hidden automatically when leaving the Statistics worksheet if column X is hidden.\n2. Under the Scope heading, added a dropdown to select the WCAG specification. This can be set to 2.0, 2.1 or 2.2. The setting does not do anything automatically yet. In a future template version it will set the relevant rows of the Success Criteria worksheet to N/A and hide them."]
["3.18\ncont.","Conformance Statement\n3. Fixed the formulae so they pull the correct values in from other sheets.\n4. Removed the checkboxes.\n5. Added PNG. GIF and JPG to the list of relied-on technologies.\n6. Added instructions for creating a conformance statement PDF.\n7. Wrote some VBA to export the statement to a Word document, but realised it's easier to just copy and paste it, so I commented out all the VBA."]
["3.18\ncont.","Colour Contrast Analysis\n8. The result in column X was not being calculated in the first 5 rows in the v3.17 template because the formulae in the hidden columns had been accidentally deleted on those rows. Reinstated them."]
["3.18\ncont.","Comboboxes\n9. Added 2.0, 2.1 and 2.2 to create the list of options that appear in the \"WCAG\" dropdown list on the Statistics worksheet."]
["3.19","Statistics\n1. Added VBA so the rows are hidden if they contain the default page number. The exception is if the first page name is \"Page 1\" in which case no rows are hidden. The routine also hides the relevant columns on the Success Criteria, Colour Contrast Analysis and Non-text Contrast worksheets. The routine runs automatically when you switch to another worksheet.\n2. Changed the VBA cell reference from S5 to S6 so the level AAA success criteria are correctly hidden on the Success Criteria worksheet. This was necessary because I added WCAG in row 3 in the v3.18 template.\n3. Added VBA to look up the most recent template version in the Changelog worksheet and display it in cell Y1."]
["3.19\ncont.","Success Criteria\n4. Added VBA to automatically hide the level A and/or AA success criteria when the Scope is not set to A and/or AA on the Statistics worksheet. This was already being done for the level AAA success criteria."]
["3.19\ncont.","Colour Contrast Analysis\n5. Changed the initial colour of cell Z5 from green to black. No idea how it got to be green."]
["3.20","Statistics\n1. Unused columns are automatically hidden on the Screenshots worksheet when the Statistics worksheet loses focus.\n2. The Non-text Contrast worksheet is hidden automatically when WCAG 2.0 is selected.\n3. All the rows and columns are unhidden on all worksheets if cell B15 contains the string \"Page 1\". This will rarely be needed except when page names have been entered, then removed."]
["3.20\ncont.","Success Criteria\n4. Changed the text colour of cell E88 from red to black.\n5. The VBA for the \"Go to Level A\" button had become deleted, so reinstated it."]
["3.20\ncont.","Colour Contrast Analysis\n6. Fixed the capitalisation in the formulae in row 4. This was not causing an error."]
["3.20\ncont.","Default Comments\n7. Removed spaces from the end of default text strings.\n8. Added lots more default text."]
["3.21","Non-text Contrast\n1. Fixed a bug introduced in v3.20 whereby the wrong columns were hidden."]
["3.22","Statistics\n1. Made the numbers in column A into links to the appropriate column of the Success Criteria worksheet."]
["3.22\ncont.","Success Criteria\n2. Removed the border above the dates and reduced the height of row 6.\n3. Added a scrollbar to the popup window containing the default comments. Note that it does not work with a scrollwheel."]
["3.22\ncont.","Default Comments\n4. Added lots more default text."]
["3.23","Statistics\n1. Added a Show All Rows button in cell W1 to unhide the hidden rows in the Statistics sheet so you can add more pages."]
["3.23\ncont.","Success Criteria\n2. Changed cells A7 and B7 to 10px to match the rest of the row.\n3. The height of row 7 is automatically set to 18px when the Scope setting on the Statistics worksheet is set to A, 35px when it is AA and 52px when it is AAA.\n4. Set SC 4.1.1 to PASS for WCAG 2.0 and 2.1 and added the comment \"On 21 September 2023 the W3C published an explanatory note stating that all content created using XML or HTML automatically passes this success criterion under WCAG 2.0 and 2.1.\"\n5. Set SC 4.1.1 to N/A for WCAG 2.2 and added the comment \"On 21 September 2023 the W3C published an explanatory note stating that all content created using XML or HTML automatically passes this success criterion. It was therefore removed from WCAG 2.2 prior to publication.\"\n6. Added a statement next to SC1.4.10 Reflow, saying \"WCAG requires that this success criterion is tested at 400% browser zoom with the browser window width set to 1280px\".\n7. Added more default text."]
["3.23\ncont.","Colour Contrast Analysis\n8. Added cells above the two hex input columns that can be used for filtering. They are only active in \"tester mode\". Entering a hex code causes all non-matching rows to be hidden."]
["3.23\ncont.","Comboboxes\n9. Added the options \"HTML Page (part)\" and \"HTML Page (part, excluding components)\" to the list of options that appear in the \"Page or component\" dropdown list on the Statistics worksheet."]
["3.24","Colour Contrast Analysis\n1. Added an Align Images button on the Colour Contrast worksheet to centre all the images vertically and left-align them with the same padding. The button is only visible when column X is not hidden on the Statistics worksheet. Resizing images manually occasionally causes VBA errors for reasons I don't understand, but they can be dismissed unless it is shown that there is a real problem. When this feature is reliable, it will be added to the Screenshots and Non-text Contrast worksheets."]
["3.25","Statistics\n1. Removed the average non-conformances per page cells.\n2. The heading is automatically updated when the WCAG version combobox value is changed.\n3. Adjusted the ranges in the formulae in columns E to P on the Statistics worksheet to take account of the new WCAG 2.2 success criteria.\n4. Updated the formulae in the green and red columns to take account of the number of SCs in WCAG 2.0, 2.1 and 2.2."]
["3.25\ncont.","Success Criteria\n5. Added the WCAG 2.2 success criteria.\n6. The appropriate rows are now hidden, based on the WCAG 2.0, 2.1 and 2.2 and level A, AA and AAA settings on the Statistics worksheet.\n7. The heading is automatically updated when the WCAG version combobox value is changed on the Statistics worksheet.\n8. Modified the behaviour of the Show Default Comments button such that testing hints are displayed if the status is not set."]
["3.25\ncont.","Colour Contrast Analysis\n9. Changed the padding around the colour contrast images to 5px on all sides."]
["3.25\ncont.","Default Comments\n10. Added some default text for the WCAG 2.2 success criteria, but not much.\n11. Added testing hints for SC 1.3.5, 3.3.2 and 3.3.8."]
["3.26","Colour Contrast Analysis\n1. Fixed the bugs that were causing VBA errors and were causing the page to jump to the top after making changes below the fold. The routines now only get applied to images in column B instead of the whole spreadsheet."]
["3.27","Statistics\n1. Hid row 130 of the Success Criteria worksheet when version 2.0 is selected."]
["3.27\ncont.","Success Criteria\n2. Fixed the formulae in row 88 of the Success Criteria worksheet so they do not give an error if the number of colour contrast non-conformances on a page is a multiple of 10."]
["3.28","Success Criteria\n1. Modified the VBA for the Show Default Comments function so it shows the text for all status values when the status has not been selected."]
["3.28\ncont.","Default Comments\n2. Added more default text.\n3. Added three columns for NON CONFORMANT 1, NON CONFORMANT 2 and NON CONFORMANT 3 because some SCs have far too much text for a single cell. Changed the NON CONFORMANT cell so it contains the concatenation of the three new cells.\n4. Set the font size of the NON CONFORMANT column to 1px so the cells do not cause excessive row height. Set the background colour to mid grey to indicate that the cells are not to be edited.\n5. Added a warning at the top of the NON CONFORMANT column, stating that it must not be edited.\n6. Added a warning at the top of the NON CONFORMANT 2 and NON CONFORMANT 3 columns, stating that they must start with two line breaks."]

{"sheet":"Default Comments","index":9,"n_rows":61,"n_cols":14,"rows_kept":61,"cut":false,"hidden":true,"merged":[]}
["Level A Success Criteria",null,null,null,null,null,null,"DO NOT EDIT",null,"MUST START WITH TWO LINE BREAKS","MUST START WITH TWO LINE BREAKS"]
["W3C Ref.",{"$f":"IF('Success Criteria'!B9=\"\",\"\",'Success Criteria'!B9)","v":"Level"},{"$f":"IF('Success Criteria'!C9=\"\",\"\",'Success Criteria'!C9)","v":"Name"},null,"N/A","PASS","Pass with comments","NON CONFORMANT","NON CONFORMANT 1","NON CONFORMANT 2","NON CONFORMANT 3","NO STATUS SET","NOT TESTED","TO DO"]
["1.1.1",{"$f":"IF('Success Criteria'!B10=\"\",\"\",'Success Criteria'!B10)","v":"A"},{"$f":"IF('Success Criteria'!C10=\"\",\"\",'Success Criteria'!C10)","v":"Non-text Content"},{"$f":"IF('Success Criteria'!D10=\"\",\"\",'Success Criteria'!D10)","v":"All non-text content that is presented to the user has a text alternative that serves the equivalent purpose."},"There is no non-text content.",null,"The decorative images [where] have descriptive \"alt\" attributes. While this is not invalid, we recommend changing them to alt=\"\".",{"$f":"CONCATENATE(I3,J3,K3)","v":"***Image links***\nThe [whatever] image [where] [does not have a / has an inappropriate] text alternative. The image is in a link, so it must have an “alt” attribute that describes the link’s destination, such as alt=\"[whatever]\".\n\n***Informational images***\nThe [whatever] image [where] [does not have a / has an inappropriate] text alternative. The image conveys information, so it must have a text alternative that conveys that information, such as alt=\"[whatever]\".\n\n***Decorative images***\nThe [whatever] image [where] does not have a text alternative. It is decorative, so add the attribute alt=\"\" to the <img> element. \n\n***Charts and graphs***\nThe [whatever] chart [where] does not have a text alternative, so it must be added. For simple graphs and charts with a small number of data points [refer to an example if possible], a data table is an acceptable text alternative. For more complex graphs and charts, the text alternative must be in narrative form (ideally, a list) and should include factors such as start and end values, minima, maxima, correlations, trends, intersections, percentage changes etc.\nIdeally, the text alternative should be visible for the benefit of all users, but it can be hidden visually using the \"clip\" technique.\nThere is a good article on the topic at https://www.highcharts.com/blog/post/accessible-descriptions-for-interactive-charts/.\n\n***Mandatory fields***\nMandatory fields are indicated by an asterisk. Although it is a text character, WCAG regards it as \"symbolic text\" and requires that a text alternative is provided. Options include:\n1. Replace the asterisk with the word \"Required\".\n2. Add the word \"required\" using text that is hidden using the \"clip\" technique.\n3. Add the attribute aria-required=\"true\" to the corresponding form control.\nIn the last two cases, the asterisk must be hidden from assistive technologies by putting it in a <span aria-hidden=\"true\"> element.\n\n***Graphs and charts***\nPages x, y, z contain graphs and charts that convey information but do not have text alternatives. For simple graphs and charts with a small number of data points, such as the one on page x, a data table would be an acceptable text alternative.\nFor more complex graphs and charts, the text alternative should be in narrative form and should include factors such as start and end values, minima, maxima, correlations, trends, intersections, percentage changes etc.\nIdeally, the text alternative should be visible, but if the document’s appearance cannot be changed the text alternative should be hidden behind the graph or chart in a manner that is accessible to assistive technologies.\nThere is a good article on the topic at https://www.highcharts.com/blog/post/accessible-descriptions-for-interactive-charts/."},"***Image links***\nThe [whatever] image [where] [does not have a / has an inappropriate] text alternative. The image is in a link, so it must have an “alt” attribute that describes the link’s destination, such as alt=\"[whatever]\".\n\n***Informational images***\nThe [whatever] image [where] [does not have a / has an inappropriate] text alternative. The image conveys information, so it must have a text alternative that conveys that information, such as alt=\"[whatever]\".\n\n***Decorative images***\nThe [whatever] image [where] does not have a text alternative. It is decorative, so add the attribute alt=\"\" to the <img> element. \n\n***Charts and graphs***\nThe [whatever] chart [where] does not have a text alternative, so it must be added. For simple graphs and charts with a small number of data points [refer to an example if possible], a data table is an acceptable text alternative. For more complex graphs and charts, the text alternative must be in narrative form (ideally, a list) and should include factors such as start and end values, minima, maxima, correlations, trends, intersections, percentage changes etc.\nIdeally, the text alternative should be visible for the benefit of all users, but it can be hidden visually using the \"clip\" technique.\nThere is a good article on the topic at https://www.highcharts.com/blog/post/accessible-descriptions-for-interactive-charts/.\n\n***Mandatory fields***\nMandatory fields are indicated by an asterisk. Although it is a text character, WCAG regards it as \"symbolic text\" and requires that a text alternative is provided. Options include:\n1. Replace the asterisk with the word \"Required\".\n2. Add the word \"required\" using text that is hidden using the \"clip\" technique.\n3. Add the attribute aria-required=\"true\" to the corresponding form control.\nIn the last two cases, the asterisk must be hidden from assistive technologies by putting it in a <span aria-hidden=\"true\"> element.\n\n***Graphs and charts***\nPages x, y, z contain graphs and charts that convey information but do not have text alternatives. For simple graphs and charts with a small number of data points, such as the one on page x, a data table would be an acceptable text alternative.\nFor more complex graphs and charts, the text alternative should be in narrative form and should include factors such as start and end values, minima, maxima, correlations, trends, intersections, percentage changes etc.\nIdeally, the text alternative should be visible, but if the document’s appearance cannot be changed the text alternative should be hidden behind the graph or chart in a manner that is accessible to assistive technologies.\nThere is a good article on the topic at https://www.highcharts.com/blog/post/accessible-descriptions-for-interactive-charts/."]
["1.2.1",{"$f":"IF('Success Criteria'!B12=\"\",\"\",'Success Criteria'!B12)","v":"A"},{"$f":"IF('Success Criteria'!C12=\"\",\"\",'Success Criteria'!C12)","v":"Audio-only and Video-only (Pre-recorded)"},{"$f":"IF('Success Criteria'!D12=\"\",\"\",'Success Criteria'!D12)","v":"For pre-recorded audio-only and pre-recorded video-only media, an alternative for time-based media or an audio track is provided that presents equivalent information. "},"There is no pre-recorded audio-only or pre-recorded video-only media.",null,null,{"$f":"CONCATENATE(I4,J4,K4)","v":""}]
["1.2.2",{"$f":"IF('Success Criteria'!B14=\"\",\"\",'Success Criteria'!B14)","v":"A"},{"$f":"IF('Success Criteria'!C14=\"\",\"\",'Success Criteria'!C14)","v":"Captions (Pre-recorded)"},{"$f":"IF('Success Criteria'!D14=\"\",\"\",'Success Criteria'!D14)","v":"Captions are provided for all pre-recorded audio content in synchronized media, except when the media is a media alternative for text and is clearly labelled as such. "},"There is no synchronised media.",null,null,""]
["1.2.3",{"$f":"IF('Success Criteria'!B16=\"\",\"\",'Success Criteria'!B16)","v":"A"},{"$f":"IF('Success Criteria'!C16=\"\",\"\",'Success Criteria'!C16)","v":"Audio Description or Media Alternative (Pre-recorded)"},{"$f":"IF('Success Criteria'!D16=\"\",\"\",'Success Criteria'!D16)","v":"An alternative for time-based media or audio description of the pre-recorded video content is provided for synchronized media, except when the media is a media alternative for text and is clearly labelled as such."},"There is no time-based media or synchronized media.",null,null,""]
["1.3.1",{"$f":"IF('Success Criteria'!B18=\"\",\"\",'Success Criteria'!B18)","v":"A"},{"$f":"IF('Success Criteria'!C18=\"\",\"\",'Success Criteria'!C18)","v":"Info and Relationships"},{"$f":"IF('Success Criteria'!D18=\"\",\"\",'Success Criteria'!D18)","v":"Information, structure, and relationships conveyed through presentation can be programmatically determined or are available in text."},null,null,"We recommend adding the attributes role=\"group\" and aria-label=\"[Accordion / Image Gallery / Carousel / etc.]\" to the accordion container element to programmatically group the [accordion / image gallery / carousel] components.","***Data tables***\nThe column and row headers in the data table are correctly marked-up using <th> elements, but scope=\"col\" attributes must be added to each column header and scope=\"row\" attributes must be added to each row header to specify the scope. (edit as required if there are only column or row headers)\n\n***Checkboxes***\nA checkbox replacement technique has been used, but the visual appearance of checkbox is not conveyed programmatically, either in the selected or unselected state. Use a replacement technique that programmatically conveys the checkbox including its state.\nWe recommend the design pattern at https://design-system.service.gov.uk/components/checkboxes/.\n\n***Comboboxes***\nA combobox replacement technique has been used, but the visual appearance is not conveyed programmatically. There are no good replacement techniques for comboboxes, so use native <select> elements instead.\n\n***Radio buttons***\nA radio button replacement technique has been used, but the visual appearance of radio buttons is not conveyed programmatically, either in their selected or unselected state. Use a replacement technique that programmatically conveys the radio buttons including their state.\nThe design pattern at https://www.lightningdesignsystem.com/components/radio-button-group/ could be adapted, but we have not verified that it works with Dragon voice recognition software.\nThe design pattern at https://design-system.service.gov.uk/components/radios/ is also good and is known to work with Dragon.\n\n***Modal dialog***\nJavaScript is being used to intentionally trap the focus in the cookie banner, i.e. it is designed to be a modal dialog. It must therefore be in a <dialog> element.\n\n***Modal dialog***\nAlthough JavaScript has been used to trap the focus in the overlay, this does not apply to screen readers in \"browse\" mode, so they can navigate out of the overlay into the rest of the page. Putting the overlay in a <dialog> [or <div role=\"dialog\" aria-modal=\"true\">] element as recommended in cell [whatever] will fix this for screen readers with desktop browsers, but this does not currently work with mobile browsers (although it should and may do one day). The solution is to put all the other page content (except other modal dialogs) into a <div> element that has the attribute aria-hidden=\"true\" when the overlay is open as shown below.\n<body>\n<div aria-hidden=\"true\">[All page content]</div> <dialog>[Cookie banner content]</dialog> <dialog id=\"gp-search\">[Search overlay content]</dialog> </body>\n\n***Modal dialog***\nThe overlay is correctly in a <dialog> [or <div role=\"dialog\" aria-modal=\"true\">] element so the focus is trapped for screen readers with desktop browsers, but this does not currently work with mobile browsers (although it should and may do one day). The solution is to put all the other page content (except other modal dialogs) into a <div> element that has the attribute aria-hidden=\"true\" when the overlay is open as shown below.\n<body>\n<div aria-hidden=\"true\">[All page content]</div> <dialog aria-hidden=\"true\">[Other dialog if required]</dialog> <dialog aria-hidden=\"true\">[Other dialog if required]</dialog> <dialog id=\"whatever\">[Overlay content]</dialog> </body>\n\n***Single page application***\nThe website is a single page application (SPA) so it does not reload when navigating between pages. An ARIA live region must therefore be used to programmatically convey when a new page has loaded. When a link is operated to load a new page, the sequence should be:\n1. Enter the name of the new page in the live region.\n2. Update the DOM with the new page content.\n3. Set “display:block” on the content in the live region to trigger the alert. After a short delay of not less than 100ms set “display:none” on the content in the live region.\nThe text must be hidden using the \"clip\" technique.\n<div aria-live=\"assertive\"><span class=\"hidden\" style=\"display:none\">[page name]</span></div> See https://developer.mozilla.org/en-US/docs/Web/Accessibility/ARIA/ARIA_Live_Regions\n\n***Progress indicators***\nWhen [whatever], the page can take upwards of 20 seconds to update if the network connection is slow. A rotating \"busy\" indicator is displayed and a thin blue horizontal progress indicator is displayed at the top left of the page as shown below. While the page is updating, it is greyed-out and mouse interaction is not possible. None of this is conveyed programmatically. We recommend the following:\n1. Use a <progress> element. See https://developer.mozilla.org/en-US/docs/Web/HTML/Element/progress.\n2.  If the percentage progress is known accurately, use the \"value\" attribute to convey it and use an ARIA live region to announce it periodically.\n3.  If the percentage progress is not known accurately, use an ARIA live region to announce \"Loading, please wait\" periodically.\n4. Add the \"inert\" attribute to all the other page content to prevent users from interacting with it. It is currently possible to interact with content behind the greyed-out layer by using keyboard navigation or assistive technologies.\n\n***PDFs***\nThe data table [how many and where are they?] has headers that are not associated with any cells. The “scope” attributes of the <TH> tags must be set to “Row” or “Column” as appropriate.","***Data tables***\nThe column and row headers in the data table are correctly marked-up using <th> elements, but scope=\"col\" attributes must be added to each column header and scope=\"row\" attributes must be added to each row header to specify the scope. (edit as required if there are only column or row headers)\n\n***Checkboxes***\nA checkbox replacement technique has been used, but the visual appearance of checkbox is not conveyed programmatically, either in the selected or unselected state. Use a replacement technique that programmatically conveys the checkbox including its state.\nWe recommend the design pattern at https://design-system.service.gov.uk/components/checkboxes/.\n\n***Comboboxes***\nA combobox replacement technique has been used, but the visual appearance is not conveyed programmatically. There are no good replacement techniques for comboboxes, so use native <select> elements instead.\n\n***Radio buttons***\nA radio button replacement technique has been used, but the visual appearance of radio buttons is not conveyed programmatically, either in their selected or unselected state. Use a replacement technique that programmatically conveys the radio buttons including their state.\nThe design pattern at https://www.lightningdesignsystem.com/components/radio-button-group/ could be adapted, but we have not verified that it works with Dragon voice recognition software.\nThe design pattern at https://design-system.service.gov.uk/components/radios/ is also good and is known to work with Dragon.","\n\n***Modal dialog***\nJavaScript is being used to intentionally trap the focus in the cookie banner, i.e. it is designed to be a modal dialog. It must therefore be in a <dialog> element.\n\n***Modal dialog***\nAlthough JavaScript has been used to trap the focus in the overlay, this does not apply to screen readers in \"browse\" mode, so they can navigate out of the overlay into the rest of the page. Putting the overlay in a <dialog> [or <div role=\"dialog\" aria-modal=\"true\">] element as recommended in cell [whatever] will fix this for screen readers with desktop browsers, but this does not currently work with mobile browsers (although it should and may do one day). The solution is to put all the other page content (except other modal dialogs) into a <div> element that has the attribute aria-hidden=\"true\" when the overlay is open as shown below.\n<body>\n<div aria-hidden=\"true\">[All page content]</div> <dialog>[Cookie banner content]</dialog> <dialog id=\"gp-search\">[Search overlay content]</dialog> </body>\n\n***Modal dialog***\nThe overlay is correctly in a <dialog> [or <div role=\"dialog\" aria-modal=\"true\">] element so the focus is trapped for screen readers with desktop browsers, but this does not currently work with mobile browsers (although it should and may do one day). The solution is to put all the other page content (except other modal dialogs) into a <div> element that has the attribute aria-hidden=\"true\" when the overlay is open as shown below.\n<body>\n<div aria-hidden=\"true\">[All page content]</div> <dialog aria-hidden=\"true\">[Other dialog if required]</dialog> <dialog aria-hidden=\"true\">[Other dialog if required]</dialog> <dialog id=\"whatever\">[Overlay content]</dialog> </body>","\n\n***Single page application***\nThe website is a single page application (SPA) so it does not reload when navigating between pages. An ARIA live region must therefore be used to programmatically convey when a new page has loaded. When a link is operated to load a new page, the sequence should be:\n1. Enter the name of the new page in the live region.\n2. Update the DOM with the new page content.\n3. Set “display:block” on the content in the live region to trigger the alert. After a short delay of not less than 100ms set “display:none” on the content in the live region.\nThe text must be hidden using the \"clip\" technique.\n<div aria-live=\"assertive\"><span class=\"hidden\" style=\"display:none\">[page name]</span></div> See https://developer.mozilla.org/en-US/docs/Web/Accessibility/ARIA/ARIA_Live_Regions\n\n***Progress indicators***\nWhen [whatever], the page can take upwards of 20 seconds to update if the network connection is slow. A rotating \"busy\" indicator is displayed and a thin blue horizontal progress indicator is displayed at the top left of the page as shown below. While the page is updating, it is greyed-out and mouse interaction is not possible. None of this is conveyed programmatically. We recommend the following:\n1. Use a <progress> element. See https://developer.mozilla.org/en-US/docs/Web/HTML/Element/progress.\n2.  If the percentage progress is known accurately, use the \"value\" attribute to convey it and use an ARIA live region to announce it periodically.\n3.  If the percentage progress is not known accurately, use an ARIA live region to announce \"Loading, please wait\" periodically.\n4. Add the \"inert\" attribute to all the other page content to prevent users from interacting with it. It is currently possible to interact with content behind the greyed-out layer by using keyboard navigation or assistive technologies.\n\n***PDFs***\nThe data table [how many and where are they?] has headers that are not associated with any cells. The “scope” attributes of the <TH> tags must be set to “Row” or “Column” as appropriate."]
["1.3.2",{"$f":"IF('Success Criteria'!B20=\"\",\"\",'Success Criteria'!B20)","v":"A"},{"$f":"IF('Success Criteria'!C20=\"\",\"\",'Success Criteria'!C20)","v":"Meaningful Sequence"},{"$f":"IF('Success Criteria'!D20=\"\",\"\",'Success Criteria'!D20)","v":"When the sequence in which content is presented affects its meaning, a correct reading sequence can be programmatically determined."},null,null,null,""]
["1.3.3",{"$f":"IF('Success Criteria'!B22=\"\",\"\",'Success Criteria'!B22)","v":"A"},{"$f":"IF('Success Criteria'!C22=\"\",\"\",'Success Criteria'!C22)","v":"Sensory Characteristics"},{"$f":"IF('Success Criteria'!D22=\"\",\"\",'Success Criteria'!D22)","v":"Instructions provided for understanding and operating content do not rely solely on sensory characteristics of components such as shape, size, visual location, orientation, or sound. "},"No instructions are provided for understanding and operating content.",null,null,""]
["1.4.1",{"$f":"IF('Success Criteria'!B24=\"\",\"\",'Success Criteria'!B24)","v":"A"},{"$f":"IF('Success Criteria'!C24=\"\",\"\",'Success Criteria'!C24)","v":"Use of Colour"},{"$f":"IF('Success Criteria'!D24=\"\",\"\",'Success Criteria'!D24)","v":"Colour is not used as the only visual means of conveying information, indicating an action, prompting a response, or distinguishing a visual element."},null,null,"***Focus indication (textbox)***\nThe textbox has three types of focus indication, but two of them rely on colour.\n1. On focus, the textbox border changes from #D3D3D3 to #EB144C, which has a colour contrast ratio of just under 3:1. This is not conformant.\n2. A light red shadow is displayed outside the textbox. It is #F3BDCB and replaces the background colour #F5F5F5. The change of colour has a contrast ratio of 1.5:1, which is much less than the minimum requirement of 3:1. This is not conformant.\n3. The flashing caret is the only form of focus indication that does not rely on colour, but it is a weak indication since it is so small. Nevertheless, it is sufficient for conformance.\n\n***Inline links***\nThe [whatever] links are the same colour as the surrounding non-link text. This is not a non-conformance, but we recommend either:\n1. Underline the link text.\n2. Change the colour of the link text such that it as a colour contrast ratio of at least 3:1 with the non-link text. Also, both text colours must have a contrast ratio of at least 4.5:1 with the background colour.","***Focus indicated by colour change***\nThe focus indication for [whatever] is a change of background colour from #nnnnnn to #nnnnnn, which has a colour contrast ratio of n:1, which is less than the minimum requirement of 3:1. We recommend applying the style \"outline: 2px solid #000000; outline-offset: 2px\" on focus in addition to the change of background colour, or instead of it.\n\n***Links indicated by colour alone***\nThe [whatever] link [where] is only differentiated from the surrounding text by means of colour. The link colour is #0545D6 and the surrounding text colour is #18171C. The colour contrast ratio is 2.4:1, which is less than the minimum requirement of 3:1. Options include:\n1. Underline the link text or differentiate it in some way other than by its colour.\n2. Change the link and/or non-link text colours so they have a contrast ratio of at least 3:1. Both colours must also have a contrast ratio of at least 4.5:1 against the background colour.","***Focus indicated by colour change***\nThe focus indication for [whatever] is a change of background colour from #nnnnnn to #nnnnnn, which has a colour contrast ratio of n:1, which is less than the minimum requirement of 3:1. We recommend applying the style \"outline: 2px solid #000000; outline-offset: 2px\" on focus in addition to the change of background colour, or instead of it.\n\n***Links indicated by colour alone***\nThe [whatever] link [where] is only differentiated from the surrounding text by means of colour. The link colour is #0545D6 and the surrounding text colour is #18171C. The colour contrast ratio is 2.4:1, which is less than the minimum requirement of 3:1. Options include:\n1. Underline the link text or differentiate it in some way other than by its colour.\n2. Change the link and/or non-link text colours so they have a contrast ratio of at least 3:1. Both colours must also have a contrast ratio of at least 4.5:1 against the background colour."]
["1.4.2",{"$f":"IF('Success Criteria'!B26=\"\",\"\",'Success Criteria'!B26)","v":"A"},{"$f":"IF('Success Criteria'!C26=\"\",\"\",'Success Criteria'!C26)","v":"Audio Control"},{"$f":"IF('Success Criteria'!D26=\"\",\"\",'Success Criteria'!D26)","v":"If any audio on a Web page plays automatically for more than 3 seconds, either a mechanism is available to pause or stop the audio, or a mechanism is available to control audio volume independently from the overall system volume level. "},"There is no audio that plays automatically for more than 3 seconds.",null,null,""]
["2.1.1",{"$f":"IF('Success Criteria'!B29=\"\",\"\",'Success Criteria'!B29)","v":"A"},{"$f":"IF('Success Criteria'!C29=\"\",\"\",'Success Criteria'!C29)","v":"Keyboard Navigation"},{"$f":"IF('Success Criteria'!D29=\"\",\"\",'Success Criteria'!D29)","v":"All functionality of the content is operable through a keyboard interface without requiring specific timings for individual keystrokes, except where the underlying function requires input that depends on the path of the user's movement and not just the endpoints."},"There is no functionality.",null,null,"***Change <div> to <a> element***\nThe [whatever] links do not receive focus, so they cannot be operated using keyboard controls. The <div> elements must be changed to <a> elements as recommended in cell [whatever].\n\n***Change <div> to <button> element***\nThe [whatever] buttons do not receive focus, so they cannot be operated using keyboard controls. They perform an operation on the current page rather than navigating to new pages, so the <div> elements must be changed to <button> elements as recommended in cell [whatever].","***Change <div> to <a> element***\nThe [whatever] links do not receive focus, so they cannot be operated using keyboard controls. The <div> elements must be changed to <a> elements as recommended in cell [whatever].\n\n***Change <div> to <button> element***\nThe [whatever] buttons do not receive focus, so they cannot be operated using keyboard controls. They perform an operation on the current page rather than navigating to new pages, so the <div> elements must be changed to <button> elements as recommended in cell [whatever]."]
["2.1.2",{"$f":"IF('Success Criteria'!B31=\"\",\"\",'Success Criteria'!B31)","v":"A"},{"$f":"IF('Success Criteria'!C31=\"\",\"\",'Success Criteria'!C31)","v":"No Keyboard Trap"},{"$f":"IF('Success Criteria'!D31=\"\",\"\",'Success Criteria'!D31)","v":"If keyboard focus can be moved to a component of the page using a keyboard interface, then focus can be moved away from that component using only a keyboard interface, and, if it requires more than unmodified arrow or tab keys or other standard exit methods, the user is advised of the method for moving focus away."},"The content does not receive focus.",null,null,""]
["2.1.4",{"$f":"IF('Success Criteria'!B33=\"\",\"\",'Success Criteria'!B33)","v":"A"},{"$f":"IF('Success Criteria'!C33=\"\",\"\",'Success Criteria'!C33)","v":"Character Key Shortcuts"},{"$f":"IF('Success Criteria'!D33=\"\",\"\",'Success Criteria'!D33)","v":"If a keyboard shortcut is implemented in content using only letter (including upper- and lower-case letters), punctuation, number, or symbol characters, then at least one of the following is true:"},"No keyboard shortcuts have been implemented in content using only a single letter, punctuation, number, or symbol character.",null,null,""]
["2.2.1",{"$f":"IF('Success Criteria'!B35=\"\",\"\",'Success Criteria'!B35)","v":"A"},{"$f":"IF('Success Criteria'!C35=\"\",\"\",'Success Criteria'!C35)","v":"Timing Adjustable"},{"$f":"IF('Success Criteria'!D35=\"\",\"\",'Success Criteria'!D35)","v":"For each time limit that is set by the content, at least one of the following is true:"},"There are no time limits.\n\nThere are no time limits. As far as we can tell, sessions never expire when logged in.",null,null,""]
["2.2.2",{"$f":"IF('Success Criteria'!B37=\"\",\"\",'Success Criteria'!B37)","v":"A"},{"$f":"IF('Success Criteria'!C37=\"\",\"\",'Success Criteria'!C37)","v":"Pause, Stop, Hide"},{"$f":"IF('Success Criteria'!D37=\"\",\"\",'Success Criteria'!D37)","v":"For moving, blinking, scrolling, or auto-updating information, all of the following are true:\n"},"There is no moving, blinking, scrolling or auto updating information.",null,"","[describe the moving content] and there is no way to pause, stop or hide [it / them]. We recommend both of the following:\n1. Add a prominent Pause button, ideally near the top of the focus order. This is essential.\n2. Use the CSS “prefers-reduced-motion” property to automatically display a static image if the user has selected this setting in their operating system. This is optional. See https://developer.mozilla.org/en-US/docs/Web/CSS/@media/prefers-reduced-motion.","[describe the moving content] and there is no way to pause, stop or hide [it / them]. We recommend both of the following:\n1. Add a prominent Pause button, ideally near the top of the focus order. This is essential.\n2. Use the CSS “prefers-reduced-motion” property to automatically display a static image if the user has selected this setting in their operating system. This is optional. See https://developer.mozilla.org/en-US/docs/Web/CSS/@media/prefers-reduced-motion."]
["2.3.1",{"$f":"IF('Success Criteria'!B39=\"\",\"\",'Success Criteria'!B39)","v":"A"},{"$f":"IF('Success Criteria'!C39=\"\",\"\",'Success Criteria'!C39)","v":"Three Flashes or Below Threshold"},{"$f":"IF('Success Criteria'!D39=\"\",\"\",'Success Criteria'!D39)","v":"Web pages do not contain anything that flashes more than three times in any one second period, or the flash is below the general flash and red flash thresholds."},"","The page does not contain anything that flashes more than 3 times in any one second.","",""]
["2.4.1",{"$f":"IF('Success Criteria'!B41=\"\",\"\",'Success Criteria'!B41)","v":"A"},{"$f":"IF('Success Criteria'!C41=\"\",\"\",'Success Criteria'!C41)","v":"Bypass Blocks"},{"$f":"IF('Success Criteria'!D41=\"\",\"\",'Success Criteria'!D41)","v":"A mechanism is available to bypass blocks of content that are repeated on multiple Web pages."},"There are no blocks of content that are repeated on multiple Web pages.\n\n***Footer***\nAlthough the footer contains blocks of content that are repeated on multiple Web pages, there is no benefit in being able to bypass them.\n\n***Burger menu***\nWhen closed, the burger button is a single tab stop, so there is no benefit in being able to bypass it.","***PDFs***\nThe page headers and footers have been artifacted.","The \"Skip to content\" link points to the [enter the element  type and \"id\", such as <div id=\"content\">] element, which cannot receive focus. The link works in some browsers, but the attribute tabindex=\"0\" must be added to ensure it works reliably.","***Add skip link pointing to existing <main> element***\nThere is no mechanism to bypass the links in the header. Add a \"Skip to content\" link at the top of the <body> element that points to the <main> element. The link can be hidden using the “clip” technique and only become visible when it receives focus. There is a good example at https://www.gov.uk.\n\n***Add skip link pointing to existing \"id\" attribute***\nThere is no mechanism to bypass the links in the header. Add a \"Skip to content\" link at the top of the <body> element that points to the element with the id=\"[whatever]\" attribute. The link can be hidden using the “clip” technique and only become visible when it receives focus. There is a good example at https://www.gov.uk.\n\n***Add skip link and add \"id\" attribute***\nThere is no mechanism to bypass the links in the header. Add an “id” attribute to the <[whatever]> element. Add a \"Skip to content\" link at the top of the <body> element that points to the “id\" attribute. The link can be hidden using the “clip” technique and only become visible when it receives focus. The code would look like this:\n<header>\n<a href=\"#main\">Skip to content</a>\n<div>[existing logo and buttons]</div>\n</header>\n<main id=\"main\">[main content]</main>\nThere is a good example at https://www.gov.uk.","***Add skip link pointing to existing <main> element***\nThere is no mechanism to bypass the links in the header. Add a \"Skip to content\" link at the top of the <body> element that points to the <main> element. The link can be hidden using the “clip” technique and only become visible when it receives focus. There is a good example at https://www.gov.uk.\n\n***Add skip link pointing to existing \"id\" attribute***\nThere is no mechanism to bypass the links in the header. Add a \"Skip to content\" link at the top of the <body> element that points to the element with the id=\"[whatever]\" attribute. The link can be hidden using the “clip” technique and only become visible when it receives focus. There is a good example at https://www.gov.uk.\n\n***Add skip link and add \"id\" attribute***\nThere is no mechanism to bypass the links in the header. Add an “id” attribute to the <[whatever]> element. Add a \"Skip to content\" link at the top of the <body> element that points to the “id\" attribute. The link can be hidden using the “clip” technique and only become visible when it receives focus. The code would look like this:\n<header>\n<a href=\"#main\">Skip to content</a>\n<div>[existing logo and buttons]</div>\n</header>\n<main id=\"main\">[main content]</main>\nThere is a good example at https://www.gov.uk."]
["2.4.2",{"$f":"IF('Success Criteria'!B43=\"\",\"\",'Success Criteria'!B43)","v":"A"},{"$f":"IF('Success Criteria'!C43=\"\",\"\",'Success Criteria'!C43)","v":"Page Titled"},{"$f":"IF('Success Criteria'!D43=\"\",\"\",'Success Criteria'!D43)","v":"Web pages have titles that describe topic or purpose."},"Does not apply to components.","","We recommend that the title is prepended with the word \"Error\" when the page reloads after being submitted with invalid data.","The <title> element has the content \"[whatever]\", which is the same as all other pages. It must be changed to \"[page name - website name]\". The page name must be first because it is most specific.  [For SPAs, add: The website is a single-page application (SPA), so there are no page reloads. It is therefore necessary to use JavaScript to update the contents of the <title> element when navigating from page to page.]","The <title> element has the content \"[whatever]\", which is the same as all other pages. It must be changed to \"[page name - website name]\". The page name must be first because it is most specific.  [For SPAs, add: The website is a single-page application (SPA), so there are no page reloads. It is therefore necessary to use JavaScript to update the contents of the <title> element when navigating from page to page.]"]
["2.4.3",{"$f":"IF('Success Criteria'!B45=\"\",\"\",'Success Criteria'!B45)","v":"A"},{"$f":"IF('Success Criteria'!C45=\"\",\"\",'Success Criteria'!C45)","v":"Focus Order"},{"$f":"IF('Success Criteria'!D45=\"\",\"\",'Success Criteria'!D45)","v":"If a Web page can be navigated sequentially and the navigation sequences affect meaning or operation, focusable components receive focus in an order that preserves meaning and operability."},"There are no focusable components.","","","***Modal dialog***\nItems 1, 3 and 4 below are required, while item 2 is optional:\n1. The overlay contents must be in a <dialog aria-label=\"Information\" tabindex=\"-1\"> element. It must be opened using the .showModal() method.\n2. The <dialog>element traps the focus for screen readers with desktop browsers, but this currently only works with very recent mobile browser versions. This is sufficient for WCAG conformance, but if you want to support older mobile browser versions it is necessary to put all the other page content (except other modal dialogs) into a <div> element that has the attribute aria-hidden=\"true\" when the overlay is open as shown below. Note that all the modal dialogs must be direct children of the <body> element (although they can be in <div> elements as long as they do not share them with other content).\n<body>\n<div aria-hidden=\"true\">[All page content]</div> <dialog>[Information overlay content]</dialog> <dialog aria-hidden=\"true\">[other overlay content]</dialog> <dialog aria-hidden=\"true\">[other overlay content]</dialog> </body> 3. The focus must be placed on the <dialog> element when the overlay is open.\n4. The focus must be moved back to the \"[whatever]\" link when the overlay is closed.\n\n***Single page application***\nThe website is a single page application (SPA). It does not reload when navigating between pages, so the new focus position may be inappropriate or undefined. We recommend that the focus is placed at the top of the <body> element after the new content has been loaded, because this replicates normal browser behaviour. Alternatively, place the focus at the top of the main content. This behaviour must be the same when navigating between any two pages.","***Modal dialog***\nItems 1, 3 and 4 below are required, while item 2 is optional:\n1. The overlay contents must be in a <dialog aria-label=\"Information\" tabindex=\"-1\"> element. It must be opened using the .showModal() method.\n2. The <dialog>element traps the focus for screen readers with desktop browsers, but this currently only works with very recent mobile browser versions. This is sufficient for WCAG conformance, but if you want to support older mobile browser versions it is necessary to put all the other page content (except other modal dialogs) into a <div> element that has the attribute aria-hidden=\"true\" when the overlay is open as shown below. Note that all the modal dialogs must be direct children of the <body> element (although they can be in <div> elements as long as they do not share them with other content).\n<body>\n<div aria-hidden=\"true\">[All page content]</div> <dialog>[Information overlay content]</dialog> <dialog aria-hidden=\"true\">[other overlay content]</dialog> <dialog aria-hidden=\"true\">[other overlay content]</dialog> </body> 3. The focus must be placed on the <dialog> element when the overlay is open.\n4. The focus must be moved back to the \"[whatever]\" link when the overlay is closed.\n\n***Single page application***\nThe website is a single page application (SPA). It does not reload when navigating between pages, so the new focus position may be inappropriate or undefined. We recommend that the focus is placed at the top of the <body> element after the new content has been loaded, because this replicates normal browser behaviour. Alternatively, place the focus at the top of the main content. This behaviour must be the same when navigating between any two pages."]
["2.4.4",{"$f":"IF('Success Criteria'!B47=\"\",\"\",'Success Criteria'!B47)","v":"A"},{"$f":"IF('Success Criteria'!C47=\"\",\"\",'Success Criteria'!C47)","v":"Link Purpose (In Context)"},{"$f":"IF('Success Criteria'!D47=\"\",\"\",'Success Criteria'!D47)","v":"The purpose of each link can be determined from the link text alone or from the link text together with its programmatically determined link context, except where the purpose of the link would be ambiguous to users in general."},"There are no links.","","","***Same link text for different URLs***\nThere are multiple \"[whatever]\" links that point to different URLs, and the links do not have any programmatic context. The relevant [whatever] needs to be included in the link, although it does not need to be visible. Options include:\n1. Add the [whatever] as text that is hidden using the \"clip\" technique.\n2. Add an \"aria-label\" attribute to the <a> element, such as aria-label=\"[visible text] [whatever]\". Note that the \"aria-label\" value must contain the visible text.\n3. A more complex, but possibly more robust solution uses \"aria-labelledby\" attributes as follows:\n<h3 id=\"bar\">[whatever]</h3>\n<p>[some existing text]</p>\n<p><a href=\"#\" aria-labelledby=\"foo bar\">\n<span id=\"foo\" aria-hidden=\"true\">[visible text]<span class=\"hidden\"> with </span></span></a></p>\n\n***Individual ambiguous link***\nThe purpose of each link cannot be determined from the link text alone, and the links do not have any other programmatic context. Options include:\n1. Add text that is hidden using the \"clip\" technique.\n<a href=\"#\">[visible text]<span class=\"hidden\"> [hidden text]</span></a>\n2. Add \"aria-label\" attributes.\n<a href=\"#\" aria-label=\"[visible text] [hidden text]\">[visible text]</a>\n\n***PDFs***\nPage [n] contains links to footnotes 1 and 2. The link text is \"1\" and \"2\" respectively, but this does not convey the link purpose or destination even in the context of the preceding paragraph. Ideally, the visual link text should be \"footnote 1\" and \"footnote 2\", which would make the links more visible, but it would be sufficient to apply Alternate Text of \"footnote 1\" and \"footnote 2\" to the <Link> tags.","***Same link text for different URLs***\nThere are multiple \"[whatever]\" links that point to different URLs, and the links do not have any programmatic context. The relevant [whatever] needs to be included in the link, although it does not need to be visible. Options include:\n1. Add the [whatever] as text that is hidden using the \"clip\" technique.\n2. Add an \"aria-label\" attribute to the <a> element, such as aria-label=\"[visible text] [whatever]\". Note that the \"aria-label\" value must contain the visible text.\n3. A more complex, but possibly more robust solution uses \"aria-labelledby\" attributes as follows:\n<h3 id=\"bar\">[whatever]</h3>\n<p>[some existing text]</p>\n<p><a href=\"#\" aria-labelledby=\"foo bar\">\n<span id=\"foo\" aria-hidden=\"true\">[visible text]<span class=\"hidden\"> with </span></span></a></p>\n\n***Individual ambiguous link***\nThe purpose of each link cannot be determined from the link text alone, and the links do not have any other programmatic context. Options include:\n1. Add text that is hidden using the \"clip\" technique.\n<a href=\"#\">[visible text]<span class=\"hidden\"> [hidden text]</span></a>\n2. Add \"aria-label\" attributes.\n<a href=\"#\" aria-label=\"[visible text] [hidden text]\">[visible text]</a>\n\n***PDFs***\nPage [n] contains links to footnotes 1 and 2. The link text is \"1\" and \"2\" respectively, but this does not convey the link purpose or destination even in the context of the preceding paragraph. Ideally, the visual link text should be \"footnote 1\" and \"footnote 2\", which would make the links more visible, but it would be sufficient to apply Alternate Text of \"footnote 1\" and \"footnote 2\" to the <Link> tags."]
["2.5.1",{"$f":"IF('Success Criteria'!B49=\"\",\"\",'Success Criteria'!B49)","v":"A"},{"$f":"IF('Success Criteria'!C49=\"\",\"\",'Success Criteria'!C49)","v":"Pointer Gestures"},{"$f":"IF('Success Criteria'!D49=\"\",\"\",'Success Criteria'!D49)","v":"All functionality that uses multipoint or path-based gestures for operation can be operated with a single pointer without a path-based gesture, unless a multipoint or path-based gesture is essential."},"There is no functionality that uses multipoint or path-based gestures for operation.","","",""]
["2.5.2",{"$f":"IF('Success Criteria'!B51=\"\",\"\",'Success Criteria'!B51)","v":"A"},{"$f":"IF('Success Criteria'!C51=\"\",\"\",'Success Criteria'!C51)","v":"Pointer Cancellation"},{"$f":"IF('Success Criteria'!D51=\"\",\"\",'Success Criteria'!D51)","v":"For functionality that can be operated using a single pointer, at least one of the following is true:"},"There is no functionality.","","",""]
["2.5.3",{"$f":"IF('Success Criteria'!B53=\"\",\"\",'Success Criteria'!B53)","v":"A"},{"$f":"IF('Success Criteria'!C53=\"\",\"\",'Success Criteria'!C53)","v":"Label in Name"},{"$f":"IF('Success Criteria'!D53=\"\",\"\",'Success Criteria'!D53)","v":"For user interface components with labels that include text or images of text, the name contains the text that is presented visually."},"There are no user interface components.\n\nThere are no user interface components with labels that include text or images of text.","","","The [name of link or button] has the accessible name \"[whatever]\" due to [the attribute aria-label=\"Home\"]. The visible text must be the same as, or a substring of, the accessible name, so [recommendation].","The [name of link or button] has the accessible name \"[whatever]\" due to [the attribute aria-label=\"Home\"]. The visible text must be the same as, or a substring of, the accessible name, so [recommendation]."]
["2.5.4",{"$f":"IF('Success Criteria'!B55=\"\",\"\",'Success Criteria'!B55)","v":"A"},{"$f":"IF('Success Criteria'!C55=\"\",\"\",'Success Criteria'!C55)","v":"Motion Actuation"},{"$f":"IF('Success Criteria'!D55=\"\",\"\",'Success Criteria'!D55)","v":"Functionality that can be operated by device motion or user motion can also be operated by user interface components and responding to the motion can be disabled to prevent accidental actuation, except when:"},"There is no functionality that can be operated by device motion or user motion.","","",""]
["3.1.1",{"$f":"IF('Success Criteria'!B58=\"\",\"\",'Success Criteria'!B58)","v":"A"},{"$f":"IF('Success Criteria'!C58=\"\",\"\",'Success Criteria'!C58)","v":"Language of Page"},{"$f":"IF('Success Criteria'!D58=\"\",\"\",'Success Criteria'!D58)","v":"The default human language of each Web page can be programmatically determined. "},"Does not apply to components.","","The <html> element has the attribute lang=\"en-US\", which is American English. This is conformant, but we recommend changing it to \"en-GB\", which is British English, so screen readers use the appropriate accent.","***No \"lang\" attribute***\nThe <html> element does not have a \"lang\" attribute. Add the attribute lang=\"en-GB\", which is British English, so screen readers use the appropriate accent.\n\n***Wrong \"lang\" attribute***\nThe <html> element has the attribute lang=\"[whatever]\", which is not appropriate. Change it to \"en-GB\", which is British English, so screen readers use the appropriate accent.","***No \"lang\" attribute***\nThe <html> element does not have a \"lang\" attribute. Add the attribute lang=\"en-GB\", which is British English, so screen readers use the appropriate accent.\n\n***Wrong \"lang\" attribute***\nThe <html> element has the attribute lang=\"[whatever]\", which is not appropriate. Change it to \"en-GB\", which is British English, so screen readers use the appropriate accent."]
["3.2.1",{"$f":"IF('Success Criteria'!B60=\"\",\"\",'Success Criteria'!B60)","v":"A"},{"$f":"IF('Success Criteria'!C60=\"\",\"\",'Success Criteria'!C60)","v":"On Focus"},{"$f":"IF('Success Criteria'!D60=\"\",\"\",'Success Criteria'!D60)","v":"When any component receives focus, it does not initiate a change of context."},"There are no focusable components.","","",""]
[{"$f":"IF('Success Criteria'!A62=\"\",\"\",'Success Criteria'!A62)","v":"3.2.2"},{"$f":"IF('Success Criteria'!B62=\"\",\"\",'Success Criteria'!B62)","v":"A"},{"$f":"IF('Success Criteria'!C62=\"\",\"\",'Success Criteria'!C62)","v":"On Input"},{"$f":"IF('Success Criteria'!D62=\"\",\"\",'Success Criteria'!D62)","v":"Changing the setting of any user interface component does not automatically cause a change of context unless the user has been advised of the behaviour before using the component"},"There is no provision for user input.",null,null,""]
[{"$f":"IF('Success Criteria'!A64=\"\",\"\",'Success Criteria'!A64)","v":"3.2.6"},{"$f":"IF('Success Criteria'!B64=\"\",\"\",'Success Criteria'!B64)","v":"A"},{"$f":"IF('Success Criteria'!C64=\"\",\"\",'Success Criteria'!C64)","v":"Consistent Help"},{"$f":"IF('Success Criteria'!D64=\"\",\"\",'Success Criteria'!D64)","v":"If a Web page contains any of the following help mechanisms, and those mechanisms are repeated on multiple Web pages within a set of Web pages, they occur in the same order relative to other page content, unless a change is initiated by the user:"},"No help mechanisms are repeated on multiple web pages.","","",""]
["3.3.1",{"$f":"IF('Success Criteria'!B66=\"\",\"\",'Success Criteria'!B66)","v":"A"},{"$f":"IF('Success Criteria'!C66=\"\",\"\",'Success Criteria'!C66)","v":"Error Identification"},{"$f":"IF('Success Criteria'!D66=\"\",\"\",'Success Criteria'!D66)","v":"If an input error is automatically detected, the item that is in error is identified and the error is described to the user in text."},"Select:\nThere is no provision for user input.\n\nNo input errors can occur.\n\nNo input errors can occur because the Submit button is disabled until valid data has been entered in all mandatory input fields.","","","***HTML5 data validation***\nThe form uses native HTML5 data validation. The error messages are initially displayed next to the appropriate textbox. However, there are two issues:\n1. If the page is scrolled in Chrome, the popup error message remains visible and moves with the form control as long as the error message remains within the viewport. However, if the page is scrolled far enough for the popup error message to be outside the viewport, it disappears automatically and does not reappear when the page is scrolled back again.\n2. If the page is scrolled in Firefox, the textboxes move but the error messages do not, so the error messages are no longer associated with the appropriate textbox.\nThe HTML5 validation must be removed and replaced with client-side JavaScript validation and server-side validation (in case JavaScript is not enabled in a user's browser).","***HTML5 data validation***\nThe form uses native HTML5 data validation. The error messages are initially displayed next to the appropriate textbox. However, there are two issues:\n1. If the page is scrolled in Chrome, the popup error message remains visible and moves with the form control as long as the error message remains within the viewport. However, if the page is scrolled far enough for the popup error message to be outside the viewport, it disappears automatically and does not reappear when the page is scrolled back again.\n2. If the page is scrolled in Firefox, the textboxes move but the error messages do not, so the error messages are no longer associated with the appropriate textbox.\nThe HTML5 validation must be removed and replaced with client-side JavaScript validation and server-side validation (in case JavaScript is not enabled in a user's browser)."]
["3.3.2",{"$f":"IF('Success Criteria'!B68=\"\",\"\",'Success Criteria'!B68)","v":"A"},{"$f":"IF('Success Criteria'!C68=\"\",\"\",'Success Criteria'!C68)","v":"Labels or Instructions"},{"$f":"IF('Success Criteria'!D68=\"\",\"\",'Success Criteria'!D68)","v":"Labels or instructions are provided when content requires user input."},"There is no provision for user input.",null,null,"",null,null,null,"This only applies when the user input relates to data entry to the server.\n\nIt does not apply to links or other controls (such as an expand/collapse widget, or similar interactive components) that are not associated with data entry.\n\nIt also does not apply to whether the labels are sufficiently clear or descriptive. That is covered separately by 2.4.6: Headings and Labels\n\nThe absence of adequate instructions for functionality that does not relate to data entry does not violate any SCs, even at level AAA. All we can do is make a comment."]
["3.3.7",{"$f":"IF('Success Criteria'!B70=\"\",\"\",'Success Criteria'!B70)","v":"A"},{"$f":"IF('Success Criteria'!C70=\"\",\"\",'Success Criteria'!C70)","v":"Redundant Entry"},{"$f":"IF('Success Criteria'!D70=\"\",\"\",'Success Criteria'!D70)","v":"Information previously entered by or provided to the user that is required to be entered again in the same process is either:"},"There is no provision for user input.\n\nDoes not apply to components.\n\nThe page does not require re-entry of data entered by or provided to the user previously in the same process.","The re-entered information is auto-populated.\n\nThe re-entered information is available for the user to select.\n\nRe-entering the information is essential.\n\nThe re-entered information is required to ensure the security of the content.\n\nPreviously entered information is no longer valid.","",""]
["4.1.1",{"$f":"IF('Success Criteria'!B73=\"\",\"\",'Success Criteria'!B73)","v":"A"},{"$f":"IF('Success Criteria'!C73=\"\",\"\",'Success Criteria'!C73)","v":"Parsing"},{"$f":"IF('Success Criteria'!D73=\"\",\"\",'Success Criteria'!D73)","v":"In content implemented using mark-up languages, elements have complete start and end tags, elements are nested according to their specifications, elements do not contain duplicate attributes, and any IDs are unique, except where the specifications allow these features."},"***PDFs***\nDoes not apply because PDFs are not implemented using a mark-up language.","","",""]
["4.1.2",{"$f":"IF('Success Criteria'!B75=\"\",\"\",'Success Criteria'!B75)","v":"A"},{"$f":"IF('Success Criteria'!C75=\"\",\"\",'Success Criteria'!C75)","v":"Name, Role, Value"},{"$f":"IF('Success Criteria'!D75=\"\",\"\",'Success Criteria'!D75)","v":"For all user interface components (including but not limited to: form elements, links and components generated by scripts), the name and role can be programmatically determined; states, properties, and values that can be set by the user can be programmatically set; and notification of changes to these items is available to user agents, including assistive technologies. "},"There are no user interface components.","","","***PDFs***\nThe [whatever] link [where is it] spans more than one line. It has more than one annotation that has a value (the URL) and is focusable, but only the first one has a role and an accessible name.\n[If it can be fixed using a single annotation, use the following] Delete all annotations except the first one. Resize it to enclose all the link text.\n[If it cannot be fixed using a single annotation, use the following] Ordinarily, this would be fixed by using one annotation enclosing all the link text, but this cannot be done because the lines contain another link. Options include:\n1. Redesign the document so there are no multi-line links.\n2. Redesign the document so there are no other links on the same lines as the multi-line link.\n3. Create a single annotation for the multi-line link using QuadPoints to specify its shape. This is extremely difficult and time-consuming.","***PDFs***\nThe [whatever] link [where is it] spans more than one line. It has more than one annotation that has a value (the URL) and is focusable, but only the first one has a role and an accessible name.\n[If it can be fixed using a single annotation, use the following] Delete all annotations except the first one. Resize it to enclose all the link text.\n[If it cannot be fixed using a single annotation, use the following] Ordinarily, this would be fixed by using one annotation enclosing all the link text, but this cannot be done because the lines contain another link. Options include:\n1. Redesign the document so there are no multi-line links.\n2. Redesign the document so there are no other links on the same lines as the multi-line link.\n3. Create a single annotation for the multi-line link using QuadPoints to specify its shape. This is extremely difficult and time-consuming."]
[]
["Level AA Success Criteria"]
["W3C Ref.",{"$f":"IF('Success Criteria'!B79=\"\",\"\",'Success Criteria'!B79)","v":"Level"},{"$f":"IF('Success Criteria'!C79=\"\",\"\",'Success Criteria'!C79)","v":"Name"},null,"","",""]
["1.2.4",{"$f":"IF('Success Criteria'!B80=\"\",\"\",'Success Criteria'!B80)","v":"AA"},{"$f":"IF('Success Criteria'!C80=\"\",\"\",'Success Criteria'!C80)","v":"Captions"},{"$f":"IF('Success Criteria'!D80=\"\",\"\",'Success Criteria'!D80)","v":"Captions are provided for all live audio content in synchronized media. "},"Select:\nThere is no synchronised media.\n\nThere is no live audio content in the synchronized media.","","",{"$f":"CONCATENATE(I38,J38,K38)","v":""}]
["1.2.5",{"$f":"IF('Success Criteria'!B82=\"\",\"\",'Success Criteria'!B82)","v":"AA"},{"$f":"IF('Success Criteria'!C82=\"\",\"\",'Success Criteria'!C82)","v":"Audio Description (Pre-recorded)"},{"$f":"IF('Success Criteria'!D82=\"\",\"\",'Success Criteria'!D82)","v":"Audio description is provided for all pre-recorded video content in synchronized media."},"There is no synchronised media.","","",""]
["1.3.4",{"$f":"IF('Success Criteria'!B84=\"\",\"\",'Success Criteria'!B84)","v":"AA"},{"$f":"IF('Success Criteria'!C84=\"\",\"\",'Success Criteria'!C84)","v":"Orientation"},{"$f":"IF('Success Criteria'!D84=\"\",\"\",'Success Criteria'!D84)","v":"Content does not restrict its view and operation to a single display orientation, such as portrait or landscape, unless a specific display orientation is essential."},"","","",""]
["1.3.5",{"$f":"IF('Success Criteria'!B86=\"\",\"\",'Success Criteria'!B86)","v":"AA"},{"$f":"IF('Success Criteria'!C86=\"\",\"\",'Success Criteria'!C86)","v":" Identify Input Purpose"},{"$f":"IF('Success Criteria'!D86=\"\",\"\",'Success Criteria'!D86)","v":"The purpose of each input field collecting information about the user can be programmatically determined when:"},"Select:\nThere is no provision for user input.\n\nThe input fields do not collect information about the user.\n\nThe input field does not collect information about the user.","","","Delete or edit as required.\nNote that this list is not complete. See https://www.w3.org/TR/WCAG21/#input-purposes\n[Optional: If the form is for personal use only, rather than business use...] The following \"autocomplete\" attributes must be added to the following textboxes:\nTitle: autocomplete=\"honorific-prefix\"\nFirst Name: autocomplete=\"given-name\"\nMiddle Name: autocomplete=\"additional-name\"\nLast Name: autocomplete=\"family-name\"\nDate of Birth: autocomplete=\"bday\"\nJob Title: autocomplete=\"organization-title\"\nCompany: autocomplete=\"organization\"\nTelephone: autocomplete=\"tel\"\nEmail: autocomplete=\"email\"\nAddress 1: autocomplete=\"address-line1\"\nAddress 2: autocomplete=\"address-line2\"\nAddress 3: autocomplete=\"address-line3\"\nCounty: autocomplete=\"address-level1\"\nCity: autocomplete=\"address-level2\"\nPostcode: autocomplete=\"postal-code\"\nCountry: autocomplete=\"country-name\"","Delete or edit as required.\nNote that this list is not complete. See https://www.w3.org/TR/WCAG21/#input-purposes\n[Optional: If the form is for personal use only, rather than business use...] The following \"autocomplete\" attributes must be added to the following textboxes:\nTitle: autocomplete=\"honorific-prefix\"\nFirst Name: autocomplete=\"given-name\"\nMiddle Name: autocomplete=\"additional-name\"\nLast Name: autocomplete=\"family-name\"\nDate of Birth: autocomplete=\"bday\"\nJob Title: autocomplete=\"organization-title\"\nCompany: autocomplete=\"organization\"\nTelephone: autocomplete=\"tel\"\nEmail: autocomplete=\"email\"\nAddress 1: autocomplete=\"address-line1\"\nAddress 2: autocomplete=\"address-line2\"\nAddress 3: autocomplete=\"address-line3\"\nCounty: autocomplete=\"address-level1\"\nCity: autocomplete=\"address-level2\"\nPostcode: autocomplete=\"postal-code\"\nCountry: autocomplete=\"country-name\"",null,null,"If the developers have added “autocomplete” attributes, we will accept:\nTown = address-level1 or\nCounty = address-level1 and Town = address-level2\n\nIf the developers have not added “autocomplete” attributes, we recommend:\nTown = address-level1\nCounty does not have an “autocomplete” attribute.\n\nIn both cases we ignore the fact that WCAG refers to “post town”."]
["1.4.3",{"$f":"IF('Success Criteria'!B88=\"\",\"\",'Success Criteria'!B88)","v":"AA"},{"$f":"IF('Success Criteria'!C88=\"\",\"\",'Success Criteria'!C88)","v":"Colour Contrast"},{"$f":"IF('Success Criteria'!D88=\"\",\"\",'Success Criteria'!D88)","v":"The visual presentation of text and images of text has a contrast ratio of at least 4.5:1"},null,null,"WCAG requires that this test is done by measuring the author's specified colours. However, due to the font's thin stroke and/or small size and/or the browser's anti-aliasing or font smoothing, the rendered colours are different and the perceived colour contrast is lower. This is not a WCAG non-conformance, but we recommend fixing it by using a different and/or larger font.","***Translucent background for large text***\nWe recommend applying the style \"background: rgba(0,0,0,0.42)\" to the [whatever] that overlays a background image. This adds a translucent background to the text, ensuring that it has a colour contrast ratio of at least 3:1 with the background regardless of the image content at any browser window width and/or browser zoom level.\n\n***Translucent background for small text***\nWe recommend applying the style \"background: rgba(0,0,0,0.55)\" to the [whatever] that overlays a background image. This adds a translucent background to the text, ensuring that it has a colour contrast ratio of at least 4.5:1 with the background regardless of the image content at any browser window width and/or browser zoom level.","***Translucent background for large text***\nWe recommend applying the style \"background: rgba(0,0,0,0.42)\" to the [whatever] that overlays a background image. This adds a translucent background to the text, ensuring that it has a colour contrast ratio of at least 3:1 with the background regardless of the image content at any browser window width and/or browser zoom level.\n\n***Translucent background for small text***\nWe recommend applying the style \"background: rgba(0,0,0,0.55)\" to the [whatever] that overlays a background image. This adds a translucent background to the text, ensuring that it has a colour contrast ratio of at least 4.5:1 with the background regardless of the image content at any browser window width and/or browser zoom level."]
["1.4.4",{"$f":"IF('Success Criteria'!B91=\"\",\"\",'Success Criteria'!B91)","v":"AA"},{"$f":"IF('Success Criteria'!C91=\"\",\"\",'Success Criteria'!C91)","v":"Resize Text"},{"$f":"IF('Success Criteria'!D91=\"\",\"\",'Success Criteria'!D91)","v":"Except for captions and images of text, text can be resized without assistive technology up to 200 percent without loss of content or functionality."},"","","",""]
["1.4.5",{"$f":"IF('Success Criteria'!B93=\"\",\"\",'Success Criteria'!B93)","v":"AA"},{"$f":"IF('Success Criteria'!C93=\"\",\"\",'Success Criteria'!C93)","v":"Images of Text"},{"$f":"IF('Success Criteria'!D93=\"\",\"\",'Success Criteria'!D93)","v":"If the technologies being used can achieve the visual presentation, text is used to convey information rather than images of text except for the following:"},"There are no images of text.","","","An image of text has been used for [whatever]. If the same visual presentation can be achieved using HTML and CSS, then this is recommended.","An image of text has been used for [whatever]. If the same visual presentation can be achieved using HTML and CSS, then this is recommended."]
["1.4.10",{"$f":"IF('Success Criteria'!B95=\"\",\"\",'Success Criteria'!B95)","v":"AA"},{"$f":"IF('Success Criteria'!C95=\"\",\"\",'Success Criteria'!C95)","v":"Reflow"},{"$f":"IF('Success Criteria'!D95=\"\",\"\",'Success Criteria'!D95)","v":"Content can be presented without loss of information or functionality, and without requiring scrolling in two dimensions for:"},"","","","***Sticky header and footer***\nWhen viewed at 400% with the browser width set to 1280px, the main content area is restricted to about a third of the viewport due to the sticky header and footer components. Use media queries to make these components un-sticky. See https://www.w3.org/WAI/WCAG22/Techniques/css/C34 for guidance.\n\n***Pinch-to-zoom disabled***\nThe \"maximum-scale=1\" attribute in the <meta name=\"viewport\" content=\"width=device-width,initial-scale=1,maximum-scale=1\"> element means that the pinch-to-zoom feature is not enabled on mobile devices. The attribute must therefore be removed. Some devices have a setting which overrides this attribute and allows zooming, but this is not sufficient for conformance.","***Sticky header and footer***\nWhen viewed at 400% with the browser width set to 1280px, the main content area is restricted to about a third of the viewport due to the sticky header and footer components. Use media queries to make these components un-sticky. See https://www.w3.org/WAI/WCAG22/Techniques/css/C34 for guidance.\n\n***Pinch-to-zoom disabled***\nThe \"maximum-scale=1\" attribute in the <meta name=\"viewport\" content=\"width=device-width,initial-scale=1,maximum-scale=1\"> element means that the pinch-to-zoom feature is not enabled on mobile devices. The attribute must therefore be removed. Some devices have a setting which overrides this attribute and allows zooming, but this is not sufficient for conformance."]
["1.4.11",{"$f":"IF('Success Criteria'!B97=\"\",\"\",'Success Criteria'!B97)","v":"AA"},{"$f":"IF('Success Criteria'!C97=\"\",\"\",'Success Criteria'!C97)","v":"Non-text Contrast"},{"$f":"IF('Success Criteria'!D97=\"\",\"\",'Success Criteria'!D97)","v":"The visual presentation of the following have a contrast ratio of at least 3:1 against adjacent colour(s):"},null,null,null,"***PDFs***\nIn Adobe Reader, the focus indicator colour is set automatically, based on the background colour. If the colour contrast ratio is not sufficient, the only option is to change the background colour. Note that some colour combinations have sufficient contrast and others do not.","***PDFs***\nIn Adobe Reader, the focus indicator colour is set automatically, based on the background colour. If the colour contrast ratio is not sufficient, the only option is to change the background colour. Note that some colour combinations have sufficient contrast and others do not."]
["1.4.12",{"$f":"IF('Success Criteria'!B100=\"\",\"\",'Success Criteria'!B100)","v":"AA"},{"$f":"IF('Success Criteria'!C100=\"\",\"\",'Success Criteria'!C100)","v":"Text Spacing"},{"$f":"IF('Success Criteria'!D100=\"\",\"\",'Success Criteria'!D100)","v":"In content implemented using mark-up languages that support the following text style properties, no loss of content or functionality occurs by setting all of the following and by changing no other style property:"},"***PDFs***\nDoes not apply because PDFs are not implemented using a mark-up language.","","",""]
["1.4.13",{"$f":"IF('Success Criteria'!B102=\"\",\"\",'Success Criteria'!B102)","v":"AA"},{"$f":"IF('Success Criteria'!C102=\"\",\"\",'Success Criteria'!C102)","v":"Content on Hover or Focus"},{"$f":"IF('Success Criteria'!D102=\"\",\"\",'Success Criteria'!D102)","v":"Where receiving and then removing pointer hover or keyboard focus triggers additional content to become visible and then hidden, the following are true:"},"No content becomes visible or hidden upon receiving or removing hover or focus.","","","A [whatever] is displayed when the [whatever] receives focus. There is no way to dismiss it without moving the keyboard focus. Add an event handler so the [whatever] is dismissed when the Esc key is pressed.\n\nA [whatever] is displayed when the pointer is hovered over the [whatever]. There is no way to dismiss it without moving the pointer. Add an event handler so the [whatever] is dismissed when the Esc key is pressed.","A [whatever] is displayed when the [whatever] receives focus. There is no way to dismiss it without moving the keyboard focus. Add an event handler so the [whatever] is dismissed when the Esc key is pressed.\n\nA [whatever] is displayed when the pointer is hovered over the [whatever]. There is no way to dismiss it without moving the pointer. Add an event handler so the [whatever] is dismissed when the Esc key is pressed."]
["2.4.5",{"$f":"IF('Success Criteria'!B105=\"\",\"\",'Success Criteria'!B105)","v":"AA"},{"$f":"IF('Success Criteria'!C105=\"\",\"\",'Success Criteria'!C105)","v":"Multiple Ways"},{"$f":"IF('Success Criteria'!D105=\"\",\"\",'Success Criteria'!D105)","v":"More than one way is available to locate a Web page within a set of Web pages except where the Web Page is the result of, or a step in, a process. "},"Select:\nThe page is the result of, or a step in, a process.\n\nUsers will not want to intentionally access this page. (e.g. for a custom error page)\n\nDoes not apply to components.","The page can be located via the navigation menu and/or in-page links, the search feature or the site map page. (delete or edit as applicable)","","The page can only be located via the navigation menu and/or in-page links. We recommend adding a site search feature or a Site Map page that contains links to every page. [optional - The content of the Site Map page would need to be different when logged out or in.]\n\n***PDFs***\nThere is no way to navigate within the document other than to go from page to page. Either add Bookmarks or a table of contents that links to every heading.","The page can only be located via the navigation menu and/or in-page links. We recommend adding a site search feature or a Site Map page that contains links to every page. [optional - The content of the Site Map page would need to be different when logged out or in.]\n\n***PDFs***\nThere is no way to navigate within the document other than to go from page to page. Either add Bookmarks or a table of contents that links to every heading."]
["2.4.6",{"$f":"IF('Success Criteria'!B107=\"\",\"\",'Success Criteria'!B107)","v":"AA"},{"$f":"IF('Success Criteria'!C107=\"\",\"\",'Success Criteria'!C107)","v":"Headings and Labels"},{"$f":"IF('Success Criteria'!D107=\"\",\"\",'Success Criteria'!D107)","v":"Headings and labels describe topic or purpose."},"There are no headings or labels.","","",""]
[{"$f":"IF('Success Criteria'!A109=\"\",\"\",'Success Criteria'!A109)","v":"2.4.7"},{"$f":"IF('Success Criteria'!B109=\"\",\"\",'Success Criteria'!B109)","v":"AA"},{"$f":"IF('Success Criteria'!C109=\"\",\"\",'Success Criteria'!C109)","v":"Focus Visible"},{"$f":"IF('Success Criteria'!D109=\"\",\"\",'Success Criteria'!D109)","v":"Any keyboard operable user interface has a mode of operation where the keyboard focus indicator is visible."},"There are no focusable components.",null,"***Textboxes***\nThe flashing caret provides a focus indication for the textboxes. Nevertheless, we recommend adding a 2px solid outline around the textboxes on focus. The outline should be a colour that has a contrast ratio of at least 3:1 against the background. Ideally, use a dual-colour focus indicator.","***Simple fix (single element)***\nThe [whatever] receives focus but does not have a focus indicator. It would be sufficient to apply the style \"outline: 2px solid #[whatever]; outline-offset: 2px\" on focus.\n\n***Simple fix (multiple elements)***\nThe [whatever] receive focus but do not have a focus indicator. It would be sufficient to apply the style \"outline: 2px solid #[whatever]; outline-offset: 2px\" on focus.\n\n***Additional text for a dual-colour focus indicator***\nA better solution is to use a dual-colour indicator because it guarantees sufficient colour contrast. The same style can be used for every focusable component, regardless of the background colour, which keeps the coding simple and gives a consistent appearance. Apply the following CSS to the relevant elements, using colours from the website's colour palette that have a contrast ratio of at least 3:1:\n:focus {outline:3px solid transparent !important; box-shadow: 0 0 0 0.125rem #FFFFFF, 0 0 0 0.3125rem #002B45, 0 0 0 0.4375rem #FFFFFF !important}\na {display:inline-block}\nThere are a couple of important aspects of the code:\na. The “outline:3px solid transparent !important” rule removes the browser’s default focus indicator. This could be done using “outline:0”, but our code ensures that a focus indicator will be displayed in Windows High Contrast Mode or any of the operating system's other custom colour themes.\nb. The a {display:inline-block} rule ensures that multi-line links receive a rectangular focus indicator that encloses all lines. Without this, each line gets a focus indicator, which does not look good.\n\n***Floated image links***\nThe [whatever] image [where] is in a link, but the image is floated and therefore the link has no size. When the link has focus, Firefox does not display a focus indicator around it. Instead, it [does what?]. Although it is visible at 100% browser zoom, it is too far away from the image to be associated with it. Remove the CSS \"float\" rule and implement the required appearance by other means. Also, the <img> element has the CSS rule \"display:inline-block\", which must be changed to \"display:block\" so the focus indicator completely encloses the image instead of only enclosing a small part of it.","***Simple fix (single element)***\nThe [whatever] receives focus but does not have a focus indicator. It would be sufficient to apply the style \"outline: 2px solid #[whatever]; outline-offset: 2px\" on focus.\n\n***Simple fix (multiple elements)***\nThe [whatever] receive focus but do not have a focus indicator. It would be sufficient to apply the style \"outline: 2px solid #[whatever]; outline-offset: 2px\" on focus.\n\n***Additional text for a dual-colour focus indicator***\nA better solution is to use a dual-colour indicator because it guarantees sufficient colour contrast. The same style can be used for every focusable component, regardless of the background colour, which keeps the coding simple and gives a consistent appearance. Apply the following CSS to the relevant elements, using colours from the website's colour palette that have a contrast ratio of at least 3:1:\n:focus {outline:3px solid transparent !important; box-shadow: 0 0 0 0.125rem #FFFFFF, 0 0 0 0.3125rem #002B45, 0 0 0 0.4375rem #FFFFFF !important}\na {display:inline-block}\nThere are a couple of important aspects of the code:\na. The “outline:3px solid transparent !important” rule removes the browser’s default focus indicator. This could be done using “outline:0”, but our code ensures that a focus indicator will be displayed in Windows High Contrast Mode or any of the operating system's other custom colour themes.\nb. The a {display:inline-block} rule ensures that multi-line links receive a rectangular focus indicator that encloses all lines. Without this, each line gets a focus indicator, which does not look good.\n\n***Floated image links***\nThe [whatever] image [where] is in a link, but the image is floated and therefore the link has no size. When the link has focus, Firefox does not display a focus indicator around it. Instead, it [does what?]. Although it is visible at 100% browser zoom, it is too far away from the image to be associated with it. Remove the CSS \"float\" rule and implement the required appearance by other means. Also, the <img> element has the CSS rule \"display:inline-block\", which must be changed to \"display:block\" so the focus indicator completely encloses the image instead of only enclosing a small part of it."]
[{"$f":"IF('Success Criteria'!A111=\"\",\"\",'Success Criteria'!A111)","v":"2.4.11"},{"$f":"IF('Success Criteria'!B111=\"\",\"\",'Success Criteria'!B111)","v":"AA"},{"$f":"IF('Success Criteria'!C111=\"\",\"\",'Success Criteria'!C111)","v":"Focus Not Obscured (Minimum)"},{"$f":"IF('Success Criteria'!D111=\"\",\"\",'Success Criteria'!D111)","v":"When a user interface component receives keyboard focus, the component is not entirely hidden due to author-created content."},"There are no focusable components.",null,null,"***Dropdown menus***\nWhen the dropdown menus are opened using keyboard controls, they remain open after they lose focus. This means that any links in the page behind the dropdown menus are not visible when they receive focus. The dropdown menus can also be open if the cursor happens to be over a top-level menu link, even if the user is not using the mouse. Options include:\n1. Add an event handler to the Esc key so it closes any dropdown menus that are open.\n2. Close the dropdown menus automatically when they lose focus.\n3. Move the main page content down when a dropdown menu is open, so it does not overlay any content.\n4. Make the dropdown menus modal. We do not recommend this even though it would be conformant.\n\n***Mobile menu***\nThe mobile menu is not modal, so it is possible to move the focus out of it. The menu does not close automatically, so the new focus position is hidden behind the menu. Options include, in order of preference:\n1. Move the main content down the page rather than overlaying it when the menu is open.\n2. Implement the mobile menu using a modal dialog.\n3. Retain the existing mobile menu but close it automatically when it loses focus.\n4. Use a JavaScript event handler so that the Escape key closes the mobile menu. This must work regardless of where the focus is in the page.\n\n***Non-modal overlay***\nThe focus can be moved out of the overlay because it is not modal. Depending on the browser window size, one or more link in the page behind the overlay is fully obscured when it has focus. As mentioned in cell [whatever - probably the SC for Keyboard Navigation], the overlay must be modal.","***Dropdown menus***\nWhen the dropdown menus are opened using keyboard controls, they remain open after they lose focus. This means that any links in the page behind the dropdown menus are not visible when they receive focus. The dropdown menus can also be open if the cursor happens to be over a top-level menu link, even if the user is not using the mouse. Options include:\n1. Add an event handler to the Esc key so it closes any dropdown menus that are open.\n2. Close the dropdown menus automatically when they lose focus.\n3. Move the main page content down when a dropdown menu is open, so it does not overlay any content.\n4. Make the dropdown menus modal. We do not recommend this even though it would be conformant.\n\n***Mobile menu***\nThe mobile menu is not modal, so it is possible to move the focus out of it. The menu does not close automatically, so the new focus position is hidden behind the menu. Options include, in order of preference:\n1. Move the main content down the page rather than overlaying it when the menu is open.\n2. Implement the mobile menu using a modal dialog.\n3. Retain the existing mobile menu but close it automatically when it loses focus.\n4. Use a JavaScript event handler so that the Escape key closes the mobile menu. This must work regardless of where the focus is in the page.\n\n***Non-modal overlay***\nThe focus can be moved out of the overlay because it is not modal. Depending on the browser window size, one or more link in the page behind the overlay is fully obscured when it has focus. As mentioned in cell [whatever - probably the SC for Keyboard Navigation], the overlay must be modal."]
[{"$f":"IF('Success Criteria'!A113=\"\",\"\",'Success Criteria'!A113)","v":"2.5.7"},{"$f":"IF('Success Criteria'!B113=\"\",\"\",'Success Criteria'!B113)","v":"AA"},{"$f":"IF('Success Criteria'!C113=\"\",\"\",'Success Criteria'!C113)","v":"Dragging Movements"},{"$f":"IF('Success Criteria'!D113=\"\",\"\",'Success Criteria'!D113)","v":"All functionality that uses a dragging movement for operation can be achieved by a single pointer without dragging, unless dragging is essential or the functionality is determined by the user agent and not modified by the author."},"There is no functionality that uses a dragging movement for operation.","***Media player***\nThe timeline and volume sliders can be dragged, but both can be adjusted using a single pointer without dragging.\n\n***Carousel***\nThe carousel can be dragged, but it contains buttons that perform the same functionality.",null,"***Maps***\nThe map can be dragged, but it cannot be moved vertically or horizontally using a single pointer without dragging. Buttons must be added to provide this functionality.","***Maps***\nThe map can be dragged, but it cannot be moved vertically or horizontally using a single pointer without dragging. Buttons must be added to provide this functionality."]
[{"$f":"IF('Success Criteria'!A115=\"\",\"\",'Success Criteria'!A115)","v":"2.5.8"},{"$f":"IF('Success Criteria'!B115=\"\",\"\",'Success Criteria'!B115)","v":"AA"},{"$f":"IF('Success Criteria'!C115=\"\",\"\",'Success Criteria'!C115)","v":"Target Size (Minimum)"},{"$f":"IF('Success Criteria'!D115=\"\",\"\",'Success Criteria'!D115)","v":"The size of the target for pointer inputs is at least 24 by 24 CSS pixels, except where:"},null,null,null,""]
["3.1.2",{"$f":"IF('Success Criteria'!B118=\"\",\"\",'Success Criteria'!B118)","v":"AA"},{"$f":"IF('Success Criteria'!C118=\"\",\"\",'Success Criteria'!C118)","v":"Language of Parts"},{"$f":"IF('Success Criteria'!D118=\"\",\"\",'Success Criteria'!D118)","v":"The human language of each passage or phrase in the content can be programmatically determined except for proper names, technical terms, words of indeterminate language, and words or phrases that have become part of the vernacular of the immediately surrounding text."},"The human language does not change.","","",""]
["3.2.3",{"$f":"IF('Success Criteria'!B120=\"\",\"\",'Success Criteria'!B120)","v":"AA"},{"$f":"IF('Success Criteria'!C120=\"\",\"\",'Success Criteria'!C120)","v":"Consistent Navigation"},{"$f":"IF('Success Criteria'!D120=\"\",\"\",'Success Criteria'!D120)","v":"Navigational mechanisms that are repeated on multiple Web pages within a set of Web pages occur in the same relative order each time they are repeated, unless a change is initiated by the user."},"There are no navigational mechanisms.","","",""]
["3.2.4",{"$f":"IF('Success Criteria'!B122=\"\",\"\",'Success Criteria'!B122)","v":"AA"},{"$f":"IF('Success Criteria'!C122=\"\",\"\",'Success Criteria'!C122)","v":"Consistent Identification"},{"$f":"IF('Success Criteria'!D122=\"\",\"\",'Success Criteria'!D122)","v":"Components that have the same functionality within a set of Web pages are identified consistently."},"There is no functionality.","","",""]
["3.3.3",{"$f":"IF('Success Criteria'!B124=\"\",\"\",'Success Criteria'!B124)","v":"AA"},{"$f":"IF('Success Criteria'!C124=\"\",\"\",'Success Criteria'!C124)","v":"Error Suggestion"},{"$f":"IF('Success Criteria'!D124=\"\",\"\",'Success Criteria'!D124)","v":"If an input error is automatically detected and suggestions for correction are known, then the suggestions are provided to the user, unless it would jeopardize the security or purpose of the content."},"Select:\nThere is no provision for user input.\n\nNo input errors can occur.","","",""]
[{"$f":"IF('Success Criteria'!A126=\"\",\"\",'Success Criteria'!A126)","v":"3.3.4"},{"$f":"IF('Success Criteria'!B126=\"\",\"\",'Success Criteria'!B126)","v":"AA"},{"$f":"IF('Success Criteria'!C126=\"\",\"\",'Success Criteria'!C126)","v":"Error Prevention (Legal, Financial, Data)"},{"$f":"IF('Success Criteria'!D126=\"\",\"\",'Success Criteria'!D126)","v":"For Web pages that cause legal commitments or financial transactions for the user to occur, that modify or delete user-controllable data in data storage systems, or that submit user test responses, at least one of the following is true: Reversible, Checked, Confirmed."},"No legal commitments or financial transactions for the user occur, user-controllable data is not modified or deleted in data storage systems, and no user test responses are submitted.",null,null,""]
[{"$f":"IF('Success Criteria'!A128=\"\",\"\",'Success Criteria'!A128)","v":"3.3.8"},{"$f":"IF('Success Criteria'!B128=\"\",\"\",'Success Criteria'!B128)","v":"AA"},{"$f":"IF('Success Criteria'!C128=\"\",\"\",'Success Criteria'!C128)","v":"Accessible Authentication (Minimum)"},{"$f":"IF('Success Criteria'!D128=\"\",\"\",'Success Criteria'!D128)","v":"A cognitive function test (such as remembering a password or solving a puzzle) is not required for any step in an authentication process unless that step provides at least one of the following:"},"There is no authentication process.","","","",null,null,null,"This SC only applies to login pages.\n\nIt does not apply to further authentication processes when you are already logged in (such as when you add a new recipient to a bank account). However, we could report issues relating to such authentication processes as comments."]
["4.1.3","AA","Status Messages","In content implemented using mark-up languages, status messages can be programmatically determined through role or properties such that they can be presented to the user by assistive technologies without receiving focus.","There are no status messages.\n\n***PDFs***\nDoes not apply because PDFs are not implemented using a mark-up language.","","***HTML5 validation***\nThe native HTML5 data validation error messages are conveyed to assistive technologies. However, it is non-conformant with other success criteria. The HTML5 data validation must be removed and validation must be implemented using an ARIA live region. See https://developer.mozilla.org/en-US/docs/Web/Accessibility/ARIA/ARIA_Live_Regions.\n\n***Rotating progress indicator***\nIf the network connection is very slow, a \"[whatever]\" message is displayed while [whatever is happening], and a rotating progress indicator is displayed. These are status messages, but they are displayed for such a short time that it is not necessary to trigger an ARIA live region. Optional: As far as we can tell, reducing the network speed further causes the website to fail completely.","***Error and confirmation messages***\nWhen [whatever], a [whatever] message is displayed. It is a status message, but it cannot be programmatically determined through role or properties such that it can be presented to the user by assistive technologies without receiving focus. It must be implemented as an ARIA live region. \n\n***Session countdown timer***\nThe session countdown timer is displayed as text. This is a status message and must therefore be in an ARIA live region. We recommend making announcements when the message is first displayed and again when there are 30 seconds, 20 seconds and 10 seconds remaining. The first message needs to be long enough to provide a full explanation, but subsequent messages must be short, such as \"Thirty seconds\", so as not to be too intrusive.\n\n***Progress indicator with text***\nOptionally start with \"If the network connection is very slow...\"\na linear progress indicator is displayed while [whatever]. The percentage completion is also displayed, but it cannot be programmatically determined through role or properties such that it can be presented to the user by assistive technologies without receiving focus. It must therefore be in an ARIA live region.\n\nSee https://developer.mozilla.org/en-US/docs/Web/Accessibility/ARIA/ARIA_Live_Regions\n\n***Character counter***\nEach textarea has a character counter. These are status messages and must therefore be in ARIA live regions. Since a large number of characters are permitted, we recommend that infrequent announcements are made at first, perhaps when 800, 600, 400 and 200 characters are left. Then make more frequent announcements, such as when there are 100, 50, 20 and 10 characters left. Finally, make announcements after each character when there are fewer than 10 characters left. This can be implemented by having a visible counter that decrements with every character, and a hidden counter that only changes when an announcement is to be made.","***Error and confirmation messages***\nWhen [whatever], a [whatever] message is displayed. It is a status message, but it cannot be programmatically determined through role or properties such that it can be presented to the user by assistive technologies without receiving focus. It must be implemented as an ARIA live region. \n\n***Session countdown timer***\nThe session countdown timer is displayed as text. This is a status message and must therefore be in an ARIA live region. We recommend making announcements when the message is first displayed and again when there are 30 seconds, 20 seconds and 10 seconds remaining. The first message needs to be long enough to provide a full explanation, but subsequent messages must be short, such as \"Thirty seconds\", so as not to be too intrusive.\n\n***Progress indicator with text***\nOptionally start with \"If the network connection is very slow...\"\na linear progress indicator is displayed while [whatever]. The percentage completion is also displayed, but it cannot be programmatically determined through role or properties such that it can be presented to the user by assistive technologies without receiving focus. It must therefore be in an ARIA live region.\n\nSee https://developer.mozilla.org/en-US/docs/Web/Accessibility/ARIA/ARIA_Live_Regions\n\n***Character counter***\nEach textarea has a character counter. These are status messages and must therefore be in ARIA live regions. Since a large number of characters are permitted, we recommend that infrequent announcements are made at first, perhaps when 800, 600, 400 and 200 characters are left. Then make more frequent announcements, such as when there are 100, 50, 20 and 10 characters left. Finally, make announcements after each character when there are fewer than 10 characters left. This can be implemented by having a visible counter that decrements with every character, and a hidden counter that only changes when an announcement is to be made."]

{"sheet":"Comboboxes","index":10,"n_rows":16,"n_cols":12,"rows_kept":16,"cut":false,"hidden":true,"merged":[]}
["Level","Variable Name","Image","No","Pass","Please select","Yes","PASS","Please select","No","Pass","2.0"]
["(Level AA)","Option value 1","Text","Browser default colours","Fail","Fully conformant","No","PASS with comments","HTML Component","Disabled","Pass \n(large text)",2.1]
["(Level AAA)","Option value 2","Video","Disabled state","N/A","Partially conformant",null,"NON CONFORMANT","HTML Page (full)","Incidental","Fail",2.2000000000000002]
["(Level AA)","Selected value",null,"Redundant","Exempt","Non-conformant",null,"NOT TESTED","HTML Page (full, excluding components)","Redundant","N/A"]
[{"$f":"IF(A4=A2,4.5,7)","v":4.5},"Colour contrast ratio (small text)",null,null,null,"Not assessed",null,"N/A","HTML Page (part)","Rendered Colours","Exempt"]
[{"$f":"IF(A4=A2,3,4.5)","v":3},"Colour contrast ratio (large text)",null,null,null,null,null,"TO DO","HTML Page (part, excluding components)",null,"Should Fix"]
[null,null,null,null,null,null,null,null,"PDF"]
[null,null,null,null,null,null,null,null,"MS Word document"]
[null,null,null,null,null,null,null,null,"Other document format"]
[null,null,null,null,null,null,null,null,"Mobile App Screen"]
["Enter data","Enter data",null,null,null,null,null,null,"Mobile App Overlay"]
["View AA results","View results",null,null,null,null,null,null,"Video File"]
["View AAA results"]
["Enter data","View results"]
[{"$f":"IF(Statistics!S$6=\"Yes\",7,4.5)","v":4.5},"Colour contrast ratio (small text)"]
[{"$f":"IF(Statistics!S$6=\"Yes\",4.5,3)","v":3},"Colour contrast ratio (large text)"]

{"sheet":"Data Table","index":11,"n_rows":51,"n_cols":7,"rows_kept":51,"cut":false,"hidden":true,"merged":[]}
["Page","WCAG 2.0 Level A Criteria\nFailed / Total\n","WCAG 2.0 Level AA Criteria\nFailed / Total\n","Total WCAG 2.0 Criteria\nFailed / Total\n",null,null,"Instructions for copying this data table into the Management Summary Report"]
[{"$f":"Statistics!B15","v":"Header"},{"$f":"CONCATENATE(Statistics!F15,\" / 25\")","v":"1 / 25"},{"$f":"CONCATENATE(Statistics!J15,\" / 13\")","v":"0 / 13"},{"$f":"CONCATENATE(Statistics!R15,\" / 38\")","v":"1 / 38"},null,1,"Locate the Statistics data table in the Management Summary Report."]
[{"$f":"Statistics!B16","v":"Footer"},{"$f":"CONCATENATE(Statistics!F16,\" / 25\")","v":"0 / 25"},{"$f":"CONCATENATE(Statistics!J16,\" / 13\")","v":"1 / 13"},{"$f":"CONCATENATE(Statistics!R16,\" / 38\")","v":"1 / 38"},null,2,"Delete the contents of the data table."]
[{"$f":"Statistics!B17","v":"Cookie banner"},{"$f":"CONCATENATE(Statistics!F17,\" / 25\")","v":"0 / 25"},{"$f":"CONCATENATE(Statistics!J17,\" / 13\")","v":"0 / 13"},{"$f":"CONCATENATE(Statistics!R17,\" / 38\")","v":"0 / 38"},null,3,"Add or delete rows and columns in the data table such that they match the number of rows and columns in the data in this worksheet, including the heading row."]
[{"$f":"Statistics!B18","v":"Cookie dialog"},{"$f":"CONCATENATE(Statistics!F18,\" / 25\")","v":"0 / 25"},{"$f":"CONCATENATE(Statistics!J18,\" / 13\")","v":"1 / 13"},{"$f":"CONCATENATE(Statistics!R18,\" / 38\")","v":"1 / 38"},null,4,"Select all the cells in the data table in this worksheet."]
[{"$f":"Statistics!B19","v":"Search"},{"$f":"CONCATENATE(Statistics!F19,\" / 25\")","v":"1 / 25"},{"$f":"CONCATENATE(Statistics!J19,\" / 13\")","v":"0 / 13"},{"$f":"CONCATENATE(Statistics!R19,\" / 38\")","v":"1 / 38"},null,5,"Copy the cells (Ctrl+C is the easiest way to do this)."]
[{"$f":"Statistics!B20","v":"Share this page"},{"$f":"CONCATENATE(Statistics!F20,\" / 25\")","v":"0 / 25"},{"$f":"CONCATENATE(Statistics!J20,\" / 13\")","v":"0 / 13"},{"$f":"CONCATENATE(Statistics!R20,\" / 38\")","v":"0 / 38"},null,6,"Select all the cells in the data table in the Management Summary Report."]
[{"$f":"Statistics!B21","v":"Home page"},{"$f":"CONCATENATE(Statistics!F21,\" / 25\")","v":"0 / 25"},{"$f":"CONCATENATE(Statistics!J21,\" / 13\")","v":"3 / 13"},{"$f":"CONCATENATE(Statistics!R21,\" / 38\")","v":"3 / 38"},null,7,"Paste the cells into the Management Summary Report (Ctrl+V is the easiest way to do this)."]
[{"$f":"Statistics!B22","v":"Search results"},{"$f":"CONCATENATE(Statistics!F22,\" / 25\")","v":"0 / 25"},{"$f":"CONCATENATE(Statistics!J22,\" / 13\")","v":"1 / 13"},{"$f":"CONCATENATE(Statistics!R22,\" / 38\")","v":"1 / 38"},null,8,"While the cells are still selected, set the Paragraph Spacing to 3pt Before and 3pt After."]
[{"$f":"Statistics!B23","v":"Contact City Hall or the Mayor"},{"$f":"CONCATENATE(Statistics!F23,\" / 25\")","v":"0 / 25"},{"$f":"CONCATENATE(Statistics!J23,\" / 13\")","v":"0 / 13"},{"$f":"CONCATENATE(Statistics!R23,\" / 38\")","v":"0 / 38"},null,9,"Make the column headings bold."]
[{"$f":"Statistics!B24","v":"Contact us"},{"$f":"CONCATENATE(Statistics!F24,\" / 25\")","v":"0 / 25"},{"$f":"CONCATENATE(Statistics!J24,\" / 13\")","v":"1 / 13"},{"$f":"CONCATENATE(Statistics!R24,\" / 38\")","v":"1 / 38"},null,10,"Select all the data cells but not the row and column headings."]
[{"$f":"Statistics!B25","v":"Priorities for London"},{"$f":"CONCATENATE(Statistics!F25,\" / 25\")","v":"0 / 25"},{"$f":"CONCATENATE(Statistics!J25,\" / 13\")","v":"0 / 13"},{"$f":"CONCATENATE(Statistics!R25,\" / 38\")","v":"0 / 38"},null,11,"Right-click anywhere in the selected area. A dropdown menu will appear. Select Cell Alignment > Align Centre (the option in the middle)."]
[{"$f":"Statistics!B26","v":"FOI - London Living Rent [Jan 2024]"},{"$f":"CONCATENATE(Statistics!F26,\" / 25\")","v":"1 / 25"},{"$f":"CONCATENATE(Statistics!J26,\" / 13\")","v":"0 / 13"},{"$f":"CONCATENATE(Statistics!R26,\" / 38\")","v":"1 / 38"}]
[{"$f":"Statistics!B27","v":"GLA Economics publications"},{"$f":"CONCATENATE(Statistics!F27,\" / 25\")","v":"0 / 25"},{"$f":"CONCATENATE(Statistics!J27,\" / 13\")","v":"0 / 13"},{"$f":"CONCATENATE(Statistics!R27,\" / 38\")","v":"0 / 38"},null,null,"This sheet needs to be updated for WCAG 2.1 AAA"]
[{"$f":"Statistics!B28","v":"Case study: Skills and resource sharing with organisations"},{"$f":"CONCATENATE(Statistics!F28,\" / 25\")","v":"0 / 25"},{"$f":"CONCATENATE(Statistics!J28,\" / 13\")","v":"0 / 13"},{"$f":"CONCATENATE(Statistics!R28,\" / 38\")","v":"0 / 38"}]
[{"$f":"Statistics!B29","v":"Oru Sutton (London Borough of Sutton)"},{"$f":"CONCATENATE(Statistics!F29,\" / 25\")","v":"0 / 25"},{"$f":"CONCATENATE(Statistics!J29,\" / 13\")","v":"2 / 13"},{"$f":"CONCATENATE(Statistics!R29,\" / 38\")","v":"2 / 38"}]
[{"$f":"Statistics!B30","v":"Early years childcare in London report"},{"$f":"CONCATENATE(Statistics!F30,\" / 25\")","v":"0 / 25"},{"$f":"CONCATENATE(Statistics!J30,\" / 13\")","v":"0 / 13"},{"$f":"CONCATENATE(Statistics!R30,\" / 38\")","v":"0 / 38"}]
[{"$f":"Statistics!B31","v":"Find adult learning opportunities near you"},{"$f":"CONCATENATE(Statistics!F31,\" / 25\")","v":"2 / 25"},{"$f":"CONCATENATE(Statistics!J31,\" / 13\")","v":"3 / 13"},{"$f":"CONCATENATE(Statistics!R31,\" / 38\")","v":"5 / 38"}]
[{"$f":"Statistics!B32","v":"Public Meetings"},{"$f":"CONCATENATE(Statistics!F32,\" / 25\")","v":"0 / 25"},{"$f":"CONCATENATE(Statistics!J32,\" / 13\")","v":"0 / 13"},{"$f":"CONCATENATE(Statistics!R32,\" / 38\")","v":"0 / 38"}]
[{"$f":"Statistics!B33","v":"Agenda and minutes"},{"$f":"CONCATENATE(Statistics!F33,\" / 25\")","v":"1 / 25"},{"$f":"CONCATENATE(Statistics!J33,\" / 13\")","v":"0 / 13"},{"$f":"CONCATENATE(Statistics!R33,\" / 38\")","v":"1 / 38"}]
[{"$f":"Statistics!B34","v":"Meetings OPDC Board"},{"$f":"CONCATENATE(Statistics!F34,\" / 25\")","v":"1 / 25"},{"$f":"CONCATENATE(Statistics!J34,\" / 13\")","v":"1 / 13"},{"$f":"CONCATENATE(Statistics!R34,\" / 38\")","v":"2 / 38"}]
[{"$f":"Statistics!B35","v":"Accessibility (WCAG 2.2 criteria only)"},{"$f":"CONCATENATE(Statistics!F35,\" / 25\")","v":"0 / 25"},{"$f":"CONCATENATE(Statistics!J35,\" / 13\")","v":"0 / 13"},{"$f":"CONCATENATE(Statistics!R35,\" / 38\")","v":"0 / 38"}]
[{"$f":"Statistics!B36","v":"City Hall Blog (WCAG 2.2 criteria only)"},{"$f":"CONCATENATE(Statistics!F36,\" / 25\")","v":"0 / 25"},{"$f":"CONCATENATE(Statistics!J36,\" / 13\")","v":"0 / 13"},{"$f":"CONCATENATE(Statistics!R36,\" / 38\")","v":"0 / 38"}]
[{"$f":"Statistics!B37","v":"Working at City Hall (WCAG 2.2 criteria only)"},{"$f":"CONCATENATE(Statistics!F37,\" / 25\")","v":"0 / 25"},{"$f":"CONCATENATE(Statistics!J37,\" / 13\")","v":"0 / 13"},{"$f":"CONCATENATE(Statistics!R37,\" / 38\")","v":"0 / 38"}]
[{"$f":"Statistics!B38","v":"Take part (WCAG 2.2 criteria only)"},{"$f":"CONCATENATE(Statistics!F38,\" / 25\")","v":"0 / 25"},{"$f":"CONCATENATE(Statistics!J38,\" / 13\")","v":"0 / 13"},{"$f":"CONCATENATE(Statistics!R38,\" / 38\")","v":"0 / 38"}]
[{"$f":"Statistics!B39","v":"Events landing page (WCAG 2.2 criteria only)"},{"$f":"CONCATENATE(Statistics!F39,\" / 25\")","v":"0 / 25"},{"$f":"CONCATENATE(Statistics!J39,\" / 13\")","v":"0 / 13"},{"$f":"CONCATENATE(Statistics!R39,\" / 38\")","v":"0 / 38"}]
[{"$f":"Statistics!B40","v":"Event (WCAG 2.2 criteria only)"},{"$f":"CONCATENATE(Statistics!F40,\" / 25\")","v":"0 / 25"},{"$f":"CONCATENATE(Statistics!J40,\" / 13\")","v":"0 / 13"},{"$f":"CONCATENATE(Statistics!R40,\" / 38\")","v":"0 / 38"}]
[{"$f":"Statistics!B41","v":"London Unseen: self-guided walks (WCAG 2.2 criteria only)"},{"$f":"CONCATENATE(Statistics!F41,\" / 25\")","v":"0 / 25"},{"$f":"CONCATENATE(Statistics!J41,\" / 13\")","v":"0 / 13"},{"$f":"CONCATENATE(Statistics!R41,\" / 38\")","v":"0 / 38"}]
[{"$f":"Statistics!B42","v":"You've seen on the screen, now love the locations (WCAG 2.2 criteria only)"},{"$f":"CONCATENATE(Statistics!F42,\" / 25\")","v":"0 / 25"},{"$f":"CONCATENATE(Statistics!J42,\" / 13\")","v":"0 / 13"},{"$f":"CONCATENATE(Statistics!R42,\" / 38\")","v":"0 / 38"}]
[{"$f":"Statistics!B43","v":"DD1482 GLA Records Management Policy (WCAG 2.2 criteria only)"},{"$f":"CONCATENATE(Statistics!F43,\" / 25\")","v":"0 / 25"},{"$f":"CONCATENATE(Statistics!J43,\" / 13\")","v":"0 / 13"},{"$f":"CONCATENATE(Statistics!R43,\" / 38\")","v":"0 / 38"}]
[{"$f":"Statistics!B44","v":"Mayor's annual report (WCAG 2.2 criteria only)"},{"$f":"CONCATENATE(Statistics!F44,\" / 25\")","v":"0 / 25"},{"$f":"CONCATENATE(Statistics!J44,\" / 13\")","v":"0 / 13"},{"$f":"CONCATENATE(Statistics!R44,\" / 38\")","v":"0 / 38"}]
[{"$f":"Statistics!B45","v":"Mayor’s Equality Report 2020/22 (WCAG 2.2 criteria only)"},{"$f":"CONCATENATE(Statistics!F45,\" / 25\")","v":"0 / 25"},{"$f":"CONCATENATE(Statistics!J45,\" / 13\")","v":"0 / 13"},{"$f":"CONCATENATE(Statistics!R45,\" / 38\")","v":"0 / 38"}]
[{"$f":"Statistics!B46","v":"Press release (WCAG 2.2 criteria only)"},{"$f":"CONCATENATE(Statistics!F46,\" / 25\")","v":"0 / 25"},{"$f":"CONCATENATE(Statistics!J46,\" / 13\")","v":"0 / 13"},{"$f":"CONCATENATE(Statistics!R46,\" / 38\")","v":"0 / 38"}]
[{"$f":"Statistics!B47","v":"Let's do London (WCAG 2.2 criteria only)"},{"$f":"CONCATENATE(Statistics!F47,\" / 25\")","v":"0 / 25"},{"$f":"CONCATENATE(Statistics!J47,\" / 13\")","v":"0 / 13"},{"$f":"CONCATENATE(Statistics!R47,\" / 38\")","v":"0 / 38"}]
[{"$f":"Statistics!B48","v":"Infrastructure Mapping Application (WCAG 2.2 criteria only)"},{"$f":"CONCATENATE(Statistics!F48,\" / 25\")","v":"0 / 25"},{"$f":"CONCATENATE(Statistics!J48,\" / 13\")","v":"0 / 13"},{"$f":"CONCATENATE(Statistics!R48,\" / 38\")","v":"0 / 38"}]
[{"$f":"Statistics!B49","v":"Sign up to a termly newsletter for schools (WCAG 2.2 criteria only)"},{"$f":"CONCATENATE(Statistics!F49,\" / 25\")","v":"0 / 25"},{"$f":"CONCATENATE(Statistics!J49,\" / 13\")","v":"0 / 13"},{"$f":"CONCATENATE(Statistics!R49,\" / 38\")","v":"0 / 38"}]
[{"$f":"Statistics!B50","v":"User login (WCAG 2.2 criteria only)"},{"$f":"CONCATENATE(Statistics!F50,\" / 25\")","v":"0 / 25"},{"$f":"CONCATENATE(Statistics!J50,\" / 13\")","v":"0 / 13"},{"$f":"CONCATENATE(Statistics!R50,\" / 38\")","v":"0 / 38"}]
[{"$f":"Statistics!B51","v":"Current vacancies (WCAG 2.2 criteria only)"},{"$f":"CONCATENATE(Statistics!F51,\" / 25\")","v":"0 / 25"},{"$f":"CONCATENATE(Statistics!J51,\" / 13\")","v":"0 / 13"},{"$f":"CONCATENATE(Statistics!R51,\" / 38\")","v":"0 / 38"}]
[{"$f":"Statistics!B52","v":"Profile - Zoe Oliver - Watts (WCAG 2.2 criteria only)"},{"$f":"CONCATENATE(Statistics!F52,\" / 25\")","v":"0 / 25"},{"$f":"CONCATENATE(Statistics!J52,\" / 13\")","v":"0 / 13"},{"$f":"CONCATENATE(Statistics!R52,\" / 38\")","v":"0 / 38"}]
[{"$f":"Statistics!B53","v":"View cookies (WCAG 2.2 criteria only)"},{"$f":"CONCATENATE(Statistics!F53,\" / 25\")","v":"0 / 25"},{"$f":"CONCATENATE(Statistics!J53,\" / 13\")","v":"0 / 13"},{"$f":"CONCATENATE(Statistics!R53,\" / 38\")","v":"0 / 38"}]
[{"$f":"Statistics!B54","v":"Terms and conditions for the use of our website and Talk London website (WCAG 2.2 criteria only)"},{"$f":"CONCATENATE(Statistics!F54,\" / 25\")","v":"0 / 25"},{"$f":"CONCATENATE(Statistics!J54,\" / 13\")","v":"0 / 13"},{"$f":"CONCATENATE(Statistics!R54,\" / 38\")","v":"0 / 38"}]
[{"$f":"Statistics!B55","v":"Page 41"},{"$f":"CONCATENATE(Statistics!F55,\" / 25\")","v":"0 / 25"},{"$f":"CONCATENATE(Statistics!J55,\" / 13\")","v":"0 / 13"},{"$f":"CONCATENATE(Statistics!R55,\" / 38\")","v":"0 / 38"}]
[{"$f":"Statistics!B56","v":"Page 42"},{"$f":"CONCATENATE(Statistics!F56,\" / 25\")","v":"0 / 25"},{"$f":"CONCATENATE(Statistics!J56,\" / 13\")","v":"0 / 13"},{"$f":"CONCATENATE(Statistics!R56,\" / 38\")","v":"0 / 38"}]
[{"$f":"Statistics!B57","v":"Page 43"},{"$f":"CONCATENATE(Statistics!F57,\" / 25\")","v":"0 / 25"},{"$f":"CONCATENATE(Statistics!J57,\" / 13\")","v":"0 / 13"},{"$f":"CONCATENATE(Statistics!R57,\" / 38\")","v":"0 / 38"}]
[{"$f":"Statistics!B58","v":"Page 44"},{"$f":"CONCATENATE(Statistics!F58,\" / 25\")","v":"0 / 25"},{"$f":"CONCATENATE(Statistics!J58,\" / 13\")","v":"0 / 13"},{"$f":"CONCATENATE(Statistics!R58,\" / 38\")","v":"0 / 38"}]
[{"$f":"Statistics!B59","v":"Page 45"},{"$f":"CONCATENATE(Statistics!F59,\" / 25\")","v":"0 / 25"},{"$f":"CONCATENATE(Statistics!J59,\" / 13\")","v":"0 / 13"},{"$f":"CONCATENATE(Statistics!R59,\" / 38\")","v":"0 / 38"}]
[{"$f":"Statistics!B60","v":"Page 46"},{"$f":"CONCATENATE(Statistics!F60,\" / 25\")","v":"0 / 25"},{"$f":"CONCATENATE(Statistics!J60,\" / 13\")","v":"0 / 13"},{"$f":"CONCATENATE(Statistics!R60,\" / 38\")","v":"0 / 38"}]
[{"$f":"Statistics!B61","v":"Page 47"},{"$f":"CONCATENATE(Statistics!F61,\" / 25\")","v":"0 / 25"},{"$f":"CONCATENATE(Statistics!J61,\" / 13\")","v":"0 / 13"},{"$f":"CONCATENATE(Statistics!R61,\" / 38\")","v":"0 / 38"}]
[{"$f":"Statistics!B62","v":"Page 48"},{"$f":"CONCATENATE(Statistics!F62,\" / 25\")","v":"0 / 25"},{"$f":"CONCATENATE(Statistics!J62,\" / 13\")","v":"0 / 13"},{"$f":"CONCATENATE(Statistics!R62,\" / 38\")","v":"0 / 38"}]
[{"$f":"Statistics!B63","v":"Page 49"},{"$f":"CONCATENATE(Statistics!F63,\" / 25\")","v":"0 / 25"},{"$f":"CONCATENATE(Statistics!J63,\" / 13\")","v":"0 / 13"},{"$f":"CONCATENATE(Statistics!R63,\" / 38\")","v":"0 / 38"}]
[{"$f":"Statistics!B64","v":"Page 50"},{"$f":"CONCATENATE(Statistics!F64,\" / 25\")","v":"0 / 25"},{"$f":"CONCATENATE(Statistics!J64,\" / 13\")","v":"0 / 13"},{"$f":"CONCATENATE(Statistics!R64,\" / 38\")","v":"0 / 38"}]